{"text_format":"1","workbook":"xlsx","n_sheets":34,"sheets":["Sæson statistik","Sæson graf","Scorekort til print","Runde 1","Runde 2","Runde 3","Runde 4","Runde 5","Runde 6","Runde 7","Runde 8","Runde 9","Runde 10","Runde 11","Runde 12","Runde 13","Runde 14","Runde 15","Runde 16","Runde 17","Runde 18","Runde 19","Runde 20","Runde 21","Runde 22","Runde 23","Runde 24","Runde 25","Runde 26","Runde 27","Runde 28","Runde 29","Runde 30","DATA - nix pille"],"not_rendered":{"charts":2,"images":0,"macros":1,"external_links":0,"defined_names":0,"comments":0,"pivot_tables":0},"unopened":[],"bounds":{"document_bytes":16777216,"sheet_cells":100000,"rows_first":2000,"rows_last":500,"rows_between":2000,"halvings":0,"cell_chars":16384,"cell_head_chars":4096},"cells_cut":0,"cells_raw":0,"read":"whole","date_system":"1900"}

{"sheet":"Sæson statistik","index":0,"n_rows":47,"n_cols":8,"rows_kept":47,"cut":false,"hidden":false,"merged":[]}
["Sæson statistik 2010"]
[]
["Antal runder:",{"$f":"('Runde 1'!J1+'Runde 2'!J1+'Runde 3'!J1+'Runde 4'!J1+'Runde 5'!J1+'Runde 6'!J1+'Runde 7'!J1+'Runde 8'!J1+'Runde 9'!J1+'Runde 10'!J1+'Runde 11'!J1+'Runde 12'!J1+'Runde 13'!J1+'Runde 14'!J1+'Runde 15'!J1+'Runde 16'!J1+'Runde 17'!J1+'Runde 18'!J1+'Runde 19'!J1+'Runde 20'!J1+'Runde 21'!J1+'Runde 22'!J1+'Runde 23'!J1+'Runde 24'!J1+'Runde 25'!J1+'Runde 26'!J1+'Runde 27'!J1+'Runde 28'!J1+'Runde 29'!J1+'Runde 30'!J1)","v":0}]
[]
["Gennemsnitlige scores i løbet af sæsonen:"]
[]
["Scoring:"]
["Brutto Score",{"$f":"IF(B3=0,\"\",SUM('Runde 1'!E25,'Runde 2'!E25,'Runde 3'!E25,'Runde 4'!E25,'Runde 5'!E25,'Runde 6'!E25,'Runde 7'!E25,'Runde 8'!E25,'Runde 9'!E25,'Runde 10'!E25,'Runde 11'!E25,'Runde 12'!E25,'Runde 13'!E25,'Runde 14'!E25,'Runde 15'!E25,'Runde 16'!E25,'Runde 17'!E25,'Runde 18'!E25,'Runde 19'!E25,'Runde 20'!E25,'Runde 21'!E25,'Runde 22'!E25,'Runde 23'!E25,'Runde 24'!E25,'Runde 25'!E25,'Runde 26'!E25,'Runde 27'!E25,'Runde 27'!E25,'Runde 28'!E25,'Runde 29'!E25,'Runde 30'!E25)/B3)","v":""}]
["Netto Score",{"$f":"IF(B3=0,\"\",SUM('Runde 1'!F25,'Runde 2'!F25,'Runde 3'!F25,'Runde 4'!F25,'Runde 5'!F25,'Runde 6'!F25,'Runde 7'!F25,'Runde 8'!F25,'Runde 9'!F25,'Runde 10'!F25,'Runde 11'!F25,'Runde 12'!F25,'Runde 13'!F25,'Runde 14'!F25,'Runde 15'!F25,'Runde 16'!F25,'Runde 17'!F25,'Runde 18'!F25,'Runde 19'!F25,'Runde 20'!F25,'Runde 21'!F25,'Runde 22'!F25,'Runde 23'!F25,'Runde 24'!F25,'Runde 25'!F25,'Runde 26'!F25,'Runde 27'!F25,'Runde 27'!F25,'Runde 28'!F25,'Runde 29'!F25,'Runde 30'!F25)/B3)","v":""}]
["Eagles/runde",{"$f":"IF(B3=0,\"\",SUM('Runde 1'!W25,'Runde 2'!W25,'Runde 3'!W25,'Runde 4'!W25,'Runde 5'!W25,'Runde 6'!W25,'Runde 7'!W25,'Runde 8'!W25,'Runde 9'!W25,'Runde 10'!W25,'Runde 11'!W25,'Runde 12'!W25,'Runde 13'!W25,'Runde 14'!W25,'Runde 15'!W25,'Runde 16'!W25,'Runde 17'!W25,'Runde 18'!W25,'Runde 19'!W25,'Runde 20'!W25,'Runde 21'!W25,'Runde 22'!W25,'Runde 23'!W25,'Runde 24'!W25,'Runde 25'!W25,'Runde 26'!W25,'Runde 27'!W25,'Runde 27'!W25,'Runde 28'!W25,'Runde 29'!W25,'Runde 30'!W25)/B3)","v":""}]
["Birdies/runde",{"$f":"IF(B3=0,\"\",SUM('Runde 1'!X25,'Runde 2'!X25,'Runde 3'!X25,'Runde 4'!X25,'Runde 5'!X25,'Runde 6'!X25,'Runde 7'!X25,'Runde 8'!X25,'Runde 9'!X25,'Runde 10'!X25,'Runde 11'!X25,'Runde 12'!X25,'Runde 13'!X25,'Runde 14'!X25,'Runde 15'!X25,'Runde 16'!X25,'Runde 17'!X25,'Runde 18'!X25,'Runde 19'!X25,'Runde 20'!X25,'Runde 21'!X25,'Runde 22'!X25,'Runde 23'!X25,'Runde 24'!X25,'Runde 25'!X25,'Runde 26'!X25,'Runde 27'!X25,'Runde 27'!X25,'Runde 28'!X25,'Runde 29'!X25,'Runde 30'!X25)/B3)","v":""}]
["Bogeys/runde",{"$f":"IF(B3=0,\"\",SUM('Runde 1'!Y25,'Runde 2'!Y25,'Runde 3'!Y25,'Runde 4'!Y25,'Runde 5'!Y25,'Runde 6'!Y25,'Runde 7'!Y25,'Runde 8'!Y25,'Runde 9'!Y25,'Runde 10'!Y25,'Runde 11'!Y25,'Runde 12'!Y25,'Runde 13'!Y25,'Runde 14'!Y25,'Runde 15'!Y25,'Runde 16'!Y25,'Runde 17'!Y25,'Runde 18'!Y25,'Runde 19'!Y25,'Runde 20'!Y25,'Runde 21'!Y25,'Runde 22'!Y25,'Runde 23'!Y25,'Runde 24'!Y25,'Runde 25'!Y25,'Runde 26'!Y25,'Runde 27'!Y25,'Runde 27'!Y25,'Runde 28'!Y25,'Runde 29'!Y25,'Runde 30'!Y25)/B3)","v":""}]
["Værre/runde",{"$f":"IF(B3=0,\"\",SUM('Runde 1'!Z25,'Runde 2'!Z25,'Runde 3'!Z25,'Runde 4'!Z25,'Runde 5'!Z25,'Runde 6'!Z25,'Runde 7'!Z25,'Runde 8'!Z25,'Runde 9'!Z25,'Runde 10'!Z25,'Runde 11'!Z25,'Runde 12'!Z25,'Runde 13'!Z25,'Runde 14'!Z25,'Runde 15'!Z25,'Runde 16'!Z25,'Runde 17'!Z25,'Runde 18'!Z25,'Runde 19'!Z25,'Runde 20'!Z25,'Runde 21'!Z25,'Runde 22'!Z25,'Runde 23'!Z25,'Runde 24'!Z25,'Runde 25'!Z25,'Runde 26'!Z25,'Runde 27'!Z25,'Runde 27'!Z25,'Runde 28'!Z25,'Runde 29'!Z25,'Runde 30'!Z25)/B3)","v":""}]
[]
["Putting:"]
["Putts/runde",{"$f":"IF(B3=0,\"\",SUM('Runde 1'!P25,'Runde 2'!P25,'Runde 3'!P25,'Runde 4'!P25,'Runde 5'!P25,'Runde 6'!P25,'Runde 7'!P25,'Runde 8'!P25,'Runde 9'!P25,'Runde 10'!P25,'Runde 11'!P25,'Runde 12'!P25,'Runde 13'!P25,'Runde 14'!P25,'Runde 15'!P25,'Runde 16'!P25,'Runde 17'!P25,'Runde 18'!P25,'Runde 19'!P25,'Runde 20'!P25,'Runde 21'!P25,'Runde 22'!P25,'Runde 23'!P25,'Runde 24'!P25,'Runde 25'!P25,'Runde 26'!P25,'Runde 27'!P25,'Runde 27'!P25,'Runde 28'!P25,'Runde 29'!P25,'Runde 30'!P25)/B3)","v":""}]
["Putts/GIR",{"$f":"IF(B3=0,\"\",SUM('Runde 1'!V25,'Runde 2'!V25,'Runde 3'!V25,'Runde 4'!V25,'Runde 5'!V25,'Runde 6'!V25,'Runde 7'!V25,'Runde 8'!V25,'Runde 9'!V25,'Runde 10'!V25,'Runde 11'!V25,'Runde 12'!V25,'Runde 13'!V25,'Runde 14'!V25,'Runde 15'!V25,'Runde 16'!V25,'Runde 17'!V25,'Runde 18'!V25,'Runde 19'!V25,'Runde 20'!V25,'Runde 21'!V25,'Runde 22'!V25,'Runde 23'!V25,'Runde 24'!V25,'Runde 25'!V25,'Runde 26'!V25,'Runde 27'!V25,'Runde 27'!V25,'Runde 28'!V25,'Runde 29'!V25,'Runde 30'!V25)/B3)","v":""}]
["3+ Putts/runde",{"$f":"IF(B3=0,\"\",SUM('Runde 1'!AB25,'Runde 2'!AB25,'Runde 3'!AB25,'Runde 4'!AB25,'Runde 5'!AB25,'Runde 6'!AB25,'Runde 7'!AB25,'Runde 8'!AB25,'Runde 9'!AB25,'Runde 10'!AB25,'Runde 11'!AB25,'Runde 12'!AB25,'Runde 13'!AB25,'Runde 14'!AB25,'Runde 15'!AB25,'Runde 16'!AB25,'Runde 17'!AB25,'Runde 18'!AB25,'Runde 19'!AB25,'Runde 20'!AB25,'Runde 21'!AB25,'Runde 22'!AB25,'Runde 23'!AB25,'Runde 24'!AB25,'Runde 25'!AB25,'Runde 26'!AB25,'Runde 27'!AB25,'Runde 27'!AB25,'Runde 28'!AB25,'Runde 29'!AB25,'Runde 30'!AB25)/B3)","v":""}]
[]
["Driving:"]
["Drivers/runde",{"$f":"IF(B3=0,\"\",SUM('Runde 1'!G25,'Runde 2'!G25,'Runde 3'!G25,'Runde 4'!G25,'Runde 5'!G25,'Runde 6'!G25,'Runde 7'!G25,'Runde 8'!G25,'Runde 9'!G25,'Runde 10'!G25,'Runde 11'!G25,'Runde 12'!G25,'Runde 13'!G25,'Runde 14'!G25,'Runde 15'!G25,'Runde 16'!G25,'Runde 17'!G25,'Runde 18'!G25,'Runde 19'!G25,'Runde 20'!G25,'Runde 21'!G25,'Runde 22'!G25,'Runde 23'!G25,'Runde 24'!G25,'Runde 25'!G25,'Runde 26'!G25,'Runde 27'!G25,'Runde 27'!G25,'Runde 28'!G25,'Runde 29'!G25,'Runde 30'!G25)/B3)","v":""}]
["% Fairway hits (Driver)",{"$f":"IF(B3=0,\"\",SUM('Runde 1'!AC25,'Runde 2'!AC25,'Runde 3'!AC25,'Runde 4'!AC25,'Runde 5'!AC25,'Runde 6'!AC25,'Runde 7'!AC25,'Runde 8'!AC25,'Runde 9'!AC25,'Runde 10'!AC25,'Runde 11'!AC25,'Runde 12'!AC25,'Runde 13'!AC25,'Runde 14'!AC25,'Runde 15'!AC25,'Runde 16'!AC25,'Runde 17'!AC25,'Runde 18'!AC25,'Runde 19'!AC25,'Runde 20'!AC25,'Runde 21'!AC25,'Runde 22'!AC25,'Runde 23'!AC25,'Runde 24'!AC25,'Runde 25'!AC25,'Runde 26'!AC25,'Runde 27'!AC25,'Runde 27'!AC25,'Runde 28'!AC25,'Runde 29'!AC25,'Runde 30'!AC25)/B3)","v":""}]
["% Fairway hits (alle)",{"$f":"IF(B3=0,\"\",SUM('Runde 1'!K25,'Runde 2'!K25,'Runde 3'!K25,'Runde 4'!K25,'Runde 5'!K25,'Runde 6'!K25,'Runde 7'!K25,'Runde 8'!K25,'Runde 9'!K25,'Runde 10'!K25,'Runde 11'!K25,'Runde 12'!K25,'Runde 13'!K25,'Runde 14'!K25,'Runde 15'!K25,'Runde 16'!K25,'Runde 17'!K25,'Runde 18'!K25,'Runde 19'!K25,'Runde 20'!K25,'Runde 21'!K25,'Runde 22'!K25,'Runde 23'!K25,'Runde 24'!K25,'Runde 25'!K25,'Runde 26'!K25,'Runde 27'!K25,'Runde 27'!K25,'Runde 28'!K25,'Runde 29'!K25,'Runde 30'!K25)/B3)","v":""}]
["% Teeslag i venstre",{"$f":"IF(B3=0,\"\",SUM('Runde 1'!J25,'Runde 2'!J25,'Runde 3'!J25,'Runde 4'!J25,'Runde 5'!J25,'Runde 6'!J25,'Runde 7'!J25,'Runde 8'!J25,'Runde 9'!J25,'Runde 10'!J25,'Runde 11'!J25,'Runde 12'!J25,'Runde 13'!J25,'Runde 14'!J25,'Runde 15'!J25,'Runde 16'!J25,'Runde 17'!J25,'Runde 18'!J25,'Runde 19'!J25,'Runde 20'!J25,'Runde 21'!J25,'Runde 22'!J25,'Runde 23'!J25,'Runde 24'!J25,'Runde 25'!J25,'Runde 26'!J25,'Runde 27'!J25,'Runde 27'!J25,'Runde 28'!J25,'Runde 29'!J25,'Runde 30'!J25)/B3)","v":""}]
["% Teeslag i højre",{"$f":"IF(B3=0,\"\",SUM('Runde 1'!L25,'Runde 2'!L25,'Runde 3'!L25,'Runde 4'!L25,'Runde 5'!L25,'Runde 6'!L25,'Runde 7'!L25,'Runde 8'!L25,'Runde 9'!L25,'Runde 10'!L25,'Runde 11'!L25,'Runde 12'!L25,'Runde 13'!L25,'Runde 14'!L25,'Runde 15'!L25,'Runde 16'!L25,'Runde 17'!L25,'Runde 18'!L25,'Runde 19'!L25,'Runde 20'!L25,'Runde 21'!L25,'Runde 22'!L25,'Runde 23'!L25,'Runde 24'!L25,'Runde 25'!L25,'Runde 26'!L25,'Runde 27'!L25,'Runde 27'!L25,'Runde 28'!L25,'Runde 29'!L25,'Runde 30'!L25)/B3)","v":""}]
[]
["Generelt:"]
["% GIR",{"$f":"IF(B3=0,\"\",SUM('Runde 1'!U25,'Runde 2'!U25,'Runde 3'!U25,'Runde 4'!U25,'Runde 5'!U25,'Runde 6'!U25,'Runde 7'!U25,'Runde 8'!U25,'Runde 9'!U25,'Runde 10'!U25,'Runde 11'!U25,'Runde 12'!U25,'Runde 13'!U25,'Runde 14'!U25,'Runde 15'!U25,'Runde 16'!U25,'Runde 17'!U25,'Runde 18'!U25,'Runde 19'!U25,'Runde 20'!U25,'Runde 21'!U25,'Runde 22'!U25,'Runde 23'!U25,'Runde 24'!U25,'Runde 25'!U25,'Runde 26'!U25,'Runde 27'!U25,'Runde 27'!U25,'Runde 28'!U25,'Runde 29'!U25,'Runde 30'!U25)/B3)","v":""}]
["Afstand til hul (GIR)",{"$f":"IF(B3=0,\"\",AVERAGE('Runde 1'!S25,'Runde 2'!S25,'Runde 3'!S25,'Runde 4'!S25,'Runde 5'!S25,'Runde 6'!S25,'Runde 7'!S25,'Runde 8'!S25,'Runde 9'!S25,'Runde 10'!S25,'Runde 11'!S25,'Runde 12'!S25,'Runde 13'!S25,'Runde 14'!S25,'Runde 15'!S25,'Runde 16'!S25,'Runde 17'!S25,'Runde 18'!S25,'Runde 19'!S25,'Runde 20'!S25,'Runde 21'!S25,'Runde 22'!S25,'Runde 23'!S25,'Runde 24'!S25,'Runde 25'!S25,'Runde 26'!S25,'Runde 27'!S25,'Runde 27'!S25,'Runde 28'!S25,'Runde 29'!S25,'Runde 30'!S25))","v":""}]
["% Scrambles",{"$f":"IF(B3=0,\"\",SUM('Runde 1'!AA25,'Runde 2'!AA25,'Runde 3'!AA25,'Runde 4'!AA25,'Runde 5'!AA25,'Runde 6'!AA25,'Runde 7'!AA25,'Runde 8'!AA25,'Runde 9'!AA25,'Runde 10'!AA25,'Runde 11'!AA25,'Runde 12'!AA25,'Runde 13'!AA25,'Runde 14'!AA25,'Runde 15'!AA25,'Runde 16'!AA25,'Runde 17'!AA25,'Runde 18'!AA25,'Runde 19'!AA25,'Runde 20'!AA25,'Runde 21'!AA25,'Runde 22'!AA25,'Runde 23'!AA25,'Runde 24'!AA25,'Runde 25'!AA25,'Runde 26'!AA25,'Runde 27'!AA25,'Runde 27'!AA25,'Runde 28'!AA25,'Runde 29'!AA25,'Runde 30'!AA25)/B3)","v":""}]
[]
["Hulscore ifht par:"]
["Par 3's",{"$f":"IF(B3=0,\"\",SUM('Runde 1'!T30,'Runde 2'!T30,'Runde 3'!T30,'Runde 4'!T30,'Runde 5'!T30,'Runde 6'!U30,'Runde 7'!T30,'Runde 8'!T30,'Runde 9'!T30,'Runde 10'!T30,'Runde 11'!T30,'Runde 12'!T30,'Runde 13'!T30,'Runde 14'!T30,'Runde 15'!T30,'Runde 16'!T30,'Runde 17'!T30,'Runde 18'!T30,'Runde 19'!T30,'Runde 20'!T30,'Runde 21'!T30,'Runde 22'!T30,'Runde 23'!T30,'Runde 24'!T30,'Runde 25'!T30,'Runde 26'!T30,'Runde 27'!T30,'Runde 27'!T30,'Runde 28'!T30,'Runde 29'!T30,'Runde 30'!T30)/B3)","v":""}]
["Par 4's",{"$f":"IF(B3=0,\"\",SUM('Runde 1'!T31,'Runde 2'!T31,'Runde 3'!T31,'Runde 4'!T31,'Runde 5'!T31,'Runde 6'!U31,'Runde 7'!T31,'Runde 8'!T31,'Runde 9'!T31,'Runde 10'!T31,'Runde 11'!T31,'Runde 12'!T31,'Runde 13'!T31,'Runde 14'!T31,'Runde 15'!T31,'Runde 16'!T31,'Runde 17'!T31,'Runde 18'!T31,'Runde 19'!T31,'Runde 20'!T31,'Runde 21'!T31,'Runde 22'!T31,'Runde 23'!T31,'Runde 24'!T31,'Runde 25'!T31,'Runde 26'!T31,'Runde 27'!T31,'Runde 27'!T31,'Runde 28'!T31,'Runde 29'!T31,'Runde 30'!T31)/B3)","v":""}]
["Par 5's",{"$f":"IF(B3=0,\"\",SUM('Runde 1'!T32,'Runde 2'!T32,'Runde 3'!T32,'Runde 4'!T32,'Runde 5'!T32,'Runde 6'!U32,'Runde 7'!T32,'Runde 8'!T32,'Runde 9'!T32,'Runde 10'!T32,'Runde 11'!T32,'Runde 12'!T32,'Runde 13'!T32,'Runde 14'!T32,'Runde 15'!T32,'Runde 16'!T32,'Runde 17'!T32,'Runde 18'!T32,'Runde 19'!T32,'Runde 20'!T32,'Runde 21'!T32,'Runde 22'!T32,'Runde 23'!T32,'Runde 24'!T32,'Runde 25'!T32,'Runde 26'!T32,'Runde 27'!T32,'Runde 27'!T32,'Runde 28'!T32,'Runde 29'!T32,'Runde 30'!T32)/B3)","v":""}]
["First 4 holes to par (+-)",{"$f":"IF(B3=0,\"\",SUM('Runde 1'!T34,'Runde 2'!T34,'Runde 3'!T34,'Runde 4'!T34,'Runde 5'!T34,'Runde 6'!U34,'Runde 7'!T34,'Runde 8'!T34,'Runde 9'!T34,'Runde 10'!T34,'Runde 11'!T34,'Runde 12'!T34,'Runde 13'!T34,'Runde 14'!T34,'Runde 15'!T34,'Runde 16'!T34,'Runde 17'!T34,'Runde 18'!T34,'Runde 19'!T34,'Runde 20'!T34,'Runde 21'!T34,'Runde 22'!T34,'Runde 23'!T34,'Runde 24'!T34,'Runde 25'!T34,'Runde 26'!T34,'Runde 27'!T34,'Runde 27'!T34,'Runde 28'!T34,'Runde 29'!T34,'Runde 30'!T34)/B3)","v":""}]
["Last 4 holes to par (+-)",{"$f":"IF(B3=0,\"\",SUM('Runde 1'!T35,'Runde 2'!T35,'Runde 3'!T35,'Runde 4'!T35,'Runde 5'!T35,'Runde 6'!U35,'Runde 7'!T35,'Runde 8'!T35,'Runde 9'!T35,'Runde 10'!T35,'Runde 11'!T35,'Runde 12'!T35,'Runde 13'!T35,'Runde 14'!T35,'Runde 15'!T35,'Runde 16'!T35,'Runde 17'!T35,'Runde 18'!T35,'Runde 19'!T35,'Runde 20'!T35,'Runde 21'!T35,'Runde 22'!T35,'Runde 23'!T35,'Runde 24'!T35,'Runde 25'!T35,'Runde 26'!T35,'Runde 27'!T35,'Runde 27'!T35,'Runde 28'!T35,'Runde 29'!T35,'Runde 30'!T35)/B3)","v":""}]
[]
[]
["Approach",null,null,"Putting",null,null,"Greenbunkers"]
["Længde (m)","Afstand (m)",null,"Afstand (m)","Holet (%)",null,"Bunkers/runde",{"$f":"IF(B3=0,\"\",'DATA - nix pille'!C22/B3)","v":""}]
["45 - 70",{"$f":"IF(B3=0,\"\",AVERAGE('Runde 1'!Y30,'Runde 2'!Y30,'Runde 3'!Y30,'Runde 4'!Y30,'Runde 5'!Y30,'Runde 6'!Y30,'Runde 7'!Y30,'Runde 8'!Y30,'Runde 9'!Y30,'Runde 10'!Y30,'Runde 11'!Y30,'Runde 12'!Y30,'Runde 13'!Y30,'Runde 14'!Y30,'Runde 15'!Y30,'Runde 16'!Y30,'Runde 17'!Y30,'Runde 18'!Y30,'Runde 19'!Y30,'Runde 20'!Y30,'Runde 21'!Y30,'Runde 22'!Y30,'Runde 23'!Y30,'Runde 24'!Y30,'Runde 25'!Y30,'Runde 26'!Y30,'Runde 27'!Y30,'Runde 27'!Y30,'Runde 28'!Y30,'Runde 29'!Y30,'Runde 30'!Y30))","v":""},null,"0 - 1",{"$f":"IF(B3=0,\"\",AVERAGE('Runde 1'!Z39,'Runde 2'!Z39,'Runde 3'!Z39,'Runde 4'!Z39,'Runde 5'!Z39,'Runde 6'!Z39,'Runde 7'!Z39,'Runde 8'!Z39,'Runde 9'!Z39,'Runde 10'!Z39,'Runde 11'!Z39,'Runde 12'!Z39,'Runde 13'!Z39,'Runde 14'!Z39,'Runde 15'!Z39,'Runde 16'!Z39,'Runde 17'!Z39,'Runde 18'!Z39,'Runde 19'!Z39,'Runde 20'!Z39,'Runde 21'!Z39,'Runde 22'!Z39,'Runde 23'!Z39,'Runde 24'!Z39,'Runde 25'!Z39,'Runde 26'!Z39,'Runde 27'!Z39,'Runde 27'!Z39,'Runde 28'!Z39,'Runde 29'!Z39,'Runde 30'!Z39))","v":""},null,"Sandsave%",{"$f":"IF(B3=0,\"\",('DATA - nix pille'!C23/'DATA - nix pille'!C22))","v":""}]
["71 - 90",{"$f":"IF(B3=0,\"\",AVERAGE('Runde 1'!Y31,'Runde 2'!Y31,'Runde 3'!Y31,'Runde 4'!Y31,'Runde 5'!Y31,'Runde 6'!Y31,'Runde 7'!Y31,'Runde 8'!Y31,'Runde 9'!Y31,'Runde 10'!Y31,'Runde 11'!Y31,'Runde 12'!Y31,'Runde 13'!Y31,'Runde 14'!Y31,'Runde 15'!Y31,'Runde 16'!Y31,'Runde 17'!Y31,'Runde 18'!Y31,'Runde 19'!Y31,'Runde 20'!Y31,'Runde 21'!Y31,'Runde 22'!Y31,'Runde 23'!Y31,'Runde 24'!Y31,'Runde 25'!Y31,'Runde 26'!Y31,'Runde 27'!Y31,'Runde 27'!Y31,'Runde 28'!Y31,'Runde 29'!Y31,'Runde 30'!Y31))","v":""},null,"1 - 1,5",{"$f":"IF(B3=0,\"\",AVERAGE('Runde 1'!Z40,'Runde 2'!Z40,'Runde 3'!Z40,'Runde 4'!Z40,'Runde 5'!Z40,'Runde 6'!Z40,'Runde 7'!Z40,'Runde 8'!Z40,'Runde 9'!Z40,'Runde 10'!Z40,'Runde 11'!Z40,'Runde 12'!Z40,'Runde 13'!Z40,'Runde 14'!Z40,'Runde 15'!Z40,'Runde 16'!Z40,'Runde 17'!Z40,'Runde 18'!Z40,'Runde 19'!Z40,'Runde 20'!Z40,'Runde 21'!Z40,'Runde 22'!Z40,'Runde 23'!Z40,'Runde 24'!Z40,'Runde 25'!Z40,'Runde 26'!Z40,'Runde 27'!Z40,'Runde 27'!Z40,'Runde 28'!Z40,'Runde 29'!Z40,'Runde 30'!Z40))","v":""}]
["91 - 115",{"$f":"IF(B3=0,\"\",AVERAGE('Runde 1'!Y32,'Runde 2'!Y32,'Runde 3'!Y32,'Runde 4'!Y32,'Runde 5'!Y32,'Runde 6'!Y32,'Runde 7'!Y32,'Runde 8'!Y32,'Runde 9'!Y32,'Runde 10'!Y32,'Runde 11'!Y32,'Runde 12'!Y32,'Runde 13'!Y32,'Runde 14'!Y32,'Runde 15'!Y32,'Runde 16'!Y32,'Runde 17'!Y32,'Runde 18'!Y32,'Runde 19'!Y32,'Runde 20'!Y32,'Runde 21'!Y32,'Runde 22'!Y32,'Runde 23'!Y32,'Runde 24'!Y32,'Runde 25'!Y32,'Runde 26'!Y32,'Runde 27'!Y32,'Runde 27'!Y32,'Runde 28'!Y32,'Runde 29'!Y32,'Runde 30'!Y32))","v":""},null,"1,5 - 3",{"$f":"IF(B3=0,\"\",AVERAGE('Runde 1'!Z41,'Runde 2'!Z41,'Runde 3'!Z41,'Runde 4'!Z41,'Runde 5'!Z41,'Runde 6'!Z41,'Runde 7'!Z41,'Runde 8'!Z41,'Runde 9'!Z41,'Runde 10'!Z41,'Runde 11'!Z41,'Runde 12'!Z41,'Runde 13'!Z41,'Runde 14'!Z41,'Runde 15'!Z41,'Runde 16'!Z41,'Runde 17'!Z41,'Runde 18'!Z41,'Runde 19'!Z41,'Runde 20'!Z41,'Runde 21'!Z41,'Runde 22'!Z41,'Runde 23'!Z41,'Runde 24'!Z41,'Runde 25'!Z41,'Runde 26'!Z41,'Runde 27'!Z41,'Runde 27'!Z41,'Runde 28'!Z41,'Runde 29'!Z41,'Runde 30'!Z41))","v":""}]
["116 - 140",{"$f":"IF(B3=0,\"\",AVERAGE('Runde 1'!Y33,'Runde 2'!Y33,'Runde 3'!Y33,'Runde 4'!Y33,'Runde 5'!Y33,'Runde 6'!Y33,'Runde 7'!Y33,'Runde 8'!Y33,'Runde 9'!Y33,'Runde 10'!Y33,'Runde 11'!Y33,'Runde 12'!Y33,'Runde 13'!Y33,'Runde 14'!Y33,'Runde 15'!Y33,'Runde 16'!Y33,'Runde 17'!Y33,'Runde 18'!Y33,'Runde 19'!Y33,'Runde 20'!Y33,'Runde 21'!Y33,'Runde 22'!Y33,'Runde 23'!Y33,'Runde 24'!Y33,'Runde 25'!Y33,'Runde 26'!Y33,'Runde 27'!Y33,'Runde 27'!Y33,'Runde 28'!Y33,'Runde 29'!Y33,'Runde 30'!Y33))","v":""},null,"3 - 4,5",{"$f":"IF(B3=0,\"\",AVERAGE('Runde 1'!Z42,'Runde 2'!Z42,'Runde 3'!Z42,'Runde 4'!Z42,'Runde 5'!Z42,'Runde 6'!Z42,'Runde 7'!Z42,'Runde 8'!Z42,'Runde 9'!Z42,'Runde 10'!Z42,'Runde 11'!Z42,'Runde 12'!Z42,'Runde 13'!Z42,'Runde 14'!Z42,'Runde 15'!Z42,'Runde 16'!Z42,'Runde 17'!Z42,'Runde 18'!Z42,'Runde 19'!Z42,'Runde 20'!Z42,'Runde 21'!Z42,'Runde 22'!Z42,'Runde 23'!Z42,'Runde 24'!Z42,'Runde 25'!Z42,'Runde 26'!Z42,'Runde 27'!Z42,'Runde 27'!Z42,'Runde 28'!Z42,'Runde 29'!Z42,'Runde 30'!Z42))","v":""}]
["141 - 160",{"$f":"IF(B3=0,\"\",AVERAGE('Runde 1'!Y34,'Runde 2'!Y34,'Runde 3'!Y34,'Runde 4'!Y34,'Runde 5'!Y34,'Runde 6'!Y34,'Runde 7'!Y34,'Runde 8'!Y34,'Runde 9'!Y34,'Runde 10'!Y34,'Runde 11'!Y34,'Runde 12'!Y34,'Runde 13'!Y34,'Runde 14'!Y34,'Runde 15'!Y34,'Runde 16'!Y34,'Runde 17'!Y34,'Runde 18'!Y34,'Runde 19'!Y34,'Runde 20'!Y34,'Runde 21'!Y34,'Runde 22'!Y34,'Runde 23'!Y34,'Runde 24'!Y34,'Runde 25'!Y34,'Runde 26'!Y34,'Runde 27'!Y34,'Runde 27'!Y34,'Runde 28'!Y34,'Runde 29'!Y34,'Runde 30'!Y34))","v":""},null,"4,5 - 6",{"$f":"IF(B3=0,\"\",AVERAGE('Runde 1'!Z43,'Runde 2'!Z43,'Runde 3'!Z43,'Runde 4'!Z43,'Runde 5'!Z43,'Runde 6'!Z43,'Runde 7'!Z43,'Runde 8'!Z43,'Runde 9'!Z43,'Runde 10'!Z43,'Runde 11'!Z43,'Runde 12'!Z43,'Runde 13'!Z43,'Runde 14'!Z43,'Runde 15'!Z43,'Runde 16'!Z43,'Runde 17'!Z43,'Runde 18'!Z43,'Runde 19'!Z43,'Runde 20'!Z43,'Runde 21'!Z43,'Runde 22'!Z43,'Runde 23'!Z43,'Runde 24'!Z43,'Runde 25'!Z43,'Runde 26'!Z43,'Runde 27'!Z43,'Runde 27'!Z43,'Runde 28'!Z43,'Runde 29'!Z43,'Runde 30'!Z43))","v":""}]
["161 - 180",{"$f":"IF(B3=0,\"\",AVERAGE('Runde 1'!Y35,'Runde 2'!Y35,'Runde 3'!Y35,'Runde 4'!Y35,'Runde 5'!Y35,'Runde 6'!Y35,'Runde 7'!Y35,'Runde 8'!Y35,'Runde 9'!Y35,'Runde 10'!Y35,'Runde 11'!Y35,'Runde 12'!Y35,'Runde 13'!Y35,'Runde 14'!Y35,'Runde 15'!Y35,'Runde 16'!Y35,'Runde 17'!Y35,'Runde 18'!Y35,'Runde 19'!Y35,'Runde 20'!Y35,'Runde 21'!Y35,'Runde 22'!Y35,'Runde 23'!Y35,'Runde 24'!Y35,'Runde 25'!Y35,'Runde 26'!Y35,'Runde 27'!Y35,'Runde 27'!Y35,'Runde 28'!Y35,'Runde 29'!Y35,'Runde 30'!Y35))","v":""},null,"over 6 m",{"$f":"IF(B3=0,\"\",AVERAGE('Runde 1'!Z44,'Runde 2'!Z44,'Runde 3'!Z44,'Runde 4'!Z44,'Runde 5'!Z44,'Runde 6'!Z44,'Runde 7'!Z44,'Runde 8'!Z44,'Runde 9'!Z44,'Runde 10'!Z44,'Runde 11'!Z44,'Runde 12'!Z44,'Runde 13'!Z44,'Runde 14'!Z44,'Runde 15'!Z44,'Runde 16'!Z44,'Runde 17'!Z44,'Runde 18'!Z44,'Runde 19'!Z44,'Runde 20'!Z44,'Runde 21'!Z44,'Runde 22'!Z44,'Runde 23'!Z44,'Runde 24'!Z44,'Runde 25'!Z44,'Runde 26'!Z44,'Runde 27'!Z44,'Runde 27'!Z44,'Runde 28'!Z44,'Runde 29'!Z44,'Runde 30'!Z44))","v":""}]

{"sheet":"Sæson graf","index":1,"n_rows":0,"n_cols":0,"rows_kept":0,"cut":false,"hidden":false,"merged":[]}

{"sheet":"Scorekort til print","index":2,"n_rows":137,"n_cols":17,"rows_kept":137,"cut":false,"hidden":false,"merged":[]}
["Vallø Golf Klub - 18 huller - Gul tee",null,null,null,null,null,null,null,null,{"$f":"IF(E25=\"0\",\"0\",\"1\")","v":"1"},null,"Dato:"]
[]
[null,null,null,null,null,null,null,"Tee shot",null,null,"Fairway hits i %",null,null,"Bunker"]
["Hul","Gul tee","Par","HCP","Score","Netto","Driver","Wood","Jern","Venstre","Midt","Højre","FB","GB","SS","Putts","GIR"]
[1,387,4,3]
[2,126,3,13]
[3,437,5,11]
[4,437,5,9]
[5,391,4,5]
[6,164,3,15]
[7,397,4,1]
[8,101,3,17]
[9,343,4,7]
[null,{"$f":"SUM(B5:B13)","v":2783},{"$f":"SUM(C5:C13)","v":35},"UD"]
[10,384,4,4]
[11,322,4,12]
[12,262,4,16]
[13,167,3,14]
[14,355,4,10]
[15,126,3,18]
[16,522,5,8]
[17,451,5,6]
[18,405,4,2]
[null,{"$f":"SUM(B15:B23)","v":2994},{"$f":"SUM(C15:C23)","v":36},"IND"]
[null,{"$f":"SUM(B24,B14)","v":5777},{"$f":"SUM(C24,C14)","v":71},"TOTAL"]
[]
[]
[]
["Korsør Golf Klub - 18 huller - Gul tee",null,null,null,null,null,null,null,null,{"$f":"IF(E53=\"0\",\"0\",\"1\")","v":"1"},null,"Dato:"]
[]
[null,null,null,null,null,null,null,"Tee shot",null,null,"Fairway hits i %",null,null,"Bunker"]
["Hul","Gul tee","Par","HCP","Score","Netto","Driver","Wood","Jern","Venstre","Midt","Højre","FB","GB","SS","Putts","GIR"]
[1,307,4,11]
[2,323,4,5]
[3,138,3,15]
[4,310,4,13]
[5,431,5,3]
[6,312,4,9]
[7,498,5,1]
[8,138,3,17]
[9,310,4,7]
[null,{"$f":"SUM(B33:B41)","v":2767},{"$f":"SUM(C33:C41)","v":36},"UD"]
[10,481,5,4]
[11,319,4,16]
[12,431,5,2]
[13,122,3,18]
[14,379,4,6]
[15,316,4,8]
[16,322,4,14]
[17,345,4,10]
[18,281,4,12]
[null,{"$f":"SUM(B43:B51)","v":2996},{"$f":"SUM(C43:C51)","v":37},"IND"]
[null,{"$f":"SUM(B52,B42)","v":5763},{"$f":"SUM(C52,C42)","v":73},"TOTAL"]
[]
[]
[]
["Roskilde Golf Klub - 18 huller - Gul tee",null,null,null,null,null,null,null,null,{"$f":"IF(E81=\"0\",\"0\",\"1\")","v":"1"},null,"Dato:"]
[]
[null,null,null,null,null,null,null,"Tee shot",null,null,"Fairway hits i %",null,null,"Bunker"]
["Hul","Gul tee","Par","HCP","Score","Netto","Driver","Wood","Jern","Venstre","Midt","Højre","FB","GB","SS","Putts","GIR"]
[1,453,5,4]
[2,294,4,8]
[3,317,4,12]
[4,308,4,10]
[5,160,3,18]
[6,299,4,14]
[7,152,3,16]
[8,308,4,6]
[9,332,4,2]
[null,{"$f":"SUM(B61:B69)","v":2623},{"$f":"SUM(C61:C69)","v":35},"UD"]
[10,372,4,1]
[11,269,4,9]
[12,496,5,3]
[13,178,3,15]
[14,390,4,7]
[15,485,5,5]
[16,310,4,13]
[17,147,3,17]
[18,453,5,11]
[null,{"$f":"SUM(B71:B79)","v":3100},{"$f":"SUM(C71:C79)","v":37},"IND"]
[null,{"$f":"SUM(B80,B70)","v":5723},{"$f":"SUM(C80,C70)","v":72},"TOTAL"]
[]
[]
[]
["Trelleborg Golf Klub - 18 huller - Gul tee",null,null,null,null,null,null,null,null,{"$f":"IF(E109=\"0\",\"0\",\"1\")","v":"1"},null,"Dato:"]
[]
[null,null,null,null,null,null,null,"Tee shot",null,null,"Fairway hits i %",null,null,"Bunker"]
["Hul","Gul tee","Par","HCP","Score","Netto","Driver","Wood","Jern","Venstre","Midt","Højre","FB","GB","SS","Putts","GIR"]
[1,432,5,5]
[2,336,4,15]
[3,351,4,3]
[4,340,4,11]
[5,145,3,17]
[6,318,4,13]
[7,517,5,1]
[8,387,4,7]
[9,115,3,9]
[null,{"$f":"SUM(B89:B97)","v":2941},{"$f":"SUM(C89:C97)","v":36},"UD"]
[10,360,4,14]
[11,325,4,12]
[12,482,5,2]
[13,370,4,8]
[14,365,4,4]
[15,128,3,16]
[16,380,4,10]
[17,160,3,18]
[18,504,5,6]
[null,{"$f":"SUM(B99:B107)","v":3074},{"$f":"SUM(C99:C107)","v":36},"IND"]
[null,{"$f":"SUM(B108,B98)","v":6015},{"$f":"SUM(C108,C98)","v":72},"TOTAL"]
[]
[]
[]
["Korsør Golf Klub - 18 huller - Hvid tee",null,null,null,null,null,null,null,null,{"$f":"IF(E137=\"0\",\"0\",\"1\")","v":"1"},null,"Dato:"]
[]
[null,null,null,null,null,null,null,"Tee shot",null,null,"Fairway hits i %",null,null,"Bunker"]
["Hul","Gul tee","Par","HCP","Score","Netto","Driver","Wood","Jern","Venstre","Midt","Højre","FB","GB","SS","Putts","GIR"]
[1,313,4,11]
[2,340,4,5]
[3,143,3,15]
[4,335,4,13]
[5,443,5,3]
[6,319,4,9]
[7,555,5,1]
[8,143,3,17]
[9,320,4,7]
[null,{"$f":"SUM(B117:B125)","v":2911},{"$f":"SUM(C117:C125)","v":36},"UD"]
[10,490,5,4]
[11,330,4,16]
[12,451,5,2]
[13,140,3,18]
[14,383,4,6]
[15,332,4,8]
[16,334,4,14]
[17,368,4,10]
[18,299,4,12]
[null,{"$f":"SUM(B127:B135)","v":3127},{"$f":"SUM(C127:C135)","v":37},"IND"]
[null,{"$f":"SUM(B136,B126)","v":6038},{"$f":"SUM(C136,C126)","v":73},"TOTAL"]

{"sheet":"Runde 1","index":3,"n_rows":44,"n_cols":29,"rows_kept":44,"cut":false,"hidden":false,"merged":[]}
["Korsør Golf Klub - 18 huller - Gul tee",null,null,null,null,null,null,null,null,{"$f":"IF(E25=\"0\",\"0\",\"1\")","v":"0"},null,"Dato:",null,null,"Handicap:",null,null,null,null,"Antal tildelte slag:"]
[]
[null,null,null,null,null,null,null,"Tee shot",null,null,"Fairway hits i %",null,null,"Bunker",null,null,null,"Approach shots"]
["Hul","Gul tee","Par","HCP","Score","Netto","Driver","Wood","Jern","Venstre","Midt","Højre","FB","GB","SS","Putts","GIR","Dist. to pin (m)","Dist. to hole (m)","% SS","% GIR","Putts/GIR","Eagles","Birdies","Bogeys","Værre","% Scramble","3+ Putts","% Driver/Fairwayhits"]
[1,307,4,11,null,null,null,null,null,null,null,null,null,null,null,null,null,null,null,null,null,{"$f":"IF(Q5=0,\"\",P5)","v":""},null,null,null,null,{"$f":"IF(AND(Q5=\"\",P5=1),1,\"\")","v":""},null,{"$f":"IF(AND(G5=\"\"),\"\",SUM(K5))","v":""}]
[2,323,4,5,null,null,null,null,null,null,null,null,null,null,null,null,null,null,null,null,null,"",null,null,null,null,"",null,""]
[3,138,3,15,null,null,null,null,null,null,null,null,null,null,null,null,null,null,null,null,null,"",null,null,null,null,"",null,""]
[4,310,4,13,null,null,null,null,null,null,null,null,null,null,null,null,null,null,null,null,null,"",null,null,null,null,"",null,""]
[5,431,5,3,null,null,null,null,null,null,null,null,null,null,null,null,null,null,null,null,null,"",null,null,null,null,"",null,""]
[6,312,4,9,null,null,null,null,null,null,null,null,null,null,null,null,null,null,null,null,null,"",null,null,null,null,"",null,""]
[7,498,5,1,null,null,null,null,null,null,null,null,null,null,null,null,null,null,null,null,null,"",null,null,null,null,"",null,""]
[8,138,3,17,null,null,null,null,null,null,null,null,null,null,null,null,null,null,null,null,null,"",null,null,null,null,"",null,""]
[9,310,4,7,null,null,null,null,null,null,null,null,null,null,null,null,null,null,null,null,null,"",null,null,null,null,"",null,""]
[null,{"$f":"SUM(B5:B13)","v":2767},{"$f":"SUM(C5:C13)","v":36},"UD",{"$f":"SUM(E5:E13)","v":0},{"$f":"SUM(F5:F13)","v":0},{"$f":"SUM(G5:G13)","v":0},{"$f":"SUM(H5:H13)","v":0},{"$f":"SUM(I5:I13)","v":0},{"$f":"IF((A28=27),\"\",(SUM(J5:J13)/SUM(J5:L13))*100)","v":""},{"$f":"IF((A28=27),\"\",(SUM(K5:K13)/SUM(J5:L13))*100)","v":""},{"$f":"IF((A28=27),\"\",(SUM(L5:L13)/SUM(J5:L13))*100)","v":""},{"$f":"SUM(M5:M13)","v":0},{"$f":"SUM(N5:N13)","v":0},{"$f":"SUM(O5:O13)","v":0},{"$f":"SUM(P5:P13)","v":0},{"$f":"SUM(Q5:Q13)","v":0},null,{"$f":"IF(Q14=0,\"\",SUM(S5:S13)/Q14)","v":""},null,null,{"$f":"SUM(V5:V13)","v":0},{"$f":"ColorFunction($E$30,$E$5:$E$13)","v":0},{"$f":"ColorFunction($E$31,$E$5:$E$13)","v":0},{"$f":"ColorFunction($E$32,$E$5:$E$13)","v":0},{"$f":"ColorFunction($E$33,$E$5:$E$13)","v":0},{"$f":"SUM(AA5:AA13)/(9-Q14)*100","v":0},{"$f":"COUNTIF(P5:P13,\">2\")","v":0},{"$f":"IF((G14=0),\"\",SUM(AC5:AC13)/G14*100)","v":""}]
[10,481,5,4,null,null,null,null,null,null,null,null,null,null,null,null,null,null,null,null,null,{"$f":"IF(Q15=0,\"\",P15)","v":""},null,null,null,null,{"$f":"IF(AND(Q15=\"\",P15=1),1,\"\")","v":""},null,{"$f":"IF(AND(G15=\"\"),\"\",SUM(K15))","v":""}]
[11,319,4,16,null,null,null,null,null,null,null,null,null,null,null,null,null,null,null,null,null,"",null,null,null,null,"",null,""]
[12,431,5,2,null,null,null,null,null,null,null,null,null,null,null,null,null,null,null,null,null,"",null,null,null,null,"",null,""]
[13,122,3,18,null,null,null,null,null,null,null,null,null,null,null,null,null,null,null,null,null,"",null,null,null,null,"",null,""]
[14,379,4,6,null,null,null,null,null,null,null,null,null,null,null,null,null,null,null,null,null,"",null,null,null,null,"",null,""]
[15,316,4,8,null,null,null,null,null,null,null,null,null,null,null,null,null,null,null,null,null,"",null,null,null,null,"",null,""]
[16,322,4,14,null,null,null,null,null,null,null,null,null,null,null,null,null,null,null,null,null,"",null,null,null,null,"",null,""]
[17,345,4,10,null,null,null,null,null,null,null,null,null,null,null,null,null,null,null,null,null,"",null,null,null,null,"",null,""]
[18,281,4,12,null,null,null,null,null,null,null,null,null,null,null,null,null,null,null,null,null,"",null,null,null,null,"",null,""]
[null,{"$f":"SUM(B15:B23)","v":2996},{"$f":"SUM(C15:C23)","v":37},"IND",{"$f":"SUM(E15:E23)","v":0},{"$f":"SUM(F15:F23)","v":0},{"$f":"SUM(G15:G23)","v":0},{"$f":"SUM(H15:H23)","v":0},{"$f":"SUM(I15:I23)","v":0},{"$f":"IF((A29=27),\"\",(SUM(J15:J23)/SUM(J15:L23))*100)","v":""},{"$f":"IF((A29=27),\"\",(SUM(K15:K23)/SUM(J15:L23))*100)","v":""},{"$f":"IF((A29=27),\"\",(SUM(L15:L23)/SUM(J15:L23))*100)","v":""},{"$f":"SUM(M15:M23)","v":0},{"$f":"SUM(N15:N23)","v":0},{"$f":"SUM(O15:O23)","v":0},{"$f":"SUM(P15:P23)","v":0},{"$f":"SUM(Q15:Q23)","v":0},null,{"$f":"IF(Q24=0,\"\",SUM(S15:S23)/Q24)","v":""},null,null,{"$f":"SUM(V15:V23)","v":0},{"$f":"ColorFunction($E$30,$E$15:$E$23)","v":0},{"$f":"ColorFunction($E$31,$E$15:$E$23)","v":0},{"$f":"ColorFunction($E$32,$E$15:$E$23)","v":0},{"$f":"ColorFunction($E$33,$E$15:$E$23)","v":0},{"$f":"SUM(AA15:AA23)/(9-Q24)*100","v":0},{"$f":"COUNTIF(P15:P23,\">2\")","v":0},{"$f":"IF((G24=0),\"\",SUM(AC15:AC23)/G24*100)","v":""}]
[null,{"$f":"SUM(B24,B14)","v":5763},{"$f":"SUM(C24,C14)","v":73},"TOTAL",{"$f":"IF(E14=0,\"0\",(E24+E14))","v":"0"},{"$f":"SUM(F14,F24)","v":0},{"$f":"SUM(G24,G14)","v":0},{"$f":"SUM(H24,H14)","v":0},{"$f":"SUM(I24,I14)","v":0},{"$f":"IF((A28=27),\"\",(SUM(J14,J24)/2))","v":""},{"$f":"IF((A28=27),\"\",(SUM(K14,K24)/2))","v":""},{"$f":"IF((A28=27),\"\",(SUM(L14,L24)/2))","v":""},{"$f":"SUM(M24,M14)","v":0},{"$f":"SUM(N24,N14)","v":0},{"$f":"SUM(O24,O14)","v":0},{"$f":"IF(P14+P24=0,\"\",SUM(P24,P14))","v":""},{"$f":"IF(Q14+Q24=0,\"\",SUM(Q24,Q14))","v":""},null,{"$f":"IF(Q25=\"\",\"\",SUM(S24,S14)/2)","v":""},{"$f":"IF(N25=0,\"\",(O25)/N25*100)","v":""},{"$f":"IF(Q25=\"\",\"\",(Q25)/18*100)","v":""},{"$f":"IF(Q25=\"\",\"\",(V14+V24)/Q25)","v":""},{"$f":"SUM(W14,W24)","v":0},{"$f":"SUM(X14,X24)","v":0},{"$f":"SUM(Y14,Y24)","v":0},{"$f":"SUM(Z14,Z24)","v":0},{"$f":"SUM(AA14,AA24)/2","v":0},{"$f":"SUM(AB14,AB24)","v":0},{"$f":"SUM(AC24,AC14)/2","v":0}]
[]
[null,null,null,null,"Udfyld alle grønne felter med 1 for positiv eller antal i tal"]
[{"$f":"COUNTBLANK(J5:L13)","v":27},null,null,null,null,null,null,null,null,null,null,null,null,null,null,null,null,null,null,null,null,null,"Approach"]
[{"$f":"COUNTBLANK(J15:L23)","v":27},null,null,null,"Udfyld følgende farver:",null,null,null,null,null,null,null,null,null,null,null,null,null,"Holes to par",null,null,null,"Længde (m)","Antal","Afstand (m)"]
[{"$f":"SUM(M5:M23)","v":0},null,null,null,"Eagles",null,null,null,null,null,null,null,null,null,null,null,null,null,"Par 3",{"$f":"SUMIF(C:C,\"3\",E:E)/COUNTIF(C:C,3)","v":0},null,null,"45-70",{"$f":"COUNTIFS(R5:R23,\">=45\",R5:R23,\"<=70\")","v":0},{"$f":"IF(X30=0,\"\",AVERAGEIFS(S5:S23,R5:R23,\">=45\",R5:R23,\"<=70\"))","v":""}]
[null,null,null,null,"Birdies",null,null,null,null,null,null,null,null,null,null,null,null,null,"Par 4",{"$f":"SUMIF(C:C,\"4\",E:E)/COUNTIF(C:C,4)","v":0},null,null,"71-90",{"$f":"COUNTIFS(R5:R23,\">=71\",R5:R23,\"<=90\")","v":0},{"$f":"IF(X31=0,\"\",AVERAGEIFS(S5:S23,R5:R23,\">=71\",R5:R23,\"<=90\"))","v":""}]
[null,null,null,null,"Bogeys",null,null,null,null,null,null,null,null,null,null,null,null,null,"Par 5",{"$f":"SUMIF(C:C,\"5\",E:E)/COUNTIF(C:C,5)","v":0},null,null,"91-115",{"$f":"COUNTIFS(R5:R23,\">=91\",R5:R23,\"<=115\")","v":0},{"$f":"IF(X32=0,\"\",AVERAGEIFS(S5:S23,R5:R23,\">=91\",R5:R23,\"<=115\"))","v":""}]
[null,null,null,null,"Doublebogeys eller værre",null,null,null,null,null,null,null,null,null,null,null,null,null,null,null,null,null,"116-140",{"$f":"COUNTIFS(R5:R23,\">=116\",R5:R23,\"<=140\")","v":0},{"$f":"IF(X33=0,\"\",AVERAGEIFS(S5:S23,R5:R23,\">=116\",R5:R23,\"<=140\"))","v":""}]
[null,null,null,null,null,null,null,null,null,null,null,null,null,null,null,null,null,null,"First 4",{"$f":"IF(E25=\"0\",\"\",SUM(E5:E8)-SUM(C5:C8))","v":""},null,null,"141-160",{"$f":"COUNTIFS(R5:R23,\">=141\",R5:R23,\"<=161\")","v":0},{"$f":"IF(X34=0,\"\",AVERAGEIFS(S5:S23,R5:R23,\">=141\",R5:R23,\"<=160\"))","v":""}]
[null,null,null,null,null,null,null,null,null,null,null,null,null,null,null,null,null,null,"Last 4",{"$f":"IF(E25=\"0\",\"\",SUM(E20:E23)-SUM(C20:C23))","v":""},null,null,"161-180",{"$f":"COUNTIFS(R5:R23,\">=161\",R5:R23,\"<=180\")","v":0},{"$f":"IF(X35=0,\"\",AVERAGEIFS(S5:S23,R5:R23,\">=161\",R5:R23,\"<=180\"))","v":""}]
[]
[null,null,null,null,null,null,null,null,null,null,null,null,null,null,null,null,null,null,null,null,null,null,"Putting"]
[null,null,null,null,null,null,null,null,null,null,null,null,null,null,null,null,null,null,null,null,null,null,"Længde (m)","Antal","Holet","Holet (%)"]
[null,null,null,null,null,null,null,null,null,null,null,null,null,null,null,null,null,null,null,null,null,null,"under 1 m",{"$f":"COUNTIFS(S5:S23,\">=0,1\",S5:S23,\"<=0,9\")","v":0},{"$f":"IF(X39=0,\"\",COUNTIFS(P5:P23,\"=1\",S5:S23,\"<1\"))","v":""},{"$f":"IF(X39=0,\"\",Y39/X39*100)","v":""}]
[null,null,null,null,null,null,null,null,null,null,null,null,null,null,null,null,null,null,null,null,null,null,"1 - 1,5",{"$f":"COUNTIFS(S5:S23,\">=1\",S5:S23,\"<=1,5\")","v":0},{"$f":"IF(X40=0,\"\",COUNTIFS(P5:P23,\"=1\",S5:S23,\">=1\",S5:S23,\"<=1,5\"))","v":""},{"$f":"IF(X40=0,\"\",Y40/X40*100)","v":""}]
[null,null,null,null,null,null,null,null,null,null,null,null,null,null,null,null,null,null,null,null,null,null,"1,5 - 3",{"$f":"COUNTIFS(S5:S23,\">=1,6\",S5:S23,\"<=3\")","v":0},{"$f":"IF(X41=0,\"\",COUNTIFS(P5:P23,\"=1\",S5:S23,\">=1,6\",S5:S23,\"<=3\"))","v":""},{"$f":"IF(X41=0,\"\",Y41/X41*100)","v":""}]
[null,null,null,null,null,null,null,null,null,null,null,null,null,null,null,null,null,null,null,null,null,null,"3 - 4,5",{"$f":"COUNTIFS(S5:S23,\">=3,1\",S5:S23,\"<=4,5\")","v":0},{"$f":"IF(X42=0,\"\",COUNTIFS(P5:P23,\"=1\",S5:S23,\">=3,1\",S5:S23,\"<=4,5\"))","v":""},""]
[null,null,null,null,null,null,null,null,null,null,null,null,null,null,null,null,null,null,null,null,null,null,"4,5 - 6",{"$f":"COUNTIFS(S5:S23,\">=4,6\",S5:S23,\"<=6\")","v":0},{"$f":"IF(X43=0,\"\",COUNTIFS(P5:P23,\"=1\",S5:S23,\">=4,6\",S5:S23,\"<=6\"))","v":""},""]
[null,null,null,null,null,null,null,null,null,null,null,null,null,null,null,null,null,null,null,null,null,null,"over 6 meter",{"$f":"COUNTIFS(S5:S23,\">6\")","v":0},{"$f":"IF(X44=0,\"\",COUNTIFS(P5:P23,\"=1\",S5:S23,\">6\"))","v":""},""]

{"sheet":"Runde 2","index":4,"n_rows":44,"n_cols":29,"rows_kept":44,"cut":false,"hidden":false,"merged":[]}
["Korsør Golf Klub - 18 huller - Gul tee",null,null,null,null,null,null,null,null,{"$f":"IF(E25=\"0\",\"0\",\"1\")","v":"0"},null,"Dato:",null,null,"Handicap:",null,null,null,null,"Antal tildelte slag:"]
[]
[null,null,null,null,null,null,null,"Tee shot",null,null,"Fairway hits i %",null,null,"Bunker",null,null,null,"Approach shots"]
["Hul","Gul tee","Par","HCP","Score","Netto","Driver","Wood","Jern","Venstre","Midt","Højre","FB","GB","SS","Putts","GIR","Dist. to pin (m)","Dist. to hole (m)","% SS","% GIR","Putts/GIR","Eagles","Birdies","Bogeys","Værre","% Scramble","3+ Putts","% Driver/Fairwayhits"]
[1,307,4,11,null,null,null,null,null,null,null,null,null,null,null,null,null,null,null,null,null,{"$f":"IF(Q5=0,\"\",P5)","v":""},null,null,null,null,{"$f":"IF(AND(Q5=\"\",P5=1),1,\"\")","v":""},null,{"$f":"IF(AND(G5=\"\"),\"\",SUM(K5))","v":""}]
[2,323,4,5,null,null,null,null,null,null,null,null,null,null,null,null,null,null,null,null,null,"",null,null,null,null,"",null,""]
[3,138,3,15,null,null,null,null,null,null,null,null,null,null,null,null,null,null,null,null,null,"",null,null,null,null,"",null,""]
[4,310,4,13,null,null,null,null,null,null,null,null,null,null,null,null,null,null,null,null,null,"",null,null,null,null,"",null,""]
[5,431,5,3,null,null,null,null,null,null,null,null,null,null,null,null,null,null,null,null,null,"",null,null,null,null,"",null,""]
[6,312,4,9,null,null,null,null,null,null,null,null,null,null,null,null,null,null,null,null,null,"",null,null,null,null,"",null,""]
[7,498,5,1,null,null,null,null,null,null,null,null,null,null,null,null,null,null,null,null,null,"",null,null,null,null,"",null,""]
[8,138,3,17,null,null,null,null,null,null,null,null,null,null,null,null,null,null,null,null,null,"",null,null,null,null,"",null,""]
[9,310,4,7,null,null,null,null,null,null,null,null,null,null,null,null,null,null,null,null,null,"",null,null,null,null,"",null,""]
[null,{"$f":"SUM(B5:B13)","v":2767},{"$f":"SUM(C5:C13)","v":36},"UD",{"$f":"SUM(E5:E13)","v":0},{"$f":"SUM(F5:F13)","v":0},{"$f":"SUM(G5:G13)","v":0},{"$f":"SUM(H5:H13)","v":0},{"$f":"SUM(I5:I13)","v":0},{"$f":"IF((A28=27),\"\",(SUM(J5:J13)/SUM(J5:L13))*100)","v":""},{"$f":"IF((A28=27),\"\",(SUM(K5:K13)/SUM(J5:L13))*100)","v":""},{"$f":"IF((A28=27),\"\",(SUM(L5:L13)/SUM(J5:L13))*100)","v":""},{"$f":"SUM(M5:M13)","v":0},{"$f":"SUM(N5:N13)","v":0},{"$f":"SUM(O5:O13)","v":0},{"$f":"SUM(P5:P13)","v":0},{"$f":"SUM(Q5:Q13)","v":0},null,{"$f":"IF(Q14=0,\"\",SUM(S5:S13)/Q14)","v":""},null,null,{"$f":"SUM(V5:V13)","v":0},{"$f":"ColorFunction($E$30,$E$5:$E$13)","v":0},{"$f":"ColorFunction($E$31,$E$5:$E$13)","v":0},{"$f":"ColorFunction($E$32,$E$5:$E$13)","v":0},{"$f":"ColorFunction($E$33,$E$5:$E$13)","v":0},{"$f":"SUM(AA5:AA13)/(9-Q14)*100","v":0},{"$f":"COUNTIF(P5:P13,\">2\")","v":0},{"$f":"IF((G14=0),\"\",SUM(AC5:AC13)/G14*100)","v":""}]
[10,481,5,4,null,null,null,null,null,null,null,null,null,null,null,null,null,null,null,null,null,{"$f":"IF(Q15=0,\"\",P15)","v":""},null,null,null,null,{"$f":"IF(AND(Q15=\"\",P15=1),1,\"\")","v":""},null,{"$f":"IF(AND(G15=\"\"),\"\",SUM(K15))","v":""}]
[11,319,4,16,null,null,null,null,null,null,null,null,null,null,null,null,null,null,null,null,null,"",null,null,null,null,"",null,""]
[12,431,5,2,null,null,null,null,null,null,null,null,null,null,null,null,null,null,null,null,null,"",null,null,null,null,"",null,""]
[13,122,3,18,null,null,null,null,null,null,null,null,null,null,null,null,null,null,null,null,null,"",null,null,null,null,"",null,""]
[14,379,4,6,null,null,null,null,null,null,null,null,null,null,null,null,null,null,null,null,null,"",null,null,null,null,"",null,""]
[15,316,4,8,null,null,null,null,null,null,null,null,null,null,null,null,null,null,null,null,null,"",null,null,null,null,"",null,""]
[16,322,4,14,null,null,null,null,null,null,null,null,null,null,null,null,null,null,null,null,null,"",null,null,null,null,"",null,""]
[17,345,4,10,null,null,null,null,null,null,null,null,null,null,null,null,null,null,null,null,null,"",null,null,null,null,"",null,""]
[18,281,4,12,null,null,null,null,null,null,null,null,null,null,null,null,null,null,null,null,null,"",null,null,null,null,"",null,""]
[null,{"$f":"SUM(B15:B23)","v":2996},{"$f":"SUM(C15:C23)","v":37},"IND",{"$f":"SUM(E15:E23)","v":0},{"$f":"SUM(F15:F23)","v":0},{"$f":"SUM(G15:G23)","v":0},{"$f":"SUM(H15:H23)","v":0},{"$f":"SUM(I15:I23)","v":0},{"$f":"IF((A29=27),\"\",(SUM(J15:J23)/SUM(J15:L23))*100)","v":""},{"$f":"IF((A29=27),\"\",(SUM(K15:K23)/SUM(J15:L23))*100)","v":""},{"$f":"IF((A29=27),\"\",(SUM(L15:L23)/SUM(J15:L23))*100)","v":""},{"$f":"SUM(M15:M23)","v":0},{"$f":"SUM(N15:N23)","v":0},{"$f":"SUM(O15:O23)","v":0},{"$f":"SUM(P15:P23)","v":0},{"$f":"SUM(Q15:Q23)","v":0},null,{"$f":"IF(Q24=0,\"\",SUM(S15:S23)/Q24)","v":""},null,null,{"$f":"SUM(V15:V23)","v":0},{"$f":"ColorFunction($E$30,$E$15:$E$23)","v":0},{"$f":"ColorFunction($E$31,$E$15:$E$23)","v":0},{"$f":"ColorFunction($E$32,$E$15:$E$23)","v":0},{"$f":"ColorFunction($E$33,$E$15:$E$23)","v":0},{"$f":"SUM(AA15:AA23)/(9-Q24)*100","v":0},{"$f":"COUNTIF(P15:P23,\">2\")","v":0},{"$f":"IF((G24=0),\"\",SUM(AC15:AC23)/G24*100)","v":""}]
[null,{"$f":"SUM(B24,B14)","v":5763},{"$f":"SUM(C24,C14)","v":73},"TOTAL",{"$f":"IF(E14=0,\"0\",(E24+E14))","v":"0"},{"$f":"SUM(F14,F24)","v":0},{"$f":"SUM(G24,G14)","v":0},{"$f":"SUM(H24,H14)","v":0},{"$f":"SUM(I24,I14)","v":0},{"$f":"IF((A28=27),\"\",(SUM(J14,J24)/2))","v":""},{"$f":"IF((A28=27),\"\",(SUM(K14,K24)/2))","v":""},{"$f":"IF((A28=27),\"\",(SUM(L14,L24)/2))","v":""},{"$f":"SUM(M24,M14)","v":0},{"$f":"SUM(N24,N14)","v":0},{"$f":"SUM(O24,O14)","v":0},{"$f":"IF(P14+P24=0,\"\",SUM(P24,P14))","v":""},{"$f":"IF(Q14+Q24=0,\"\",SUM(Q24,Q14))","v":""},null,{"$f":"IF(Q25=\"\",\"\",SUM(S24,S14)/2)","v":""},{"$f":"IF(N25=0,\"\",(O25)/N25*100)","v":""},{"$f":"IF(Q25=\"\",\"\",(Q25)/18*100)","v":""},{"$f":"IF(Q25=\"\",\"\",(V14+V24)/Q25)","v":""},{"$f":"SUM(W14,W24)","v":0},{"$f":"SUM(X14,X24)","v":0},{"$f":"SUM(Y14,Y24)","v":0},{"$f":"SUM(Z14,Z24)","v":0},{"$f":"SUM(AA14,AA24)/2","v":0},{"$f":"SUM(AB14,AB24)","v":0},{"$f":"SUM(AC24,AC14)/2","v":0}]
[]
[null,null,null,null,"Udfyld alle grønne felter med 1 for positiv eller antal i tal"]
[{"$f":"COUNTBLANK(I5:K13)","v":27},null,null,null,null,null,null,null,null,null,null,null,null,null,null,null,null,null,null,null,null,null,"Approach"]
[{"$f":"COUNTBLANK(I15:K23)","v":27},null,null,null,"Udfyld følgende farver:",null,null,null,null,null,null,null,null,null,null,null,null,null,"Holes to par",null,null,null,"Længde (m)","Antal","Afstand (m)"]
[{"$f":"SUM(L5:L23)","v":0},null,null,null,"Eagles",null,null,null,null,null,null,null,null,null,null,null,null,null,"Par 3",{"$f":"SUMIF(C:C,\"3\",E:E)/COUNTIF(C:C,3)","v":0},null,null,"45-70",{"$f":"COUNTIFS(R5:R23,\">=45\",R5:R23,\"<=70\")","v":0},{"$f":"IF(X30=0,\"\",AVERAGEIFS(S5:S23,R5:R23,\">=45\",R5:R23,\"<=70\"))","v":""}]
[null,null,null,null,"Birdies",null,null,null,null,null,null,null,null,null,null,null,null,null,"Par 4",{"$f":"SUMIF(C:C,\"4\",E:E)/COUNTIF(C:C,4)","v":0},null,null,"71-90",{"$f":"COUNTIFS(R5:R23,\">=71\",R5:R23,\"<=90\")","v":0},{"$f":"IF(X31=0,\"\",AVERAGEIFS(S5:S23,R5:R23,\">=71\",R5:R23,\"<=90\"))","v":""}]
[null,null,null,null,"Bogeys",null,null,null,null,null,null,null,null,null,null,null,null,null,"Par 5",{"$f":"SUMIF(C:C,\"5\",E:E)/COUNTIF(C:C,5)","v":0},null,null,"91-115",{"$f":"COUNTIFS(R5:R23,\">=91\",R5:R23,\"<=115\")","v":0},{"$f":"IF(X32=0,\"\",AVERAGEIFS(S5:S23,R5:R23,\">=91\",R5:R23,\"<=115\"))","v":""}]
[null,null,null,null,"Doublebogeys eller værre",null,null,null,null,null,null,null,null,null,null,null,null,null,null,null,null,null,"116-140",{"$f":"COUNTIFS(R5:R23,\">=116\",R5:R23,\"<=140\")","v":0},{"$f":"IF(X33=0,\"\",AVERAGEIFS(S5:S23,R5:R23,\">=116\",R5:R23,\"<=140\"))","v":""}]
[null,null,null,null,null,null,null,null,null,null,null,null,null,null,null,null,null,null,"First 4",{"$f":"IF(E25=\"0\",\"\",SUM(E5:E8)-SUM(C5:C8))","v":""},null,null,"141-160",{"$f":"COUNTIFS(R5:R23,\">=141\",R5:R23,\"<=161\")","v":0},{"$f":"IF(X34=0,\"\",AVERAGEIFS(S5:S23,R5:R23,\">=141\",R5:R23,\"<=160\"))","v":""}]
[null,null,null,null,null,null,null,null,null,null,null,null,null,null,null,null,null,null,"Last 4",{"$f":"IF(E25=\"0\",\"\",SUM(E20:E23)-SUM(C20:C23))","v":""},null,null,"161-180",{"$f":"COUNTIFS(R5:R23,\">=161\",R5:R23,\"<=180\")","v":0},{"$f":"IF(X35=0,\"\",AVERAGEIFS(S5:S23,R5:R23,\">=161\",R5:R23,\"<=180\"))","v":""}]
[]
[null,null,null,null,null,null,null,null,null,null,null,null,null,null,null,null,null,null,null,null,null,null,"Putting"]
[null,null,null,null,null,null,null,null,null,null,null,null,null,null,null,null,null,null,null,null,null,null,"Længde (m)","Antal","Holet","Holet (%)"]
[null,null,null,null,null,null,null,null,null,null,null,null,null,null,null,null,null,null,null,null,null,null,"under 1 m",{"$f":"COUNTIFS(S5:S23,\">=0,1\",S5:S23,\"<=0,9\")","v":0},{"$f":"IF(X39=0,\"\",COUNTIFS(P5:P23,\"=1\",S5:S23,\"<1\"))","v":""},{"$f":"IF(X39=0,\"\",Y39/X39*100)","v":""}]
[null,null,null,null,null,null,null,null,null,null,null,null,null,null,null,null,null,null,null,null,null,null,"1 - 1,5",{"$f":"COUNTIFS(S5:S23,\">=1\",S5:S23,\"<=1,5\")","v":0},{"$f":"IF(X40=0,\"\",COUNTIFS(P5:P23,\"=1\",S5:S23,\">=1\",S5:S23,\"<=1,5\"))","v":""},{"$f":"IF(X40=0,\"\",Y40/X40*100)","v":""}]
[null,null,null,null,null,null,null,null,null,null,null,null,null,null,null,null,null,null,null,null,null,null,"1,5 - 3",{"$f":"COUNTIFS(S5:S23,\">=1,6\",S5:S23,\"<=3\")","v":0},{"$f":"IF(X41=0,\"\",COUNTIFS(P5:P23,\"=1\",S5:S23,\">=1,6\",S5:S23,\"<=3\"))","v":""},{"$f":"IF(X41=0,\"\",Y41/X41*100)","v":""}]
[null,null,null,null,null,null,null,null,null,null,null,null,null,null,null,null,null,null,null,null,null,null,"3 - 4,5",{"$f":"COUNTIFS(S5:S23,\">=3,1\",S5:S23,\"<=4,5\")","v":0},{"$f":"IF(X42=0,\"\",COUNTIFS(P5:P23,\"=1\",S5:S23,\">=3,1\",S5:S23,\"<=4,5\"))","v":""},""]
[null,null,null,null,null,null,null,null,null,null,null,null,null,null,null,null,null,null,null,null,null,null,"4,5 - 6",{"$f":"COUNTIFS(S5:S23,\">=4,6\",S5:S23,\"<=6\")","v":0},{"$f":"IF(X43=0,\"\",COUNTIFS(P5:P23,\"=1\",S5:S23,\">=4,6\",S5:S23,\"<=6\"))","v":""},""]
[null,null,null,null,null,null,null,null,null,null,null,null,null,null,null,null,null,null,null,null,null,null,"over 6 meter",{"$f":"COUNTIFS(S5:S23,\">6\")","v":0},{"$f":"IF(X44=0,\"\",COUNTIFS(P5:P23,\"=1\",S5:S23,\">6\"))","v":""},""]

{"sheet":"Runde 3","index":5,"n_rows":44,"n_cols":29,"rows_kept":44,"cut":false,"hidden":false,"merged":[]}
["Korsør Golf Klub - 18 huller - Gul tee",null,null,null,null,null,null,null,null,{"$f":"IF(E25=\"0\",\"0\",\"1\")","v":"0"},null,"Dato:",null,null,"Handicap:",null,null,null,null,"Antal tildelte slag:"]
[]
[null,null,null,null,null,null,null,"Tee shot",null,null,"Fairway hits i %",null,null,"Bunker",null,null,null,"Approach shots"]
["Hul","Gul tee","Par","HCP","Score","Netto","Driver","Wood","Jern","Venstre","Midt","Højre","FB","GB","SS","Putts","GIR","Dist. to pin (m)","Dist. to hole (m)","% SS","% GIR","Putts/GIR","Eagles","Birdies","Bogeys","Værre","% Scramble","3+ Putts","% Driver/Fairwayhits"]
[1,307,4,11,null,null,null,null,null,null,null,null,null,null,null,null,null,null,null,null,null,{"$f":"IF(Q5=0,\"\",P5)","v":""},null,null,null,null,{"$f":"IF(AND(Q5=\"\",P5=1),1,\"\")","v":""},null,{"$f":"IF(AND(G5=\"\"),\"\",SUM(K5))","v":""}]
[2,323,4,5,null,null,null,null,null,null,null,null,null,null,null,null,null,null,null,null,null,"",null,null,null,null,"",null,""]
[3,138,3,15,null,null,null,null,null,null,null,null,null,null,null,null,null,null,null,null,null,"",null,null,null,null,"",null,""]
[4,310,4,13,null,null,null,null,null,null,null,null,null,null,null,null,null,null,null,null,null,"",null,null,null,null,"",null,""]
[5,431,5,3,null,null,null,null,null,null,null,null,null,null,null,null,null,null,null,null,null,"",null,null,null,null,"",null,""]
[6,312,4,9,null,null,null,null,null,null,null,null,null,null,null,null,null,null,null,null,null,"",null,null,null,null,"",null,""]
[7,498,5,1,null,null,null,null,null,null,null,null,null,null,null,null,null,null,null,null,null,"",null,null,null,null,"",null,""]
[8,138,3,17,null,null,null,null,null,null,null,null,null,null,null,null,null,null,null,null,null,"",null,null,null,null,"",null,""]
[9,310,4,7,null,null,null,null,null,null,null,null,null,null,null,null,null,null,null,null,null,"",null,null,null,null,"",null,""]
[null,{"$f":"SUM(B5:B13)","v":2767},{"$f":"SUM(C5:C13)","v":36},"UD",{"$f":"SUM(E5:E13)","v":0},{"$f":"SUM(F5:F13)","v":0},{"$f":"SUM(G5:G13)","v":0},{"$f":"SUM(H5:H13)","v":0},{"$f":"SUM(I5:I13)","v":0},{"$f":"IF((A28=27),\"\",(SUM(J5:J13)/SUM(J5:L13))*100)","v":""},{"$f":"IF((A28=27),\"\",(SUM(K5:K13)/SUM(J5:L13))*100)","v":""},{"$f":"IF((A28=27),\"\",(SUM(L5:L13)/SUM(J5:L13))*100)","v":""},{"$f":"SUM(M5:M13)","v":0},{"$f":"SUM(N5:N13)","v":0},{"$f":"SUM(O5:O13)","v":0},{"$f":"SUM(P5:P13)","v":0},{"$f":"SUM(Q5:Q13)","v":0},null,{"$f":"IF(Q14=0,\"\",SUM(S5:S13)/Q14)","v":""},null,null,{"$f":"SUM(V5:V13)","v":0},{"$f":"ColorFunction($E$30,$E$5:$E$13)","v":0},{"$f":"ColorFunction($E$31,$E$5:$E$13)","v":0},{"$f":"ColorFunction($E$32,$E$5:$E$13)","v":0},{"$f":"ColorFunction($E$33,$E$5:$E$13)","v":0},{"$f":"SUM(AA5:AA13)/(9-Q14)*100","v":0},{"$f":"COUNTIF(P5:P13,\">2\")","v":0},{"$f":"IF((G14=0),\"\",SUM(AC5:AC13)/G14*100)","v":""}]
[10,481,5,4,null,null,null,null,null,null,null,null,null,null,null,null,null,null,null,null,null,{"$f":"IF(Q15=0,\"\",P15)","v":""},null,null,null,null,{"$f":"IF(AND(Q15=\"\",P15=1),1,\"\")","v":""},null,{"$f":"IF(AND(G15=\"\"),\"\",SUM(K15))","v":""}]
[11,319,4,16,null,null,null,null,null,null,null,null,null,null,null,null,null,null,null,null,null,"",null,null,null,null,"",null,""]
[12,431,5,2,null,null,null,null,null,null,null,null,null,null,null,null,null,null,null,null,null,"",null,null,null,null,"",null,""]
[13,122,3,18,null,null,null,null,null,null,null,null,null,null,null,null,null,null,null,null,null,"",null,null,null,null,"",null,""]
[14,379,4,6,null,null,null,null,null,null,null,null,null,null,null,null,null,null,null,null,null,"",null,null,null,null,"",null,""]
[15,316,4,8,null,null,null,null,null,null,null,null,null,null,null,null,null,null,null,null,null,"",null,null,null,null,"",null,""]
[16,322,4,14,null,null,null,null,null,null,null,null,null,null,null,null,null,null,null,null,null,"",null,null,null,null,"",null,""]
[17,345,4,10,null,null,null,null,null,null,null,null,null,null,null,null,null,null,null,null,null,"",null,null,null,null,"",null,""]
[18,281,4,12,null,null,null,null,null,null,null,null,null,null,null,null,null,null,null,null,null,"",null,null,null,null,"",null,""]
[null,{"$f":"SUM(B15:B23)","v":2996},{"$f":"SUM(C15:C23)","v":37},"IND",{"$f":"SUM(E15:E23)","v":0},{"$f":"SUM(F15:F23)","v":0},{"$f":"SUM(G15:G23)","v":0},{"$f":"SUM(H15:H23)","v":0},{"$f":"SUM(I15:I23)","v":0},{"$f":"IF((A29=27),\"\",(SUM(J15:J23)/SUM(J15:L23))*100)","v":""},{"$f":"IF((A29=27),\"\",(SUM(K15:K23)/SUM(J15:L23))*100)","v":""},{"$f":"IF((A29=27),\"\",(SUM(L15:L23)/SUM(J15:L23))*100)","v":""},{"$f":"SUM(M15:M23)","v":0},{"$f":"SUM(N15:N23)","v":0},{"$f":"SUM(O15:O23)","v":0},{"$f":"SUM(P15:P23)","v":0},{"$f":"SUM(Q15:Q23)","v":0},null,{"$f":"IF(Q24=0,\"\",SUM(S15:S23)/Q24)","v":""},null,null,{"$f":"SUM(V15:V23)","v":0},{"$f":"ColorFunction($E$30,$E$15:$E$23)","v":0},{"$f":"ColorFunction($E$31,$E$15:$E$23)","v":0},{"$f":"ColorFunction($E$32,$E$15:$E$23)","v":0},{"$f":"ColorFunction($E$33,$E$15:$E$23)","v":0},{"$f":"SUM(AA15:AA23)/(9-Q24)*100","v":0},{"$f":"COUNTIF(P15:P23,\">2\")","v":0},{"$f":"IF((G24=0),\"\",SUM(AC15:AC23)/G24*100)","v":""}]
[null,{"$f":"SUM(B24,B14)","v":5763},{"$f":"SUM(C24,C14)","v":73},"TOTAL",{"$f":"IF(E14=0,\"0\",(E24+E14))","v":"0"},{"$f":"SUM(F14,F24)","v":0},{"$f":"SUM(G24,G14)","v":0},{"$f":"SUM(H24,H14)","v":0},{"$f":"SUM(I24,I14)","v":0},{"$f":"IF((A28=27),\"\",(SUM(J14,J24)/2))","v":""},{"$f":"IF((A28=27),\"\",(SUM(K14,K24)/2))","v":""},{"$f":"IF((A28=27),\"\",(SUM(L14,L24)/2))","v":""},{"$f":"SUM(M24,M14)","v":0},{"$f":"SUM(N24,N14)","v":0},{"$f":"SUM(O24,O14)","v":0},{"$f":"IF(P14+P24=0,\"\",SUM(P24,P14))","v":""},{"$f":"IF(Q14+Q24=0,\"\",SUM(Q24,Q14))","v":""},null,{"$f":"IF(Q25=\"\",\"\",SUM(S24,S14)/2)","v":""},{"$f":"IF(N25=0,\"\",(O25)/N25*100)","v":""},{"$f":"IF(Q25=\"\",\"\",(Q25)/18*100)","v":""},{"$f":"IF(Q25=\"\",\"\",(V14+V24)/Q25)","v":""},{"$f":"SUM(W14,W24)","v":0},{"$f":"SUM(X14,X24)","v":0},{"$f":"SUM(Y14,Y24)","v":0},{"$f":"SUM(Z14,Z24)","v":0},{"$f":"SUM(AA14,AA24)/2","v":0},{"$f":"SUM(AB14,AB24)","v":0},{"$f":"SUM(AC24,AC14)/2","v":0}]
[]
[null,null,null,null,"Udfyld alle grønne felter med 1 for positiv eller antal i tal"]
[{"$f":"COUNTBLANK(I5:K13)","v":27},null,null,null,null,null,null,null,null,null,null,null,null,null,null,null,null,null,null,null,null,null,"Approach"]
[{"$f":"COUNTBLANK(I15:K23)","v":27},null,null,null,"Udfyld følgende farver:",null,null,null,null,null,null,null,null,null,null,null,null,null,"Holes to par",null,null,null,"Længde (m)","Antal","Afstand (m)"]
[{"$f":"SUM(L5:L23)","v":0},null,null,null,"Eagles",null,null,null,null,null,null,null,null,null,null,null,null,null,"Par 3",{"$f":"SUMIF(C:C,\"3\",E:E)/COUNTIF(C:C,3)","v":0},null,null,"45-70",{"$f":"COUNTIFS(R5:R23,\">=45\",R5:R23,\"<=70\")","v":0},{"$f":"IF(X30=0,\"\",AVERAGEIFS(S5:S23,R5:R23,\">=45\",R5:R23,\"<=70\"))","v":""}]
[null,null,null,null,"Birdies",null,null,null,null,null,null,null,null,null,null,null,null,null,"Par 4",{"$f":"SUMIF(C:C,\"4\",E:E)/COUNTIF(C:C,4)","v":0},null,null,"71-90",{"$f":"COUNTIFS(R5:R23,\">=71\",R5:R23,\"<=90\")","v":0},{"$f":"IF(X31=0,\"\",AVERAGEIFS(S5:S23,R5:R23,\">=71\",R5:R23,\"<=90\"))","v":""}]
[null,null,null,null,"Bogeys",null,null,null,null,null,null,null,null,null,null,null,null,null,"Par 5",{"$f":"SUMIF(C:C,\"5\",E:E)/COUNTIF(C:C,5)","v":0},null,null,"91-115",{"$f":"COUNTIFS(R5:R23,\">=91\",R5:R23,\"<=115\")","v":0},{"$f":"IF(X32=0,\"\",AVERAGEIFS(S5:S23,R5:R23,\">=91\",R5:R23,\"<=115\"))","v":""}]
[null,null,null,null,"Doublebogeys eller værre",null,null,null,null,null,null,null,null,null,null,null,null,null,null,null,null,null,"116-140",{"$f":"COUNTIFS(R5:R23,\">=116\",R5:R23,\"<=140\")","v":0},{"$f":"IF(X33=0,\"\",AVERAGEIFS(S5:S23,R5:R23,\">=116\",R5:R23,\"<=140\"))","v":""}]
[null,null,null,null,null,null,null,null,null,null,null,null,null,null,null,null,null,null,"First 4",{"$f":"IF(E25=\"0\",\"\",SUM(E5:E8)-SUM(C5:C8))","v":""},null,null,"141-160",{"$f":"COUNTIFS(R5:R23,\">=141\",R5:R23,\"<=161\")","v":0},{"$f":"IF(X34=0,\"\",AVERAGEIFS(S5:S23,R5:R23,\">=141\",R5:R23,\"<=160\"))","v":""}]
[null,null,null,null,null,null,null,null,null,null,null,null,null,null,null,null,null,null,"Last 4",{"$f":"IF(E25=\"0\",\"\",SUM(E20:E23)-SUM(C20:C23))","v":""},null,null,"161-180",{"$f":"COUNTIFS(R5:R23,\">=161\",R5:R23,\"<=180\")","v":0},{"$f":"IF(X35=0,\"\",AVERAGEIFS(S5:S23,R5:R23,\">=161\",R5:R23,\"<=180\"))","v":""}]
[]
[null,null,null,null,null,null,null,null,null,null,null,null,null,null,null,null,null,null,null,null,null,null,"Putting"]
[null,null,null,null,null,null,null,null,null,null,null,null,null,null,null,null,null,null,null,null,null,null,"Længde (m)","Antal","Holet","Holet (%)"]
[null,null,null,null,null,null,null,null,null,null,null,null,null,null,null,null,null,null,null,null,null,null,"under 1 m",{"$f":"COUNTIFS(S5:S23,\">=0,1\",S5:S23,\"<=0,9\")","v":0},{"$f":"IF(X39=0,\"\",COUNTIFS(P5:P23,\"=1\",S5:S23,\"<1\"))","v":""},{"$f":"IF(X39=0,\"\",Y39/X39*100)","v":""}]
[null,null,null,null,null,null,null,null,null,null,null,null,null,null,null,null,null,null,null,null,null,null,"1 - 1,5",{"$f":"COUNTIFS(S5:S23,\">=1\",S5:S23,\"<=1,5\")","v":0},{"$f":"IF(X40=0,\"\",COUNTIFS(P5:P23,\"=1\",S5:S23,\">=1\",S5:S23,\"<=1,5\"))","v":""},{"$f":"IF(X40=0,\"\",Y40/X40*100)","v":""}]
[null,null,null,null,null,null,null,null,null,null,null,null,null,null,null,null,null,null,null,null,null,null,"1,5 - 3",{"$f":"COUNTIFS(S5:S23,\">=1,6\",S5:S23,\"<=3\")","v":0},{"$f":"IF(X41=0,\"\",COUNTIFS(P5:P23,\"=1\",S5:S23,\">=1,6\",S5:S23,\"<=3\"))","v":""},{"$f":"IF(X41=0,\"\",Y41/X41*100)","v":""}]
[null,null,null,null,null,null,null,null,null,null,null,null,null,null,null,null,null,null,null,null,null,null,"3 - 4,5",{"$f":"COUNTIFS(S5:S23,\">=3,1\",S5:S23,\"<=4,5\")","v":0},{"$f":"IF(X42=0,\"\",COUNTIFS(P5:P23,\"=1\",S5:S23,\">=3,1\",S5:S23,\"<=4,5\"))","v":""},""]
[null,null,null,null,null,null,null,null,null,null,null,null,null,null,null,null,null,null,null,null,null,null,"4,5 - 6",{"$f":"COUNTIFS(S5:S23,\">=4,6\",S5:S23,\"<=6\")","v":0},{"$f":"IF(X43=0,\"\",COUNTIFS(P5:P23,\"=1\",S5:S23,\">=4,6\",S5:S23,\"<=6\"))","v":""},""]
[null,null,null,null,null,null,null,null,null,null,null,null,null,null,null,null,null,null,null,null,null,null,"over 6 meter",{"$f":"COUNTIFS(S5:S23,\">6\")","v":0},{"$f":"IF(X44=0,\"\",COUNTIFS(P5:P23,\"=1\",S5:S23,\">6\"))","v":""},""]

{"sheet":"Runde 4","index":6,"n_rows":44,"n_cols":29,"rows_kept":44,"cut":false,"hidden":false,"merged":[]}
["Korsør Golf Klub - 18 huller - Gul tee",null,null,null,null,null,null,null,null,{"$f":"IF(E25=\"0\",\"0\",\"1\")","v":"0"},null,"Dato:",null,null,"Handicap:",null,null,null,null,"Antal tildelte slag:"]
[]
[null,null,null,null,null,null,null,"Tee shot",null,null,"Fairway hits i %",null,null,"Bunker",null,null,null,"Approach shots"]
["Hul","Gul tee","Par","HCP","Score","Netto","Driver","Wood","Jern","Venstre","Midt","Højre","FB","GB","SS","Putts","GIR","Dist. to pin (m)","Dist. to hole (m)","% SS","% GIR","Putts/GIR","Eagles","Birdies","Bogeys","Værre","% Scramble","3+ Putts","% Driver/Fairwayhits"]
[1,307,4,11,null,null,null,null,null,null,null,null,null,null,null,null,null,null,null,null,null,{"$f":"IF(Q5=0,\"\",P5)","v":""},null,null,null,null,{"$f":"IF(AND(Q5=\"\",P5=1),1,\"\")","v":""},null,{"$f":"IF(AND(G5=\"\"),\"\",SUM(K5))","v":""}]
[2,323,4,5,null,null,null,null,null,null,null,null,null,null,null,null,null,null,null,null,null,"",null,null,null,null,"",null,""]
[3,138,3,15,null,null,null,null,null,null,null,null,null,null,null,null,null,null,null,null,null,"",null,null,null,null,"",null,""]
[4,310,4,13,null,null,null,null,null,null,null,null,null,null,null,null,null,null,null,null,null,"",null,null,null,null,"",null,""]
[5,431,5,3,null,null,null,null,null,null,null,null,null,null,null,null,null,null,null,null,null,"",null,null,null,null,"",null,""]
[6,312,4,9,null,null,null,null,null,null,null,null,null,null,null,null,null,null,null,null,null,"",null,null,null,null,"",null,""]
[7,498,5,1,null,null,null,null,null,null,null,null,null,null,null,null,null,null,null,null,null,"",null,null,null,null,"",null,""]
[8,138,3,17,null,null,null,null,null,null,null,null,null,null,null,null,null,null,null,null,null,"",null,null,null,null,"",null,""]
[9,310,4,7,null,null,null,null,null,null,null,null,null,null,null,null,null,null,null,null,null,"",null,null,null,null,"",null,""]
[null,{"$f":"SUM(B5:B13)","v":2767},{"$f":"SUM(C5:C13)","v":36},"UD",{"$f":"SUM(E5:E13)","v":0},{"$f":"SUM(F5:F13)","v":0},{"$f":"SUM(G5:G13)","v":0},{"$f":"SUM(H5:H13)","v":0},{"$f":"SUM(I5:I13)","v":0},{"$f":"IF((A28=27),\"\",(SUM(J5:J13)/SUM(J5:L13))*100)","v":""},{"$f":"IF((A28=27),\"\",(SUM(K5:K13)/SUM(J5:L13))*100)","v":""},{"$f":"IF((A28=27),\"\",(SUM(L5:L13)/SUM(J5:L13))*100)","v":""},{"$f":"SUM(M5:M13)","v":0},{"$f":"SUM(N5:N13)","v":0},{"$f":"SUM(O5:O13)","v":0},{"$f":"SUM(P5:P13)","v":0},{"$f":"SUM(Q5:Q13)","v":0},null,{"$f":"IF(Q14=0,\"\",SUM(S5:S13)/Q14)","v":""},null,null,{"$f":"SUM(V5:V13)","v":0},{"$f":"ColorFunction($E$30,$E$5:$E$13)","v":0},{"$f":"ColorFunction($E$31,$E$5:$E$13)","v":0},{"$f":"ColorFunction($E$32,$E$5:$E$13)","v":0},{"$f":"ColorFunction($E$33,$E$5:$E$13)","v":0},{"$f":"SUM(AA5:AA13)/(9-Q14)*100","v":0},{"$f":"COUNTIF(P5:P13,\">2\")","v":0},{"$f":"IF((G14=0),\"\",SUM(AC5:AC13)/G14*100)","v":""}]
[10,481,5,4,null,null,null,null,null,null,null,null,null,null,null,null,null,null,null,null,null,{"$f":"IF(Q15=0,\"\",P15)","v":""},null,null,null,null,{"$f":"IF(AND(Q15=\"\",P15=1),1,\"\")","v":""},null,{"$f":"IF(AND(G15=\"\"),\"\",SUM(K15))","v":""}]
[11,319,4,16,null,null,null,null,null,null,null,null,null,null,null,null,null,null,null,null,null,"",null,null,null,null,"",null,""]
[12,431,5,2,null,null,null,null,null,null,null,null,null,null,null,null,null,null,null,null,null,"",null,null,null,null,"",null,""]
[13,122,3,18,null,null,null,null,null,null,null,null,null,null,null,null,null,null,null,null,null,"",null,null,null,null,"",null,""]
[14,379,4,6,null,null,null,null,null,null,null,null,null,null,null,null,null,null,null,null,null,"",null,null,null,null,"",null,""]
[15,316,4,8,null,null,null,null,null,null,null,null,null,null,null,null,null,null,null,null,null,"",null,null,null,null,"",null,""]
[16,322,4,14,null,null,null,null,null,null,null,null,null,null,null,null,null,null,null,null,null,"",null,null,null,null,"",null,""]
[17,345,4,10,null,null,null,null,null,null,null,null,null,null,null,null,null,null,null,null,null,"",null,null,null,null,"",null,""]
[18,281,4,12,null,null,null,null,null,null,null,null,null,null,null,null,null,null,null,null,null,"",null,null,null,null,"",null,""]
[null,{"$f":"SUM(B15:B23)","v":2996},{"$f":"SUM(C15:C23)","v":37},"IND",{"$f":"SUM(E15:E23)","v":0},{"$f":"SUM(F15:F23)","v":0},{"$f":"SUM(G15:G23)","v":0},{"$f":"SUM(H15:H23)","v":0},{"$f":"SUM(I15:I23)","v":0},{"$f":"IF((A29=27),\"\",(SUM(J15:J23)/SUM(J15:L23))*100)","v":""},{"$f":"IF((A29=27),\"\",(SUM(K15:K23)/SUM(J15:L23))*100)","v":""},{"$f":"IF((A29=27),\"\",(SUM(L15:L23)/SUM(J15:L23))*100)","v":""},{"$f":"SUM(M15:M23)","v":0},{"$f":"SUM(N15:N23)","v":0},{"$f":"SUM(O15:O23)","v":0},{"$f":"SUM(P15:P23)","v":0},{"$f":"SUM(Q15:Q23)","v":0},null,{"$f":"IF(Q24=0,\"\",SUM(S15:S23)/Q24)","v":""},null,null,{"$f":"SUM(V15:V23)","v":0},{"$f":"ColorFunction($E$30,$E$15:$E$23)","v":0},{"$f":"ColorFunction($E$31,$E$15:$E$23)","v":0},{"$f":"ColorFunction($E$32,$E$15:$E$23)","v":0},{"$f":"ColorFunction($E$33,$E$15:$E$23)","v":0},{"$f":"SUM(AA15:AA23)/(9-Q24)*100","v":0},{"$f":"COUNTIF(P15:P23,\">2\")","v":0},{"$f":"IF((G24=0),\"\",SUM(AC15:AC23)/G24*100)","v":""}]
[null,{"$f":"SUM(B24,B14)","v":5763},{"$f":"SUM(C24,C14)","v":73},"TOTAL",{"$f":"IF(E14=0,\"0\",(E24+E14))","v":"0"},{"$f":"SUM(F14,F24)","v":0},{"$f":"SUM(G24,G14)","v":0},{"$f":"SUM(H24,H14)","v":0},{"$f":"SUM(I24,I14)","v":0},{"$f":"IF((A28=27),\"\",(SUM(J14,J24)/2))","v":""},{"$f":"IF((A28=27),\"\",(SUM(K14,K24)/2))","v":""},{"$f":"IF((A28=27),\"\",(SUM(L14,L24)/2))","v":""},{"$f":"SUM(M24,M14)","v":0},{"$f":"SUM(N24,N14)","v":0},{"$f":"SUM(O24,O14)","v":0},{"$f":"IF(P14+P24=0,\"\",SUM(P24,P14))","v":""},{"$f":"IF(Q14+Q24=0,\"\",SUM(Q24,Q14))","v":""},null,{"$f":"IF(Q25=\"\",\"\",SUM(S24,S14)/2)","v":""},{"$f":"IF(N25=0,\"\",(O25)/N25*100)","v":""},{"$f":"IF(Q25=\"\",\"\",(Q25)/18*100)","v":""},{"$f":"IF(Q25=\"\",\"\",(V14+V24)/Q25)","v":""},{"$f":"SUM(W14,W24)","v":0},{"$f":"SUM(X14,X24)","v":0},{"$f":"SUM(Y14,Y24)","v":0},{"$f":"SUM(Z14,Z24)","v":0},{"$f":"SUM(AA14,AA24)/2","v":0},{"$f":"SUM(AB14,AB24)","v":0},{"$f":"SUM(AC24,AC14)/2","v":0}]
[]
[null,null,null,null,"Udfyld alle grønne felter med 1 for positiv eller antal i tal"]
[{"$f":"COUNTBLANK(I5:K13)","v":27},null,null,null,null,null,null,null,null,null,null,null,null,null,null,null,null,null,null,null,null,null,"Approach"]
[{"$f":"COUNTBLANK(I15:K23)","v":27},null,null,null,"Udfyld følgende farver:",null,null,null,null,null,null,null,null,null,null,null,null,null,"Holes to par",null,null,null,"Længde (m)","Antal","Afstand (m)"]
[{"$f":"SUM(L5:L23)","v":0},null,null,null,"Eagles",null,null,null,null,null,null,null,null,null,null,null,null,null,"Par 3",{"$f":"SUMIF(C:C,\"3\",E:E)/COUNTIF(C:C,3)","v":0},null,null,"45-70",{"$f":"COUNTIFS(R5:R23,\">=45\",R5:R23,\"<=70\")","v":0},{"$f":"IF(X30=0,\"\",AVERAGEIFS(S5:S23,R5:R23,\">=45\",R5:R23,\"<=70\"))","v":""}]
[null,null,null,null,"Birdies",null,null,null,null,null,null,null,null,null,null,null,null,null,"Par 4",{"$f":"SUMIF(C:C,\"4\",E:E)/COUNTIF(C:C,4)","v":0},null,null,"71-90",{"$f":"COUNTIFS(R5:R23,\">=71\",R5:R23,\"<=90\")","v":0},{"$f":"IF(X31=0,\"\",AVERAGEIFS(S5:S23,R5:R23,\">=71\",R5:R23,\"<=90\"))","v":""}]
[null,null,null,null,"Bogeys",null,null,null,null,null,null,null,null,null,null,null,null,null,"Par 5",{"$f":"SUMIF(C:C,\"5\",E:E)/COUNTIF(C:C,5)","v":0},null,null,"91-115",{"$f":"COUNTIFS(R5:R23,\">=91\",R5:R23,\"<=115\")","v":0},{"$f":"IF(X32=0,\"\",AVERAGEIFS(S5:S23,R5:R23,\">=91\",R5:R23,\"<=115\"))","v":""}]
[null,null,null,null,"Doublebogeys eller værre",null,null,null,null,null,null,null,null,null,null,null,null,null,null,null,null,null,"116-140",{"$f":"COUNTIFS(R5:R23,\">=116\",R5:R23,\"<=140\")","v":0},{"$f":"IF(X33=0,\"\",AVERAGEIFS(S5:S23,R5:R23,\">=116\",R5:R23,\"<=140\"))","v":""}]
[null,null,null,null,null,null,null,null,null,null,null,null,null,null,null,null,null,null,"First 4",{"$f":"IF(E25=\"0\",\"\",SUM(E5:E8)-SUM(C5:C8))","v":""},null,null,"141-160",{"$f":"COUNTIFS(R5:R23,\">=141\",R5:R23,\"<=161\")","v":0},{"$f":"IF(X34=0,\"\",AVERAGEIFS(S5:S23,R5:R23,\">=141\",R5:R23,\"<=160\"))","v":""}]
[null,null,null,null,null,null,null,null,null,null,null,null,null,null,null,null,null,null,"Last 4",{"$f":"IF(E25=\"0\",\"\",SUM(E20:E23)-SUM(C20:C23))","v":""},null,null,"161-180",{"$f":"COUNTIFS(R5:R23,\">=161\",R5:R23,\"<=180\")","v":0},{"$f":"IF(X35=0,\"\",AVERAGEIFS(S5:S23,R5:R23,\">=161\",R5:R23,\"<=180\"))","v":""}]
[]
[null,null,null,null,null,null,null,null,null,null,null,null,null,null,null,null,null,null,null,null,null,null,"Putting"]
[null,null,null,null,null,null,null,null,null,null,null,null,null,null,null,null,null,null,null,null,null,null,"Længde (m)","Antal","Holet","Holet (%)"]
[null,null,null,null,null,null,null,null,null,null,null,null,null,null,null,null,null,null,null,null,null,null,"under 1 m",{"$f":"COUNTIFS(S5:S23,\">=0,1\",S5:S23,\"<=0,9\")","v":0},{"$f":"IF(X39=0,\"\",COUNTIFS(P5:P23,\"=1\",S5:S23,\"<1\"))","v":""},{"$f":"IF(X39=0,\"\",Y39/X39*100)","v":""}]
[null,null,null,null,null,null,null,null,null,null,null,null,null,null,null,null,null,null,null,null,null,null,"1 - 1,5",{"$f":"COUNTIFS(S5:S23,\">=1\",S5:S23,\"<=1,5\")","v":0},{"$f":"IF(X40=0,\"\",COUNTIFS(P5:P23,\"=1\",S5:S23,\">=1\",S5:S23,\"<=1,5\"))","v":""},{"$f":"IF(X40=0,\"\",Y40/X40*100)","v":""}]
[null,null,null,null,null,null,null,null,null,null,null,null,null,null,null,null,null,null,null,null,null,null,"1,5 - 3",{"$f":"COUNTIFS(S5:S23,\">=1,6\",S5:S23,\"<=3\")","v":0},{"$f":"IF(X41=0,\"\",COUNTIFS(P5:P23,\"=1\",S5:S23,\">=1,6\",S5:S23,\"<=3\"))","v":""},{"$f":"IF(X41=0,\"\",Y41/X41*100)","v":""}]
[null,null,null,null,null,null,null,null,null,null,null,null,null,null,null,null,null,null,null,null,null,null,"3 - 4,5",{"$f":"COUNTIFS(S5:S23,\">=3,1\",S5:S23,\"<=4,5\")","v":0},{"$f":"IF(X42=0,\"\",COUNTIFS(P5:P23,\"=1\",S5:S23,\">=3,1\",S5:S23,\"<=4,5\"))","v":""},""]
[null,null,null,null,null,null,null,null,null,null,null,null,null,null,null,null,null,null,null,null,null,null,"4,5 - 6",{"$f":"COUNTIFS(S5:S23,\">=4,6\",S5:S23,\"<=6\")","v":0},{"$f":"IF(X43=0,\"\",COUNTIFS(P5:P23,\"=1\",S5:S23,\">=4,6\",S5:S23,\"<=6\"))","v":""},""]
[null,null,null,null,null,null,null,null,null,null,null,null,null,null,null,null,null,null,null,null,null,null,"over 6 meter",{"$f":"COUNTIFS(S5:S23,\">6\")","v":0},{"$f":"IF(X44=0,\"\",COUNTIFS(P5:P23,\"=1\",S5:S23,\">6\"))","v":""},""]

{"sheet":"Runde 5","index":7,"n_rows":44,"n_cols":29,"rows_kept":44,"cut":false,"hidden":false,"merged":[]}
["Korsør Golf Klub - 18 huller - Gul tee",null,null,null,null,null,null,null,null,{"$f":"IF(E25=\"0\",\"0\",\"1\")","v":"0"},null,"Dato:",null,null,"Handicap:",null,null,null,null,"Antal tildelte slag:"]
[]
[null,null,null,null,null,null,null,"Tee shot",null,null,"Fairway hits i %",null,null,"Bunker",null,null,null,"Approach shots"]
["Hul","Gul tee","Par","HCP","Score","Netto","Driver","Wood","Jern","Venstre","Midt","Højre","FB","GB","SS","Putts","GIR","Dist. to pin (m)","Dist. to hole (m)","% SS","% GIR","Putts/GIR","Eagles","Birdies","Bogeys","Værre","% Scramble","3+ Putts","% Driver/Fairwayhits"]
[1,307,4,11,null,null,null,null,null,null,null,null,null,null,null,null,null,null,null,null,null,{"$f":"IF(Q5=0,\"\",P5)","v":""},null,null,null,null,{"$f":"IF(AND(Q5=\"\",P5=1),1,\"\")","v":""},null,{"$f":"IF(AND(G5=\"\"),\"\",SUM(K5))","v":""}]
[2,323,4,5,null,null,null,null,null,null,null,null,null,null,null,null,null,null,null,null,null,"",null,null,null,null,"",null,""]
[3,138,3,15,null,null,null,null,null,null,null,null,null,null,null,null,null,null,null,null,null,"",null,null,null,null,"",null,""]
[4,310,4,13,null,null,null,null,null,null,null,null,null,null,null,null,null,null,null,null,null,"",null,null,null,null,"",null,""]
[5,431,5,3,null,null,null,null,null,null,null,null,null,null,null,null,null,null,null,null,null,"",null,null,null,null,"",null,""]
[6,312,4,9,null,null,null,null,null,null,null,null,null,null,null,null,null,null,null,null,null,"",null,null,null,null,"",null,""]
[7,498,5,1,null,null,null,null,null,null,null,null,null,null,null,null,null,null,null,null,null,"",null,null,null,null,"",null,""]
[8,138,3,17,null,null,null,null,null,null,null,null,null,null,null,null,null,null,null,null,null,"",null,null,null,null,"",null,""]
[9,310,4,7,null,null,null,null,null,null,null,null,null,null,null,null,null,null,null,null,null,"",null,null,null,null,"",null,""]
[null,{"$f":"SUM(B5:B13)","v":2767},{"$f":"SUM(C5:C13)","v":36},"UD",{"$f":"SUM(E5:E13)","v":0},{"$f":"SUM(F5:F13)","v":0},{"$f":"SUM(G5:G13)","v":0},{"$f":"SUM(H5:H13)","v":0},{"$f":"SUM(I5:I13)","v":0},{"$f":"IF((A28=27),\"\",(SUM(J5:J13)/SUM(J5:L13))*100)","v":""},{"$f":"IF((A28=27),\"\",(SUM(K5:K13)/SUM(J5:L13))*100)","v":""},{"$f":"IF((A28=27),\"\",(SUM(L5:L13)/SUM(J5:L13))*100)","v":""},{"$f":"SUM(M5:M13)","v":0},{"$f":"SUM(N5:N13)","v":0},{"$f":"SUM(O5:O13)","v":0},{"$f":"SUM(P5:P13)","v":0},{"$f":"SUM(Q5:Q13)","v":0},null,{"$f":"IF(Q14=0,\"\",SUM(S5:S13)/Q14)","v":""},null,null,{"$f":"SUM(V5:V13)","v":0},{"$f":"ColorFunction($E$30,$E$5:$E$13)","v":0},{"$f":"ColorFunction($E$31,$E$5:$E$13)","v":0},{"$f":"ColorFunction($E$32,$E$5:$E$13)","v":0},{"$f":"ColorFunction($E$33,$E$5:$E$13)","v":0},{"$f":"SUM(AA5:AA13)/(9-Q14)*100","v":0},{"$f":"COUNTIF(P5:P13,\">2\")","v":0},{"$f":"IF((G14=0),\"\",SUM(AC5:AC13)/G14*100)","v":""}]
[10,481,5,4,null,null,null,null,null,null,null,null,null,null,null,null,null,null,null,null,null,{"$f":"IF(Q15=0,\"\",P15)","v":""},null,null,null,null,{"$f":"IF(AND(Q15=\"\",P15=1),1,\"\")","v":""},null,{"$f":"IF(AND(G15=\"\"),\"\",SUM(K15))","v":""}]
[11,319,4,16,null,null,null,null,null,null,null,null,null,null,null,null,null,null,null,null,null,"",null,null,null,null,"",null,""]
[12,431,5,2,null,null,null,null,null,null,null,null,null,null,null,null,null,null,null,null,null,"",null,null,null,null,"",null,""]
[13,122,3,18,null,null,null,null,null,null,null,null,null,null,null,null,null,null,null,null,null,"",null,null,null,null,"",null,""]
[14,379,4,6,null,null,null,null,null,null,null,null,null,null,null,null,null,null,null,null,null,"",null,null,null,null,"",null,""]
[15,316,4,8,null,null,null,null,null,null,null,null,null,null,null,null,null,null,null,null,null,"",null,null,null,null,"",null,""]
[16,322,4,14,null,null,null,null,null,null,null,null,null,null,null,null,null,null,null,null,null,"",null,null,null,null,"",null,""]
[17,345,4,10,null,null,null,null,null,null,null,null,null,null,null,null,null,null,null,null,null,"",null,null,null,null,"",null,""]
[18,281,4,12,null,null,null,null,null,null,null,null,null,null,null,null,null,null,null,null,null,"",null,null,null,null,"",null,""]
[null,{"$f":"SUM(B15:B23)","v":2996},{"$f":"SUM(C15:C23)","v":37},"IND",{"$f":"SUM(E15:E23)","v":0},{"$f":"SUM(F15:F23)","v":0},{"$f":"SUM(G15:G23)","v":0},{"$f":"SUM(H15:H23)","v":0},{"$f":"SUM(I15:I23)","v":0},{"$f":"IF((A29=27),\"\",(SUM(J15:J23)/SUM(J15:L23))*100)","v":""},{"$f":"IF((A29=27),\"\",(SUM(K15:K23)/SUM(J15:L23))*100)","v":""},{"$f":"IF((A29=27),\"\",(SUM(L15:L23)/SUM(J15:L23))*100)","v":""},{"$f":"SUM(M15:M23)","v":0},{"$f":"SUM(N15:N23)","v":0},{"$f":"SUM(O15:O23)","v":0},{"$f":"SUM(P15:P23)","v":0},{"$f":"SUM(Q15:Q23)","v":0},null,{"$f":"IF(Q24=0,\"\",SUM(S15:S23)/Q24)","v":""},null,null,{"$f":"SUM(V15:V23)","v":0},{"$f":"ColorFunction($E$30,$E$15:$E$23)","v":0},{"$f":"ColorFunction($E$31,$E$15:$E$23)","v":0},{"$f":"ColorFunction($E$32,$E$15:$E$23)","v":0},{"$f":"ColorFunction($E$33,$E$15:$E$23)","v":0},{"$f":"SUM(AA15:AA23)/(9-Q24)*100","v":0},{"$f":"COUNTIF(P15:P23,\">2\")","v":0},{"$f":"IF((G24=0),\"\",SUM(AC15:AC23)/G24*100)","v":""}]
[null,{"$f":"SUM(B24,B14)","v":5763},{"$f":"SUM(C24,C14)","v":73},"TOTAL",{"$f":"IF(E14=0,\"0\",(E24+E14))","v":"0"},{"$f":"SUM(F14,F24)","v":0},{"$f":"SUM(G24,G14)","v":0},{"$f":"SUM(H24,H14)","v":0},{"$f":"SUM(I24,I14)","v":0},{"$f":"IF((A28=27),\"\",(SUM(J14,J24)/2))","v":""},{"$f":"IF((A28=27),\"\",(SUM(K14,K24)/2))","v":""},{"$f":"IF((A28=27),\"\",(SUM(L14,L24)/2))","v":""},{"$f":"SUM(M24,M14)","v":0},{"$f":"SUM(N24,N14)","v":0},{"$f":"SUM(O24,O14)","v":0},{"$f":"IF(P14+P24=0,\"\",SUM(P24,P14))","v":""},{"$f":"IF(Q14+Q24=0,\"\",SUM(Q24,Q14))","v":""},null,{"$f":"IF(Q25=\"\",\"\",SUM(S24,S14)/2)","v":""},{"$f":"IF(N25=0,\"\",(O25)/N25*100)","v":""},{"$f":"IF(Q25=\"\",\"\",(Q25)/18*100)","v":""},{"$f":"IF(Q25=\"\",\"\",(V14+V24)/Q25)","v":""},{"$f":"SUM(W14,W24)","v":0},{"$f":"SUM(X14,X24)","v":0},{"$f":"SUM(Y14,Y24)","v":0},{"$f":"SUM(Z14,Z24)","v":0},{"$f":"SUM(AA14,AA24)/2","v":0},{"$f":"SUM(AB14,AB24)","v":0},{"$f":"SUM(AC24,AC14)/2","v":0}]
[]
[null,null,null,null,"Udfyld alle grønne felter med 1 for positiv eller antal i tal"]
[{"$f":"COUNTBLANK(I5:K13)","v":27},null,null,null,null,null,null,null,null,null,null,null,null,null,null,null,null,null,null,null,null,null,"Approach"]
[{"$f":"COUNTBLANK(I15:K23)","v":27},null,null,null,"Udfyld følgende farver:",null,null,null,null,null,null,null,null,null,null,null,null,null,"Holes to par",null,null,null,"Længde (m)","Antal","Afstand (m)"]
[{"$f":"SUM(L5:L23)","v":0},null,null,null,"Eagles",null,null,null,null,null,null,null,null,null,null,null,null,null,"Par 3",{"$f":"SUMIF(C:C,\"3\",E:E)/COUNTIF(C:C,3)","v":0},null,null,"45-70",{"$f":"COUNTIFS(R5:R23,\">=45\",R5:R23,\"<=70\")","v":0},{"$f":"IF(X30=0,\"\",AVERAGEIFS(S5:S23,R5:R23,\">=45\",R5:R23,\"<=70\"))","v":""}]
[null,null,null,null,"Birdies",null,null,null,null,null,null,null,null,null,null,null,null,null,"Par 4",{"$f":"SUMIF(C:C,\"4\",E:E)/COUNTIF(C:C,4)","v":0},null,null,"71-90",{"$f":"COUNTIFS(R5:R23,\">=71\",R5:R23,\"<=90\")","v":0},{"$f":"IF(X31=0,\"\",AVERAGEIFS(S5:S23,R5:R23,\">=71\",R5:R23,\"<=90\"))","v":""}]
[null,null,null,null,"Bogeys",null,null,null,null,null,null,null,null,null,null,null,null,null,"Par 5",{"$f":"SUMIF(C:C,\"5\",E:E)/COUNTIF(C:C,5)","v":0},null,null,"91-115",{"$f":"COUNTIFS(R5:R23,\">=91\",R5:R23,\"<=115\")","v":0},{"$f":"IF(X32=0,\"\",AVERAGEIFS(S5:S23,R5:R23,\">=91\",R5:R23,\"<=115\"))","v":""}]
[null,null,null,null,"Doublebogeys eller værre",null,null,null,null,null,null,null,null,null,null,null,null,null,null,null,null,null,"116-140",{"$f":"COUNTIFS(R5:R23,\">=116\",R5:R23,\"<=140\")","v":0},{"$f":"IF(X33=0,\"\",AVERAGEIFS(S5:S23,R5:R23,\">=116\",R5:R23,\"<=140\"))","v":""}]
[null,null,null,null,null,null,null,null,null,null,null,null,null,null,null,null,null,null,"First 4",{"$f":"IF(E25=\"0\",\"\",SUM(E18:E21)-SUM(C18:C21))","v":""},null,null,"141-160",{"$f":"COUNTIFS(R5:R23,\">=141\",R5:R23,\"<=161\")","v":0},{"$f":"IF(X34=0,\"\",AVERAGEIFS(S5:S23,R5:R23,\">=141\",R5:R23,\"<=160\"))","v":""}]
[null,null,null,null,null,null,null,null,null,null,null,null,null,null,null,null,null,null,"Last 4",{"$f":"IF(E25=\"0\",\"\",SUM(E15:E17)-SUM(C15:C17))","v":""},null,null,"161-180",{"$f":"COUNTIFS(R5:R23,\">=161\",R5:R23,\"<=180\")","v":0},{"$f":"IF(X35=0,\"\",AVERAGEIFS(S5:S23,R5:R23,\">=161\",R5:R23,\"<=180\"))","v":""}]
[]
[null,null,null,null,null,null,null,null,null,null,null,null,null,null,null,null,null,null,null,null,null,null,"Putting"]
[null,null,null,null,null,null,null,null,null,null,null,null,null,null,null,null,null,null,null,null,null,null,"Længde (m)","Antal","Holet","Holet (%)"]
[null,null,null,null,null,null,null,null,null,null,null,null,null,null,null,null,null,null,null,null,null,null,"under 1 m",{"$f":"COUNTIFS(S5:S23,\">=0,1\",S5:S23,\"<=0,9\")","v":0},{"$f":"IF(X39=0,\"\",COUNTIFS(P5:P23,\"=1\",S5:S23,\"<1\"))","v":""},{"$f":"IF(X39=0,\"\",Y39/X39*100)","v":""}]
[null,null,null,null,null,null,null,null,null,null,null,null,null,null,null,null,null,null,null,null,null,null,"1 - 1,5",{"$f":"COUNTIFS(S5:S23,\">=1\",S5:S23,\"<=1,5\")","v":0},{"$f":"IF(X40=0,\"\",COUNTIFS(P5:P23,\"=1\",S5:S23,\">=1\",S5:S23,\"<=1,5\"))","v":""},{"$f":"IF(X40=0,\"\",Y40/X40*100)","v":""}]
[null,null,null,null,null,null,null,null,null,null,null,null,null,null,null,null,null,null,null,null,null,null,"1,5 - 3",{"$f":"COUNTIFS(S5:S23,\">=1,6\",S5:S23,\"<=3\")","v":0},{"$f":"IF(X41=0,\"\",COUNTIFS(P5:P23,\"=1\",S5:S23,\">=1,6\",S5:S23,\"<=3\"))","v":""},{"$f":"IF(X41=0,\"\",Y41/X41*100)","v":""}]
[null,null,null,null,null,null,null,null,null,null,null,null,null,null,null,null,null,null,null,null,null,null,"3 - 4,5",{"$f":"COUNTIFS(S5:S23,\">=3,1\",S5:S23,\"<=4,5\")","v":0},{"$f":"IF(X42=0,\"\",COUNTIFS(P5:P23,\"=1\",S5:S23,\">=3,1\",S5:S23,\"<=4,5\"))","v":""},""]
[null,null,null,null,null,null,null,null,null,null,null,null,null,null,null,null,null,null,null,null,null,null,"4,5 - 6",{"$f":"COUNTIFS(S5:S23,\">=4,6\",S5:S23,\"<=6\")","v":0},{"$f":"IF(X43=0,\"\",COUNTIFS(P5:P23,\"=1\",S5:S23,\">=4,6\",S5:S23,\"<=6\"))","v":""},""]
[null,null,null,null,null,null,null,null,null,null,null,null,null,null,null,null,null,null,null,null,null,null,"over 6 meter",{"$f":"COUNTIFS(S5:S23,\">6\")","v":0},{"$f":"IF(X44=0,\"\",COUNTIFS(P5:P23,\"=1\",S5:S23,\">6\"))","v":""},""]

{"sheet":"Runde 6","index":8,"n_rows":44,"n_cols":29,"rows_kept":44,"cut":false,"hidden":false,"merged":[]}
["Korsør Golf Klub - 18 huller - Gul tee",null,null,null,null,null,null,null,null,{"$f":"IF(E25=\"0\",\"0\",\"1\")","v":"0"},null,"Dato:",null,null,"Handicap:",null,null,null,null,"Antal tildelte slag:"]
[]
[null,null,null,null,null,null,null,"Tee shot",null,null,"Fairway hits i %",null,null,"Bunker",null,null,null,"Approach shots"]
["Hul","Gul tee","Par","HCP","Score","Netto","Driver","Wood","Jern","Venstre","Midt","Højre","FB","GB","SS","Putts","GIR","Dist. to pin (m)","Dist. to hole (m)","% SS","% GIR","Putts/GIR","Eagles","Birdies","Bogeys","Værre","% Scramble","3+ Putts","% Driver/Fairwayhits"]
[1,307,4,11,null,null,null,null,null,null,null,null,null,null,null,null,null,null,null,null,null,{"$f":"IF(Q5=0,\"\",P5)","v":""},null,null,null,null,{"$f":"IF(AND(Q5=\"\",P5=1),1,\"\")","v":""},null,{"$f":"IF(AND(G5=\"\"),\"\",SUM(K5))","v":""}]
[2,323,4,5,null,null,null,null,null,null,null,null,null,null,null,null,null,null,null,null,null,"",null,null,null,null,"",null,""]
[3,138,3,15,null,null,null,null,null,null,null,null,null,null,null,null,null,null,null,null,null,"",null,null,null,null,"",null,""]
[4,310,4,13,null,null,null,null,null,null,null,null,null,null,null,null,null,null,null,null,null,"",null,null,null,null,"",null,""]
[5,431,5,3,null,null,null,null,null,null,null,null,null,null,null,null,null,null,null,null,null,"",null,null,null,null,"",null,""]
[6,312,4,9,null,null,null,null,null,null,null,null,null,null,null,null,null,null,null,null,null,"",null,null,null,null,"",null,""]
[7,498,5,1,null,null,null,null,null,null,null,null,null,null,null,null,null,null,null,null,null,"",null,null,null,null,"",null,""]
[8,138,3,17,null,null,null,null,null,null,null,null,null,null,null,null,null,null,null,null,null,"",null,null,null,null,"",null,""]
[9,310,4,7,null,null,null,null,null,null,null,null,null,null,null,null,null,null,null,null,null,"",null,null,null,null,"",null,""]
[null,{"$f":"SUM(B5:B13)","v":2767},{"$f":"SUM(C5:C13)","v":36},"UD",{"$f":"SUM(E5:E13)","v":0},{"$f":"SUM(F5:F13)","v":0},{"$f":"SUM(G5:G13)","v":0},{"$f":"SUM(H5:H13)","v":0},{"$f":"SUM(I5:I13)","v":0},{"$f":"IF((A28=27),\"\",(SUM(J5:J13)/SUM(J5:L13))*100)","v":""},{"$f":"IF((A28=27),\"\",(SUM(K5:K13)/SUM(J5:L13))*100)","v":""},{"$f":"IF((A28=27),\"\",(SUM(L5:L13)/SUM(J5:L13))*100)","v":""},{"$f":"SUM(M5:M13)","v":0},{"$f":"SUM(N5:N13)","v":0},{"$f":"SUM(O5:O13)","v":0},{"$f":"SUM(P5:P13)","v":0},{"$f":"SUM(Q5:Q13)","v":0},null,{"$f":"IF(Q14=0,\"\",SUM(S5:S13)/Q14)","v":""},null,null,{"$f":"SUM(V5:V13)","v":0},{"$f":"ColorFunction($E$30,$E$5:$E$13)","v":0},{"$f":"ColorFunction($E$31,$E$5:$E$13)","v":0},{"$f":"ColorFunction($E$32,$E$5:$E$13)","v":0},{"$f":"ColorFunction($E$33,$E$5:$E$13)","v":0},{"$f":"SUM(AA5:AA13)/(9-Q14)*100","v":0},{"$f":"COUNTIF(P5:P13,\">2\")","v":0},{"$f":"IF((G14=0),\"\",SUM(AC5:AC13)/G14*100)","v":""}]
[10,481,5,4,null,null,null,null,null,null,null,null,null,null,null,null,null,null,null,null,null,{"$f":"IF(Q15=0,\"\",P15)","v":""},null,null,null,null,{"$f":"IF(AND(Q15=\"\",P15=1),1,\"\")","v":""},null,{"$f":"IF(AND(G15=\"\"),\"\",SUM(K15))","v":""}]
[11,319,4,16,null,null,null,null,null,null,null,null,null,null,null,null,null,null,null,null,null,"",null,null,null,null,"",null,""]
[12,431,5,2,null,null,null,null,null,null,null,null,null,null,null,null,null,null,null,null,null,"",null,null,null,null,"",null,""]
[13,122,3,18,null,null,null,null,null,null,null,null,null,null,null,null,null,null,null,null,null,"",null,null,null,null,"",null,""]
[14,379,4,6,null,null,null,null,null,null,null,null,null,null,null,null,null,null,null,null,null,"",null,null,null,null,"",null,""]
[15,316,4,8,null,null,null,null,null,null,null,null,null,null,null,null,null,null,null,null,null,"",null,null,null,null,"",null,""]
[16,322,4,14,null,null,null,null,null,null,null,null,null,null,null,null,null,null,null,null,null,"",null,null,null,null,"",null,""]
[17,345,4,10,null,null,null,null,null,null,null,null,null,null,null,null,null,null,null,null,null,"",null,null,null,null,"",null,""]
[18,281,4,12,null,null,null,null,null,null,null,null,null,null,null,null,null,null,null,null,null,"",null,null,null,null,"",null,""]
[null,{"$f":"SUM(B15:B23)","v":2996},{"$f":"SUM(C15:C23)","v":37},"IND",{"$f":"SUM(E15:E23)","v":0},{"$f":"SUM(F15:F23)","v":0},{"$f":"SUM(G15:G23)","v":0},{"$f":"SUM(H15:H23)","v":0},{"$f":"SUM(I15:I23)","v":0},{"$f":"IF((A29=27),\"\",(SUM(J15:J23)/SUM(J15:L23))*100)","v":""},{"$f":"IF((A29=27),\"\",(SUM(K15:K23)/SUM(J15:L23))*100)","v":""},{"$f":"IF((A29=27),\"\",(SUM(L15:L23)/SUM(J15:L23))*100)","v":""},{"$f":"SUM(M15:M23)","v":0},{"$f":"SUM(N15:N23)","v":0},{"$f":"SUM(O15:O23)","v":0},{"$f":"SUM(P15:P23)","v":0},{"$f":"SUM(Q15:Q23)","v":0},null,{"$f":"IF(Q24=0,\"\",SUM(S15:S23)/Q24)","v":""},null,null,{"$f":"SUM(V15:V23)","v":0},{"$f":"ColorFunction($E$30,$E$15:$E$23)","v":0},{"$f":"ColorFunction($E$31,$E$15:$E$23)","v":0},{"$f":"ColorFunction($E$32,$E$15:$E$23)","v":0},{"$f":"ColorFunction($E$33,$E$15:$E$23)","v":0},{"$f":"SUM(AA15:AA23)/(9-Q24)*100","v":0},{"$f":"COUNTIF(P15:P23,\">2\")","v":0},{"$f":"IF((G24=0),\"\",SUM(AC15:AC23)/G24*100)","v":""}]
[null,{"$f":"SUM(B24,B14)","v":5763},{"$f":"SUM(C24,C14)","v":73},"TOTAL",{"$f":"IF(E14=0,\"0\",(E24+E14))","v":"0"},{"$f":"SUM(F14,F24)","v":0},{"$f":"SUM(G24,G14)","v":0},{"$f":"SUM(H24,H14)","v":0},{"$f":"SUM(I24,I14)","v":0},{"$f":"IF((A28=27),\"\",(SUM(J14,J24)/2))","v":""},{"$f":"IF((A28=27),\"\",(SUM(K14,K24)/2))","v":""},{"$f":"IF((A28=27),\"\",(SUM(L14,L24)/2))","v":""},{"$f":"SUM(M24,M14)","v":0},{"$f":"SUM(N24,N14)","v":0},{"$f":"SUM(O24,O14)","v":0},{"$f":"IF(P14+P24=0,\"\",SUM(P24,P14))","v":""},{"$f":"IF(Q14+Q24=0,\"\",SUM(Q24,Q14))","v":""},null,{"$f":"IF(Q25=\"\",\"\",SUM(S24,S14)/2)","v":""},{"$f":"IF(N25=0,\"\",(O25)/N25*100)","v":""},{"$f":"IF(Q25=\"\",\"\",(Q25)/18*100)","v":""},{"$f":"IF(Q25=\"\",\"\",(V14+V24)/Q25)","v":""},{"$f":"SUM(W14,W24)","v":0},{"$f":"SUM(X14,X24)","v":0},{"$f":"SUM(Y14,Y24)","v":0},{"$f":"SUM(Z14,Z24)","v":0},{"$f":"SUM(AA14,AA24)/2","v":0},{"$f":"SUM(AB14,AB24)","v":0},{"$f":"SUM(AC24,AC14)/2","v":0}]
[]
[null,null,null,null,"Udfyld alle grønne felter med 1 for positiv eller antal i tal"]
[{"$f":"COUNTBLANK(I5:K13)","v":27},null,null,null,null,null,null,null,null,null,null,null,null,null,null,null,null,null,null,null,null,null,"Approach"]
[{"$f":"COUNTBLANK(I15:K23)","v":27},null,null,null,"Udfyld følgende farver:",null,null,null,null,null,null,null,null,null,null,null,null,null,null,"Holes to par",null,null,"Længde (m)","Antal","Afstand (m)"]
[{"$f":"SUM(L5:L23)","v":0},null,null,null,"Eagles",null,null,null,null,null,null,null,null,null,null,null,null,null,null,"Par 3",{"$f":"SUMIF(C:C,\"3\",E:E)/COUNTIF(C:C,3)","v":0},null,"45-70",{"$f":"COUNTIFS(R5:R23,\">=45\",R5:R23,\"<=70\")","v":0},{"$f":"IF(X30=0,\"\",AVERAGEIFS(S5:S23,R5:R23,\">=45\",R5:R23,\"<=70\"))","v":""}]
[null,null,null,null,"Birdies",null,null,null,null,null,null,null,null,null,null,null,null,null,null,"Par 4",{"$f":"SUMIF(C:C,\"4\",E:E)/COUNTIF(C:C,4)","v":0},null,"71-90",{"$f":"COUNTIFS(R5:R23,\">=71\",R5:R23,\"<=90\")","v":0},{"$f":"IF(X31=0,\"\",AVERAGEIFS(S5:S23,R5:R23,\">=71\",R5:R23,\"<=90\"))","v":""}]
[null,null,null,null,"Bogeys",null,null,null,null,null,null,null,null,null,null,null,null,null,null,"Par 5",{"$f":"SUMIF(C:C,\"5\",E:E)/COUNTIF(C:C,5)","v":0},null,"91-115",{"$f":"COUNTIFS(R5:R23,\">=91\",R5:R23,\"<=115\")","v":0},{"$f":"IF(X32=0,\"\",AVERAGEIFS(S5:S23,R5:R23,\">=91\",R5:R23,\"<=115\"))","v":""}]
[null,null,null,null,"Doublebogeys eller værre",null,null,null,null,null,null,null,null,null,null,null,null,null,null,null,null,null,"116-140",{"$f":"COUNTIFS(R5:R23,\">=116\",R5:R23,\"<=140\")","v":0},{"$f":"IF(X33=0,\"\",AVERAGEIFS(S5:S23,R5:R23,\">=116\",R5:R23,\"<=140\"))","v":""}]
[null,null,null,null,null,null,null,null,null,null,null,null,null,null,null,null,null,null,null,"First 4",{"$f":"IF(E25=\"0\",\"\",SUM(E5:E8)-SUM(C5:C8))","v":""},null,"141-160",{"$f":"COUNTIFS(R5:R23,\">=141\",R5:R23,\"<=161\")","v":0},{"$f":"IF(X34=0,\"\",AVERAGEIFS(S5:S23,R5:R23,\">=141\",R5:R23,\"<=160\"))","v":""}]
[null,null,null,null,null,null,null,null,null,null,null,null,null,null,null,null,null,null,null,"Last 4",{"$f":"IF(E25=\"0\",\"\",SUM(E20:E23)-SUM(C20:C23))","v":""},null,"161-180",{"$f":"COUNTIFS(R5:R23,\">=161\",R5:R23,\"<=180\")","v":0},{"$f":"IF(X35=0,\"\",AVERAGEIFS(S5:S23,R5:R23,\">=161\",R5:R23,\"<=180\"))","v":""}]
[]
[null,null,null,null,null,null,null,null,null,null,null,null,null,null,null,null,null,null,null,null,null,null,"Putting"]
[null,null,null,null,null,null,null,null,null,null,null,null,null,null,null,null,null,null,null,null,null,null,"Længde (m)","Antal","Holet","Holet (%)"]
[null,null,null,null,null,null,null,null,null,null,null,null,null,null,null,null,null,null,null,null,null,null,"under 1 m",{"$f":"COUNTIFS(S5:S23,\">=0,1\",S5:S23,\"<=0,9\")","v":0},{"$f":"IF(X39=0,\"\",COUNTIFS(P5:P23,\"=1\",S5:S23,\"<1\"))","v":""},{"$f":"IF(X39=0,\"\",Y39/X39*100)","v":""}]
[null,null,null,null,null,null,null,null,null,null,null,null,null,null,null,null,null,null,null,null,null,null,"1 - 1,5",{"$f":"COUNTIFS(S5:S23,\">=1\",S5:S23,\"<=1,5\")","v":0},{"$f":"IF(X40=0,\"\",COUNTIFS(P5:P23,\"=1\",S5:S23,\">=1\",S5:S23,\"<=1,5\"))","v":""},{"$f":"IF(X40=0,\"\",Y40/X40*100)","v":""}]
[null,null,null,null,null,null,null,null,null,null,null,null,null,null,null,null,null,null,null,null,null,null,"1,5 - 3",{"$f":"COUNTIFS(S5:S23,\">=1,6\",S5:S23,\"<=3\")","v":0},{"$f":"IF(X41=0,\"\",COUNTIFS(P5:P23,\"=1\",S5:S23,\">=1,6\",S5:S23,\"<=3\"))","v":""},{"$f":"IF(X41=0,\"\",Y41/X41*100)","v":""}]
[null,null,null,null,null,null,null,null,null,null,null,null,null,null,null,null,null,null,null,null,null,null,"3 - 4,5",{"$f":"COUNTIFS(S5:S23,\">=3,1\",S5:S23,\"<=4,5\")","v":0},{"$f":"IF(X42=0,\"\",COUNTIFS(P5:P23,\"=1\",S5:S23,\">=3,1\",S5:S23,\"<=4,5\"))","v":""},""]
[null,null,null,null,null,null,null,null,null,null,null,null,null,null,null,null,null,null,null,null,null,null,"4,5 - 6",{"$f":"COUNTIFS(S5:S23,\">=4,6\",S5:S23,\"<=6\")","v":0},{"$f":"IF(X43=0,\"\",COUNTIFS(P5:P23,\"=1\",S5:S23,\">=4,6\",S5:S23,\"<=6\"))","v":""},""]
[null,null,null,null,null,null,null,null,null,null,null,null,null,null,null,null,null,null,null,null,null,null,"over 6 meter",{"$f":"COUNTIFS(S5:S23,\">6\")","v":0},{"$f":"IF(X44=0,\"\",COUNTIFS(P5:P23,\"=1\",S5:S23,\">6\"))","v":""},""]

{"sheet":"Runde 7","index":9,"n_rows":44,"n_cols":29,"rows_kept":44,"cut":false,"hidden":false,"merged":[]}
["Korsør Golf Klub - 18 huller - Gul tee",null,null,null,null,null,null,null,null,{"$f":"IF(E25=\"0\",\"0\",\"1\")","v":"0"},null,"Dato:",null,null,"Handicap:",null,null,null,null,"Antal tildelte slag:"]
[]
[null,null,null,null,null,null,null,"Tee shot",null,null,"Fairway hits i %",null,null,"Bunker",null,null,null,"Approach shots"]
["Hul","Gul tee","Par","HCP","Score","Netto","Driver","Wood","Jern","Venstre","Midt","Højre","FB","GB","SS","Putts","GIR","Dist. to pin (m)","Dist. to hole (m)","% SS","% GIR","Putts/GIR","Eagles","Birdies","Bogeys","Værre","% Scramble","3+ Putts","% Driver/Fairwayhits"]
[1,307,4,11,null,null,null,null,null,null,null,null,null,null,null,null,null,null,null,null,null,{"$f":"IF(Q5=0,\"\",P5)","v":""},null,null,null,null,{"$f":"IF(AND(Q5=\"\",P5=1),1,\"\")","v":""},null,{"$f":"IF(AND(G5=\"\"),\"\",SUM(K5))","v":""}]
[2,323,4,5,null,null,null,null,null,null,null,null,null,null,null,null,null,null,null,null,null,"",null,null,null,null,"",null,""]
[3,138,3,15,null,null,null,null,null,null,null,null,null,null,null,null,null,null,null,null,null,"",null,null,null,null,"",null,""]
[4,310,4,13,null,null,null,null,null,null,null,null,null,null,null,null,null,null,null,null,null,"",null,null,null,null,"",null,""]
[5,431,5,3,null,null,null,null,null,null,null,null,null,null,null,null,null,null,null,null,null,"",null,null,null,null,"",null,""]
[6,312,4,9,null,null,null,null,null,null,null,null,null,null,null,null,null,null,null,null,null,"",null,null,null,null,"",null,""]
[7,498,5,1,null,null,null,null,null,null,null,null,null,null,null,null,null,null,null,null,null,"",null,null,null,null,"",null,""]
[8,138,3,17,null,null,null,null,null,null,null,null,null,null,null,null,null,null,null,null,null,"",null,null,null,null,"",null,""]
[9,310,4,7,null,null,null,null,null,null,null,null,null,null,null,null,null,null,null,null,null,"",null,null,null,null,"",null,""]
[null,{"$f":"SUM(B5:B13)","v":2767},{"$f":"SUM(C5:C13)","v":36},"UD",{"$f":"SUM(E5:E13)","v":0},{"$f":"SUM(F5:F13)","v":0},{"$f":"SUM(G5:G13)","v":0},{"$f":"SUM(H5:H13)","v":0},{"$f":"SUM(I5:I13)","v":0},{"$f":"IF((A28=27),\"\",(SUM(J5:J13)/SUM(J5:L13))*100)","v":""},{"$f":"IF((A28=27),\"\",(SUM(K5:K13)/SUM(J5:L13))*100)","v":""},{"$f":"IF((A28=27),\"\",(SUM(L5:L13)/SUM(J5:L13))*100)","v":""},{"$f":"SUM(M5:M13)","v":0},{"$f":"SUM(N5:N13)","v":0},{"$f":"SUM(O5:O13)","v":0},{"$f":"SUM(P5:P13)","v":0},{"$f":"SUM(Q5:Q13)","v":0},null,{"$f":"IF(Q14=0,\"\",SUM(S5:S13)/Q14)","v":""},null,null,{"$f":"SUM(V5:V13)","v":0},{"$f":"ColorFunction($E$30,$E$5:$E$13)","v":0},{"$f":"ColorFunction($E$31,$E$5:$E$13)","v":0},{"$f":"ColorFunction($E$32,$E$5:$E$13)","v":0},{"$f":"ColorFunction($E$33,$E$5:$E$13)","v":0},{"$f":"SUM(AA5:AA13)/(9-Q14)*100","v":0},{"$f":"COUNTIF(P5:P13,\">2\")","v":0},{"$f":"IF((G14=0),\"\",SUM(AC5:AC13)/G14*100)","v":""}]
[10,481,5,4,null,null,null,null,null,null,null,null,null,null,null,null,null,null,null,null,null,{"$f":"IF(Q15=0,\"\",P15)","v":""},null,null,null,null,{"$f":"IF(AND(Q15=\"\",P15=1),1,\"\")","v":""},null,{"$f":"IF(AND(G15=\"\"),\"\",SUM(K15))","v":""}]
[11,319,4,16,null,null,null,null,null,null,null,null,null,null,null,null,null,null,null,null,null,"",null,null,null,null,"",null,""]
[12,431,5,2,null,null,null,null,null,null,null,null,null,null,null,null,null,null,null,null,null,"",null,null,null,null,"",null,""]
[13,122,3,18,null,null,null,null,null,null,null,null,null,null,null,null,null,null,null,null,null,"",null,null,null,null,"",null,""]
[14,379,4,6,null,null,null,null,null,null,null,null,null,null,null,null,null,null,null,null,null,"",null,null,null,null,"",null,""]
[15,316,4,8,null,null,null,null,null,null,null,null,null,null,null,null,null,null,null,null,null,"",null,null,null,null,"",null,""]
[16,322,4,14,null,null,null,null,null,null,null,null,null,null,null,null,null,null,null,null,null,"",null,null,null,null,"",null,""]
[17,345,4,10,null,null,null,null,null,null,null,null,null,null,null,null,null,null,null,null,null,"",null,null,null,null,"",null,""]
[18,281,4,12,null,null,null,null,null,null,null,null,null,null,null,null,null,null,null,null,null,"",null,null,null,null,"",null,""]
[null,{"$f":"SUM(B15:B23)","v":2996},{"$f":"SUM(C15:C23)","v":37},"IND",{"$f":"SUM(E15:E23)","v":0},{"$f":"SUM(F15:F23)","v":0},{"$f":"SUM(G15:G23)","v":0},{"$f":"SUM(H15:H23)","v":0},{"$f":"SUM(I15:I23)","v":0},{"$f":"IF((A29=27),\"\",(SUM(J15:J23)/SUM(J15:L23))*100)","v":""},{"$f":"IF((A29=27),\"\",(SUM(K15:K23)/SUM(J15:L23))*100)","v":""},{"$f":"IF((A29=27),\"\",(SUM(L15:L23)/SUM(J15:L23))*100)","v":""},{"$f":"SUM(M15:M23)","v":0},{"$f":"SUM(N15:N23)","v":0},{"$f":"SUM(O15:O23)","v":0},{"$f":"SUM(P15:P23)","v":0},{"$f":"SUM(Q15:Q23)","v":0},null,{"$f":"IF(Q24=0,\"\",SUM(S15:S23)/Q24)","v":""},null,null,{"$f":"SUM(V15:V23)","v":0},{"$f":"ColorFunction($E$30,$E$15:$E$23)","v":0},{"$f":"ColorFunction($E$31,$E$15:$E$23)","v":0},{"$f":"ColorFunction($E$32,$E$15:$E$23)","v":0},{"$f":"ColorFunction($E$33,$E$15:$E$23)","v":0},{"$f":"SUM(AA15:AA23)/(9-Q24)*100","v":0},{"$f":"COUNTIF(P15:P23,\">2\")","v":0},{"$f":"IF((G24=0),\"\",SUM(AC15:AC23)/G24*100)","v":""}]
[null,{"$f":"SUM(B24,B14)","v":5763},{"$f":"SUM(C24,C14)","v":73},"TOTAL",{"$f":"IF(E14=0,\"0\",(E24+E14))","v":"0"},{"$f":"SUM(F14,F24)","v":0},{"$f":"SUM(G24,G14)","v":0},{"$f":"SUM(H24,H14)","v":0},{"$f":"SUM(I24,I14)","v":0},{"$f":"IF((A28=27),\"\",(SUM(J14,J24)/2))","v":""},{"$f":"IF((A28=27),\"\",(SUM(K14,K24)/2))","v":""},{"$f":"IF((A28=27),\"\",(SUM(L14,L24)/2))","v":""},{"$f":"SUM(M24,M14)","v":0},{"$f":"SUM(N24,N14)","v":0},{"$f":"SUM(O24,O14)","v":0},{"$f":"IF(P14+P24=0,\"\",SUM(P24,P14))","v":""},{"$f":"IF(Q14+Q24=0,\"\",SUM(Q24,Q14))","v":""},null,{"$f":"IF(Q25=\"\",\"\",SUM(S24,S14)/2)","v":""},{"$f":"IF(N25=0,\"\",(O25)/N25*100)","v":""},{"$f":"IF(Q25=\"\",\"\",(Q25)/18*100)","v":""},{"$f":"IF(Q25=\"\",\"\",(V14+V24)/Q25)","v":""},{"$f":"SUM(W14,W24)","v":0},{"$f":"SUM(X14,X24)","v":0},{"$f":"SUM(Y14,Y24)","v":0},{"$f":"SUM(Z14,Z24)","v":0},{"$f":"SUM(AA14,AA24)/2","v":0},{"$f":"SUM(AB14,AB24)","v":0},{"$f":"SUM(AC24,AC14)/2","v":0}]
[]
[null,null,null,null,"Udfyld alle grønne felter med 1 for positiv eller antal i tal"]
[{"$f":"COUNTBLANK(I5:K13)","v":27},null,null,null,null,null,null,null,null,null,null,null,null,null,null,null,null,null,null,null,null,null,"Approach"]
[{"$f":"COUNTBLANK(I15:K23)","v":27},null,null,null,"Udfyld følgende farver:",null,null,null,null,null,null,null,null,null,null,null,null,null,"Holes to par",null,null,null,"Længde (m)","Antal","Afstand (m)"]
[{"$f":"SUM(L5:L23)","v":0},null,null,null,"Eagles",null,null,null,null,null,null,null,null,null,null,null,null,null,"Par 3",{"$f":"SUMIF(C:C,\"3\",E:E)/COUNTIF(C:C,3)","v":0},null,null,"45-70",{"$f":"COUNTIFS(R5:R23,\">=45\",R5:R23,\"<=70\")","v":0},{"$f":"IF(X30=0,\"\",AVERAGEIFS(S5:S23,R5:R23,\">=45\",R5:R23,\"<=70\"))","v":""}]
[null,null,null,null,"Birdies",null,null,null,null,null,null,null,null,null,null,null,null,null,"Par 4",{"$f":"SUMIF(C:C,\"4\",E:E)/COUNTIF(C:C,4)","v":0},null,null,"71-90",{"$f":"COUNTIFS(R5:R23,\">=71\",R5:R23,\"<=90\")","v":0},{"$f":"IF(X31=0,\"\",AVERAGEIFS(S5:S23,R5:R23,\">=71\",R5:R23,\"<=90\"))","v":""}]
[null,null,null,null,"Bogeys",null,null,null,null,null,null,null,null,null,null,null,null,null,"Par 5",{"$f":"SUMIF(C:C,\"5\",E:E)/COUNTIF(C:C,5)","v":0},null,null,"91-115",{"$f":"COUNTIFS(R5:R23,\">=91\",R5:R23,\"<=115\")","v":0},{"$f":"IF(X32=0,\"\",AVERAGEIFS(S5:S23,R5:R23,\">=91\",R5:R23,\"<=115\"))","v":""}]
[null,null,null,null,"Doublebogeys eller værre",null,null,null,null,null,null,null,null,null,null,null,null,null,null,null,null,null,"116-140",{"$f":"COUNTIFS(R5:R23,\">=116\",R5:R23,\"<=140\")","v":0},{"$f":"IF(X33=0,\"\",AVERAGEIFS(S5:S23,R5:R23,\">=116\",R5:R23,\"<=140\"))","v":""}]
[null,null,null,null,null,null,null,null,null,null,null,null,null,null,null,null,null,null,"First 4",{"$f":"IF(E25=\"0\",\"\",SUM(E5:E8)-SUM(C5:C8))","v":""},null,null,"141-160",{"$f":"COUNTIFS(R5:R23,\">=141\",R5:R23,\"<=161\")","v":0},{"$f":"IF(X34=0,\"\",AVERAGEIFS(S5:S23,R5:R23,\">=141\",R5:R23,\"<=160\"))","v":""}]
[null,null,null,null,null,null,null,null,null,null,null,null,null,null,null,null,null,null,"Last 4",{"$f":"IF(E25=\"0\",\"\",SUM(E20:E23)-SUM(C20:C23))","v":""},null,null,"161-180",{"$f":"COUNTIFS(R5:R23,\">=161\",R5:R23,\"<=180\")","v":0},{"$f":"IF(X35=0,\"\",AVERAGEIFS(S5:S23,R5:R23,\">=161\",R5:R23,\"<=180\"))","v":""}]
[]
[null,null,null,null,null,null,null,null,null,null,null,null,null,null,null,null,null,null,null,null,null,null,"Putting"]
[null,null,null,null,null,null,null,null,null,null,null,null,null,null,null,null,null,null,null,null,null,null,"Længde (m)","Antal","Holet","Holet (%)"]
[null,null,null,null,null,null,null,null,null,null,null,null,null,null,null,null,null,null,null,null,null,null,"under 1 m",{"$f":"COUNTIFS(S5:S23,\">=0,1\",S5:S23,\"<=0,9\")","v":0},{"$f":"IF(X39=0,\"\",COUNTIFS(P5:P23,\"=1\",S5:S23,\"<1\"))","v":""},{"$f":"IF(X39=0,\"\",Y39/X39*100)","v":""}]
[null,null,null,null,null,null,null,null,null,null,null,null,null,null,null,null,null,null,null,null,null,null,"1 - 1,5",{"$f":"COUNTIFS(S5:S23,\">=1\",S5:S23,\"<=1,5\")","v":0},{"$f":"IF(X40=0,\"\",COUNTIFS(P5:P23,\"=1\",S5:S23,\">=1\",S5:S23,\"<=1,5\"))","v":""},{"$f":"IF(X40=0,\"\",Y40/X40*100)","v":""}]
[null,null,null,null,null,null,null,null,null,null,null,null,null,null,null,null,null,null,null,null,null,null,"1,5 - 3",{"$f":"COUNTIFS(S5:S23,\">=1,6\",S5:S23,\"<=3\")","v":0},{"$f":"IF(X41=0,\"\",COUNTIFS(P5:P23,\"=1\",S5:S23,\">=1,6\",S5:S23,\"<=3\"))","v":""},{"$f":"IF(X41=0,\"\",Y41/X41*100)","v":""}]
[null,null,null,null,null,null,null,null,null,null,null,null,null,null,null,null,null,null,null,null,null,null,"3 - 4,5",{"$f":"COUNTIFS(S5:S23,\">=3,1\",S5:S23,\"<=4,5\")","v":0},{"$f":"IF(X42=0,\"\",COUNTIFS(P5:P23,\"=1\",S5:S23,\">=3,1\",S5:S23,\"<=4,5\"))","v":""},""]
[null,null,null,null,null,null,null,null,null,null,null,null,null,null,null,null,null,null,null,null,null,null,"4,5 - 6",{"$f":"COUNTIFS(S5:S23,\">=4,6\",S5:S23,\"<=6\")","v":0},{"$f":"IF(X43=0,\"\",COUNTIFS(P5:P23,\"=1\",S5:S23,\">=4,6\",S5:S23,\"<=6\"))","v":""},""]
[null,null,null,null,null,null,null,null,null,null,null,null,null,null,null,null,null,null,null,null,null,null,"over 6 meter",{"$f":"COUNTIFS(S5:S23,\">6\")","v":0},{"$f":"IF(X44=0,\"\",COUNTIFS(P5:P23,\"=1\",S5:S23,\">6\"))","v":""},""]

{"sheet":"Runde 8","index":10,"n_rows":44,"n_cols":29,"rows_kept":44,"cut":false,"hidden":false,"merged":[]}
["Korsør Golf Klub - 18 huller - Gul tee",null,null,null,null,null,null,null,null,{"$f":"IF(E25=\"0\",\"0\",\"1\")","v":"0"},null,"Dato:",null,null,"Handicap:",null,null,null,null,"Antal tildelte slag:"]
[]
[null,null,null,null,null,null,null,"Tee shot",null,null,"Fairway hits i %",null,null,"Bunker",null,null,null,"Approach shots"]
["Hul","Gul tee","Par","HCP","Score","Netto","Driver","Wood","Jern","Venstre","Midt","Højre","FB","GB","SS","Putts","GIR","Dist. to pin (m)","Dist. to hole (m)","% SS","% GIR","Putts/GIR","Eagles","Birdies","Bogeys","Værre","% Scramble","3+ Putts","% Driver/Fairwayhits"]
[1,307,4,11,null,null,null,null,null,null,null,null,null,null,null,null,null,null,null,null,null,{"$f":"IF(Q5=0,\"\",P5)","v":""},null,null,null,null,{"$f":"IF(AND(Q5=\"\",P5=1),1,\"\")","v":""},null,{"$f":"IF(AND(G5=\"\"),\"\",SUM(K5))","v":""}]
[2,323,4,5,null,null,null,null,null,null,null,null,null,null,null,null,null,null,null,null,null,"",null,null,null,null,"",null,""]
[3,138,3,15,null,null,null,null,null,null,null,null,null,null,null,null,null,null,null,null,null,"",null,null,null,null,"",null,""]
[4,310,4,13,null,null,null,null,null,null,null,null,null,null,null,null,null,null,null,null,null,"",null,null,null,null,"",null,""]
[5,431,5,3,null,null,null,null,null,null,null,null,null,null,null,null,null,null,null,null,null,"",null,null,null,null,"",null,""]
[6,312,4,9,null,null,null,null,null,null,null,null,null,null,null,null,null,null,null,null,null,"",null,null,null,null,"",null,""]
[7,498,5,1,null,null,null,null,null,null,null,null,null,null,null,null,null,null,null,null,null,"",null,null,null,null,"",null,""]
[8,138,3,17,null,null,null,null,null,null,null,null,null,null,null,null,null,null,null,null,null,"",null,null,null,null,"",null,""]
[9,310,4,7,null,null,null,null,null,null,null,null,null,null,null,null,null,null,null,null,null,"",null,null,null,null,"",null,""]
[null,{"$f":"SUM(B5:B13)","v":2767},{"$f":"SUM(C5:C13)","v":36},"UD",{"$f":"SUM(E5:E13)","v":0},{"$f":"SUM(F5:F13)","v":0},{"$f":"SUM(G5:G13)","v":0},{"$f":"SUM(H5:H13)","v":0},{"$f":"SUM(I5:I13)","v":0},{"$f":"IF((A28=27),\"\",(SUM(J5:J13)/SUM(J5:L13))*100)","v":""},{"$f":"IF((A28=27),\"\",(SUM(K5:K13)/SUM(J5:L13))*100)","v":""},{"$f":"IF((A28=27),\"\",(SUM(L5:L13)/SUM(J5:L13))*100)","v":""},{"$f":"SUM(M5:M13)","v":0},{"$f":"SUM(N5:N13)","v":0},{"$f":"SUM(O5:O13)","v":0},{"$f":"SUM(P5:P13)","v":0},{"$f":"SUM(Q5:Q13)","v":0},null,{"$f":"IF(Q14=0,\"\",SUM(S5:S13)/Q14)","v":""},null,null,{"$f":"SUM(V5:V13)","v":0},{"$f":"ColorFunction($E$30,$E$5:$E$13)","v":0},{"$f":"ColorFunction($E$31,$E$5:$E$13)","v":0},{"$f":"ColorFunction($E$32,$E$5:$E$13)","v":0},{"$f":"ColorFunction($E$33,$E$5:$E$13)","v":0},{"$f":"SUM(AA5:AA13)/(9-Q14)*100","v":0},{"$f":"COUNTIF(P5:P13,\">2\")","v":0},{"$f":"IF((G14=0),\"\",SUM(AC5:AC13)/G14*100)","v":""}]
[10,481,5,4,null,null,null,null,null,null,null,null,null,null,null,null,null,null,null,null,null,{"$f":"IF(Q15=0,\"\",P15)","v":""},null,null,null,null,{"$f":"IF(AND(Q15=\"\",P15=1),1,\"\")","v":""},null,{"$f":"IF(AND(G15=\"\"),\"\",SUM(K15))","v":""}]
[11,319,4,16,null,null,null,null,null,null,null,null,null,null,null,null,null,null,null,null,null,"",null,null,null,null,"",null,""]
[12,431,5,2,null,null,null,null,null,null,null,null,null,null,null,null,null,null,null,null,null,"",null,null,null,null,"",null,""]
[13,122,3,18,null,null,null,null,null,null,null,null,null,null,null,null,null,null,null,null,null,"",null,null,null,null,"",null,""]
[14,379,4,6,null,null,null,null,null,null,null,null,null,null,null,null,null,null,null,null,null,"",null,null,null,null,"",null,""]
[15,316,4,8,null,null,null,null,null,null,null,null,null,null,null,null,null,null,null,null,null,"",null,null,null,null,"",null,""]
[16,322,4,14,null,null,null,null,null,null,null,null,null,null,null,null,null,null,null,null,null,"",null,null,null,null,"",null,""]
[17,345,4,10,null,null,null,null,null,null,null,null,null,null,null,null,null,null,null,null,null,"",null,null,null,null,"",null,""]
[18,281,4,12,null,null,null,null,null,null,null,null,null,null,null,null,null,null,null,null,null,"",null,null,null,null,"",null,""]
[null,{"$f":"SUM(B15:B23)","v":2996},{"$f":"SUM(C15:C23)","v":37},"IND",{"$f":"SUM(E15:E23)","v":0},{"$f":"SUM(F15:F23)","v":0},{"$f":"SUM(G15:G23)","v":0},{"$f":"SUM(H15:H23)","v":0},{"$f":"SUM(I15:I23)","v":0},{"$f":"IF((A29=27),\"\",(SUM(J15:J23)/SUM(J15:L23))*100)","v":""},{"$f":"IF((A29=27),\"\",(SUM(K15:K23)/SUM(J15:L23))*100)","v":""},{"$f":"IF((A29=27),\"\",(SUM(L15:L23)/SUM(J15:L23))*100)","v":""},{"$f":"SUM(M15:M23)","v":0},{"$f":"SUM(N15:N23)","v":0},{"$f":"SUM(O15:O23)","v":0},{"$f":"SUM(P15:P23)","v":0},{"$f":"SUM(Q15:Q23)","v":0},null,{"$f":"IF(Q24=0,\"\",SUM(S15:S23)/Q24)","v":""},null,null,{"$f":"SUM(V15:V23)","v":0},{"$f":"ColorFunction($E$30,$E$15:$E$23)","v":0},{"$f":"ColorFunction($E$31,$E$15:$E$23)","v":0},{"$f":"ColorFunction($E$32,$E$15:$E$23)","v":0},{"$f":"ColorFunction($E$33,$E$15:$E$23)","v":0},{"$f":"SUM(AA15:AA23)/(9-Q24)*100","v":0},{"$f":"COUNTIF(P15:P23,\">2\")","v":0},{"$f":"IF((G24=0),\"\",SUM(AC15:AC23)/G24*100)","v":""}]
[null,{"$f":"SUM(B24,B14)","v":5763},{"$f":"SUM(C24,C14)","v":73},"TOTAL",{"$f":"IF(E14=0,\"0\",(E24+E14))","v":"0"},{"$f":"SUM(F14,F24)","v":0},{"$f":"SUM(G24,G14)","v":0},{"$f":"SUM(H24,H14)","v":0},{"$f":"SUM(I24,I14)","v":0},{"$f":"IF((A28=27),\"\",(SUM(J14,J24)/2))","v":""},{"$f":"IF((A28=27),\"\",(SUM(K14,K24)/2))","v":""},{"$f":"IF((A28=27),\"\",(SUM(L14,L24)/2))","v":""},{"$f":"SUM(M24,M14)","v":0},{"$f":"SUM(N24,N14)","v":0},{"$f":"SUM(O24,O14)","v":0},{"$f":"IF(P14+P24=0,\"\",SUM(P24,P14))","v":""},{"$f":"IF(Q14+Q24=0,\"\",SUM(Q24,Q14))","v":""},null,{"$f":"IF(Q25=\"\",\"\",SUM(S24,S14)/2)","v":""},{"$f":"IF(N25=0,\"\",(O25)/N25*100)","v":""},{"$f":"IF(Q25=\"\",\"\",(Q25)/18*100)","v":""},{"$f":"IF(Q25=\"\",\"\",(V14+V24)/Q25)","v":""},{"$f":"SUM(W14,W24)","v":0},{"$f":"SUM(X14,X24)","v":0},{"$f":"SUM(Y14,Y24)","v":0},{"$f":"SUM(Z14,Z24)","v":0},{"$f":"SUM(AA14,AA24)/2","v":0},{"$f":"SUM(AB14,AB24)","v":0},{"$f":"SUM(AC24,AC14)/2","v":0}]
[]
[null,null,null,null,"Udfyld alle grønne felter med 1 for positiv eller antal i tal"]
[{"$f":"COUNTBLANK(I5:K13)","v":27},null,null,null,null,null,null,null,null,null,null,null,null,null,null,null,null,null,null,null,null,null,"Approach"]
[{"$f":"COUNTBLANK(I15:K23)","v":27},null,null,null,"Udfyld følgende farver:",null,null,null,null,null,null,null,null,null,null,null,null,null,"Holes to par",null,null,null,"Længde (m)","Antal","Afstand (m)"]
[{"$f":"SUM(L5:L23)","v":0},null,null,null,"Eagles",null,null,null,null,null,null,null,null,null,null,null,null,null,"Par 3",{"$f":"SUMIF(C:C,\"3\",E:E)/COUNTIF(C:C,3)","v":0},null,null,"45-70",{"$f":"COUNTIFS(R5:R23,\">=45\",R5:R23,\"<=70\")","v":0},{"$f":"IF(X30=0,\"\",AVERAGEIFS(S5:S23,R5:R23,\">=45\",R5:R23,\"<=70\"))","v":""}]
[null,null,null,null,"Birdies",null,null,null,null,null,null,null,null,null,null,null,null,null,"Par 4",{"$f":"SUMIF(C:C,\"4\",E:E)/COUNTIF(C:C,4)","v":0},null,null,"71-90",{"$f":"COUNTIFS(R5:R23,\">=71\",R5:R23,\"<=90\")","v":0},{"$f":"IF(X31=0,\"\",AVERAGEIFS(S5:S23,R5:R23,\">=71\",R5:R23,\"<=90\"))","v":""}]
[null,null,null,null,"Bogeys",null,null,null,null,null,null,null,null,null,null,null,null,null,"Par 5",{"$f":"SUMIF(C:C,\"5\",E:E)/COUNTIF(C:C,5)","v":0},null,null,"91-115",{"$f":"COUNTIFS(R5:R23,\">=91\",R5:R23,\"<=115\")","v":0},{"$f":"IF(X32=0,\"\",AVERAGEIFS(S5:S23,R5:R23,\">=91\",R5:R23,\"<=115\"))","v":""}]
[null,null,null,null,"Doublebogeys eller værre",null,null,null,null,null,null,null,null,null,null,null,null,null,null,null,null,null,"116-140",{"$f":"COUNTIFS(R5:R23,\">=116\",R5:R23,\"<=140\")","v":0},{"$f":"IF(X33=0,\"\",AVERAGEIFS(S5:S23,R5:R23,\">=116\",R5:R23,\"<=140\"))","v":""}]
[null,null,null,null,null,null,null,null,null,null,null,null,null,null,null,null,null,null,"First 4",{"$f":"IF(E25=\"0\",\"\",SUM(E5:E8)-SUM(C5:C8))","v":""},null,null,"141-160",{"$f":"COUNTIFS(R5:R23,\">=141\",R5:R23,\"<=161\")","v":0},{"$f":"IF(X34=0,\"\",AVERAGEIFS(S5:S23,R5:R23,\">=141\",R5:R23,\"<=160\"))","v":""}]
[null,null,null,null,null,null,null,null,null,null,null,null,null,null,null,null,null,null,"Last 4",{"$f":"IF(E25=\"0\",\"\",SUM(E20:E23)-SUM(C20:C23))","v":""},null,null,"161-180",{"$f":"COUNTIFS(R5:R23,\">=161\",R5:R23,\"<=180\")","v":0},{"$f":"IF(X35=0,\"\",AVERAGEIFS(S5:S23,R5:R23,\">=161\",R5:R23,\"<=180\"))","v":""}]
[]
[null,null,null,null,null,null,null,null,null,null,null,null,null,null,null,null,null,null,null,null,null,null,"Putting"]
[null,null,null,null,null,null,null,null,null,null,null,null,null,null,null,null,null,null,null,null,null,null,"Længde (m)","Antal","Holet","Holet (%)"]
[null,null,null,null,null,null,null,null,null,null,null,null,null,null,null,null,null,null,null,null,null,null,"under 1 m",{"$f":"COUNTIFS(S5:S23,\">=0,1\",S5:S23,\"<=0,9\")","v":0},{"$f":"IF(X39=0,\"\",COUNTIFS(P5:P23,\"=1\",S5:S23,\"<1\"))","v":""},{"$f":"IF(X39=0,\"\",Y39/X39*100)","v":""}]
[null,null,null,null,null,null,null,null,null,null,null,null,null,null,null,null,null,null,null,null,null,null,"1 - 1,5",{"$f":"COUNTIFS(S5:S23,\">=1\",S5:S23,\"<=1,5\")","v":0},{"$f":"IF(X40=0,\"\",COUNTIFS(P5:P23,\"=1\",S5:S23,\">=1\",S5:S23,\"<=1,5\"))","v":""},{"$f":"IF(X40=0,\"\",Y40/X40*100)","v":""}]
[null,null,null,null,null,null,null,null,null,null,null,null,null,null,null,null,null,null,null,null,null,null,"1,5 - 3",{"$f":"COUNTIFS(S5:S23,\">=1,6\",S5:S23,\"<=3\")","v":0},{"$f":"IF(X41=0,\"\",COUNTIFS(P5:P23,\"=1\",S5:S23,\">=1,6\",S5:S23,\"<=3\"))","v":""},{"$f":"IF(X41=0,\"\",Y41/X41*100)","v":""}]
[null,null,null,null,null,null,null,null,null,null,null,null,null,null,null,null,null,null,null,null,null,null,"3 - 4,5",{"$f":"COUNTIFS(S5:S23,\">=3,1\",S5:S23,\"<=4,5\")","v":0},{"$f":"IF(X42=0,\"\",COUNTIFS(P5:P23,\"=1\",S5:S23,\">=3,1\",S5:S23,\"<=4,5\"))","v":""},""]
[null,null,null,null,null,null,null,null,null,null,null,null,null,null,null,null,null,null,null,null,null,null,"4,5 - 6",{"$f":"COUNTIFS(S5:S23,\">=4,6\",S5:S23,\"<=6\")","v":0},{"$f":"IF(X43=0,\"\",COUNTIFS(P5:P23,\"=1\",S5:S23,\">=4,6\",S5:S23,\"<=6\"))","v":""},""]
[null,null,null,null,null,null,null,null,null,null,null,null,null,null,null,null,null,null,null,null,null,null,"over 6 meter",{"$f":"COUNTIFS(S5:S23,\">6\")","v":0},{"$f":"IF(X44=0,\"\",COUNTIFS(P5:P23,\"=1\",S5:S23,\">6\"))","v":""},""]

{"sheet":"Runde 9","index":11,"n_rows":44,"n_cols":29,"rows_kept":44,"cut":false,"hidden":false,"merged":[]}
["Korsør Golf Klub - 18 huller - Gul tee",null,null,null,null,null,null,null,null,{"$f":"IF(E25=\"0\",\"0\",\"1\")","v":"0"},null,"Dato:",null,null,"Handicap:",null,null,null,null,"Antal tildelte slag:"]
[]
[null,null,null,null,null,null,null,"Tee shot",null,null,"Fairway hits i %",null,null,"Bunker",null,null,null,"Approach shots"]
["Hul","Gul tee","Par","HCP","Score","Netto","Driver","Wood","Jern","Venstre","Midt","Højre","FB","GB","SS","Putts","GIR","Dist. to pin (m)","Dist. to hole (m)","% SS","% GIR","Putts/GIR","Eagles","Birdies","Bogeys","Værre","% Scramble","3+ Putts","% Driver/Fairwayhits"]
[1,307,4,11,null,null,null,null,null,null,null,null,null,null,null,null,null,null,null,null,null,{"$f":"IF(Q5=0,\"\",P5)","v":""},null,null,null,null,{"$f":"IF(AND(Q5=\"\",P5=1),1,\"\")","v":""},null,{"$f":"IF(AND(G5=\"\"),\"\",SUM(K5))","v":""}]
[2,323,4,5,null,null,null,null,null,null,null,null,null,null,null,null,null,null,null,null,null,"",null,null,null,null,"",null,""]
[3,138,3,15,null,null,null,null,null,null,null,null,null,null,null,null,null,null,null,null,null,"",null,null,null,null,"",null,""]
[4,310,4,13,null,null,null,null,null,null,null,null,null,null,null,null,null,null,null,null,null,"",null,null,null,null,"",null,""]
[5,431,5,3,null,null,null,null,null,null,null,null,null,null,null,null,null,null,null,null,null,"",null,null,null,null,"",null,""]
[6,312,4,9,null,null,null,null,null,null,null,null,null,null,null,null,null,null,null,null,null,"",null,null,null,null,"",null,""]
[7,498,5,1,null,null,null,null,null,null,null,null,null,null,null,null,null,null,null,null,null,"",null,null,null,null,"",null,""]
[8,138,3,17,null,null,null,null,null,null,null,null,null,null,null,null,null,null,null,null,null,"",null,null,null,null,"",null,""]
[9,310,4,7,null,null,null,null,null,null,null,null,null,null,null,null,null,null,null,null,null,"",null,null,null,null,"",null,""]
[null,{"$f":"SUM(B5:B13)","v":2767},{"$f":"SUM(C5:C13)","v":36},"UD",{"$f":"SUM(E5:E13)","v":0},{"$f":"SUM(F5:F13)","v":0},{"$f":"SUM(G5:G13)","v":0},{"$f":"SUM(H5:H13)","v":0},{"$f":"SUM(I5:I13)","v":0},{"$f":"IF((A28=27),\"\",(SUM(J5:J13)/SUM(J5:L13))*100)","v":""},{"$f":"IF((A28=27),\"\",(SUM(K5:K13)/SUM(J5:L13))*100)","v":""},{"$f":"IF((A28=27),\"\",(SUM(L5:L13)/SUM(J5:L13))*100)","v":""},{"$f":"SUM(M5:M13)","v":0},{"$f":"SUM(N5:N13)","v":0},{"$f":"SUM(O5:O13)","v":0},{"$f":"SUM(P5:P13)","v":0},{"$f":"SUM(Q5:Q13)","v":0},null,{"$f":"IF(Q14=0,\"\",SUM(S5:S13)/Q14)","v":""},null,null,{"$f":"SUM(V5:V13)","v":0},{"$f":"ColorFunction($E$30,$E$5:$E$13)","v":0},{"$f":"ColorFunction($E$31,$E$5:$E$13)","v":0},{"$f":"ColorFunction($E$32,$E$5:$E$13)","v":0},{"$f":"ColorFunction($E$33,$E$5:$E$13)","v":0},{"$f":"SUM(AA5:AA13)/(9-Q14)*100","v":0},{"$f":"COUNTIF(P5:P13,\">2\")","v":0},{"$f":"IF((G14=0),\"\",SUM(AC5:AC13)/G14*100)","v":""}]
[10,481,5,4,null,null,null,null,null,null,null,null,null,null,null,null,null,null,null,null,null,{"$f":"IF(Q15=0,\"\",P15)","v":""},null,null,null,null,{"$f":"IF(AND(Q15=\"\",P15=1),1,\"\")","v":""},null,{"$f":"IF(AND(G15=\"\"),\"\",SUM(K15))","v":""}]
[11,319,4,16,null,null,null,null,null,null,null,null,null,null,null,null,null,null,null,null,null,"",null,null,null,null,"",null,""]
[12,431,5,2,null,null,null,null,null,null,null,null,null,null,null,null,null,null,null,null,null,"",null,null,null,null,"",null,""]
[13,122,3,18,null,null,null,null,null,null,null,null,null,null,null,null,null,null,null,null,null,"",null,null,null,null,"",null,""]
[14,379,4,6,null,null,null,null,null,null,null,null,null,null,null,null,null,null,null,null,null,"",null,null,null,null,"",null,""]
[15,316,4,8,null,null,null,null,null,null,null,null,null,null,null,null,null,null,null,null,null,"",null,null,null,null,"",null,""]
[16,322,4,14,null,null,null,null,null,null,null,null,null,null,null,null,null,null,null,null,null,"",null,null,null,null,"",null,""]
[17,345,4,10,null,null,null,null,null,null,null,null,null,null,null,null,null,null,null,null,null,"",null,null,null,null,"",null,""]
[18,281,4,12,null,null,null,null,null,null,null,null,null,null,null,null,null,null,null,null,null,"",null,null,null,null,"",null,""]
[null,{"$f":"SUM(B15:B23)","v":2996},{"$f":"SUM(C15:C23)","v":37},"IND",{"$f":"SUM(E15:E23)","v":0},{"$f":"SUM(F15:F23)","v":0},{"$f":"SUM(G15:G23)","v":0},{"$f":"SUM(H15:H23)","v":0},{"$f":"SUM(I15:I23)","v":0},{"$f":"IF((A29=27),\"\",(SUM(J15:J23)/SUM(J15:L23))*100)","v":""},{"$f":"IF((A29=27),\"\",(SUM(K15:K23)/SUM(J15:L23))*100)","v":""},{"$f":"IF((A29=27),\"\",(SUM(L15:L23)/SUM(J15:L23))*100)","v":""},{"$f":"SUM(M15:M23)","v":0},{"$f":"SUM(N15:N23)","v":0},{"$f":"SUM(O15:O23)","v":0},{"$f":"SUM(P15:P23)","v":0},{"$f":"SUM(Q15:Q23)","v":0},null,{"$f":"IF(Q24=0,\"\",SUM(S15:S23)/Q24)","v":""},null,null,{"$f":"SUM(V15:V23)","v":0},{"$f":"ColorFunction($E$30,$E$15:$E$23)","v":0},{"$f":"ColorFunction($E$31,$E$15:$E$23)","v":0},{"$f":"ColorFunction($E$32,$E$15:$E$23)","v":0},{"$f":"ColorFunction($E$33,$E$15:$E$23)","v":0},{"$f":"SUM(AA15:AA23)/(9-Q24)*100","v":0},{"$f":"COUNTIF(P15:P23,\">2\")","v":0},{"$f":"IF((G24=0),\"\",SUM(AC15:AC23)/G24*100)","v":""}]
[null,{"$f":"SUM(B24,B14)","v":5763},{"$f":"SUM(C24,C14)","v":73},"TOTAL",{"$f":"IF(E14=0,\"0\",(E24+E14))","v":"0"},{"$f":"SUM(F14,F24)","v":0},{"$f":"SUM(G24,G14)","v":0},{"$f":"SUM(H24,H14)","v":0},{"$f":"SUM(I24,I14)","v":0},{"$f":"IF((A28=27),\"\",(SUM(J14,J24)/2))","v":""},{"$f":"IF((A28=27),\"\",(SUM(K14,K24)/2))","v":""},{"$f":"IF((A28=27),\"\",(SUM(L14,L24)/2))","v":""},{"$f":"SUM(M24,M14)","v":0},{"$f":"SUM(N24,N14)","v":0},{"$f":"SUM(O24,O14)","v":0},{"$f":"IF(P14+P24=0,\"\",SUM(P24,P14))","v":""},{"$f":"IF(Q14+Q24=0,\"\",SUM(Q24,Q14))","v":""},null,{"$f":"IF(Q25=\"\",\"\",SUM(S24,S14)/2)","v":""},{"$f":"IF(N25=0,\"\",(O25)/N25*100)","v":""},{"$f":"IF(Q25=\"\",\"\",(Q25)/18*100)","v":""},{"$f":"IF(Q25=\"\",\"\",(V14+V24)/Q25)","v":""},{"$f":"SUM(W14,W24)","v":0},{"$f":"SUM(X14,X24)","v":0},{"$f":"SUM(Y14,Y24)","v":0},{"$f":"SUM(Z14,Z24)","v":0},{"$f":"SUM(AA14,AA24)/2","v":0},{"$f":"SUM(AB14,AB24)","v":0},{"$f":"SUM(AC24,AC14)/2","v":0}]
[]
[null,null,null,null,"Udfyld alle grønne felter med 1 for positiv eller antal i tal"]
[{"$f":"COUNTBLANK(I5:K13)","v":27},null,null,null,null,null,null,null,null,null,null,null,null,null,null,null,null,null,null,null,null,null,"Approach"]
[{"$f":"COUNTBLANK(I15:K23)","v":27},null,null,null,"Udfyld følgende farver:",null,null,null,null,null,null,null,null,null,null,null,null,null,"Holes to par",null,null,null,"Længde (m)","Antal","Afstand (m)"]
[{"$f":"SUM(L5:L23)","v":0},null,null,null,"Eagles",null,null,null,null,null,null,null,null,null,null,null,null,null,"Par 3",{"$f":"SUMIF(C:C,\"3\",E:E)/COUNTIF(C:C,3)","v":0},null,null,"45-70",{"$f":"COUNTIFS(R5:R23,\">=45\",R5:R23,\"<=70\")","v":0},{"$f":"IF(X30=0,\"\",AVERAGEIFS(S5:S23,R5:R23,\">=45\",R5:R23,\"<=70\"))","v":""}]
[null,null,null,null,"Birdies",null,null,null,null,null,null,null,null,null,null,null,null,null,"Par 4",{"$f":"SUMIF(C:C,\"4\",E:E)/COUNTIF(C:C,4)","v":0},null,null,"71-90",{"$f":"COUNTIFS(R5:R23,\">=71\",R5:R23,\"<=90\")","v":0},{"$f":"IF(X31=0,\"\",AVERAGEIFS(S5:S23,R5:R23,\">=71\",R5:R23,\"<=90\"))","v":""}]
[null,null,null,null,"Bogeys",null,null,null,null,null,null,null,null,null,null,null,null,null,"Par 5",{"$f":"SUMIF(C:C,\"5\",E:E)/COUNTIF(C:C,5)","v":0},null,null,"91-115",{"$f":"COUNTIFS(R5:R23,\">=91\",R5:R23,\"<=115\")","v":0},{"$f":"IF(X32=0,\"\",AVERAGEIFS(S5:S23,R5:R23,\">=91\",R5:R23,\"<=115\"))","v":""}]
[null,null,null,null,"Doublebogeys eller værre",null,null,null,null,null,null,null,null,null,null,null,null,null,null,null,null,null,"116-140",{"$f":"COUNTIFS(R5:R23,\">=116\",R5:R23,\"<=140\")","v":0},{"$f":"IF(X33=0,\"\",AVERAGEIFS(S5:S23,R5:R23,\">=116\",R5:R23,\"<=140\"))","v":""}]
[null,null,null,null,null,null,null,null,null,null,null,null,null,null,null,null,null,null,"First 4",{"$f":"IF(E25=\"0\",\"\",SUM(E5:E8)-SUM(C5:C8))","v":""},null,null,"141-160",{"$f":"COUNTIFS(R5:R23,\">=141\",R5:R23,\"<=161\")","v":0},{"$f":"IF(X34=0,\"\",AVERAGEIFS(S5:S23,R5:R23,\">=141\",R5:R23,\"<=160\"))","v":""}]
[null,null,null,null,null,null,null,null,null,null,null,null,null,null,null,null,null,null,"Last 4",{"$f":"IF(E25=\"0\",\"\",SUM(E20:E23)-SUM(C20:C23))","v":""},null,null,"161-180",{"$f":"COUNTIFS(R5:R23,\">=161\",R5:R23,\"<=180\")","v":0},{"$f":"IF(X35=0,\"\",AVERAGEIFS(S5:S23,R5:R23,\">=161\",R5:R23,\"<=180\"))","v":""}]
[]
[null,null,null,null,null,null,null,null,null,null,null,null,null,null,null,null,null,null,null,null,null,null,"Putting"]
[null,null,null,null,null,null,null,null,null,null,null,null,null,null,null,null,null,null,null,null,null,null,"Længde (m)","Antal","Holet","Holet (%)"]
[null,null,null,null,null,null,null,null,null,null,null,null,null,null,null,null,null,null,null,null,null,null,"under 1 m",{"$f":"COUNTIFS(S5:S23,\">=0,1\",S5:S23,\"<=0,9\")","v":0},{"$f":"IF(X39=0,\"\",COUNTIFS(P5:P23,\"=1\",S5:S23,\"<1\"))","v":""},{"$f":"IF(X39=0,\"\",Y39/X39*100)","v":""}]
[null,null,null,null,null,null,null,null,null,null,null,null,null,null,null,null,null,null,null,null,null,null,"1 - 1,5",{"$f":"COUNTIFS(S5:S23,\">=1\",S5:S23,\"<=1,5\")","v":0},{"$f":"IF(X40=0,\"\",COUNTIFS(P5:P23,\"=1\",S5:S23,\">=1\",S5:S23,\"<=1,5\"))","v":""},{"$f":"IF(X40=0,\"\",Y40/X40*100)","v":""}]
[null,null,null,null,null,null,null,null,null,null,null,null,null,null,null,null,null,null,null,null,null,null,"1,5 - 3",{"$f":"COUNTIFS(S5:S23,\">=1,6\",S5:S23,\"<=3\")","v":0},{"$f":"IF(X41=0,\"\",COUNTIFS(P5:P23,\"=1\",S5:S23,\">=1,6\",S5:S23,\"<=3\"))","v":""},{"$f":"IF(X41=0,\"\",Y41/X41*100)","v":""}]
[null,null,null,null,null,null,null,null,null,null,null,null,null,null,null,null,null,null,null,null,null,null,"3 - 4,5",{"$f":"COUNTIFS(S5:S23,\">=3,1\",S5:S23,\"<=4,5\")","v":0},{"$f":"IF(X42=0,\"\",COUNTIFS(P5:P23,\"=1\",S5:S23,\">=3,1\",S5:S23,\"<=4,5\"))","v":""},""]
[null,null,null,null,null,null,null,null,null,null,null,null,null,null,null,null,null,null,null,null,null,null,"4,5 - 6",{"$f":"COUNTIFS(S5:S23,\">=4,6\",S5:S23,\"<=6\")","v":0},{"$f":"IF(X43=0,\"\",COUNTIFS(P5:P23,\"=1\",S5:S23,\">=4,6\",S5:S23,\"<=6\"))","v":""},""]
[null,null,null,null,null,null,null,null,null,null,null,null,null,null,null,null,null,null,null,null,null,null,"over 6 meter",{"$f":"COUNTIFS(S5:S23,\">6\")","v":0},{"$f":"IF(X44=0,\"\",COUNTIFS(P5:P23,\"=1\",S5:S23,\">6\"))","v":""},""]

{"sheet":"Runde 10","index":12,"n_rows":44,"n_cols":29,"rows_kept":44,"cut":false,"hidden":false,"merged":[]}
["Korsør Golf Klub - 18 huller - Gul tee",null,null,null,null,null,null,null,null,{"$f":"IF(E25=\"0\",\"0\",\"1\")","v":"0"},null,"Dato:",null,null,"Handicap:",null,null,null,null,"Antal tildelte slag:"]
[]
[null,null,null,null,null,null,null,"Tee shot",null,null,"Fairway hits i %",null,null,"Bunker",null,null,null,"Approach shots"]
["Hul","Gul tee","Par","HCP","Score","Netto","Driver","Wood","Jern","Venstre","Midt","Højre","FB","GB","SS","Putts","GIR","Dist. to pin (m)","Dist. to hole (m)","% SS","% GIR","Putts/GIR","Eagles","Birdies","Bogeys","Værre","% Scramble","3+ Putts","% Driver/Fairwayhits"]
[1,307,4,11,null,null,null,null,null,null,null,null,null,null,null,null,null,null,null,null,null,{"$f":"IF(Q5=0,\"\",P5)","v":""},null,null,null,null,{"$f":"IF(AND(Q5=\"\",P5=1),1,\"\")","v":""},null,{"$f":"IF(AND(G5=\"\"),\"\",SUM(K5))","v":""}]
[2,323,4,5,null,null,null,null,null,null,null,null,null,null,null,null,null,null,null,null,null,"",null,null,null,null,"",null,""]
[3,138,3,15,null,null,null,null,null,null,null,null,null,null,null,null,null,null,null,null,null,"",null,null,null,null,"",null,""]
[4,310,4,13,null,null,null,null,null,null,null,null,null,null,null,null,null,null,null,null,null,"",null,null,null,null,"",null,""]
[5,431,5,3,null,null,null,null,null,null,null,null,null,null,null,null,null,null,null,null,null,"",null,null,null,null,"",null,""]
[6,312,4,9,null,null,null,null,null,null,null,null,null,null,null,null,null,null,null,null,null,"",null,null,null,null,"",null,""]
[7,498,5,1,null,null,null,null,null,null,null,null,null,null,null,null,null,null,null,null,null,"",null,null,null,null,"",null,""]
[8,138,3,17,null,null,null,null,null,null,null,null,null,null,null,null,null,null,null,null,null,"",null,null,null,null,"",null,""]
[9,310,4,7,null,null,null,null,null,null,null,null,null,null,null,null,null,null,null,null,null,"",null,null,null,null,"",null,""]
[null,{"$f":"SUM(B5:B13)","v":2767},{"$f":"SUM(C5:C13)","v":36},"UD",{"$f":"SUM(E5:E13)","v":0},{"$f":"SUM(F5:F13)","v":0},{"$f":"SUM(G5:G13)","v":0},{"$f":"SUM(H5:H13)","v":0},{"$f":"SUM(I5:I13)","v":0},{"$f":"IF((A28=27),\"\",(SUM(J5:J13)/SUM(J5:L13))*100)","v":""},{"$f":"IF((A28=27),\"\",(SUM(K5:K13)/SUM(J5:L13))*100)","v":""},{"$f":"IF((A28=27),\"\",(SUM(L5:L13)/SUM(J5:L13))*100)","v":""},{"$f":"SUM(M5:M13)","v":0},{"$f":"SUM(N5:N13)","v":0},{"$f":"SUM(O5:O13)","v":0},{"$f":"SUM(P5:P13)","v":0},{"$f":"SUM(Q5:Q13)","v":0},null,{"$f":"IF(Q14=0,\"\",SUM(S5:S13)/Q14)","v":""},null,null,{"$f":"SUM(V5:V13)","v":0},{"$f":"ColorFunction($E$30,$E$5:$E$13)","v":0},{"$f":"ColorFunction($E$31,$E$5:$E$13)","v":0},{"$f":"ColorFunction($E$32,$E$5:$E$13)","v":0},{"$f":"ColorFunction($E$33,$E$5:$E$13)","v":0},{"$f":"SUM(AA5:AA13)/(9-Q14)*100","v":0},{"$f":"COUNTIF(P5:P13,\">2\")","v":0},{"$f":"IF((G14=0),\"\",SUM(AC5:AC13)/G14*100)","v":""}]
[10,481,5,4,null,null,null,null,null,null,null,null,null,null,null,null,null,null,null,null,null,{"$f":"IF(Q15=0,\"\",P15)","v":""},null,null,null,null,{"$f":"IF(AND(Q15=\"\",P15=1),1,\"\")","v":""},null,{"$f":"IF(AND(G15=\"\"),\"\",SUM(K15))","v":""}]
[11,319,4,16,null,null,null,null,null,null,null,null,null,null,null,null,null,null,null,null,null,"",null,null,null,null,"",null,""]
[12,431,5,2,null,null,null,null,null,null,null,null,null,null,null,null,null,null,null,null,null,"",null,null,null,null,"",null,""]
[13,122,3,18,null,null,null,null,null,null,null,null,null,null,null,null,null,null,null,null,null,"",null,null,null,null,"",null,""]
[14,379,4,6,null,null,null,null,null,null,null,null,null,null,null,null,null,null,null,null,null,"",null,null,null,null,"",null,""]
[15,316,4,8,null,null,null,null,null,null,null,null,null,null,null,null,null,null,null,null,null,"",null,null,null,null,"",null,""]
[16,322,4,14,null,null,null,null,null,null,null,null,null,null,null,null,null,null,null,null,null,"",null,null,null,null,"",null,""]
[17,345,4,10,null,null,null,null,null,null,null,null,null,null,null,null,null,null,null,null,null,"",null,null,null,null,"",null,""]
[18,281,4,12,null,null,null,null,null,null,null,null,null,null,null,null,null,null,null,null,null,"",null,null,null,null,"",null,""]
[null,{"$f":"SUM(B15:B23)","v":2996},{"$f":"SUM(C15:C23)","v":37},"IND",{"$f":"SUM(E15:E23)","v":0},{"$f":"SUM(F15:F23)","v":0},{"$f":"SUM(G15:G23)","v":0},{"$f":"SUM(H15:H23)","v":0},{"$f":"SUM(I15:I23)","v":0},{"$f":"IF((A29=27),\"\",(SUM(J15:J23)/SUM(J15:L23))*100)","v":""},{"$f":"IF((A29=27),\"\",(SUM(K15:K23)/SUM(J15:L23))*100)","v":""},{"$f":"IF((A29=27),\"\",(SUM(L15:L23)/SUM(J15:L23))*100)","v":""},{"$f":"SUM(M15:M23)","v":0},{"$f":"SUM(N15:N23)","v":0},{"$f":"SUM(O15:O23)","v":0},{"$f":"SUM(P15:P23)","v":0},{"$f":"SUM(Q15:Q23)","v":0},null,{"$f":"IF(Q24=0,\"\",SUM(S15:S23)/Q24)","v":""},null,null,{"$f":"SUM(V15:V23)","v":0},{"$f":"ColorFunction($E$30,$E$15:$E$23)","v":0},{"$f":"ColorFunction($E$31,$E$15:$E$23)","v":0},{"$f":"ColorFunction($E$32,$E$15:$E$23)","v":0},{"$f":"ColorFunction($E$33,$E$15:$E$23)","v":0},{"$f":"SUM(AA15:AA23)/(9-Q24)*100","v":0},{"$f":"COUNTIF(P15:P23,\">2\")","v":0},{"$f":"IF((G24=0),\"\",SUM(AC15:AC23)/G24*100)","v":""}]
[null,{"$f":"SUM(B24,B14)","v":5763},{"$f":"SUM(C24,C14)","v":73},"TOTAL",{"$f":"IF(E14=0,\"0\",(E24+E14))","v":"0"},{"$f":"SUM(F14,F24)","v":0},{"$f":"SUM(G24,G14)","v":0},{"$f":"SUM(H24,H14)","v":0},{"$f":"SUM(I24,I14)","v":0},{"$f":"IF((A28=27),\"\",(SUM(J14,J24)/2))","v":""},{"$f":"IF((A28=27),\"\",(SUM(K14,K24)/2))","v":""},{"$f":"IF((A28=27),\"\",(SUM(L14,L24)/2))","v":""},{"$f":"SUM(M24,M14)","v":0},{"$f":"SUM(N24,N14)","v":0},{"$f":"SUM(O24,O14)","v":0},{"$f":"IF(P14+P24=0,\"\",SUM(P24,P14))","v":""},{"$f":"IF(Q14+Q24=0,\"\",SUM(Q24,Q14))","v":""},null,{"$f":"IF(Q25=\"\",\"\",SUM(S24,S14)/2)","v":""},{"$f":"IF(N25=0,\"\",(O25)/N25*100)","v":""},{"$f":"IF(Q25=\"\",\"\",(Q25)/18*100)","v":""},{"$f":"IF(Q25=\"\",\"\",(V14+V24)/Q25)","v":""},{"$f":"SUM(W14,W24)","v":0},{"$f":"SUM(X14,X24)","v":0},{"$f":"SUM(Y14,Y24)","v":0},{"$f":"SUM(Z14,Z24)","v":0},{"$f":"SUM(AA14,AA24)/2","v":0},{"$f":"SUM(AB14,AB24)","v":0},{"$f":"SUM(AC24,AC14)/2","v":0}]
[]
[null,null,null,null,"Udfyld alle grønne felter med 1 for positiv eller antal i tal"]
[{"$f":"COUNTBLANK(I5:K13)","v":27},null,null,null,null,null,null,null,null,null,null,null,null,null,null,null,null,null,null,null,null,null,"Approach"]
[{"$f":"COUNTBLANK(I15:K23)","v":27},null,null,null,"Udfyld følgende farver:",null,null,null,null,null,null,null,null,null,null,null,null,null,"Holes to par",null,null,null,"Længde (m)","Antal","Afstand (m)"]
[{"$f":"SUM(L5:L23)","v":0},null,null,null,"Eagles",null,null,null,null,null,null,null,null,null,null,null,null,null,"Par 3",{"$f":"SUMIF(C:C,\"3\",E:E)/COUNTIF(C:C,3)","v":0},null,null,"45-70",{"$f":"COUNTIFS(R5:R23,\">=45\",R5:R23,\"<=70\")","v":0},{"$f":"IF(X30=0,\"\",AVERAGEIFS(S5:S23,R5:R23,\">=45\",R5:R23,\"<=70\"))","v":""}]
[null,null,null,null,"Birdies",null,null,null,null,null,null,null,null,null,null,null,null,null,"Par 4",{"$f":"SUMIF(C:C,\"4\",E:E)/COUNTIF(C:C,4)","v":0},null,null,"71-90",{"$f":"COUNTIFS(R5:R23,\">=71\",R5:R23,\"<=90\")","v":0},{"$f":"IF(X31=0,\"\",AVERAGEIFS(S5:S23,R5:R23,\">=71\",R5:R23,\"<=90\"))","v":""}]
[null,null,null,null,"Bogeys",null,null,null,null,null,null,null,null,null,null,null,null,null,"Par 5",{"$f":"SUMIF(C:C,\"5\",E:E)/COUNTIF(C:C,5)","v":0},null,null,"91-115",{"$f":"COUNTIFS(R5:R23,\">=91\",R5:R23,\"<=115\")","v":0},{"$f":"IF(X32=0,\"\",AVERAGEIFS(S5:S23,R5:R23,\">=91\",R5:R23,\"<=115\"))","v":""}]
[null,null,null,null,"Doublebogeys eller værre",null,null,null,null,null,null,null,null,null,null,null,null,null,null,null,null,null,"116-140",{"$f":"COUNTIFS(R5:R23,\">=116\",R5:R23,\"<=140\")","v":0},{"$f":"IF(X33=0,\"\",AVERAGEIFS(S5:S23,R5:R23,\">=116\",R5:R23,\"<=140\"))","v":""}]
[null,null,null,null,null,null,null,null,null,null,null,null,null,null,null,null,null,null,"First 4",{"$f":"IF(E25=\"0\",\"\",SUM(E5:E8)-SUM(C5:C8))","v":""},null,null,"141-160",{"$f":"COUNTIFS(R5:R23,\">=141\",R5:R23,\"<=161\")","v":0},{"$f":"IF(X34=0,\"\",AVERAGEIFS(S5:S23,R5:R23,\">=141\",R5:R23,\"<=160\"))","v":""}]
[null,null,null,null,null,null,null,null,null,null,null,null,null,null,null,null,null,null,"Last 4",{"$f":"IF(E25=\"0\",\"\",SUM(E20:E23)-SUM(C20:C23))","v":""},null,null,"161-180",{"$f":"COUNTIFS(R5:R23,\">=161\",R5:R23,\"<=180\")","v":0},{"$f":"IF(X35=0,\"\",AVERAGEIFS(S5:S23,R5:R23,\">=161\",R5:R23,\"<=180\"))","v":""}]
[]
[null,null,null,null,null,null,null,null,null,null,null,null,null,null,null,null,null,null,null,null,null,null,"Putting"]
[null,null,null,null,null,null,null,null,null,null,null,null,null,null,null,null,null,null,null,null,null,null,"Længde (m)","Antal","Holet","Holet (%)"]
[null,null,null,null,null,null,null,null,null,null,null,null,null,null,null,null,null,null,null,null,null,null,"under 1 m",{"$f":"COUNTIFS(S5:S23,\">=0,1\",S5:S23,\"<=0,9\")","v":0},{"$f":"IF(X39=0,\"\",COUNTIFS(P5:P23,\"=1\",S5:S23,\"<1\"))","v":""},{"$f":"IF(X39=0,\"\",Y39/X39*100)","v":""}]
[null,null,null,null,null,null,null,null,null,null,null,null,null,null,null,null,null,null,null,null,null,null,"1 - 1,5",{"$f":"COUNTIFS(S5:S23,\">=1\",S5:S23,\"<=1,5\")","v":0},{"$f":"IF(X40=0,\"\",COUNTIFS(P5:P23,\"=1\",S5:S23,\">=1\",S5:S23,\"<=1,5\"))","v":""},{"$f":"IF(X40=0,\"\",Y40/X40*100)","v":""}]
[null,null,null,null,null,null,null,null,null,null,null,null,null,null,null,null,null,null,null,null,null,null,"1,5 - 3",{"$f":"COUNTIFS(S5:S23,\">=1,6\",S5:S23,\"<=3\")","v":0},{"$f":"IF(X41=0,\"\",COUNTIFS(P5:P23,\"=1\",S5:S23,\">=1,6\",S5:S23,\"<=3\"))","v":""},{"$f":"IF(X41=0,\"\",Y41/X41*100)","v":""}]
[null,null,null,null,null,null,null,null,null,null,null,null,null,null,null,null,null,null,null,null,null,null,"3 - 4,5",{"$f":"COUNTIFS(S5:S23,\">=3,1\",S5:S23,\"<=4,5\")","v":0},{"$f":"IF(X42=0,\"\",COUNTIFS(P5:P23,\"=1\",S5:S23,\">=3,1\",S5:S23,\"<=4,5\"))","v":""},""]
[null,null,null,null,null,null,null,null,null,null,null,null,null,null,null,null,null,null,null,null,null,null,"4,5 - 6",{"$f":"COUNTIFS(S5:S23,\">=4,6\",S5:S23,\"<=6\")","v":0},{"$f":"IF(X43=0,\"\",COUNTIFS(P5:P23,\"=1\",S5:S23,\">=4,6\",S5:S23,\"<=6\"))","v":""},""]
[null,null,null,null,null,null,null,null,null,null,null,null,null,null,null,null,null,null,null,null,null,null,"over 6 meter",{"$f":"COUNTIFS(S5:S23,\">6\")","v":0},{"$f":"IF(X44=0,\"\",COUNTIFS(P5:P23,\"=1\",S5:S23,\">6\"))","v":""},""]

{"sheet":"Runde 11","index":13,"n_rows":44,"n_cols":29,"rows_kept":44,"cut":false,"hidden":false,"merged":[]}
["Korsør Golf Klub - 18 huller - Gul tee",null,null,null,null,null,null,null,null,{"$f":"IF(E25=\"0\",\"0\",\"1\")","v":"0"},null,"Dato:",null,null,"Handicap:",null,null,null,null,"Antal tildelte slag:"]
[]
[null,null,null,null,null,null,null,"Tee shot",null,null,"Fairway hits i %",null,null,"Bunker",null,null,null,"Approach shots"]
["Hul","Gul tee","Par","HCP","Score","Netto","Driver","Wood","Jern","Venstre","Midt","Højre","FB","GB","SS","Putts","GIR","Dist. to pin (m)","Dist. to hole (m)","% SS","% GIR","Putts/GIR","Eagles","Birdies","Bogeys","Værre","% Scramble","3+ Putts","% Driver/Fairwayhits"]
[1,307,4,11,null,null,null,null,null,null,null,null,null,null,null,null,null,null,null,null,null,{"$f":"IF(Q5=0,\"\",P5)","v":""},null,null,null,null,{"$f":"IF(AND(Q5=\"\",P5=1),1,\"\")","v":""},null,{"$f":"IF(AND(G5=\"\"),\"\",SUM(K5))","v":""}]
[2,323,4,5,null,null,null,null,null,null,null,null,null,null,null,null,null,null,null,null,null,"",null,null,null,null,"",null,""]
[3,138,3,15,null,null,null,null,null,null,null,null,null,null,null,null,null,null,null,null,null,"",null,null,null,null,"",null,""]
[4,310,4,13,null,null,null,null,null,null,null,null,null,null,null,null,null,null,null,null,null,"",null,null,null,null,"",null,""]
[5,431,5,3,null,null,null,null,null,null,null,null,null,null,null,null,null,null,null,null,null,"",null,null,null,null,"",null,""]
[6,312,4,9,null,null,null,null,null,null,null,null,null,null,null,null,null,null,null,null,null,"",null,null,null,null,"",null,""]
[7,498,5,1,null,null,null,null,null,null,null,null,null,null,null,null,null,null,null,null,null,"",null,null,null,null,"",null,""]
[8,138,3,17,null,null,null,null,null,null,null,null,null,null,null,null,null,null,null,null,null,"",null,null,null,null,"",null,""]
[9,310,4,7,null,null,null,null,null,null,null,null,null,null,null,null,null,null,null,null,null,"",null,null,null,null,"",null,""]
[null,{"$f":"SUM(B5:B13)","v":2767},{"$f":"SUM(C5:C13)","v":36},"UD",{"$f":"SUM(E5:E13)","v":0},{"$f":"SUM(F5:F13)","v":0},{"$f":"SUM(G5:G13)","v":0},{"$f":"SUM(H5:H13)","v":0},{"$f":"SUM(I5:I13)","v":0},{"$f":"IF((A28=27),\"\",(SUM(J5:J13)/SUM(J5:L13))*100)","v":""},{"$f":"IF((A28=27),\"\",(SUM(K5:K13)/SUM(J5:L13))*100)","v":""},{"$f":"IF((A28=27),\"\",(SUM(L5:L13)/SUM(J5:L13))*100)","v":""},{"$f":"SUM(M5:M13)","v":0},{"$f":"SUM(N5:N13)","v":0},{"$f":"SUM(O5:O13)","v":0},{"$f":"SUM(P5:P13)","v":0},{"$f":"SUM(Q5:Q13)","v":0},null,{"$f":"IF(Q14=0,\"\",SUM(S5:S13)/Q14)","v":""},null,null,{"$f":"SUM(V5:V13)","v":0},{"$f":"ColorFunction($E$30,$E$5:$E$13)","v":0},{"$f":"ColorFunction($E$31,$E$5:$E$13)","v":0},{"$f":"ColorFunction($E$32,$E$5:$E$13)","v":0},{"$f":"ColorFunction($E$33,$E$5:$E$13)","v":0},{"$f":"SUM(AA5:AA13)/(9-Q14)*100","v":0},{"$f":"COUNTIF(P5:P13,\">2\")","v":0},{"$f":"IF((G14=0),\"\",SUM(AC5:AC13)/G14*100)","v":""}]
[10,481,5,4,null,null,null,null,null,null,null,null,null,null,null,null,null,null,null,null,null,{"$f":"IF(Q15=0,\"\",P15)","v":""},null,null,null,null,{"$f":"IF(AND(Q15=\"\",P15=1),1,\"\")","v":""},null,{"$f":"IF(AND(G15=\"\"),\"\",SUM(K15))","v":""}]
[11,319,4,16,null,null,null,null,null,null,null,null,null,null,null,null,null,null,null,null,null,"",null,null,null,null,"",null,""]
[12,431,5,2,null,null,null,null,null,null,null,null,null,null,null,null,null,null,null,null,null,"",null,null,null,null,"",null,""]
[13,122,3,18,null,null,null,null,null,null,null,null,null,null,null,null,null,null,null,null,null,"",null,null,null,null,"",null,""]
[14,379,4,6,null,null,null,null,null,null,null,null,null,null,null,null,null,null,null,null,null,"",null,null,null,null,"",null,""]
[15,316,4,8,null,null,null,null,null,null,null,null,null,null,null,null,null,null,null,null,null,"",null,null,null,null,"",null,""]
[16,322,4,14,null,null,null,null,null,null,null,null,null,null,null,null,null,null,null,null,null,"",null,null,null,null,"",null,""]
[17,345,4,10,null,null,null,null,null,null,null,null,null,null,null,null,null,null,null,null,null,"",null,null,null,null,"",null,""]
[18,281,4,12,null,null,null,null,null,null,null,null,null,null,null,null,null,null,null,null,null,"",null,null,null,null,"",null,""]
[null,{"$f":"SUM(B15:B23)","v":2996},{"$f":"SUM(C15:C23)","v":37},"IND",{"$f":"SUM(E15:E23)","v":0},{"$f":"SUM(F15:F23)","v":0},{"$f":"SUM(G15:G23)","v":0},{"$f":"SUM(H15:H23)","v":0},{"$f":"SUM(I15:I23)","v":0},{"$f":"IF((A29=27),\"\",(SUM(J15:J23)/SUM(J15:L23))*100)","v":""},{"$f":"IF((A29=27),\"\",(SUM(K15:K23)/SUM(J15:L23))*100)","v":""},{"$f":"IF((A29=27),\"\",(SUM(L15:L23)/SUM(J15:L23))*100)","v":""},{"$f":"SUM(M15:M23)","v":0},{"$f":"SUM(N15:N23)","v":0},{"$f":"SUM(O15:O23)","v":0},{"$f":"SUM(P15:P23)","v":0},{"$f":"SUM(Q15:Q23)","v":0},null,{"$f":"IF(Q24=0,\"\",SUM(S15:S23)/Q24)","v":""},null,null,{"$f":"SUM(V15:V23)","v":0},{"$f":"ColorFunction($E$30,$E$15:$E$23)","v":0},{"$f":"ColorFunction($E$31,$E$15:$E$23)","v":0},{"$f":"ColorFunction($E$32,$E$15:$E$23)","v":0},{"$f":"ColorFunction($E$33,$E$15:$E$23)","v":0},{"$f":"SUM(AA15:AA23)/(9-Q24)*100","v":0},{"$f":"COUNTIF(P15:P23,\">2\")","v":0},{"$f":"IF((G24=0),\"\",SUM(AC15:AC23)/G24*100)","v":""}]
[null,{"$f":"SUM(B24,B14)","v":5763},{"$f":"SUM(C24,C14)","v":73},"TOTAL",{"$f":"IF(E14=0,\"0\",(E24+E14))","v":"0"},{"$f":"SUM(F14,F24)","v":0},{"$f":"SUM(G24,G14)","v":0},{"$f":"SUM(H24,H14)","v":0},{"$f":"SUM(I24,I14)","v":0},{"$f":"IF((A28=27),\"\",(SUM(J14,J24)/2))","v":""},{"$f":"IF((A28=27),\"\",(SUM(K14,K24)/2))","v":""},{"$f":"IF((A28=27),\"\",(SUM(L14,L24)/2))","v":""},{"$f":"SUM(M24,M14)","v":0},{"$f":"SUM(N24,N14)","v":0},{"$f":"SUM(O24,O14)","v":0},{"$f":"IF(P14+P24=0,\"\",SUM(P24,P14))","v":""},{"$f":"IF(Q14+Q24=0,\"\",SUM(Q24,Q14))","v":""},null,{"$f":"IF(Q25=\"\",\"\",SUM(S24,S14)/2)","v":""},{"$f":"IF(N25=0,\"\",(O25)/N25*100)","v":""},{"$f":"IF(Q25=\"\",\"\",(Q25)/18*100)","v":""},{"$f":"IF(Q25=\"\",\"\",(V14+V24)/Q25)","v":""},{"$f":"SUM(W14,W24)","v":0},{"$f":"SUM(X14,X24)","v":0},{"$f":"SUM(Y14,Y24)","v":0},{"$f":"SUM(Z14,Z24)","v":0},{"$f":"SUM(AA14,AA24)/2","v":0},{"$f":"SUM(AB14,AB24)","v":0},{"$f":"SUM(AC24,AC14)/2","v":0}]
[]
[null,null,null,null,"Udfyld alle grønne felter med 1 for positiv eller antal i tal"]
[{"$f":"COUNTBLANK(I5:K13)","v":27},null,null,null,null,null,null,null,null,null,null,null,null,null,null,null,null,null,null,null,null,null,"Approach"]
[{"$f":"COUNTBLANK(I15:K23)","v":27},null,null,null,"Udfyld følgende farver:",null,null,null,null,null,null,null,null,null,null,null,null,null,"Holes to par",null,null,null,"Længde (m)","Antal","Afstand (m)"]
[{"$f":"SUM(L5:L23)","v":0},null,null,null,"Eagles",null,null,null,null,null,null,null,null,null,null,null,null,null,"Par 3",{"$f":"SUMIF(C:C,\"3\",E:E)/COUNTIF(C:C,3)","v":0},null,null,"45-70",{"$f":"COUNTIFS(R5:R23,\">=45\",R5:R23,\"<=70\")","v":0},{"$f":"IF(X30=0,\"\",AVERAGEIFS(S5:S23,R5:R23,\">=45\",R5:R23,\"<=70\"))","v":""}]
[null,null,null,null,"Birdies",null,null,null,null,null,null,null,null,null,null,null,null,null,"Par 4",{"$f":"SUMIF(C:C,\"4\",E:E)/COUNTIF(C:C,4)","v":0},null,null,"71-90",{"$f":"COUNTIFS(R5:R23,\">=71\",R5:R23,\"<=90\")","v":0},{"$f":"IF(X31=0,\"\",AVERAGEIFS(S5:S23,R5:R23,\">=71\",R5:R23,\"<=90\"))","v":""}]
[null,null,null,null,"Bogeys",null,null,null,null,null,null,null,null,null,null,null,null,null,"Par 5",{"$f":"SUMIF(C:C,\"5\",E:E)/COUNTIF(C:C,5)","v":0},null,null,"91-115",{"$f":"COUNTIFS(R5:R23,\">=91\",R5:R23,\"<=115\")","v":0},{"$f":"IF(X32=0,\"\",AVERAGEIFS(S5:S23,R5:R23,\">=91\",R5:R23,\"<=115\"))","v":""}]
[null,null,null,null,"Doublebogeys eller værre",null,null,null,null,null,null,null,null,null,null,null,null,null,null,null,null,null,"116-140",{"$f":"COUNTIFS(R5:R23,\">=116\",R5:R23,\"<=140\")","v":0},{"$f":"IF(X33=0,\"\",AVERAGEIFS(S5:S23,R5:R23,\">=116\",R5:R23,\"<=140\"))","v":""}]
[null,null,null,null,null,null,null,null,null,null,null,null,null,null,null,null,null,null,"First 4",{"$f":"IF(E25=\"0\",\"\",SUM(E5:E8)-SUM(C5:C8))","v":""},null,null,"141-160",{"$f":"COUNTIFS(R5:R23,\">=141\",R5:R23,\"<=161\")","v":0},{"$f":"IF(X34=0,\"\",AVERAGEIFS(S5:S23,R5:R23,\">=141\",R5:R23,\"<=160\"))","v":""}]
[null,null,null,null,null,null,null,null,null,null,null,null,null,null,null,null,null,null,"Last 4",{"$f":"IF(E25=\"0\",\"\",SUM(E20:E23)-SUM(C20:C23))","v":""},null,null,"161-180",{"$f":"COUNTIFS(R5:R23,\">=161\",R5:R23,\"<=180\")","v":0},{"$f":"IF(X35=0,\"\",AVERAGEIFS(S5:S23,R5:R23,\">=161\",R5:R23,\"<=180\"))","v":""}]
[]
[null,null,null,null,null,null,null,null,null,null,null,null,null,null,null,null,null,null,null,null,null,null,"Putting"]
[null,null,null,null,null,null,null,null,null,null,null,null,null,null,null,null,null,null,null,null,null,null,"Længde (m)","Antal","Holet","Holet (%)"]
[null,null,null,null,null,null,null,null,null,null,null,null,null,null,null,null,null,null,null,null,null,null,"under 1 m",{"$f":"COUNTIFS(S5:S23,\">=0,1\",S5:S23,\"<=0,9\")","v":0},{"$f":"IF(X39=0,\"\",COUNTIFS(P5:P23,\"=1\",S5:S23,\"<1\"))","v":""},{"$f":"IF(X39=0,\"\",Y39/X39*100)","v":""}]
[null,null,null,null,null,null,null,null,null,null,null,null,null,null,null,null,null,null,null,null,null,null,"1 - 1,5",{"$f":"COUNTIFS(S5:S23,\">=1\",S5:S23,\"<=1,5\")","v":0},{"$f":"IF(X40=0,\"\",COUNTIFS(P5:P23,\"=1\",S5:S23,\">=1\",S5:S23,\"<=1,5\"))","v":""},{"$f":"IF(X40=0,\"\",Y40/X40*100)","v":""}]
[null,null,null,null,null,null,null,null,null,null,null,null,null,null,null,null,null,null,null,null,null,null,"1,5 - 3",{"$f":"COUNTIFS(S5:S23,\">=1,6\",S5:S23,\"<=3\")","v":0},{"$f":"IF(X41=0,\"\",COUNTIFS(P5:P23,\"=1\",S5:S23,\">=1,6\",S5:S23,\"<=3\"))","v":""},{"$f":"IF(X41=0,\"\",Y41/X41*100)","v":""}]
[null,null,null,null,null,null,null,null,null,null,null,null,null,null,null,null,null,null,null,null,null,null,"3 - 4,5",{"$f":"COUNTIFS(S5:S23,\">=3,1\",S5:S23,\"<=4,5\")","v":0},{"$f":"IF(X42=0,\"\",COUNTIFS(P5:P23,\"=1\",S5:S23,\">=3,1\",S5:S23,\"<=4,5\"))","v":""},""]
[null,null,null,null,null,null,null,null,null,null,null,null,null,null,null,null,null,null,null,null,null,null,"4,5 - 6",{"$f":"COUNTIFS(S5:S23,\">=4,6\",S5:S23,\"<=6\")","v":0},{"$f":"IF(X43=0,\"\",COUNTIFS(P5:P23,\"=1\",S5:S23,\">=4,6\",S5:S23,\"<=6\"))","v":""},""]
[null,null,null,null,null,null,null,null,null,null,null,null,null,null,null,null,null,null,null,null,null,null,"over 6 meter",{"$f":"COUNTIFS(S5:S23,\">6\")","v":0},{"$f":"IF(X44=0,\"\",COUNTIFS(P5:P23,\"=1\",S5:S23,\">6\"))","v":""},""]

{"sheet":"Runde 12","index":14,"n_rows":44,"n_cols":29,"rows_kept":44,"cut":false,"hidden":false,"merged":[]}
["Korsør Golf Klub - 18 huller - Gul tee",null,null,null,null,null,null,null,null,{"$f":"IF(E25=\"0\",\"0\",\"1\")","v":"0"},null,"Dato:",null,null,"Handicap:",null,null,null,null,"Antal tildelte slag:"]
[]
[null,null,null,null,null,null,null,"Tee shot",null,null,"Fairway hits i %",null,null,"Bunker",null,null,null,"Approach shots"]
["Hul","Gul tee","Par","HCP","Score","Netto","Driver","Wood","Jern","Venstre","Midt","Højre","FB","GB","SS","Putts","GIR","Dist. to pin (m)","Dist. to hole (m)","% SS","% GIR","Putts/GIR","Eagles","Birdies","Bogeys","Værre","% Scramble","3+ Putts","% Driver/Fairwayhits"]
[1,307,4,11,null,null,null,null,null,null,null,null,null,null,null,null,null,null,null,null,null,{"$f":"IF(Q5=0,\"\",P5)","v":""},null,null,null,null,{"$f":"IF(AND(Q5=\"\",P5=1),1,\"\")","v":""},null,{"$f":"IF(AND(G5=\"\"),\"\",SUM(K5))","v":""}]
[2,323,4,5,null,null,null,null,null,null,null,null,null,null,null,null,null,null,null,null,null,"",null,null,null,null,"",null,""]
[3,138,3,15,null,null,null,null,null,null,null,null,null,null,null,null,null,null,null,null,null,"",null,null,null,null,"",null,""]
[4,310,4,13,null,null,null,null,null,null,null,null,null,null,null,null,null,null,null,null,null,"",null,null,null,null,"",null,""]
[5,431,5,3,null,null,null,null,null,null,null,null,null,null,null,null,null,null,null,null,null,"",null,null,null,null,"",null,""]
[6,312,4,9,null,null,null,null,null,null,null,null,null,null,null,null,null,null,null,null,null,"",null,null,null,null,"",null,""]
[7,498,5,1,null,null,null,null,null,null,null,null,null,null,null,null,null,null,null,null,null,"",null,null,null,null,"",null,""]
[8,138,3,17,null,null,null,null,null,null,null,null,null,null,null,null,null,null,null,null,null,"",null,null,null,null,"",null,""]
[9,310,4,7,null,null,null,null,null,null,null,null,null,null,null,null,null,null,null,null,null,"",null,null,null,null,"",null,""]
[null,{"$f":"SUM(B5:B13)","v":2767},{"$f":"SUM(C5:C13)","v":36},"UD",{"$f":"SUM(E5:E13)","v":0},{"$f":"SUM(F5:F13)","v":0},{"$f":"SUM(G5:G13)","v":0},{"$f":"SUM(H5:H13)","v":0},{"$f":"SUM(I5:I13)","v":0},{"$f":"IF((A28=27),\"\",(SUM(J5:J13)/SUM(J5:L13))*100)","v":""},{"$f":"IF((A28=27),\"\",(SUM(K5:K13)/SUM(J5:L13))*100)","v":""},{"$f":"IF((A28=27),\"\",(SUM(L5:L13)/SUM(J5:L13))*100)","v":""},{"$f":"SUM(M5:M13)","v":0},{"$f":"SUM(N5:N13)","v":0},{"$f":"SUM(O5:O13)","v":0},{"$f":"SUM(P5:P13)","v":0},{"$f":"SUM(Q5:Q13)","v":0},null,{"$f":"IF(Q14=0,\"\",SUM(S5:S13)/Q14)","v":""},null,null,{"$f":"SUM(V5:V13)","v":0},{"$f":"ColorFunction($E$30,$E$5:$E$13)","v":0},{"$f":"ColorFunction($E$31,$E$5:$E$13)","v":0},{"$f":"ColorFunction($E$32,$E$5:$E$13)","v":0},{"$f":"ColorFunction($E$33,$E$5:$E$13)","v":0},{"$f":"SUM(AA5:AA13)/(9-Q14)*100","v":0},{"$f":"COUNTIF(P5:P13,\">2\")","v":0},{"$f":"IF((G14=0),\"\",SUM(AC5:AC13)/G14*100)","v":""}]
[10,481,5,4,null,null,null,null,null,null,null,null,null,null,null,null,null,null,null,null,null,{"$f":"IF(Q15=0,\"\",P15)","v":""},null,null,null,null,{"$f":"IF(AND(Q15=\"\",P15=1),1,\"\")","v":""},null,{"$f":"IF(AND(G15=\"\"),\"\",SUM(K15))","v":""}]
[11,319,4,16,null,null,null,null,null,null,null,null,null,null,null,null,null,null,null,null,null,"",null,null,null,null,"",null,""]
[12,431,5,2,null,null,null,null,null,null,null,null,null,null,null,null,null,null,null,null,null,"",null,null,null,null,"",null,""]
[13,122,3,18,null,null,null,null,null,null,null,null,null,null,null,null,null,null,null,null,null,"",null,null,null,null,"",null,""]
[14,379,4,6,null,null,null,null,null,null,null,null,null,null,null,null,null,null,null,null,null,"",null,null,null,null,"",null,""]
[15,316,4,8,null,null,null,null,null,null,null,null,null,null,null,null,null,null,null,null,null,"",null,null,null,null,"",null,""]
[16,322,4,14,null,null,null,null,null,null,null,null,null,null,null,null,null,null,null,null,null,"",null,null,null,null,"",null,""]
[17,345,4,10,null,null,null,null,null,null,null,null,null,null,null,null,null,null,null,null,null,"",null,null,null,null,"",null,""]
[18,281,4,12,null,null,null,null,null,null,null,null,null,null,null,null,null,null,null,null,null,"",null,null,null,null,"",null,""]
[null,{"$f":"SUM(B15:B23)","v":2996},{"$f":"SUM(C15:C23)","v":37},"IND",{"$f":"SUM(E15:E23)","v":0},{"$f":"SUM(F15:F23)","v":0},{"$f":"SUM(G15:G23)","v":0},{"$f":"SUM(H15:H23)","v":0},{"$f":"SUM(I15:I23)","v":0},{"$f":"IF((A29=27),\"\",(SUM(J15:J23)/SUM(J15:L23))*100)","v":""},{"$f":"IF((A29=27),\"\",(SUM(K15:K23)/SUM(J15:L23))*100)","v":""},{"$f":"IF((A29=27),\"\",(SUM(L15:L23)/SUM(J15:L23))*100)","v":""},{"$f":"SUM(M15:M23)","v":0},{"$f":"SUM(N15:N23)","v":0},{"$f":"SUM(O15:O23)","v":0},{"$f":"SUM(P15:P23)","v":0},{"$f":"SUM(Q15:Q23)","v":0},null,{"$f":"IF(Q24=0,\"\",SUM(S15:S23)/Q24)","v":""},null,null,{"$f":"SUM(V15:V23)","v":0},{"$f":"ColorFunction($E$30,$E$15:$E$23)","v":0},{"$f":"ColorFunction($E$31,$E$15:$E$23)","v":0},{"$f":"ColorFunction($E$32,$E$15:$E$23)","v":0},{"$f":"ColorFunction($E$33,$E$15:$E$23)","v":0},{"$f":"SUM(AA15:AA23)/(9-Q24)*100","v":0},{"$f":"COUNTIF(P15:P23,\">2\")","v":0},{"$f":"IF((G24=0),\"\",SUM(AC15:AC23)/G24*100)","v":""}]
[null,{"$f":"SUM(B24,B14)","v":5763},{"$f":"SUM(C24,C14)","v":73},"TOTAL",{"$f":"IF(E14=0,\"0\",(E24+E14))","v":"0"},{"$f":"SUM(F14,F24)","v":0},{"$f":"SUM(G24,G14)","v":0},{"$f":"SUM(H24,H14)","v":0},{"$f":"SUM(I24,I14)","v":0},{"$f":"IF((A28=27),\"\",(SUM(J14,J24)/2))","v":""},{"$f":"IF((A28=27),\"\",(SUM(K14,K24)/2))","v":""},{"$f":"IF((A28=27),\"\",(SUM(L14,L24)/2))","v":""},{"$f":"SUM(M24,M14)","v":0},{"$f":"SUM(N24,N14)","v":0},{"$f":"SUM(O24,O14)","v":0},{"$f":"IF(P14+P24=0,\"\",SUM(P24,P14))","v":""},{"$f":"IF(Q14+Q24=0,\"\",SUM(Q24,Q14))","v":""},null,{"$f":"IF(Q25=\"\",\"\",SUM(S24,S14)/2)","v":""},{"$f":"IF(N25=0,\"\",(O25)/N25*100)","v":""},{"$f":"IF(Q25=\"\",\"\",(Q25)/18*100)","v":""},{"$f":"IF(Q25=\"\",\"\",(V14+V24)/Q25)","v":""},{"$f":"SUM(W14,W24)","v":0},{"$f":"SUM(X14,X24)","v":0},{"$f":"SUM(Y14,Y24)","v":0},{"$f":"SUM(Z14,Z24)","v":0},{"$f":"SUM(AA14,AA24)/2","v":0},{"$f":"SUM(AB14,AB24)","v":0},{"$f":"SUM(AC24,AC14)/2","v":0}]
[]
[null,null,null,null,"Udfyld alle grønne felter med 1 for positiv eller antal i tal"]
[{"$f":"COUNTBLANK(I5:K13)","v":27},null,null,null,null,null,null,null,null,null,null,null,null,null,null,null,null,null,null,null,null,null,"Approach"]
[{"$f":"COUNTBLANK(I15:K23)","v":27},null,null,null,"Udfyld følgende farver:",null,null,null,null,null,null,null,null,null,null,null,null,null,"Holes to par",null,null,null,"Længde (m)","Antal","Afstand (m)"]
[{"$f":"SUM(L5:L23)","v":0},null,null,null,"Eagles",null,null,null,null,null,null,null,null,null,null,null,null,null,"Par 3",{"$f":"SUMIF(C:C,\"3\",E:E)/COUNTIF(C:C,3)","v":0},null,null,"45-70",{"$f":"COUNTIFS(R5:R23,\">=45\",R5:R23,\"<=70\")","v":0},{"$f":"IF(X30=0,\"\",AVERAGEIFS(S5:S23,R5:R23,\">=45\",R5:R23,\"<=70\"))","v":""}]
[null,null,null,null,"Birdies",null,null,null,null,null,null,null,null,null,null,null,null,null,"Par 4",{"$f":"SUMIF(C:C,\"4\",E:E)/COUNTIF(C:C,4)","v":0},null,null,"71-90",{"$f":"COUNTIFS(R5:R23,\">=71\",R5:R23,\"<=90\")","v":0},{"$f":"IF(X31=0,\"\",AVERAGEIFS(S5:S23,R5:R23,\">=71\",R5:R23,\"<=90\"))","v":""}]
[null,null,null,null,"Bogeys",null,null,null,null,null,null,null,null,null,null,null,null,null,"Par 5",{"$f":"SUMIF(C:C,\"5\",E:E)/COUNTIF(C:C,5)","v":0},null,null,"91-115",{"$f":"COUNTIFS(R5:R23,\">=91\",R5:R23,\"<=115\")","v":0},{"$f":"IF(X32=0,\"\",AVERAGEIFS(S5:S23,R5:R23,\">=91\",R5:R23,\"<=115\"))","v":""}]
[null,null,null,null,"Doublebogeys eller værre",null,null,null,null,null,null,null,null,null,null,null,null,null,null,null,null,null,"116-140",{"$f":"COUNTIFS(R5:R23,\">=116\",R5:R23,\"<=140\")","v":0},{"$f":"IF(X33=0,\"\",AVERAGEIFS(S5:S23,R5:R23,\">=116\",R5:R23,\"<=140\"))","v":""}]
[null,null,null,null,null,null,null,null,null,null,null,null,null,null,null,null,null,null,"First 4",{"$f":"IF(E25=\"0\",\"\",SUM(E5:E8)-SUM(C5:C8))","v":""},null,null,"141-160",{"$f":"COUNTIFS(R5:R23,\">=141\",R5:R23,\"<=161\")","v":0},{"$f":"IF(X34=0,\"\",AVERAGEIFS(S5:S23,R5:R23,\">=141\",R5:R23,\"<=160\"))","v":""}]
[null,null,null,null,null,null,null,null,null,null,null,null,null,null,null,null,null,null,"Last 4",{"$f":"IF(E25=\"0\",\"\",SUM(E20:E23)-SUM(C20:C23))","v":""},null,null,"161-180",{"$f":"COUNTIFS(R5:R23,\">=161\",R5:R23,\"<=180\")","v":0},{"$f":"IF(X35=0,\"\",AVERAGEIFS(S5:S23,R5:R23,\">=161\",R5:R23,\"<=180\"))","v":""}]
[]
[null,null,null,null,null,null,null,null,null,null,null,null,null,null,null,null,null,null,null,null,null,null,"Putting"]
[null,null,null,null,null,null,null,null,null,null,null,null,null,null,null,null,null,null,null,null,null,null,"Længde (m)","Antal","Holet","Holet (%)"]
[null,null,null,null,null,null,null,null,null,null,null,null,null,null,null,null,null,null,null,null,null,null,"under 1 m",{"$f":"COUNTIFS(S5:S23,\">=0,1\",S5:S23,\"<=0,9\")","v":0},{"$f":"IF(X39=0,\"\",COUNTIFS(P5:P23,\"=1\",S5:S23,\"<1\"))","v":""},{"$f":"IF(X39=0,\"\",Y39/X39*100)","v":""}]
[null,null,null,null,null,null,null,null,null,null,null,null,null,null,null,null,null,null,null,null,null,null,"1 - 1,5",{"$f":"COUNTIFS(S5:S23,\">=1\",S5:S23,\"<=1,5\")","v":0},{"$f":"IF(X40=0,\"\",COUNTIFS(P5:P23,\"=1\",S5:S23,\">=1\",S5:S23,\"<=1,5\"))","v":""},{"$f":"IF(X40=0,\"\",Y40/X40*100)","v":""}]
[null,null,null,null,null,null,null,null,null,null,null,null,null,null,null,null,null,null,null,null,null,null,"1,5 - 3",{"$f":"COUNTIFS(S5:S23,\">=1,6\",S5:S23,\"<=3\")","v":0},{"$f":"IF(X41=0,\"\",COUNTIFS(P5:P23,\"=1\",S5:S23,\">=1,6\",S5:S23,\"<=3\"))","v":""},{"$f":"IF(X41=0,\"\",Y41/X41*100)","v":""}]
[null,null,null,null,null,null,null,null,null,null,null,null,null,null,null,null,null,null,null,null,null,null,"3 - 4,5",{"$f":"COUNTIFS(S5:S23,\">=3,1\",S5:S23,\"<=4,5\")","v":0},{"$f":"IF(X42=0,\"\",COUNTIFS(P5:P23,\"=1\",S5:S23,\">=3,1\",S5:S23,\"<=4,5\"))","v":""},""]
[null,null,null,null,null,null,null,null,null,null,null,null,null,null,null,null,null,null,null,null,null,null,"4,5 - 6",{"$f":"COUNTIFS(S5:S23,\">=4,6\",S5:S23,\"<=6\")","v":0},{"$f":"IF(X43=0,\"\",COUNTIFS(P5:P23,\"=1\",S5:S23,\">=4,6\",S5:S23,\"<=6\"))","v":""},""]
[null,null,null,null,null,null,null,null,null,null,null,null,null,null,null,null,null,null,null,null,null,null,"over 6 meter",{"$f":"COUNTIFS(S5:S23,\">6\")","v":0},{"$f":"IF(X44=0,\"\",COUNTIFS(P5:P23,\"=1\",S5:S23,\">6\"))","v":""},""]

{"sheet":"Runde 13","index":15,"n_rows":44,"n_cols":29,"rows_kept":44,"cut":false,"hidden":false,"merged":[]}
["Korsør Golf Klub - 18 huller - Gul tee",null,null,null,null,null,null,null,null,{"$f":"IF(E25=\"0\",\"0\",\"1\")","v":"0"},null,"Dato:",null,null,"Handicap:",null,null,null,null,"Antal tildelte slag:"]
[]
[null,null,null,null,null,null,null,"Tee shot",null,null,"Fairway hits i %",null,null,"Bunker",null,null,null,"Approach shots"]
["Hul","Gul tee","Par","HCP","Score","Netto","Driver","Wood","Jern","Venstre","Midt","Højre","FB","GB","SS","Putts","GIR","Dist. to pin (m)","Dist. to hole (m)","% SS","% GIR","Putts/GIR","Eagles","Birdies","Bogeys","Værre","% Scramble","3+ Putts","% Driver/Fairwayhits"]
[1,307,4,11,null,null,null,null,null,null,null,null,null,null,null,null,null,null,null,null,null,{"$f":"IF(Q5=0,\"\",P5)","v":""},null,null,null,null,{"$f":"IF(AND(Q5=\"\",P5=1),1,\"\")","v":""},null,{"$f":"IF(AND(G5=\"\"),\"\",SUM(K5))","v":""}]
[2,323,4,5,null,null,null,null,null,null,null,null,null,null,null,null,null,null,null,null,null,"",null,null,null,null,"",null,""]
[3,138,3,15,null,null,null,null,null,null,null,null,null,null,null,null,null,null,null,null,null,"",null,null,null,null,"",null,""]
[4,310,4,13,null,null,null,null,null,null,null,null,null,null,null,null,null,null,null,null,null,"",null,null,null,null,"",null,""]
[5,431,5,3,null,null,null,null,null,null,null,null,null,null,null,null,null,null,null,null,null,"",null,null,null,null,"",null,""]
[6,312,4,9,null,null,null,null,null,null,null,null,null,null,null,null,null,null,null,null,null,"",null,null,null,null,"",null,""]
[7,498,5,1,null,null,null,null,null,null,null,null,null,null,null,null,null,null,null,null,null,"",null,null,null,null,"",null,""]
[8,138,3,17,null,null,null,null,null,null,null,null,null,null,null,null,null,null,null,null,null,"",null,null,null,null,"",null,""]
[9,310,4,7,null,null,null,null,null,null,null,null,null,null,null,null,null,null,null,null,null,"",null,null,null,null,"",null,""]
[null,{"$f":"SUM(B5:B13)","v":2767},{"$f":"SUM(C5:C13)","v":36},"UD",{"$f":"SUM(E5:E13)","v":0},{"$f":"SUM(F5:F13)","v":0},{"$f":"SUM(G5:G13)","v":0},{"$f":"SUM(H5:H13)","v":0},{"$f":"SUM(I5:I13)","v":0},{"$f":"IF((A28=27),\"\",(SUM(J5:J13)/SUM(J5:L13))*100)","v":""},{"$f":"IF((A28=27),\"\",(SUM(K5:K13)/SUM(J5:L13))*100)","v":""},{"$f":"IF((A28=27),\"\",(SUM(L5:L13)/SUM(J5:L13))*100)","v":""},{"$f":"SUM(M5:M13)","v":0},{"$f":"SUM(N5:N13)","v":0},{"$f":"SUM(O5:O13)","v":0},{"$f":"SUM(P5:P13)","v":0},{"$f":"SUM(Q5:Q13)","v":0},null,{"$f":"IF(Q14=0,\"\",SUM(S5:S13)/Q14)","v":""},null,null,{"$f":"SUM(V5:V13)","v":0},{"$f":"ColorFunction($E$30,$E$5:$E$13)","v":0},{"$f":"ColorFunction($E$31,$E$5:$E$13)","v":0},{"$f":"ColorFunction($E$32,$E$5:$E$13)","v":0},{"$f":"ColorFunction($E$33,$E$5:$E$13)","v":0},{"$f":"SUM(AA5:AA13)/(9-Q14)*100","v":0},{"$f":"COUNTIF(P5:P13,\">2\")","v":0},{"$f":"IF((G14=0),\"\",SUM(AC5:AC13)/G14*100)","v":""}]
[10,481,5,4,null,null,null,null,null,null,null,null,null,null,null,null,null,null,null,null,null,{"$f":"IF(Q15=0,\"\",P15)","v":""},null,null,null,null,{"$f":"IF(AND(Q15=\"\",P15=1),1,\"\")","v":""},null,{"$f":"IF(AND(G15=\"\"),\"\",SUM(K15))","v":""}]
[11,319,4,16,null,null,null,null,null,null,null,null,null,null,null,null,null,null,null,null,null,"",null,null,null,null,"",null,""]
[12,431,5,2,null,null,null,null,null,null,null,null,null,null,null,null,null,null,null,null,null,"",null,null,null,null,"",null,""]
[13,122,3,18,null,null,null,null,null,null,null,null,null,null,null,null,null,null,null,null,null,"",null,null,null,null,"",null,""]
[14,379,4,6,null,null,null,null,null,null,null,null,null,null,null,null,null,null,null,null,null,"",null,null,null,null,"",null,""]
[15,316,4,8,null,null,null,null,null,null,null,null,null,null,null,null,null,null,null,null,null,"",null,null,null,null,"",null,""]
[16,322,4,14,null,null,null,null,null,null,null,null,null,null,null,null,null,null,null,null,null,"",null,null,null,null,"",null,""]
[17,345,4,10,null,null,null,null,null,null,null,null,null,null,null,null,null,null,null,null,null,"",null,null,null,null,"",null,""]
[18,281,4,12,null,null,null,null,null,null,null,null,null,null,null,null,null,null,null,null,null,"",null,null,null,null,"",null,""]
[null,{"$f":"SUM(B15:B23)","v":2996},{"$f":"SUM(C15:C23)","v":37},"IND",{"$f":"SUM(E15:E23)","v":0},{"$f":"SUM(F15:F23)","v":0},{"$f":"SUM(G15:G23)","v":0},{"$f":"SUM(H15:H23)","v":0},{"$f":"SUM(I15:I23)","v":0},{"$f":"IF((A29=27),\"\",(SUM(J15:J23)/SUM(J15:L23))*100)","v":""},{"$f":"IF((A29=27),\"\",(SUM(K15:K23)/SUM(J15:L23))*100)","v":""},{"$f":"IF((A29=27),\"\",(SUM(L15:L23)/SUM(J15:L23))*100)","v":""},{"$f":"SUM(M15:M23)","v":0},{"$f":"SUM(N15:N23)","v":0},{"$f":"SUM(O15:O23)","v":0},{"$f":"SUM(P15:P23)","v":0},{"$f":"SUM(Q15:Q23)","v":0},null,{"$f":"IF(Q24=0,\"\",SUM(S15:S23)/Q24)","v":""},null,null,{"$f":"SUM(V15:V23)","v":0},{"$f":"ColorFunction($E$30,$E$15:$E$23)","v":0},{"$f":"ColorFunction($E$31,$E$15:$E$23)","v":0},{"$f":"ColorFunction($E$32,$E$15:$E$23)","v":0},{"$f":"ColorFunction($E$33,$E$15:$E$23)","v":0},{"$f":"SUM(AA15:AA23)/(9-Q24)*100","v":0},{"$f":"COUNTIF(P15:P23,\">2\")","v":0},{"$f":"IF((G24=0),\"\",SUM(AC15:AC23)/G24*100)","v":""}]
[null,{"$f":"SUM(B24,B14)","v":5763},{"$f":"SUM(C24,C14)","v":73},"TOTAL",{"$f":"IF(E14=0,\"0\",(E24+E14))","v":"0"},{"$f":"SUM(F14,F24)","v":0},{"$f":"SUM(G24,G14)","v":0},{"$f":"SUM(H24,H14)","v":0},{"$f":"SUM(I24,I14)","v":0},{"$f":"IF((A28=27),\"\",(SUM(J14,J24)/2))","v":""},{"$f":"IF((A28=27),\"\",(SUM(K14,K24)/2))","v":""},{"$f":"IF((A28=27),\"\",(SUM(L14,L24)/2))","v":""},{"$f":"SUM(M24,M14)","v":0},{"$f":"SUM(N24,N14)","v":0},{"$f":"SUM(O24,O14)","v":0},{"$f":"IF(P14+P24=0,\"\",SUM(P24,P14))","v":""},{"$f":"IF(Q14+Q24=0,\"\",SUM(Q24,Q14))","v":""},null,{"$f":"IF(Q25=\"\",\"\",SUM(S24,S14)/2)","v":""},{"$f":"IF(N25=0,\"\",(O25)/N25*100)","v":""},{"$f":"IF(Q25=\"\",\"\",(Q25)/18*100)","v":""},{"$f":"IF(Q25=\"\",\"\",(V14+V24)/Q25)","v":""},{"$f":"SUM(W14,W24)","v":0},{"$f":"SUM(X14,X24)","v":0},{"$f":"SUM(Y14,Y24)","v":0},{"$f":"SUM(Z14,Z24)","v":0},{"$f":"SUM(AA14,AA24)/2","v":0},{"$f":"SUM(AB14,AB24)","v":0},{"$f":"SUM(AC24,AC14)/2","v":0}]
[]
[null,null,null,null,"Udfyld alle grønne felter med 1 for positiv eller antal i tal"]
[{"$f":"COUNTBLANK(I5:K13)","v":27},null,null,null,null,null,null,null,null,null,null,null,null,null,null,null,null,null,null,null,null,null,"Approach"]
[{"$f":"COUNTBLANK(I15:K23)","v":27},null,null,null,"Udfyld følgende farver:",null,null,null,null,null,null,null,null,null,null,null,null,null,"Holes to par",null,null,null,"Længde (m)","Antal","Afstand (m)"]
[{"$f":"SUM(L5:L23)","v":0},null,null,null,"Eagles",null,null,null,null,null,null,null,null,null,null,null,null,null,"Par 3",{"$f":"SUMIF(C:C,\"3\",E:E)/COUNTIF(C:C,3)","v":0},null,null,"45-70",{"$f":"COUNTIFS(R5:R23,\">=45\",R5:R23,\"<=70\")","v":0},{"$f":"IF(X30=0,\"\",AVERAGEIFS(S5:S23,R5:R23,\">=45\",R5:R23,\"<=70\"))","v":""}]
[null,null,null,null,"Birdies",null,null,null,null,null,null,null,null,null,null,null,null,null,"Par 4",{"$f":"SUMIF(C:C,\"4\",E:E)/COUNTIF(C:C,4)","v":0},null,null,"71-90",{"$f":"COUNTIFS(R5:R23,\">=71\",R5:R23,\"<=90\")","v":0},{"$f":"IF(X31=0,\"\",AVERAGEIFS(S5:S23,R5:R23,\">=71\",R5:R23,\"<=90\"))","v":""}]
[null,null,null,null,"Bogeys",null,null,null,null,null,null,null,null,null,null,null,null,null,"Par 5",{"$f":"SUMIF(C:C,\"5\",E:E)/COUNTIF(C:C,5)","v":0},null,null,"91-115",{"$f":"COUNTIFS(R5:R23,\">=91\",R5:R23,\"<=115\")","v":0},{"$f":"IF(X32=0,\"\",AVERAGEIFS(S5:S23,R5:R23,\">=91\",R5:R23,\"<=115\"))","v":""}]
[null,null,null,null,"Doublebogeys eller værre",null,null,null,null,null,null,null,null,null,null,null,null,null,null,null,null,null,"116-140",{"$f":"COUNTIFS(R5:R23,\">=116\",R5:R23,\"<=140\")","v":0},{"$f":"IF(X33=0,\"\",AVERAGEIFS(S5:S23,R5:R23,\">=116\",R5:R23,\"<=140\"))","v":""}]
[null,null,null,null,null,null,null,null,null,null,null,null,null,null,null,null,null,null,"First 4",{"$f":"IF(E25=\"0\",\"\",SUM(E5:E8)-SUM(C5:C8))","v":""},null,null,"141-160",{"$f":"COUNTIFS(R5:R23,\">=141\",R5:R23,\"<=161\")","v":0},{"$f":"IF(X34=0,\"\",AVERAGEIFS(S5:S23,R5:R23,\">=141\",R5:R23,\"<=160\"))","v":""}]
[null,null,null,null,null,null,null,null,null,null,null,null,null,null,null,null,null,null,"Last 4",{"$f":"IF(E25=\"0\",\"\",SUM(E20:E23)-SUM(C20:C23))","v":""},null,null,"161-180",{"$f":"COUNTIFS(R5:R23,\">=161\",R5:R23,\"<=180\")","v":0},{"$f":"IF(X35=0,\"\",AVERAGEIFS(S5:S23,R5:R23,\">=161\",R5:R23,\"<=180\"))","v":""}]
[]
[null,null,null,null,null,null,null,null,null,null,null,null,null,null,null,null,null,null,null,null,null,null,"Putting"]
[null,null,null,null,null,null,null,null,null,null,null,null,null,null,null,null,null,null,null,null,null,null,"Længde (m)","Antal","Holet","Holet (%)"]
[null,null,null,null,null,null,null,null,null,null,null,null,null,null,null,null,null,null,null,null,null,null,"under 1 m",{"$f":"COUNTIFS(S5:S23,\">=0,1\",S5:S23,\"<=0,9\")","v":0},{"$f":"IF(X39=0,\"\",COUNTIFS(P5:P23,\"=1\",S5:S23,\"<1\"))","v":""},{"$f":"IF(X39=0,\"\",Y39/X39*100)","v":""}]
[null,null,null,null,null,null,null,null,null,null,null,null,null,null,null,null,null,null,null,null,null,null,"1 - 1,5",{"$f":"COUNTIFS(S5:S23,\">=1\",S5:S23,\"<=1,5\")","v":0},{"$f":"IF(X40=0,\"\",COUNTIFS(P5:P23,\"=1\",S5:S23,\">=1\",S5:S23,\"<=1,5\"))","v":""},{"$f":"IF(X40=0,\"\",Y40/X40*100)","v":""}]
[null,null,null,null,null,null,null,null,null,null,null,null,null,null,null,null,null,null,null,null,null,null,"1,5 - 3",{"$f":"COUNTIFS(S5:S23,\">=1,6\",S5:S23,\"<=3\")","v":0},{"$f":"IF(X41=0,\"\",COUNTIFS(P5:P23,\"=1\",S5:S23,\">=1,6\",S5:S23,\"<=3\"))","v":""},{"$f":"IF(X41=0,\"\",Y41/X41*100)","v":""}]
[null,null,null,null,null,null,null,null,null,null,null,null,null,null,null,null,null,null,null,null,null,null,"3 - 4,5",{"$f":"COUNTIFS(S5:S23,\">=3,1\",S5:S23,\"<=4,5\")","v":0},{"$f":"IF(X42=0,\"\",COUNTIFS(P5:P23,\"=1\",S5:S23,\">=3,1\",S5:S23,\"<=4,5\"))","v":""},""]
[null,null,null,null,null,null,null,null,null,null,null,null,null,null,null,null,null,null,null,null,null,null,"4,5 - 6",{"$f":"COUNTIFS(S5:S23,\">=4,6\",S5:S23,\"<=6\")","v":0},{"$f":"IF(X43=0,\"\",COUNTIFS(P5:P23,\"=1\",S5:S23,\">=4,6\",S5:S23,\"<=6\"))","v":""},""]
[null,null,null,null,null,null,null,null,null,null,null,null,null,null,null,null,null,null,null,null,null,null,"over 6 meter",{"$f":"COUNTIFS(S5:S23,\">6\")","v":0},{"$f":"IF(X44=0,\"\",COUNTIFS(P5:P23,\"=1\",S5:S23,\">6\"))","v":""},""]

{"sheet":"Runde 14","index":16,"n_rows":44,"n_cols":29,"rows_kept":44,"cut":false,"hidden":false,"merged":[]}
["Korsør Golf Klub - 18 huller - Gul tee",null,null,null,null,null,null,null,null,{"$f":"IF(E25=\"0\",\"0\",\"1\")","v":"0"},null,"Dato:",null,null,"Handicap:",null,null,null,null,"Antal tildelte slag:"]
[]
[null,null,null,null,null,null,null,"Tee shot",null,null,"Fairway hits i %",null,null,"Bunker",null,null,null,"Approach shots"]
["Hul","Gul tee","Par","HCP","Score","Netto","Driver","Wood","Jern","Venstre","Midt","Højre","FB","GB","SS","Putts","GIR","Dist. to pin (m)","Dist. to hole (m)","% SS","% GIR","Putts/GIR","Eagles","Birdies","Bogeys","Værre","% Scramble","3+ Putts","% Driver/Fairwayhits"]
[1,307,4,11,null,null,null,null,null,null,null,null,null,null,null,null,null,null,null,null,null,{"$f":"IF(Q5=0,\"\",P5)","v":""},null,null,null,null,{"$f":"IF(AND(Q5=\"\",P5=1),1,\"\")","v":""},null,{"$f":"IF(AND(G5=\"\"),\"\",SUM(K5))","v":""}]
[2,323,4,5,null,null,null,null,null,null,null,null,null,null,null,null,null,null,null,null,null,"",null,null,null,null,"",null,""]
[3,138,3,15,null,null,null,null,null,null,null,null,null,null,null,null,null,null,null,null,null,"",null,null,null,null,"",null,""]
[4,310,4,13,null,null,null,null,null,null,null,null,null,null,null,null,null,null,null,null,null,"",null,null,null,null,"",null,""]
[5,431,5,3,null,null,null,null,null,null,null,null,null,null,null,null,null,null,null,null,null,"",null,null,null,null,"",null,""]
[6,312,4,9,null,null,null,null,null,null,null,null,null,null,null,null,null,null,null,null,null,"",null,null,null,null,"",null,""]
[7,498,5,1,null,null,null,null,null,null,null,null,null,null,null,null,null,null,null,null,null,"",null,null,null,null,"",null,""]
[8,138,3,17,null,null,null,null,null,null,null,null,null,null,null,null,null,null,null,null,null,"",null,null,null,null,"",null,""]
[9,310,4,7,null,null,null,null,null,null,null,null,null,null,null,null,null,null,null,null,null,"",null,null,null,null,"",null,""]
[null,{"$f":"SUM(B5:B13)","v":2767},{"$f":"SUM(C5:C13)","v":36},"UD",{"$f":"SUM(E5:E13)","v":0},{"$f":"SUM(F5:F13)","v":0},{"$f":"SUM(G5:G13)","v":0},{"$f":"SUM(H5:H13)","v":0},{"$f":"SUM(I5:I13)","v":0},{"$f":"IF((A28=27),\"\",(SUM(J5:J13)/SUM(J5:L13))*100)","v":""},{"$f":"IF((A28=27),\"\",(SUM(K5:K13)/SUM(J5:L13))*100)","v":""},{"$f":"IF((A28=27),\"\",(SUM(L5:L13)/SUM(J5:L13))*100)","v":""},{"$f":"SUM(M5:M13)","v":0},{"$f":"SUM(N5:N13)","v":0},{"$f":"SUM(O5:O13)","v":0},{"$f":"SUM(P5:P13)","v":0},{"$f":"SUM(Q5:Q13)","v":0},null,{"$f":"IF(Q14=0,\"\",SUM(S5:S13)/Q14)","v":""},null,null,{"$f":"SUM(V5:V13)","v":0},{"$f":"ColorFunction($E$30,$E$5:$E$13)","v":0},{"$f":"ColorFunction($E$31,$E$5:$E$13)","v":0},{"$f":"ColorFunction($E$32,$E$5:$E$13)","v":0},{"$f":"ColorFunction($E$33,$E$5:$E$13)","v":0},{"$f":"SUM(AA5:AA13)/(9-Q14)*100","v":0},{"$f":"COUNTIF(P5:P13,\">2\")","v":0},{"$f":"IF((G14=0),\"\",SUM(AC5:AC13)/G14*100)","v":""}]
[10,481,5,4,null,null,null,null,null,null,null,null,null,null,null,null,null,null,null,null,null,{"$f":"IF(Q15=0,\"\",P15)","v":""},null,null,null,null,{"$f":"IF(AND(Q15=\"\",P15=1),1,\"\")","v":""},null,{"$f":"IF(AND(G15=\"\"),\"\",SUM(K15))","v":""}]
[11,319,4,16,null,null,null,null,null,null,null,null,null,null,null,null,null,null,null,null,null,"",null,null,null,null,"",null,""]
[12,431,5,2,null,null,null,null,null,null,null,null,null,null,null,null,null,null,null,null,null,"",null,null,null,null,"",null,""]
[13,122,3,18,null,null,null,null,null,null,null,null,null,null,null,null,null,null,null,null,null,"",null,null,null,null,"",null,""]
[14,379,4,6,null,null,null,null,null,null,null,null,null,null,null,null,null,null,null,null,null,"",null,null,null,null,"",null,""]
[15,316,4,8,null,null,null,null,null,null,null,null,null,null,null,null,null,null,null,null,null,"",null,null,null,null,"",null,""]
[16,322,4,14,null,null,null,null,null,null,null,null,null,null,null,null,null,null,null,null,null,"",null,null,null,null,"",null,""]
[17,345,4,10,null,null,null,null,null,null,null,null,null,null,null,null,null,null,null,null,null,"",null,null,null,null,"",null,""]
[18,281,4,12,null,null,null,null,null,null,null,null,null,null,null,null,null,null,null,null,null,"",null,null,null,null,"",null,""]
[null,{"$f":"SUM(B15:B23)","v":2996},{"$f":"SUM(C15:C23)","v":37},"IND",{"$f":"SUM(E15:E23)","v":0},{"$f":"SUM(F15:F23)","v":0},{"$f":"SUM(G15:G23)","v":0},{"$f":"SUM(H15:H23)","v":0},{"$f":"SUM(I15:I23)","v":0},{"$f":"IF((A29=27),\"\",(SUM(J15:J23)/SUM(J15:L23))*100)","v":""},{"$f":"IF((A29=27),\"\",(SUM(K15:K23)/SUM(J15:L23))*100)","v":""},{"$f":"IF((A29=27),\"\",(SUM(L15:L23)/SUM(J15:L23))*100)","v":""},{"$f":"SUM(M15:M23)","v":0},{"$f":"SUM(N15:N23)","v":0},{"$f":"SUM(O15:O23)","v":0},{"$f":"SUM(P15:P23)","v":0},{"$f":"SUM(Q15:Q23)","v":0},null,{"$f":"IF(Q24=0,\"\",SUM(S15:S23)/Q24)","v":""},null,null,{"$f":"SUM(V15:V23)","v":0},{"$f":"ColorFunction($E$30,$E$15:$E$23)","v":0},{"$f":"ColorFunction($E$31,$E$15:$E$23)","v":0},{"$f":"ColorFunction($E$32,$E$15:$E$23)","v":0},{"$f":"ColorFunction($E$33,$E$15:$E$23)","v":0},{"$f":"SUM(AA15:AA23)/(9-Q24)*100","v":0},{"$f":"COUNTIF(P15:P23,\">2\")","v":0},{"$f":"IF((G24=0),\"\",SUM(AC15:AC23)/G24*100)","v":""}]
[null,{"$f":"SUM(B24,B14)","v":5763},{"$f":"SUM(C24,C14)","v":73},"TOTAL",{"$f":"IF(E14=0,\"0\",(E24+E14))","v":"0"},{"$f":"SUM(F14,F24)","v":0},{"$f":"SUM(G24,G14)","v":0},{"$f":"SUM(H24,H14)","v":0},{"$f":"SUM(I24,I14)","v":0},{"$f":"IF((A28=27),\"\",(SUM(J14,J24)/2))","v":""},{"$f":"IF((A28=27),\"\",(SUM(K14,K24)/2))","v":""},{"$f":"IF((A28=27),\"\",(SUM(L14,L24)/2))","v":""},{"$f":"SUM(M24,M14)","v":0},{"$f":"SUM(N24,N14)","v":0},{"$f":"SUM(O24,O14)","v":0},{"$f":"IF(P14+P24=0,\"\",SUM(P24,P14))","v":""},{"$f":"IF(Q14+Q24=0,\"\",SUM(Q24,Q14))","v":""},null,{"$f":"IF(Q25=\"\",\"\",SUM(S24,S14)/2)","v":""},{"$f":"IF(N25=0,\"\",(O25)/N25*100)","v":""},{"$f":"IF(Q25=\"\",\"\",(Q25)/18*100)","v":""},{"$f":"IF(Q25=\"\",\"\",(V14+V24)/Q25)","v":""},{"$f":"SUM(W14,W24)","v":0},{"$f":"SUM(X14,X24)","v":0},{"$f":"SUM(Y14,Y24)","v":0},{"$f":"SUM(Z14,Z24)","v":0},{"$f":"SUM(AA14,AA24)/2","v":0},{"$f":"SUM(AB14,AB24)","v":0},{"$f":"SUM(AC24,AC14)/2","v":0}]
[]
[null,null,null,null,"Udfyld alle grønne felter med 1 for positiv eller antal i tal"]
[{"$f":"COUNTBLANK(I5:K13)","v":27},null,null,null,null,null,null,null,null,null,null,null,null,null,null,null,null,null,null,null,null,null,"Approach"]
[{"$f":"COUNTBLANK(I15:K23)","v":27},null,null,null,"Udfyld følgende farver:",null,null,null,null,null,null,null,null,null,null,null,null,null,"Holes to par",null,null,null,"Længde (m)","Antal","Afstand (m)"]
[{"$f":"SUM(L5:L23)","v":0},null,null,null,"Eagles",null,null,null,null,null,null,null,null,null,null,null,null,null,"Par 3",{"$f":"SUMIF(C:C,\"3\",E:E)/COUNTIF(C:C,3)","v":0},null,null,"45-70",{"$f":"COUNTIFS(R5:R23,\">=45\",R5:R23,\"<=70\")","v":0},{"$f":"IF(X30=0,\"\",AVERAGEIFS(S5:S23,R5:R23,\">=45\",R5:R23,\"<=70\"))","v":""}]
[null,null,null,null,"Birdies",null,null,null,null,null,null,null,null,null,null,null,null,null,"Par 4",{"$f":"SUMIF(C:C,\"4\",E:E)/COUNTIF(C:C,4)","v":0},null,null,"71-90",{"$f":"COUNTIFS(R5:R23,\">=71\",R5:R23,\"<=90\")","v":0},{"$f":"IF(X31=0,\"\",AVERAGEIFS(S5:S23,R5:R23,\">=71\",R5:R23,\"<=90\"))","v":""}]
[null,null,null,null,"Bogeys",null,null,null,null,null,null,null,null,null,null,null,null,null,"Par 5",{"$f":"SUMIF(C:C,\"5\",E:E)/COUNTIF(C:C,5)","v":0},null,null,"91-115",{"$f":"COUNTIFS(R5:R23,\">=91\",R5:R23,\"<=115\")","v":0},{"$f":"IF(X32=0,\"\",AVERAGEIFS(S5:S23,R5:R23,\">=91\",R5:R23,\"<=115\"))","v":""}]
[null,null,null,null,"Doublebogeys eller værre",null,null,null,null,null,null,null,null,null,null,null,null,null,null,null,null,null,"116-140",{"$f":"COUNTIFS(R5:R23,\">=116\",R5:R23,\"<=140\")","v":0},{"$f":"IF(X33=0,\"\",AVERAGEIFS(S5:S23,R5:R23,\">=116\",R5:R23,\"<=140\"))","v":""}]
[null,null,null,null,null,null,null,null,null,null,null,null,null,null,null,null,null,null,"First 4",{"$f":"IF(E25=\"0\",\"\",SUM(E5:E8)-SUM(C5:C8))","v":""},null,null,"141-160",{"$f":"COUNTIFS(R5:R23,\">=141\",R5:R23,\"<=161\")","v":0},{"$f":"IF(X34=0,\"\",AVERAGEIFS(S5:S23,R5:R23,\">=141\",R5:R23,\"<=160\"))","v":""}]
[null,null,null,null,null,null,null,null,null,null,null,null,null,null,null,null,null,null,"Last 4",{"$f":"IF(E25=\"0\",\"\",SUM(E20:E23)-SUM(C20:C23))","v":""},null,null,"161-180",{"$f":"COUNTIFS(R5:R23,\">=161\",R5:R23,\"<=180\")","v":0},{"$f":"IF(X35=0,\"\",AVERAGEIFS(S5:S23,R5:R23,\">=161\",R5:R23,\"<=180\"))","v":""}]
[]
[null,null,null,null,null,null,null,null,null,null,null,null,null,null,null,null,null,null,null,null,null,null,"Putting"]
[null,null,null,null,null,null,null,null,null,null,null,null,null,null,null,null,null,null,null,null,null,null,"Længde (m)","Antal","Holet","Holet (%)"]
[null,null,null,null,null,null,null,null,null,null,null,null,null,null,null,null,null,null,null,null,null,null,"under 1 m",{"$f":"COUNTIFS(S5:S23,\">=0,1\",S5:S23,\"<=0,9\")","v":0},{"$f":"IF(X39=0,\"\",COUNTIFS(P5:P23,\"=1\",S5:S23,\"<1\"))","v":""},{"$f":"IF(X39=0,\"\",Y39/X39*100)","v":""}]
[null,null,null,null,null,null,null,null,null,null,null,null,null,null,null,null,null,null,null,null,null,null,"1 - 1,5",{"$f":"COUNTIFS(S5:S23,\">=1\",S5:S23,\"<=1,5\")","v":0},{"$f":"IF(X40=0,\"\",COUNTIFS(P5:P23,\"=1\",S5:S23,\">=1\",S5:S23,\"<=1,5\"))","v":""},{"$f":"IF(X40=0,\"\",Y40/X40*100)","v":""}]
[null,null,null,null,null,null,null,null,null,null,null,null,null,null,null,null,null,null,null,null,null,null,"1,5 - 3",{"$f":"COUNTIFS(S5:S23,\">=1,6\",S5:S23,\"<=3\")","v":0},{"$f":"IF(X41=0,\"\",COUNTIFS(P5:P23,\"=1\",S5:S23,\">=1,6\",S5:S23,\"<=3\"))","v":""},{"$f":"IF(X41=0,\"\",Y41/X41*100)","v":""}]
[null,null,null,null,null,null,null,null,null,null,null,null,null,null,null,null,null,null,null,null,null,null,"3 - 4,5",{"$f":"COUNTIFS(S5:S23,\">=3,1\",S5:S23,\"<=4,5\")","v":0},{"$f":"IF(X42=0,\"\",COUNTIFS(P5:P23,\"=1\",S5:S23,\">=3,1\",S5:S23,\"<=4,5\"))","v":""},""]
[null,null,null,null,null,null,null,null,null,null,null,null,null,null,null,null,null,null,null,null,null,null,"4,5 - 6",{"$f":"COUNTIFS(S5:S23,\">=4,6\",S5:S23,\"<=6\")","v":0},{"$f":"IF(X43=0,\"\",COUNTIFS(P5:P23,\"=1\",S5:S23,\">=4,6\",S5:S23,\"<=6\"))","v":""},""]
[null,null,null,null,null,null,null,null,null,null,null,null,null,null,null,null,null,null,null,null,null,null,"over 6 meter",{"$f":"COUNTIFS(S5:S23,\">6\")","v":0},{"$f":"IF(X44=0,\"\",COUNTIFS(P5:P23,\"=1\",S5:S23,\">6\"))","v":""},""]

{"sheet":"Runde 15","index":17,"n_rows":44,"n_cols":29,"rows_kept":44,"cut":false,"hidden":false,"merged":[]}
["Korsør Golf Klub - 18 huller - Gul tee",null,null,null,null,null,null,null,null,{"$f":"IF(E25=\"0\",\"0\",\"1\")","v":"0"},null,"Dato:",null,null,"Handicap:",null,null,null,null,"Antal tildelte slag:"]
[]
[null,null,null,null,null,null,null,"Tee shot",null,null,"Fairway hits i %",null,null,"Bunker",null,null,null,"Approach shots"]
["Hul","Gul tee","Par","HCP","Score","Netto","Driver","Wood","Jern","Venstre","Midt","Højre","FB","GB","SS","Putts","GIR","Dist. to pin (m)","Dist. to hole (m)","% SS","% GIR","Putts/GIR","Eagles","Birdies","Bogeys","Værre","% Scramble","3+ Putts","% Driver/Fairwayhits"]
[1,307,4,11,null,null,null,null,null,null,null,null,null,null,null,null,null,null,null,null,null,{"$f":"IF(Q5=0,\"\",P5)","v":""},null,null,null,null,{"$f":"IF(AND(Q5=\"\",P5=1),1,\"\")","v":""},null,{"$f":"IF(AND(G5=\"\"),\"\",SUM(K5))","v":""}]
[2,323,4,5,null,null,null,null,null,null,null,null,null,null,null,null,null,null,null,null,null,"",null,null,null,null,"",null,""]
[3,138,3,15,null,null,null,null,null,null,null,null,null,null,null,null,null,null,null,null,null,"",null,null,null,null,"",null,""]
[4,310,4,13,null,null,null,null,null,null,null,null,null,null,null,null,null,null,null,null,null,"",null,null,null,null,"",null,""]
[5,431,5,3,null,null,null,null,null,null,null,null,null,null,null,null,null,null,null,null,null,"",null,null,null,null,"",null,""]
[6,312,4,9,null,null,null,null,null,null,null,null,null,null,null,null,null,null,null,null,null,"",null,null,null,null,"",null,""]
[7,498,5,1,null,null,null,null,null,null,null,null,null,null,null,null,null,null,null,null,null,"",null,null,null,null,"",null,""]
[8,138,3,17,null,null,null,null,null,null,null,null,null,null,null,null,null,null,null,null,null,"",null,null,null,null,"",null,""]
[9,310,4,7,null,null,null,null,null,null,null,null,null,null,null,null,null,null,null,null,null,"",null,null,null,null,"",null,""]
[null,{"$f":"SUM(B5:B13)","v":2767},{"$f":"SUM(C5:C13)","v":36},"UD",{"$f":"SUM(E5:E13)","v":0},{"$f":"SUM(F5:F13)","v":0},{"$f":"SUM(G5:G13)","v":0},{"$f":"SUM(H5:H13)","v":0},{"$f":"SUM(I5:I13)","v":0},{"$f":"IF((A28=27),\"\",(SUM(J5:J13)/SUM(J5:L13))*100)","v":""},{"$f":"IF((A28=27),\"\",(SUM(K5:K13)/SUM(J5:L13))*100)","v":""},{"$f":"IF((A28=27),\"\",(SUM(L5:L13)/SUM(J5:L13))*100)","v":""},{"$f":"SUM(M5:M13)","v":0},{"$f":"SUM(N5:N13)","v":0},{"$f":"SUM(O5:O13)","v":0},{"$f":"SUM(P5:P13)","v":0},{"$f":"SUM(Q5:Q13)","v":0},null,{"$f":"IF(Q14=0,\"\",SUM(S5:S13)/Q14)","v":""},null,null,{"$f":"SUM(V5:V13)","v":0},{"$f":"ColorFunction($E$30,$E$5:$E$13)","v":0},{"$f":"ColorFunction($E$31,$E$5:$E$13)","v":0},{"$f":"ColorFunction($E$32,$E$5:$E$13)","v":0},{"$f":"ColorFunction($E$33,$E$5:$E$13)","v":0},{"$f":"SUM(AA5:AA13)/(9-Q14)*100","v":0},{"$f":"COUNTIF(P5:P13,\">2\")","v":0},{"$f":"IF((G14=0),\"\",SUM(AC5:AC13)/G14*100)","v":""}]
[10,481,5,4,null,null,null,null,null,null,null,null,null,null,null,null,null,null,null,null,null,{"$f":"IF(Q15=0,\"\",P15)","v":""},null,null,null,null,{"$f":"IF(AND(Q15=\"\",P15=1),1,\"\")","v":""},null,{"$f":"IF(AND(G15=\"\"),\"\",SUM(K15))","v":""}]
[11,319,4,16,null,null,null,null,null,null,null,null,null,null,null,null,null,null,null,null,null,"",null,null,null,null,"",null,""]
[12,431,5,2,null,null,null,null,null,null,null,null,null,null,null,null,null,null,null,null,null,"",null,null,null,null,"",null,""]
[13,122,3,18,null,null,null,null,null,null,null,null,null,null,null,null,null,null,null,null,null,"",null,null,null,null,"",null,""]
[14,379,4,6,null,null,null,null,null,null,null,null,null,null,null,null,null,null,null,null,null,"",null,null,null,null,"",null,""]
[15,316,4,8,null,null,null,null,null,null,null,null,null,null,null,null,null,null,null,null,null,"",null,null,null,null,"",null,""]
[16,322,4,14,null,null,null,null,null,null,null,null,null,null,null,null,null,null,null,null,null,"",null,null,null,null,"",null,""]
[17,345,4,10,null,null,null,null,null,null,null,null,null,null,null,null,null,null,null,null,null,"",null,null,null,null,"",null,""]
[18,281,4,12,null,null,null,null,null,null,null,null,null,null,null,null,null,null,null,null,null,"",null,null,null,null,"",null,""]
[null,{"$f":"SUM(B15:B23)","v":2996},{"$f":"SUM(C15:C23)","v":37},"IND",{"$f":"SUM(E15:E23)","v":0},{"$f":"SUM(F15:F23)","v":0},{"$f":"SUM(G15:G23)","v":0},{"$f":"SUM(H15:H23)","v":0},{"$f":"SUM(I15:I23)","v":0},{"$f":"IF((A29=27),\"\",(SUM(J15:J23)/SUM(J15:L23))*100)","v":""},{"$f":"IF((A29=27),\"\",(SUM(K15:K23)/SUM(J15:L23))*100)","v":""},{"$f":"IF((A29=27),\"\",(SUM(L15:L23)/SUM(J15:L23))*100)","v":""},{"$f":"SUM(M15:M23)","v":0},{"$f":"SUM(N15:N23)","v":0},{"$f":"SUM(O15:O23)","v":0},{"$f":"SUM(P15:P23)","v":0},{"$f":"SUM(Q15:Q23)","v":0},null,{"$f":"IF(Q24=0,\"\",SUM(S15:S23)/Q24)","v":""},null,null,{"$f":"SUM(V15:V23)","v":0},{"$f":"ColorFunction($E$30,$E$15:$E$23)","v":0},{"$f":"ColorFunction($E$31,$E$15:$E$23)","v":0},{"$f":"ColorFunction($E$32,$E$15:$E$23)","v":0},{"$f":"ColorFunction($E$33,$E$15:$E$23)","v":0},{"$f":"SUM(AA15:AA23)/(9-Q24)*100","v":0},{"$f":"COUNTIF(P15:P23,\">2\")","v":0},{"$f":"IF((G24=0),\"\",SUM(AC15:AC23)/G24*100)","v":""}]
[null,{"$f":"SUM(B24,B14)","v":5763},{"$f":"SUM(C24,C14)","v":73},"TOTAL",{"$f":"IF(E14=0,\"0\",(E24+E14))","v":"0"},{"$f":"SUM(F14,F24)","v":0},{"$f":"SUM(G24,G14)","v":0},{"$f":"SUM(H24,H14)","v":0},{"$f":"SUM(I24,I14)","v":0},{"$f":"IF((A28=27),\"\",(SUM(J14,J24)/2))","v":""},{"$f":"IF((A28=27),\"\",(SUM(K14,K24)/2))","v":""},{"$f":"IF((A28=27),\"\",(SUM(L14,L24)/2))","v":""},{"$f":"SUM(M24,M14)","v":0},{"$f":"SUM(N24,N14)","v":0},{"$f":"SUM(O24,O14)","v":0},{"$f":"IF(P14+P24=0,\"\",SUM(P24,P14))","v":""},{"$f":"IF(Q14+Q24=0,\"\",SUM(Q24,Q14))","v":""},null,{"$f":"IF(Q25=\"\",\"\",SUM(S24,S14)/2)","v":""},{"$f":"IF(N25=0,\"\",(O25)/N25*100)","v":""},{"$f":"IF(Q25=\"\",\"\",(Q25)/18*100)","v":""},{"$f":"IF(Q25=\"\",\"\",(V14+V24)/Q25)","v":""},{"$f":"SUM(W14,W24)","v":0},{"$f":"SUM(X14,X24)","v":0},{"$f":"SUM(Y14,Y24)","v":0},{"$f":"SUM(Z14,Z24)","v":0},{"$f":"SUM(AA14,AA24)/2","v":0},{"$f":"SUM(AB14,AB24)","v":0},{"$f":"SUM(AC24,AC14)/2","v":0}]
[]
[null,null,null,null,"Udfyld alle grønne felter med 1 for positiv eller antal i tal"]
[{"$f":"COUNTBLANK(I5:K13)","v":27},null,null,null,null,null,null,null,null,null,null,null,null,null,null,null,null,null,null,null,null,null,"Approach"]
[{"$f":"COUNTBLANK(I15:K23)","v":27},null,null,null,"Udfyld følgende farver:",null,null,null,null,null,null,null,null,null,null,null,null,null,"Holes to par",null,null,null,"Længde (m)","Antal","Afstand (m)"]
[{"$f":"SUM(L5:L23)","v":0},null,null,null,"Eagles",null,null,null,null,null,null,null,null,null,null,null,null,null,"Par 3",{"$f":"SUMIF(C:C,\"3\",E:E)/COUNTIF(C:C,3)","v":0},null,null,"45-70",{"$f":"COUNTIFS(R5:R23,\">=45\",R5:R23,\"<=70\")","v":0},{"$f":"IF(X30=0,\"\",AVERAGEIFS(S5:S23,R5:R23,\">=45\",R5:R23,\"<=70\"))","v":""}]
[null,null,null,null,"Birdies",null,null,null,null,null,null,null,null,null,null,null,null,null,"Par 4",{"$f":"SUMIF(C:C,\"4\",E:E)/COUNTIF(C:C,4)","v":0},null,null,"71-90",{"$f":"COUNTIFS(R5:R23,\">=71\",R5:R23,\"<=90\")","v":0},{"$f":"IF(X31=0,\"\",AVERAGEIFS(S5:S23,R5:R23,\">=71\",R5:R23,\"<=90\"))","v":""}]
[null,null,null,null,"Bogeys",null,null,null,null,null,null,null,null,null,null,null,null,null,"Par 5",{"$f":"SUMIF(C:C,\"5\",E:E)/COUNTIF(C:C,5)","v":0},null,null,"91-115",{"$f":"COUNTIFS(R5:R23,\">=91\",R5:R23,\"<=115\")","v":0},{"$f":"IF(X32=0,\"\",AVERAGEIFS(S5:S23,R5:R23,\">=91\",R5:R23,\"<=115\"))","v":""}]
[null,null,null,null,"Doublebogeys eller værre",null,null,null,null,null,null,null,null,null,null,null,null,null,null,null,null,null,"116-140",{"$f":"COUNTIFS(R5:R23,\">=116\",R5:R23,\"<=140\")","v":0},{"$f":"IF(X33=0,\"\",AVERAGEIFS(S5:S23,R5:R23,\">=116\",R5:R23,\"<=140\"))","v":""}]
[null,null,null,null,null,null,null,null,null,null,null,null,null,null,null,null,null,null,"First 4",{"$f":"IF(E25=\"0\",\"\",SUM(E5:E8)-SUM(C5:C8))","v":""},null,null,"141-160",{"$f":"COUNTIFS(R5:R23,\">=141\",R5:R23,\"<=161\")","v":0},{"$f":"IF(X34=0,\"\",AVERAGEIFS(S5:S23,R5:R23,\">=141\",R5:R23,\"<=160\"))","v":""}]
[null,null,null,null,null,null,null,null,null,null,null,null,null,null,null,null,null,null,"Last 4",{"$f":"IF(E25=\"0\",\"\",SUM(E20:E23)-SUM(C20:C23))","v":""},null,null,"161-180",{"$f":"COUNTIFS(R5:R23,\">=161\",R5:R23,\"<=180\")","v":0},{"$f":"IF(X35=0,\"\",AVERAGEIFS(S5:S23,R5:R23,\">=161\",R5:R23,\"<=180\"))","v":""}]
[]
[null,null,null,null,null,null,null,null,null,null,null,null,null,null,null,null,null,null,null,null,null,null,"Putting"]
[null,null,null,null,null,null,null,null,null,null,null,null,null,null,null,null,null,null,null,null,null,null,"Længde (m)","Antal","Holet","Holet (%)"]
[null,null,null,null,null,null,null,null,null,null,null,null,null,null,null,null,null,null,null,null,null,null,"under 1 m",{"$f":"COUNTIFS(S5:S23,\">=0,1\",S5:S23,\"<=0,9\")","v":0},{"$f":"IF(X39=0,\"\",COUNTIFS(P5:P23,\"=1\",S5:S23,\"<1\"))","v":""},{"$f":"IF(X39=0,\"\",Y39/X39*100)","v":""}]
[null,null,null,null,null,null,null,null,null,null,null,null,null,null,null,null,null,null,null,null,null,null,"1 - 1,5",{"$f":"COUNTIFS(S5:S23,\">=1\",S5:S23,\"<=1,5\")","v":0},{"$f":"IF(X40=0,\"\",COUNTIFS(P5:P23,\"=1\",S5:S23,\">=1\",S5:S23,\"<=1,5\"))","v":""},{"$f":"IF(X40=0,\"\",Y40/X40*100)","v":""}]
[null,null,null,null,null,null,null,null,null,null,null,null,null,null,null,null,null,null,null,null,null,null,"1,5 - 3",{"$f":"COUNTIFS(S5:S23,\">=1,6\",S5:S23,\"<=3\")","v":0},{"$f":"IF(X41=0,\"\",COUNTIFS(P5:P23,\"=1\",S5:S23,\">=1,6\",S5:S23,\"<=3\"))","v":""},{"$f":"IF(X41=0,\"\",Y41/X41*100)","v":""}]
[null,null,null,null,null,null,null,null,null,null,null,null,null,null,null,null,null,null,null,null,null,null,"3 - 4,5",{"$f":"COUNTIFS(S5:S23,\">=3,1\",S5:S23,\"<=4,5\")","v":0},{"$f":"IF(X42=0,\"\",COUNTIFS(P5:P23,\"=1\",S5:S23,\">=3,1\",S5:S23,\"<=4,5\"))","v":""},""]
[null,null,null,null,null,null,null,null,null,null,null,null,null,null,null,null,null,null,null,null,null,null,"4,5 - 6",{"$f":"COUNTIFS(S5:S23,\">=4,6\",S5:S23,\"<=6\")","v":0},{"$f":"IF(X43=0,\"\",COUNTIFS(P5:P23,\"=1\",S5:S23,\">=4,6\",S5:S23,\"<=6\"))","v":""},""]
[null,null,null,null,null,null,null,null,null,null,null,null,null,null,null,null,null,null,null,null,null,null,"over 6 meter",{"$f":"COUNTIFS(S5:S23,\">6\")","v":0},{"$f":"IF(X44=0,\"\",COUNTIFS(P5:P23,\"=1\",S5:S23,\">6\"))","v":""},""]

{"sheet":"Runde 16","index":18,"n_rows":44,"n_cols":29,"rows_kept":44,"cut":false,"hidden":false,"merged":[]}
["Korsør Golf Klub - 18 huller - Gul tee",null,null,null,null,null,null,null,null,{"$f":"IF(E25=\"0\",\"0\",\"1\")","v":"0"},null,"Dato:",null,null,"Handicap:",null,null,null,null,"Antal tildelte slag:"]
[]
[null,null,null,null,null,null,null,"Tee shot",null,null,"Fairway hits i %",null,null,"Bunker",null,null,null,"Approach shots"]
["Hul","Gul tee","Par","HCP","Score","Netto","Driver","Wood","Jern","Venstre","Midt","Højre","FB","GB","SS","Putts","GIR","Dist. to pin (m)","Dist. to hole (m)","% SS","% GIR","Putts/GIR","Eagles","Birdies","Bogeys","Værre","% Scramble","3+ Putts","% Driver/Fairwayhits"]
[1,307,4,11,null,null,null,null,null,null,null,null,null,null,null,null,null,null,null,null,null,{"$f":"IF(Q5=0,\"\",P5)","v":""},null,null,null,null,{"$f":"IF(AND(Q5=\"\",P5=1),1,\"\")","v":""},null,{"$f":"IF(AND(G5=\"\"),\"\",SUM(K5))","v":""}]
[2,323,4,5,null,null,null,null,null,null,null,null,null,null,null,null,null,null,null,null,null,"",null,null,null,null,"",null,""]
[3,138,3,15,null,null,null,null,null,null,null,null,null,null,null,null,null,null,null,null,null,"",null,null,null,null,"",null,""]
[4,310,4,13,null,null,null,null,null,null,null,null,null,null,null,null,null,null,null,null,null,"",null,null,null,null,"",null,""]
[5,431,5,3,null,null,null,null,null,null,null,null,null,null,null,null,null,null,null,null,null,"",null,null,null,null,"",null,""]
[6,312,4,9,null,null,null,null,null,null,null,null,null,null,null,null,null,null,null,null,null,"",null,null,null,null,"",null,""]
[7,498,5,1,null,null,null,null,null,null,null,null,null,null,null,null,null,null,null,null,null,"",null,null,null,null,"",null,""]
[8,138,3,17,null,null,null,null,null,null,null,null,null,null,null,null,null,null,null,null,null,"",null,null,null,null,"",null,""]
[9,310,4,7,null,null,null,null,null,null,null,null,null,null,null,null,null,null,null,null,null,"",null,null,null,null,"",null,""]
[null,{"$f":"SUM(B5:B13)","v":2767},{"$f":"SUM(C5:C13)","v":36},"UD",{"$f":"SUM(E5:E13)","v":0},{"$f":"SUM(F5:F13)","v":0},{"$f":"SUM(G5:G13)","v":0},{"$f":"SUM(H5:H13)","v":0},{"$f":"SUM(I5:I13)","v":0},{"$f":"IF((A28=27),\"\",(SUM(J5:J13)/SUM(J5:L13))*100)","v":""},{"$f":"IF((A28=27),\"\",(SUM(K5:K13)/SUM(J5:L13))*100)","v":""},{"$f":"IF((A28=27),\"\",(SUM(L5:L13)/SUM(J5:L13))*100)","v":""},{"$f":"SUM(M5:M13)","v":0},{"$f":"SUM(N5:N13)","v":0},{"$f":"SUM(O5:O13)","v":0},{"$f":"SUM(P5:P13)","v":0},{"$f":"SUM(Q5:Q13)","v":0},null,{"$f":"IF(Q14=0,\"\",SUM(S5:S13)/Q14)","v":""},null,null,{"$f":"SUM(V5:V13)","v":0},{"$f":"ColorFunction($E$30,$E$5:$E$13)","v":0},{"$f":"ColorFunction($E$31,$E$5:$E$13)","v":0},{"$f":"ColorFunction($E$32,$E$5:$E$13)","v":0},{"$f":"ColorFunction($E$33,$E$5:$E$13)","v":0},{"$f":"SUM(AA5:AA13)/(9-Q14)*100","v":0},{"$f":"COUNTIF(P5:P13,\">2\")","v":0},{"$f":"IF((G14=0),\"\",SUM(AC5:AC13)/G14*100)","v":""}]
[10,481,5,4,null,null,null,null,null,null,null,null,null,null,null,null,null,null,null,null,null,{"$f":"IF(Q15=0,\"\",P15)","v":""},null,null,null,null,{"$f":"IF(AND(Q15=\"\",P15=1),1,\"\")","v":""},null,{"$f":"IF(AND(G15=\"\"),\"\",SUM(K15))","v":""}]
[11,319,4,16,null,null,null,null,null,null,null,null,null,null,null,null,null,null,null,null,null,"",null,null,null,null,"",null,""]
[12,431,5,2,null,null,null,null,null,null,null,null,null,null,null,null,null,null,null,null,null,"",null,null,null,null,"",null,""]
[13,122,3,18,null,null,null,null,null,null,null,null,null,null,null,null,null,null,null,null,null,"",null,null,null,null,"",null,""]
[14,379,4,6,null,null,null,null,null,null,null,null,null,null,null,null,null,null,null,null,null,"",null,null,null,null,"",null,""]
[15,316,4,8,null,null,null,null,null,null,null,null,null,null,null,null,null,null,null,null,null,"",null,null,null,null,"",null,""]
[16,322,4,14,null,null,null,null,null,null,null,null,null,null,null,null,null,null,null,null,null,"",null,null,null,null,"",null,""]
[17,345,4,10,null,null,null,null,null,null,null,null,null,null,null,null,null,null,null,null,null,"",null,null,null,null,"",null,""]
[18,281,4,12,null,null,null,null,null,null,null,null,null,null,null,null,null,null,null,null,null,"",null,null,null,null,"",null,""]
[null,{"$f":"SUM(B15:B23)","v":2996},{"$f":"SUM(C15:C23)","v":37},"IND",{"$f":"SUM(E15:E23)","v":0},{"$f":"SUM(F15:F23)","v":0},{"$f":"SUM(G15:G23)","v":0},{"$f":"SUM(H15:H23)","v":0},{"$f":"SUM(I15:I23)","v":0},{"$f":"IF((A29=27),\"\",(SUM(J15:J23)/SUM(J15:L23))*100)","v":""},{"$f":"IF((A29=27),\"\",(SUM(K15:K23)/SUM(J15:L23))*100)","v":""},{"$f":"IF((A29=27),\"\",(SUM(L15:L23)/SUM(J15:L23))*100)","v":""},{"$f":"SUM(M15:M23)","v":0},{"$f":"SUM(N15:N23)","v":0},{"$f":"SUM(O15:O23)","v":0},{"$f":"SUM(P15:P23)","v":0},{"$f":"SUM(Q15:Q23)","v":0},null,{"$f":"IF(Q24=0,\"\",SUM(S15:S23)/Q24)","v":""},null,null,{"$f":"SUM(V15:V23)","v":0},{"$f":"ColorFunction($E$30,$E$15:$E$23)","v":0},{"$f":"ColorFunction($E$31,$E$15:$E$23)","v":0},{"$f":"ColorFunction($E$32,$E$15:$E$23)","v":0},{"$f":"ColorFunction($E$33,$E$15:$E$23)","v":0},{"$f":"SUM(AA15:AA23)/(9-Q24)*100","v":0},{"$f":"COUNTIF(P15:P23,\">2\")","v":0},{"$f":"IF((G24=0),\"\",SUM(AC15:AC23)/G24*100)","v":""}]
[null,{"$f":"SUM(B24,B14)","v":5763},{"$f":"SUM(C24,C14)","v":73},"TOTAL",{"$f":"IF(E14=0,\"0\",(E24+E14))","v":"0"},{"$f":"SUM(F14,F24)","v":0},{"$f":"SUM(G24,G14)","v":0},{"$f":"SUM(H24,H14)","v":0},{"$f":"SUM(I24,I14)","v":0},{"$f":"IF((A28=27),\"\",(SUM(J14,J24)/2))","v":""},{"$f":"IF((A28=27),\"\",(SUM(K14,K24)/2))","v":""},{"$f":"IF((A28=27),\"\",(SUM(L14,L24)/2))","v":""},{"$f":"SUM(M24,M14)","v":0},{"$f":"SUM(N24,N14)","v":0},{"$f":"SUM(O24,O14)","v":0},{"$f":"IF(P14+P24=0,\"\",SUM(P24,P14))","v":""},{"$f":"IF(Q14+Q24=0,\"\",SUM(Q24,Q14))","v":""},null,{"$f":"IF(Q25=\"\",\"\",SUM(S24,S14)/2)","v":""},{"$f":"IF(N25=0,\"\",(O25)/N25*100)","v":""},{"$f":"IF(Q25=\"\",\"\",(Q25)/18*100)","v":""},{"$f":"IF(Q25=\"\",\"\",(V14+V24)/Q25)","v":""},{"$f":"SUM(W14,W24)","v":0},{"$f":"SUM(X14,X24)","v":0},{"$f":"SUM(Y14,Y24)","v":0},{"$f":"SUM(Z14,Z24)","v":0},{"$f":"SUM(AA14,AA24)/2","v":0},{"$f":"SUM(AB14,AB24)","v":0},{"$f":"SUM(AC24,AC14)/2","v":0}]
[]
[null,null,null,null,"Udfyld alle grønne felter med 1 for positiv eller antal i tal"]
[{"$f":"COUNTBLANK(I5:K13)","v":27},null,null,null,null,null,null,null,null,null,null,null,null,null,null,null,null,null,null,null,null,null,"Approach"]
[{"$f":"COUNTBLANK(I15:K23)","v":27},null,null,null,"Udfyld følgende farver:",null,null,null,null,null,null,null,null,null,null,null,null,null,"Holes to par",null,null,null,"Længde (m)","Antal","Afstand (m)"]
[{"$f":"SUM(L5:L23)","v":0},null,null,null,"Eagles",null,null,null,null,null,null,null,null,null,null,null,null,null,"Par 3",{"$f":"SUMIF(C:C,\"3\",E:E)/COUNTIF(C:C,3)","v":0},null,null,"45-70",{"$f":"COUNTIFS(R5:R23,\">=45\",R5:R23,\"<=70\")","v":0},{"$f":"IF(X30=0,\"\",AVERAGEIFS(S5:S23,R5:R23,\">=45\",R5:R23,\"<=70\"))","v":""}]
[null,null,null,null,"Birdies",null,null,null,null,null,null,null,null,null,null,null,null,null,"Par 4",{"$f":"SUMIF(C:C,\"4\",E:E)/COUNTIF(C:C,4)","v":0},null,null,"71-90",{"$f":"COUNTIFS(R5:R23,\">=71\",R5:R23,\"<=90\")","v":0},{"$f":"IF(X31=0,\"\",AVERAGEIFS(S5:S23,R5:R23,\">=71\",R5:R23,\"<=90\"))","v":""}]
[null,null,null,null,"Bogeys",null,null,null,null,null,null,null,null,null,null,null,null,null,"Par 5",{"$f":"SUMIF(C:C,\"5\",E:E)/COUNTIF(C:C,5)","v":0},null,null,"91-115",{"$f":"COUNTIFS(R5:R23,\">=91\",R5:R23,\"<=115\")","v":0},{"$f":"IF(X32=0,\"\",AVERAGEIFS(S5:S23,R5:R23,\">=91\",R5:R23,\"<=115\"))","v":""}]
[null,null,null,null,"Doublebogeys eller værre",null,null,null,null,null,null,null,null,null,null,null,null,null,null,null,null,null,"116-140",{"$f":"COUNTIFS(R5:R23,\">=116\",R5:R23,\"<=140\")","v":0},{"$f":"IF(X33=0,\"\",AVERAGEIFS(S5:S23,R5:R23,\">=116\",R5:R23,\"<=140\"))","v":""}]
[null,null,null,null,null,null,null,null,null,null,null,null,null,null,null,null,null,null,"First 4",{"$f":"IF(E25=\"0\",\"\",SUM(E5:E8)-SUM(C5:C8))","v":""},null,null,"141-160",{"$f":"COUNTIFS(R5:R23,\">=141\",R5:R23,\"<=161\")","v":0},{"$f":"IF(X34=0,\"\",AVERAGEIFS(S5:S23,R5:R23,\">=141\",R5:R23,\"<=160\"))","v":""}]
[null,null,null,null,null,null,null,null,null,null,null,null,null,null,null,null,null,null,"Last 4",{"$f":"IF(E25=\"0\",\"\",SUM(E20:E23)-SUM(C20:C23))","v":""},null,null,"161-180",{"$f":"COUNTIFS(R5:R23,\">=161\",R5:R23,\"<=180\")","v":0},{"$f":"IF(X35=0,\"\",AVERAGEIFS(S5:S23,R5:R23,\">=161\",R5:R23,\"<=180\"))","v":""}]
[]
[null,null,null,null,null,null,null,null,null,null,null,null,null,null,null,null,null,null,null,null,null,null,"Putting"]
[null,null,null,null,null,null,null,null,null,null,null,null,null,null,null,null,null,null,null,null,null,null,"Længde (m)","Antal","Holet","Holet (%)"]
[null,null,null,null,null,null,null,null,null,null,null,null,null,null,null,null,null,null,null,null,null,null,"under 1 m",{"$f":"COUNTIFS(S5:S23,\">=0,1\",S5:S23,\"<=0,9\")","v":0},{"$f":"IF(X39=0,\"\",COUNTIFS(P5:P23,\"=1\",S5:S23,\"<1\"))","v":""},{"$f":"IF(X39=0,\"\",Y39/X39*100)","v":""}]
[null,null,null,null,null,null,null,null,null,null,null,null,null,null,null,null,null,null,null,null,null,null,"1 - 1,5",{"$f":"COUNTIFS(S5:S23,\">=1\",S5:S23,\"<=1,5\")","v":0},{"$f":"IF(X40=0,\"\",COUNTIFS(P5:P23,\"=1\",S5:S23,\">=1\",S5:S23,\"<=1,5\"))","v":""},{"$f":"IF(X40=0,\"\",Y40/X40*100)","v":""}]
[null,null,null,null,null,null,null,null,null,null,null,null,null,null,null,null,null,null,null,null,null,null,"1,5 - 3",{"$f":"COUNTIFS(S5:S23,\">=1,6\",S5:S23,\"<=3\")","v":0},{"$f":"IF(X41=0,\"\",COUNTIFS(P5:P23,\"=1\",S5:S23,\">=1,6\",S5:S23,\"<=3\"))","v":""},{"$f":"IF(X41=0,\"\",Y41/X41*100)","v":""}]
[null,null,null,null,null,null,null,null,null,null,null,null,null,null,null,null,null,null,null,null,null,null,"3 - 4,5",{"$f":"COUNTIFS(S5:S23,\">=3,1\",S5:S23,\"<=4,5\")","v":0},{"$f":"IF(X42=0,\"\",COUNTIFS(P5:P23,\"=1\",S5:S23,\">=3,1\",S5:S23,\"<=4,5\"))","v":""},""]
[null,null,null,null,null,null,null,null,null,null,null,null,null,null,null,null,null,null,null,null,null,null,"4,5 - 6",{"$f":"COUNTIFS(S5:S23,\">=4,6\",S5:S23,\"<=6\")","v":0},{"$f":"IF(X43=0,\"\",COUNTIFS(P5:P23,\"=1\",S5:S23,\">=4,6\",S5:S23,\"<=6\"))","v":""},""]
[null,null,null,null,null,null,null,null,null,null,null,null,null,null,null,null,null,null,null,null,null,null,"over 6 meter",{"$f":"COUNTIFS(S5:S23,\">6\")","v":0},{"$f":"IF(X44=0,\"\",COUNTIFS(P5:P23,\"=1\",S5:S23,\">6\"))","v":""},""]

{"sheet":"Runde 17","index":19,"n_rows":44,"n_cols":29,"rows_kept":44,"cut":false,"hidden":false,"merged":[]}
["Korsør Golf Klub - 18 huller - Gul tee",null,null,null,null,null,null,null,null,{"$f":"IF(E25=\"0\",\"0\",\"1\")","v":"0"},null,"Dato:",null,null,"Handicap:",null,null,null,null,"Antal tildelte slag:"]
[]
[null,null,null,null,null,null,null,"Tee shot",null,null,"Fairway hits i %",null,null,"Bunker",null,null,null,"Approach shots"]
["Hul","Gul tee","Par","HCP","Score","Netto","Driver","Wood","Jern","Venstre","Midt","Højre","FB","GB","SS","Putts","GIR","Dist. to pin (m)","Dist. to hole (m)","% SS","% GIR","Putts/GIR","Eagles","Birdies","Bogeys","Værre","% Scramble","3+ Putts","% Driver/Fairwayhits"]
[1,307,4,11,null,null,null,null,null,null,null,null,null,null,null,null,null,null,null,null,null,{"$f":"IF(Q5=0,\"\",P5)","v":""},null,null,null,null,{"$f":"IF(AND(Q5=\"\",P5=1),1,\"\")","v":""},null,{"$f":"IF(AND(G5=\"\"),\"\",SUM(K5))","v":""}]
[2,323,4,5,null,null,null,null,null,null,null,null,null,null,null,null,null,null,null,null,null,"",null,null,null,null,"",null,""]
[3,138,3,15,null,null,null,null,null,null,null,null,null,null,null,null,null,null,null,null,null,"",null,null,null,null,"",null,""]
[4,310,4,13,null,null,null,null,null,null,null,null,null,null,null,null,null,null,null,null,null,"",null,null,null,null,"",null,""]
[5,431,5,3,null,null,null,null,null,null,null,null,null,null,null,null,null,null,null,null,null,"",null,null,null,null,"",null,""]
[6,312,4,9,null,null,null,null,null,null,null,null,null,null,null,null,null,null,null,null,null,"",null,null,null,null,"",null,""]
[7,498,5,1,null,null,null,null,null,null,null,null,null,null,null,null,null,null,null,null,null,"",null,null,null,null,"",null,""]
[8,138,3,17,null,null,null,null,null,null,null,null,null,null,null,null,null,null,null,null,null,"",null,null,null,null,"",null,""]
[9,310,4,7,null,null,null,null,null,null,null,null,null,null,null,null,null,null,null,null,null,"",null,null,null,null,"",null,""]
[null,{"$f":"SUM(B5:B13)","v":2767},{"$f":"SUM(C5:C13)","v":36},"UD",{"$f":"SUM(E5:E13)","v":0},{"$f":"SUM(F5:F13)","v":0},{"$f":"SUM(G5:G13)","v":0},{"$f":"SUM(H5:H13)","v":0},{"$f":"SUM(I5:I13)","v":0},{"$f":"IF((A28=27),\"\",(SUM(J5:J13)/SUM(J5:L13))*100)","v":""},{"$f":"IF((A28=27),\"\",(SUM(K5:K13)/SUM(J5:L13))*100)","v":""},{"$f":"IF((A28=27),\"\",(SUM(L5:L13)/SUM(J5:L13))*100)","v":""},{"$f":"SUM(M5:M13)","v":0},{"$f":"SUM(N5:N13)","v":0},{"$f":"SUM(O5:O13)","v":0},{"$f":"SUM(P5:P13)","v":0},{"$f":"SUM(Q5:Q13)","v":0},null,{"$f":"IF(Q14=0,\"\",SUM(S5:S13)/Q14)","v":""},null,null,{"$f":"SUM(V5:V13)","v":0},{"$f":"ColorFunction($E$30,$E$5:$E$13)","v":0},{"$f":"ColorFunction($E$31,$E$5:$E$13)","v":0},{"$f":"ColorFunction($E$32,$E$5:$E$13)","v":0},{"$f":"ColorFunction($E$33,$E$5:$E$13)","v":0},{"$f":"SUM(AA5:AA13)/(9-Q14)*100","v":0},{"$f":"COUNTIF(P5:P13,\">2\")","v":0},{"$f":"IF((G14=0),\"\",SUM(AC5:AC13)/G14*100)","v":""}]
[10,481,5,4,null,null,null,null,null,null,null,null,null,null,null,null,null,null,null,null,null,{"$f":"IF(Q15=0,\"\",P15)","v":""},null,null,null,null,{"$f":"IF(AND(Q15=\"\",P15=1),1,\"\")","v":""},null,{"$f":"IF(AND(G15=\"\"),\"\",SUM(K15))","v":""}]
[11,319,4,16,null,null,null,null,null,null,null,null,null,null,null,null,null,null,null,null,null,"",null,null,null,null,"",null,""]
[12,431,5,2,null,null,null,null,null,null,null,null,null,null,null,null,null,null,null,null,null,"",null,null,null,null,"",null,""]
[13,122,3,18,null,null,null,null,null,null,null,null,null,null,null,null,null,null,null,null,null,"",null,null,null,null,"",null,""]
[14,379,4,6,null,null,null,null,null,null,null,null,null,null,null,null,null,null,null,null,null,"",null,null,null,null,"",null,""]
[15,316,4,8,null,null,null,null,null,null,null,null,null,null,null,null,null,null,null,null,null,"",null,null,null,null,"",null,""]
[16,322,4,14,null,null,null,null,null,null,null,null,null,null,null,null,null,null,null,null,null,"",null,null,null,null,"",null,""]
[17,345,4,10,null,null,null,null,null,null,null,null,null,null,null,null,null,null,null,null,null,"",null,null,null,null,"",null,""]
[18,281,4,12,null,null,null,null,null,null,null,null,null,null,null,null,null,null,null,null,null,"",null,null,null,null,"",null,""]
[null,{"$f":"SUM(B15:B23)","v":2996},{"$f":"SUM(C15:C23)","v":37},"IND",{"$f":"SUM(E15:E23)","v":0},{"$f":"SUM(F15:F23)","v":0},{"$f":"SUM(G15:G23)","v":0},{"$f":"SUM(H15:H23)","v":0},{"$f":"SUM(I15:I23)","v":0},{"$f":"IF((A29=27),\"\",(SUM(J15:J23)/SUM(J15:L23))*100)","v":""},{"$f":"IF((A29=27),\"\",(SUM(K15:K23)/SUM(J15:L23))*100)","v":""},{"$f":"IF((A29=27),\"\",(SUM(L15:L23)/SUM(J15:L23))*100)","v":""},{"$f":"SUM(M15:M23)","v":0},{"$f":"SUM(N15:N23)","v":0},{"$f":"SUM(O15:O23)","v":0},{"$f":"SUM(P15:P23)","v":0},{"$f":"SUM(Q15:Q23)","v":0},null,{"$f":"IF(Q24=0,\"\",SUM(S15:S23)/Q24)","v":""},null,null,{"$f":"SUM(V15:V23)","v":0},{"$f":"ColorFunction($E$30,$E$15:$E$23)","v":0},{"$f":"ColorFunction($E$31,$E$15:$E$23)","v":0},{"$f":"ColorFunction($E$32,$E$15:$E$23)","v":0},{"$f":"ColorFunction($E$33,$E$15:$E$23)","v":0},{"$f":"SUM(AA15:AA23)/(9-Q24)*100","v":0},{"$f":"COUNTIF(P15:P23,\">2\")","v":0},{"$f":"IF((G24=0),\"\",SUM(AC15:AC23)/G24*100)","v":""}]
[null,{"$f":"SUM(B24,B14)","v":5763},{"$f":"SUM(C24,C14)","v":73},"TOTAL",{"$f":"IF(E14=0,\"0\",(E24+E14))","v":"0"},{"$f":"SUM(F14,F24)","v":0},{"$f":"SUM(G24,G14)","v":0},{"$f":"SUM(H24,H14)","v":0},{"$f":"SUM(I24,I14)","v":0},{"$f":"IF((A28=27),\"\",(SUM(J14,J24)/2))","v":""},{"$f":"IF((A28=27),\"\",(SUM(K14,K24)/2))","v":""},{"$f":"IF((A28=27),\"\",(SUM(L14,L24)/2))","v":""},{"$f":"SUM(M24,M14)","v":0},{"$f":"SUM(N24,N14)","v":0},{"$f":"SUM(O24,O14)","v":0},{"$f":"IF(P14+P24=0,\"\",SUM(P24,P14))","v":""},{"$f":"IF(Q14+Q24=0,\"\",SUM(Q24,Q14))","v":""},null,{"$f":"IF(Q25=\"\",\"\",SUM(S24,S14)/2)","v":""},{"$f":"IF(N25=0,\"\",(O25)/N25*100)","v":""},{"$f":"IF(Q25=\"\",\"\",(Q25)/18*100)","v":""},{"$f":"IF(Q25=\"\",\"\",(V14+V24)/Q25)","v":""},{"$f":"SUM(W14,W24)","v":0},{"$f":"SUM(X14,X24)","v":0},{"$f":"SUM(Y14,Y24)","v":0},{"$f":"SUM(Z14,Z24)","v":0},{"$f":"SUM(AA14,AA24)/2","v":0},{"$f":"SUM(AB14,AB24)","v":0},{"$f":"SUM(AC24,AC14)/2","v":0}]
[]
[null,null,null,null,"Udfyld alle grønne felter med 1 for positiv eller antal i tal"]
[{"$f":"COUNTBLANK(I5:K13)","v":27},null,null,null,null,null,null,null,null,null,null,null,null,null,null,null,null,null,null,null,null,null,"Approach"]
[{"$f":"COUNTBLANK(I15:K23)","v":27},null,null,null,"Udfyld følgende farver:",null,null,null,null,null,null,null,null,null,null,null,null,null,"Holes to par",null,null,null,"Længde (m)","Antal","Afstand (m)"]
[{"$f":"SUM(L5:L23)","v":0},null,null,null,"Eagles",null,null,null,null,null,null,null,null,null,null,null,null,null,"Par 3",{"$f":"SUMIF(C:C,\"3\",E:E)/COUNTIF(C:C,3)","v":0},null,null,"45-70",{"$f":"COUNTIFS(R5:R23,\">=45\",R5:R23,\"<=70\")","v":0},{"$f":"IF(X30=0,\"\",AVERAGEIFS(S5:S23,R5:R23,\">=45\",R5:R23,\"<=70\"))","v":""}]
[null,null,null,null,"Birdies",null,null,null,null,null,null,null,null,null,null,null,null,null,"Par 4",{"$f":"SUMIF(C:C,\"4\",E:E)/COUNTIF(C:C,4)","v":0},null,null,"71-90",{"$f":"COUNTIFS(R5:R23,\">=71\",R5:R23,\"<=90\")","v":0},{"$f":"IF(X31=0,\"\",AVERAGEIFS(S5:S23,R5:R23,\">=71\",R5:R23,\"<=90\"))","v":""}]
[null,null,null,null,"Bogeys",null,null,null,null,null,null,null,null,null,null,null,null,null,"Par 5",{"$f":"SUMIF(C:C,\"5\",E:E)/COUNTIF(C:C,5)","v":0},null,null,"91-115",{"$f":"COUNTIFS(R5:R23,\">=91\",R5:R23,\"<=115\")","v":0},{"$f":"IF(X32=0,\"\",AVERAGEIFS(S5:S23,R5:R23,\">=91\",R5:R23,\"<=115\"))","v":""}]
[null,null,null,null,"Doublebogeys eller værre",null,null,null,null,null,null,null,null,null,null,null,null,null,null,null,null,null,"116-140",{"$f":"COUNTIFS(R5:R23,\">=116\",R5:R23,\"<=140\")","v":0},{"$f":"IF(X33=0,\"\",AVERAGEIFS(S5:S23,R5:R23,\">=116\",R5:R23,\"<=140\"))","v":""}]
[null,null,null,null,null,null,null,null,null,null,null,null,null,null,null,null,null,null,"First 4",{"$f":"IF(E25=\"0\",\"\",SUM(E5:E8)-SUM(C5:C8))","v":""},null,null,"141-160",{"$f":"COUNTIFS(R5:R23,\">=141\",R5:R23,\"<=161\")","v":0},{"$f":"IF(X34=0,\"\",AVERAGEIFS(S5:S23,R5:R23,\">=141\",R5:R23,\"<=160\"))","v":""}]
[null,null,null,null,null,null,null,null,null,null,null,null,null,null,null,null,null,null,"Last 4",{"$f":"IF(E25=\"0\",\"\",SUM(E20:E23)-SUM(C20:C23))","v":""},null,null,"161-180",{"$f":"COUNTIFS(R5:R23,\">=161\",R5:R23,\"<=180\")","v":0},{"$f":"IF(X35=0,\"\",AVERAGEIFS(S5:S23,R5:R23,\">=161\",R5:R23,\"<=180\"))","v":""}]
[]
[null,null,null,null,null,null,null,null,null,null,null,null,null,null,null,null,null,null,null,null,null,null,"Putting"]
[null,null,null,null,null,null,null,null,null,null,null,null,null,null,null,null,null,null,null,null,null,null,"Længde (m)","Antal","Holet","Holet (%)"]
[null,null,null,null,null,null,null,null,null,null,null,null,null,null,null,null,null,null,null,null,null,null,"under 1 m",{"$f":"COUNTIFS(S5:S23,\">=0,1\",S5:S23,\"<=0,9\")","v":0},{"$f":"IF(X39=0,\"\",COUNTIFS(P5:P23,\"=1\",S5:S23,\"<1\"))","v":""},{"$f":"IF(X39=0,\"\",Y39/X39*100)","v":""}]
[null,null,null,null,null,null,null,null,null,null,null,null,null,null,null,null,null,null,null,null,null,null,"1 - 1,5",{"$f":"COUNTIFS(S5:S23,\">=1\",S5:S23,\"<=1,5\")","v":0},{"$f":"IF(X40=0,\"\",COUNTIFS(P5:P23,\"=1\",S5:S23,\">=1\",S5:S23,\"<=1,5\"))","v":""},{"$f":"IF(X40=0,\"\",Y40/X40*100)","v":""}]
[null,null,null,null,null,null,null,null,null,null,null,null,null,null,null,null,null,null,null,null,null,null,"1,5 - 3",{"$f":"COUNTIFS(S5:S23,\">=1,6\",S5:S23,\"<=3\")","v":0},{"$f":"IF(X41=0,\"\",COUNTIFS(P5:P23,\"=1\",S5:S23,\">=1,6\",S5:S23,\"<=3\"))","v":""},{"$f":"IF(X41=0,\"\",Y41/X41*100)","v":""}]
[null,null,null,null,null,null,null,null,null,null,null,null,null,null,null,null,null,null,null,null,null,null,"3 - 4,5",{"$f":"COUNTIFS(S5:S23,\">=3,1\",S5:S23,\"<=4,5\")","v":0},{"$f":"IF(X42=0,\"\",COUNTIFS(P5:P23,\"=1\",S5:S23,\">=3,1\",S5:S23,\"<=4,5\"))","v":""},""]
[null,null,null,null,null,null,null,null,null,null,null,null,null,null,null,null,null,null,null,null,null,null,"4,5 - 6",{"$f":"COUNTIFS(S5:S23,\">=4,6\",S5:S23,\"<=6\")","v":0},{"$f":"IF(X43=0,\"\",COUNTIFS(P5:P23,\"=1\",S5:S23,\">=4,6\",S5:S23,\"<=6\"))","v":""},""]
[null,null,null,null,null,null,null,null,null,null,null,null,null,null,null,null,null,null,null,null,null,null,"over 6 meter",{"$f":"COUNTIFS(S5:S23,\">6\")","v":0},{"$f":"IF(X44=0,\"\",COUNTIFS(P5:P23,\"=1\",S5:S23,\">6\"))","v":""},""]

{"sheet":"Runde 18","index":20,"n_rows":44,"n_cols":29,"rows_kept":44,"cut":false,"hidden":false,"merged":[]}
["Korsør Golf Klub - 18 huller - Gul tee",null,null,null,null,null,null,null,null,{"$f":"IF(E25=\"0\",\"0\",\"1\")","v":"0"},null,"Dato:",null,null,"Handicap:",null,null,null,null,"Antal tildelte slag:"]
[]
[null,null,null,null,null,null,null,"Tee shot",null,null,"Fairway hits i %",null,null,"Bunker",null,null,null,"Approach shots"]
["Hul","Gul tee","Par","HCP","Score","Netto","Driver","Wood","Jern","Venstre","Midt","Højre","FB","GB","SS","Putts","GIR","Dist. to pin (m)","Dist. to hole (m)","% SS","% GIR","Putts/GIR","Eagles","Birdies","Bogeys","Værre","% Scramble","3+ Putts","% Driver/Fairwayhits"]
[1,307,4,11,null,null,null,null,null,null,null,null,null,null,null,null,null,null,null,null,null,{"$f":"IF(Q5=0,\"\",P5)","v":""},null,null,null,null,{"$f":"IF(AND(Q5=\"\",P5=1),1,\"\")","v":""},null,{"$f":"IF(AND(G5=\"\"),\"\",SUM(K5))","v":""}]
[2,323,4,5,null,null,null,null,null,null,null,null,null,null,null,null,null,null,null,null,null,"",null,null,null,null,"",null,""]
[3,138,3,15,null,null,null,null,null,null,null,null,null,null,null,null,null,null,null,null,null,"",null,null,null,null,"",null,""]
[4,310,4,13,null,null,null,null,null,null,null,null,null,null,null,null,null,null,null,null,null,"",null,null,null,null,"",null,""]
[5,431,5,3,null,null,null,null,null,null,null,null,null,null,null,null,null,null,null,null,null,"",null,null,null,null,"",null,""]
[6,312,4,9,null,null,null,null,null,null,null,null,null,null,null,null,null,null,null,null,null,"",null,null,null,null,"",null,""]
[7,498,5,1,null,null,null,null,null,null,null,null,null,null,null,null,null,null,null,null,null,"",null,null,null,null,"",null,""]
[8,138,3,17,null,null,null,null,null,null,null,null,null,null,null,null,null,null,null,null,null,"",null,null,null,null,"",null,""]
[9,310,4,7,null,null,null,null,null,null,null,null,null,null,null,null,null,null,null,null,null,"",null,null,null,null,"",null,""]
[null,{"$f":"SUM(B5:B13)","v":2767},{"$f":"SUM(C5:C13)","v":36},"UD",{"$f":"SUM(E5:E13)","v":0},{"$f":"SUM(F5:F13)","v":0},{"$f":"SUM(G5:G13)","v":0},{"$f":"SUM(H5:H13)","v":0},{"$f":"SUM(I5:I13)","v":0},{"$f":"IF((A28=27),\"\",(SUM(J5:J13)/SUM(J5:L13))*100)","v":""},{"$f":"IF((A28=27),\"\",(SUM(K5:K13)/SUM(J5:L13))*100)","v":""},{"$f":"IF((A28=27),\"\",(SUM(L5:L13)/SUM(J5:L13))*100)","v":""},{"$f":"SUM(M5:M13)","v":0},{"$f":"SUM(N5:N13)","v":0},{"$f":"SUM(O5:O13)","v":0},{"$f":"SUM(P5:P13)","v":0},{"$f":"SUM(Q5:Q13)","v":0},null,{"$f":"IF(Q14=0,\"\",SUM(S5:S13)/Q14)","v":""},null,null,{"$f":"SUM(V5:V13)","v":0},{"$f":"ColorFunction($E$30,$E$5:$E$13)","v":0},{"$f":"ColorFunction($E$31,$E$5:$E$13)","v":0},{"$f":"ColorFunction($E$32,$E$5:$E$13)","v":0},{"$f":"ColorFunction($E$33,$E$5:$E$13)","v":0},{"$f":"SUM(AA5:AA13)/(9-Q14)*100","v":0},{"$f":"COUNTIF(P5:P13,\">2\")","v":0},{"$f":"IF((G14=0),\"\",SUM(AC5:AC13)/G14*100)","v":""}]
[10,481,5,4,null,null,null,null,null,null,null,null,null,null,null,null,null,null,null,null,null,{"$f":"IF(Q15=0,\"\",P15)","v":""},null,null,null,null,{"$f":"IF(AND(Q15=\"\",P15=1),1,\"\")","v":""},null,{"$f":"IF(AND(G15=\"\"),\"\",SUM(K15))","v":""}]
[11,319,4,16,null,null,null,null,null,null,null,null,null,null,null,null,null,null,null,null,null,"",null,null,null,null,"",null,""]
[12,431,5,2,null,null,null,null,null,null,null,null,null,null,null,null,null,null,null,null,null,"",null,null,null,null,"",null,""]
[13,122,3,18,null,null,null,null,null,null,null,null,null,null,null,null,null,null,null,null,null,"",null,null,null,null,"",null,""]
[14,379,4,6,null,null,null,null,null,null,null,null,null,null,null,null,null,null,null,null,null,"",null,null,null,null,"",null,""]
[15,316,4,8,null,null,null,null,null,null,null,null,null,null,null,null,null,null,null,null,null,"",null,null,null,null,"",null,""]
[16,322,4,14,null,null,null,null,null,null,null,null,null,null,null,null,null,null,null,null,null,"",null,null,null,null,"",null,""]
[17,345,4,10,null,null,null,null,null,null,null,null,null,null,null,null,null,null,null,null,null,"",null,null,null,null,"",null,""]
[18,281,4,12,null,null,null,null,null,null,null,null,null,null,null,null,null,null,null,null,null,"",null,null,null,null,"",null,""]
[null,{"$f":"SUM(B15:B23)","v":2996},{"$f":"SUM(C15:C23)","v":37},"IND",{"$f":"SUM(E15:E23)","v":0},{"$f":"SUM(F15:F23)","v":0},{"$f":"SUM(G15:G23)","v":0},{"$f":"SUM(H15:H23)","v":0},{"$f":"SUM(I15:I23)","v":0},{"$f":"IF((A29=27),\"\",(SUM(J15:J23)/SUM(J15:L23))*100)","v":""},{"$f":"IF((A29=27),\"\",(SUM(K15:K23)/SUM(J15:L23))*100)","v":""},{"$f":"IF((A29=27),\"\",(SUM(L15:L23)/SUM(J15:L23))*100)","v":""},{"$f":"SUM(M15:M23)","v":0},{"$f":"SUM(N15:N23)","v":0},{"$f":"SUM(O15:O23)","v":0},{"$f":"SUM(P15:P23)","v":0},{"$f":"SUM(Q15:Q23)","v":0},null,{"$f":"IF(Q24=0,\"\",SUM(S15:S23)/Q24)","v":""},null,null,{"$f":"SUM(V15:V23)","v":0},{"$f":"ColorFunction($E$30,$E$15:$E$23)","v":0},{"$f":"ColorFunction($E$31,$E$15:$E$23)","v":0},{"$f":"ColorFunction($E$32,$E$15:$E$23)","v":0},{"$f":"ColorFunction($E$33,$E$15:$E$23)","v":0},{"$f":"SUM(AA15:AA23)/(9-Q24)*100","v":0},{"$f":"COUNTIF(P15:P23,\">2\")","v":0},{"$f":"IF((G24=0),\"\",SUM(AC15:AC23)/G24*100)","v":""}]
[null,{"$f":"SUM(B24,B14)","v":5763},{"$f":"SUM(C24,C14)","v":73},"TOTAL",{"$f":"IF(E14=0,\"0\",(E24+E14))","v":"0"},{"$f":"SUM(F14,F24)","v":0},{"$f":"SUM(G24,G14)","v":0},{"$f":"SUM(H24,H14)","v":0},{"$f":"SUM(I24,I14)","v":0},{"$f":"IF((A28=27),\"\",(SUM(J14,J24)/2))","v":""},{"$f":"IF((A28=27),\"\",(SUM(K14,K24)/2))","v":""},{"$f":"IF((A28=27),\"\",(SUM(L14,L24)/2))","v":""},{"$f":"SUM(M24,M14)","v":0},{"$f":"SUM(N24,N14)","v":0},{"$f":"SUM(O24,O14)","v":0},{"$f":"IF(P14+P24=0,\"\",SUM(P24,P14))","v":""},{"$f":"IF(Q14+Q24=0,\"\",SUM(Q24,Q14))","v":""},null,{"$f":"IF(Q25=\"\",\"\",SUM(S24,S14)/2)","v":""},{"$f":"IF(N25=0,\"\",(O25)/N25*100)","v":""},{"$f":"IF(Q25=\"\",\"\",(Q25)/18*100)","v":""},{"$f":"IF(Q25=\"\",\"\",(V14+V24)/Q25)","v":""},{"$f":"SUM(W14,W24)","v":0},{"$f":"SUM(X14,X24)","v":0},{"$f":"SUM(Y14,Y24)","v":0},{"$f":"SUM(Z14,Z24)","v":0},{"$f":"SUM(AA14,AA24)/2","v":0},{"$f":"SUM(AB14,AB24)","v":0},{"$f":"SUM(AC24,AC14)/2","v":0}]
[]
[null,null,null,null,"Udfyld alle grønne felter med 1 for positiv eller antal i tal"]
[{"$f":"COUNTBLANK(I5:K13)","v":27},null,null,null,null,null,null,null,null,null,null,null,null,null,null,null,null,null,null,null,null,null,"Approach"]
[{"$f":"COUNTBLANK(I15:K23)","v":27},null,null,null,"Udfyld følgende farver:",null,null,null,null,null,null,null,null,null,null,null,null,null,"Holes to par",null,null,null,"Længde (m)","Antal","Afstand (m)"]
[{"$f":"SUM(L5:L23)","v":0},null,null,null,"Eagles",null,null,null,null,null,null,null,null,null,null,null,null,null,"Par 3",{"$f":"SUMIF(C:C,\"3\",E:E)/COUNTIF(C:C,3)","v":0},null,null,"45-70",{"$f":"COUNTIFS(R5:R23,\">=45\",R5:R23,\"<=70\")","v":0},{"$f":"IF(X30=0,\"\",AVERAGEIFS(S5:S23,R5:R23,\">=45\",R5:R23,\"<=70\"))","v":""}]
[null,null,null,null,"Birdies",null,null,null,null,null,null,null,null,null,null,null,null,null,"Par 4",{"$f":"SUMIF(C:C,\"4\",E:E)/COUNTIF(C:C,4)","v":0},null,null,"71-90",{"$f":"COUNTIFS(R5:R23,\">=71\",R5:R23,\"<=90\")","v":0},{"$f":"IF(X31=0,\"\",AVERAGEIFS(S5:S23,R5:R23,\">=71\",R5:R23,\"<=90\"))","v":""}]
[null,null,null,null,"Bogeys",null,null,null,null,null,null,null,null,null,null,null,null,null,"Par 5",{"$f":"SUMIF(C:C,\"5\",E:E)/COUNTIF(C:C,5)","v":0},null,null,"91-115",{"$f":"COUNTIFS(R5:R23,\">=91\",R5:R23,\"<=115\")","v":0},{"$f":"IF(X32=0,\"\",AVERAGEIFS(S5:S23,R5:R23,\">=91\",R5:R23,\"<=115\"))","v":""}]
[null,null,null,null,"Doublebogeys eller værre",null,null,null,null,null,null,null,null,null,null,null,null,null,null,null,null,null,"116-140",{"$f":"COUNTIFS(R5:R23,\">=116\",R5:R23,\"<=140\")","v":0},{"$f":"IF(X33=0,\"\",AVERAGEIFS(S5:S23,R5:R23,\">=116\",R5:R23,\"<=140\"))","v":""}]
[null,null,null,null,null,null,null,null,null,null,null,null,null,null,null,null,null,null,"First 4",{"$f":"IF(E25=\"0\",\"\",SUM(E5:E8)-SUM(C5:C8))","v":""},null,null,"141-160",{"$f":"COUNTIFS(R5:R23,\">=141\",R5:R23,\"<=161\")","v":0},{"$f":"IF(X34=0,\"\",AVERAGEIFS(S5:S23,R5:R23,\">=141\",R5:R23,\"<=160\"))","v":""}]
[null,null,null,null,null,null,null,null,null,null,null,null,null,null,null,null,null,null,"Last 4",{"$f":"IF(E25=\"0\",\"\",SUM(E20:E23)-SUM(C20:C23))","v":""},null,null,"161-180",{"$f":"COUNTIFS(R5:R23,\">=161\",R5:R23,\"<=180\")","v":0},{"$f":"IF(X35=0,\"\",AVERAGEIFS(S5:S23,R5:R23,\">=161\",R5:R23,\"<=180\"))","v":""}]
[]
[null,null,null,null,null,null,null,null,null,null,null,null,null,null,null,null,null,null,null,null,null,null,"Putting"]
[null,null,null,null,null,null,null,null,null,null,null,null,null,null,null,null,null,null,null,null,null,null,"Længde (m)","Antal","Holet","Holet (%)"]
[null,null,null,null,null,null,null,null,null,null,null,null,null,null,null,null,null,null,null,null,null,null,"under 1 m",{"$f":"COUNTIFS(S5:S23,\">=0,1\",S5:S23,\"<=0,9\")","v":0},{"$f":"IF(X39=0,\"\",COUNTIFS(P5:P23,\"=1\",S5:S23,\"<1\"))","v":""},{"$f":"IF(X39=0,\"\",Y39/X39*100)","v":""}]
[null,null,null,null,null,null,null,null,null,null,null,null,null,null,null,null,null,null,null,null,null,null,"1 - 1,5",{"$f":"COUNTIFS(S5:S23,\">=1\",S5:S23,\"<=1,5\")","v":0},{"$f":"IF(X40=0,\"\",COUNTIFS(P5:P23,\"=1\",S5:S23,\">=1\",S5:S23,\"<=1,5\"))","v":""},{"$f":"IF(X40=0,\"\",Y40/X40*100)","v":""}]
[null,null,null,null,null,null,null,null,null,null,null,null,null,null,null,null,null,null,null,null,null,null,"1,5 - 3",{"$f":"COUNTIFS(S5:S23,\">=1,6\",S5:S23,\"<=3\")","v":0},{"$f":"IF(X41=0,\"\",COUNTIFS(P5:P23,\"=1\",S5:S23,\">=1,6\",S5:S23,\"<=3\"))","v":""},{"$f":"IF(X41=0,\"\",Y41/X41*100)","v":""}]
[null,null,null,null,null,null,null,null,null,null,null,null,null,null,null,null,null,null,null,null,null,null,"3 - 4,5",{"$f":"COUNTIFS(S5:S23,\">=3,1\",S5:S23,\"<=4,5\")","v":0},{"$f":"IF(X42=0,\"\",COUNTIFS(P5:P23,\"=1\",S5:S23,\">=3,1\",S5:S23,\"<=4,5\"))","v":""},""]
[null,null,null,null,null,null,null,null,null,null,null,null,null,null,null,null,null,null,null,null,null,null,"4,5 - 6",{"$f":"COUNTIFS(S5:S23,\">=4,6\",S5:S23,\"<=6\")","v":0},{"$f":"IF(X43=0,\"\",COUNTIFS(P5:P23,\"=1\",S5:S23,\">=4,6\",S5:S23,\"<=6\"))","v":""},""]
[null,null,null,null,null,null,null,null,null,null,null,null,null,null,null,null,null,null,null,null,null,null,"over 6 meter",{"$f":"COUNTIFS(S5:S23,\">6\")","v":0},{"$f":"IF(X44=0,\"\",COUNTIFS(P5:P23,\"=1\",S5:S23,\">6\"))","v":""},""]

{"sheet":"Runde 19","index":21,"n_rows":44,"n_cols":29,"rows_kept":44,"cut":false,"hidden":false,"merged":[]}
["Korsør Golf Klub - 18 huller - Gul tee",null,null,null,null,null,null,null,null,{"$f":"IF(E25=\"0\",\"0\",\"1\")","v":"0"},null,"Dato:",null,null,"Handicap:",null,null,null,null,"Antal tildelte slag:"]
[]
[null,null,null,null,null,null,null,"Tee shot",null,null,"Fairway hits i %",null,null,"Bunker",null,null,null,"Approach shots"]
["Hul","Gul tee","Par","HCP","Score","Netto","Driver","Wood","Jern","Venstre","Midt","Højre","FB","GB","SS","Putts","GIR","Dist. to pin (m)","Dist. to hole (m)","% SS","% GIR","Putts/GIR","Eagles","Birdies","Bogeys","Værre","% Scramble","3+ Putts","% Driver/Fairwayhits"]
[1,307,4,11,null,null,null,null,null,null,null,null,null,null,null,null,null,null,null,null,null,{"$f":"IF(Q5=0,\"\",P5)","v":""},null,null,null,null,{"$f":"IF(AND(Q5=\"\",P5=1),1,\"\")","v":""},null,{"$f":"IF(AND(G5=\"\"),\"\",SUM(K5))","v":""}]
[2,323,4,5,null,null,null,null,null,null,null,null,null,null,null,null,null,null,null,null,null,"",null,null,null,null,"",null,""]
[3,138,3,15,null,null,null,null,null,null,null,null,null,null,null,null,null,null,null,null,null,"",null,null,null,null,"",null,""]
[4,310,4,13,null,null,null,null,null,null,null,null,null,null,null,null,null,null,null,null,null,"",null,null,null,null,"",null,""]
[5,431,5,3,null,null,null,null,null,null,null,null,null,null,null,null,null,null,null,null,null,"",null,null,null,null,"",null,""]
[6,312,4,9,null,null,null,null,null,null,null,null,null,null,null,null,null,null,null,null,null,"",null,null,null,null,"",null,""]
[7,498,5,1,null,null,null,null,null,null,null,null,null,null,null,null,null,null,null,null,null,"",null,null,null,null,"",null,""]
[8,138,3,17,null,null,null,null,null,null,null,null,null,null,null,null,null,null,null,null,null,"",null,null,null,null,"",null,""]
[9,310,4,7,null,null,null,null,null,null,null,null,null,null,null,null,null,null,null,null,null,"",null,null,null,null,"",null,""]
[null,{"$f":"SUM(B5:B13)","v":2767},{"$f":"SUM(C5:C13)","v":36},"UD",{"$f":"SUM(E5:E13)","v":0},{"$f":"SUM(F5:F13)","v":0},{"$f":"SUM(G5:G13)","v":0},{"$f":"SUM(H5:H13)","v":0},{"$f":"SUM(I5:I13)","v":0},{"$f":"IF((A28=27),\"\",(SUM(J5:J13)/SUM(J5:L13))*100)","v":""},{"$f":"IF((A28=27),\"\",(SUM(K5:K13)/SUM(J5:L13))*100)","v":""},{"$f":"IF((A28=27),\"\",(SUM(L5:L13)/SUM(J5:L13))*100)","v":""},{"$f":"SUM(M5:M13)","v":0},{"$f":"SUM(N5:N13)","v":0},{"$f":"SUM(O5:O13)","v":0},{"$f":"SUM(P5:P13)","v":0},{"$f":"SUM(Q5:Q13)","v":0},null,{"$f":"IF(Q14=0,\"\",SUM(S5:S13)/Q14)","v":""},null,null,{"$f":"SUM(V5:V13)","v":0},{"$f":"ColorFunction($E$30,$E$5:$E$13)","v":0},{"$f":"ColorFunction($E$31,$E$5:$E$13)","v":0},{"$f":"ColorFunction($E$32,$E$5:$E$13)","v":0},{"$f":"ColorFunction($E$33,$E$5:$E$13)","v":0},{"$f":"SUM(AA5:AA13)/(9-Q14)*100","v":0},{"$f":"COUNTIF(P5:P13,\">2\")","v":0},{"$f":"IF((G14=0),\"\",SUM(AC5:AC13)/G14*100)","v":""}]
[10,481,5,4,null,null,null,null,null,null,null,null,null,null,null,null,null,null,null,null,null,{"$f":"IF(Q15=0,\"\",P15)","v":""},null,null,null,null,{"$f":"IF(AND(Q15=\"\",P15=1),1,\"\")","v":""},null,{"$f":"IF(AND(G15=\"\"),\"\",SUM(K15))","v":""}]
[11,319,4,16,null,null,null,null,null,null,null,null,null,null,null,null,null,null,null,null,null,"",null,null,null,null,"",null,""]
[12,431,5,2,null,null,null,null,null,null,null,null,null,null,null,null,null,null,null,null,null,"",null,null,null,null,"",null,""]
[13,122,3,18,null,null,null,null,null,null,null,null,null,null,null,null,null,null,null,null,null,"",null,null,null,null,"",null,""]
[14,379,4,6,null,null,null,null,null,null,null,null,null,null,null,null,null,null,null,null,null,"",null,null,null,null,"",null,""]
[15,316,4,8,null,null,null,null,null,null,null,null,null,null,null,null,null,null,null,null,null,"",null,null,null,null,"",null,""]
[16,322,4,14,null,null,null,null,null,null,null,null,null,null,null,null,null,null,null,null,null,"",null,null,null,null,"",null,""]
[17,345,4,10,null,null,null,null,null,null,null,null,null,null,null,null,null,null,null,null,null,"",null,null,null,null,"",null,""]
[18,281,4,12,null,null,null,null,null,null,null,null,null,null,null,null,null,null,null,null,null,"",null,null,null,null,"",null,""]
[null,{"$f":"SUM(B15:B23)","v":2996},{"$f":"SUM(C15:C23)","v":37},"IND",{"$f":"SUM(E15:E23)","v":0},{"$f":"SUM(F15:F23)","v":0},{"$f":"SUM(G15:G23)","v":0},{"$f":"SUM(H15:H23)","v":0},{"$f":"SUM(I15:I23)","v":0},{"$f":"IF((A29=27),\"\",(SUM(J15:J23)/SUM(J15:L23))*100)","v":""},{"$f":"IF((A29=27),\"\",(SUM(K15:K23)/SUM(J15:L23))*100)","v":""},{"$f":"IF((A29=27),\"\",(SUM(L15:L23)/SUM(J15:L23))*100)","v":""},{"$f":"SUM(M15:M23)","v":0},{"$f":"SUM(N15:N23)","v":0},{"$f":"SUM(O15:O23)","v":0},{"$f":"SUM(P15:P23)","v":0},{"$f":"SUM(Q15:Q23)","v":0},null,{"$f":"IF(Q24=0,\"\",SUM(S15:S23)/Q24)","v":""},null,null,{"$f":"SUM(V15:V23)","v":0},{"$f":"ColorFunction($E$30,$E$15:$E$23)","v":0},{"$f":"ColorFunction($E$31,$E$15:$E$23)","v":0},{"$f":"ColorFunction($E$32,$E$15:$E$23)","v":0},{"$f":"ColorFunction($E$33,$E$15:$E$23)","v":0},{"$f":"SUM(AA15:AA23)/(9-Q24)*100","v":0},{"$f":"COUNTIF(P15:P23,\">2\")","v":0},{"$f":"IF((G24=0),\"\",SUM(AC15:AC23)/G24*100)","v":""}]
[null,{"$f":"SUM(B24,B14)","v":5763},{"$f":"SUM(C24,C14)","v":73},"TOTAL",{"$f":"IF(E14=0,\"0\",(E24+E14))","v":"0"},{"$f":"SUM(F14,F24)","v":0},{"$f":"SUM(G24,G14)","v":0},{"$f":"SUM(H24,H14)","v":0},{"$f":"SUM(I24,I14)","v":0},{"$f":"IF((A28=27),\"\",(SUM(J14,J24)/2))","v":""},{"$f":"IF((A28=27),\"\",(SUM(K14,K24)/2))","v":""},{"$f":"IF((A28=27),\"\",(SUM(L14,L24)/2))","v":""},{"$f":"SUM(M24,M14)","v":0},{"$f":"SUM(N24,N14)","v":0},{"$f":"SUM(O24,O14)","v":0},{"$f":"IF(P14+P24=0,\"\",SUM(P24,P14))","v":""},{"$f":"IF(Q14+Q24=0,\"\",SUM(Q24,Q14))","v":""},null,{"$f":"IF(Q25=\"\",\"\",SUM(S24,S14)/2)","v":""},{"$f":"IF(N25=0,\"\",(O25)/N25*100)","v":""},{"$f":"IF(Q25=\"\",\"\",(Q25)/18*100)","v":""},{"$f":"IF(Q25=\"\",\"\",(V14+V24)/Q25)","v":""},{"$f":"SUM(W14,W24)","v":0},{"$f":"SUM(X14,X24)","v":0},{"$f":"SUM(Y14,Y24)","v":0},{"$f":"SUM(Z14,Z24)","v":0},{"$f":"SUM(AA14,AA24)/2","v":0},{"$f":"SUM(AB14,AB24)","v":0},{"$f":"SUM(AC24,AC14)/2","v":0}]
[]
[null,null,null,null,"Udfyld alle grønne felter med 1 for positiv eller antal i tal"]
[{"$f":"COUNTBLANK(I5:K13)","v":27},null,null,null,null,null,null,null,null,null,null,null,null,null,null,null,null,null,null,null,null,null,"Approach"]
[{"$f":"COUNTBLANK(I15:K23)","v":27},null,null,null,"Udfyld følgende farver:",null,null,null,null,null,null,null,null,null,null,null,null,null,"Holes to par",null,null,null,"Længde (m)","Antal","Afstand (m)"]
[{"$f":"SUM(L5:L23)","v":0},null,null,null,"Eagles",null,null,null,null,null,null,null,null,null,null,null,null,null,"Par 3",{"$f":"SUMIF(C:C,\"3\",E:E)/COUNTIF(C:C,3)","v":0},null,null,"45-70",{"$f":"COUNTIFS(R5:R23,\">=45\",R5:R23,\"<=70\")","v":0},{"$f":"IF(X30=0,\"\",AVERAGEIFS(S5:S23,R5:R23,\">=45\",R5:R23,\"<=70\"))","v":""}]
[null,null,null,null,"Birdies",null,null,null,null,null,null,null,null,null,null,null,null,null,"Par 4",{"$f":"SUMIF(C:C,\"4\",E:E)/COUNTIF(C:C,4)","v":0},null,null,"71-90",{"$f":"COUNTIFS(R5:R23,\">=71\",R5:R23,\"<=90\")","v":0},{"$f":"IF(X31=0,\"\",AVERAGEIFS(S5:S23,R5:R23,\">=71\",R5:R23,\"<=90\"))","v":""}]
[null,null,null,null,"Bogeys",null,null,null,null,null,null,null,null,null,null,null,null,null,"Par 5",{"$f":"SUMIF(C:C,\"5\",E:E)/COUNTIF(C:C,5)","v":0},null,null,"91-115",{"$f":"COUNTIFS(R5:R23,\">=91\",R5:R23,\"<=115\")","v":0},{"$f":"IF(X32=0,\"\",AVERAGEIFS(S5:S23,R5:R23,\">=91\",R5:R23,\"<=115\"))","v":""}]
[null,null,null,null,"Doublebogeys eller værre",null,null,null,null,null,null,null,null,null,null,null,null,null,null,null,null,null,"116-140",{"$f":"COUNTIFS(R5:R23,\">=116\",R5:R23,\"<=140\")","v":0},{"$f":"IF(X33=0,\"\",AVERAGEIFS(S5:S23,R5:R23,\">=116\",R5:R23,\"<=140\"))","v":""}]
[null,null,null,null,null,null,null,null,null,null,null,null,null,null,null,null,null,null,"First 4",{"$f":"IF(E25=\"0\",\"\",SUM(E5:E8)-SUM(C5:C8))","v":""},null,null,"141-160",{"$f":"COUNTIFS(R5:R23,\">=141\",R5:R23,\"<=161\")","v":0},{"$f":"IF(X34=0,\"\",AVERAGEIFS(S5:S23,R5:R23,\">=141\",R5:R23,\"<=160\"))","v":""}]
[null,null,null,null,null,null,null,null,null,null,null,null,null,null,null,null,null,null,"Last 4",{"$f":"IF(E25=\"0\",\"\",SUM(E20:E23)-SUM(C20:C23))","v":""},null,null,"161-180",{"$f":"COUNTIFS(R5:R23,\">=161\",R5:R23,\"<=180\")","v":0},{"$f":"IF(X35=0,\"\",AVERAGEIFS(S5:S23,R5:R23,\">=161\",R5:R23,\"<=180\"))","v":""}]
[]
[null,null,null,null,null,null,null,null,null,null,null,null,null,null,null,null,null,null,null,null,null,null,"Putting"]
[null,null,null,null,null,null,null,null,null,null,null,null,null,null,null,null,null,null,null,null,null,null,"Længde (m)","Antal","Holet","Holet (%)"]
[null,null,null,null,null,null,null,null,null,null,null,null,null,null,null,null,null,null,null,null,null,null,"under 1 m",{"$f":"COUNTIFS(S5:S23,\">=0,1\",S5:S23,\"<=0,9\")","v":0},{"$f":"IF(X39=0,\"\",COUNTIFS(P5:P23,\"=1\",S5:S23,\"<1\"))","v":""},{"$f":"IF(X39=0,\"\",Y39/X39*100)","v":""}]
[null,null,null,null,null,null,null,null,null,null,null,null,null,null,null,null,null,null,null,null,null,null,"1 - 1,5",{"$f":"COUNTIFS(S5:S23,\">=1\",S5:S23,\"<=1,5\")","v":0},{"$f":"IF(X40=0,\"\",COUNTIFS(P5:P23,\"=1\",S5:S23,\">=1\",S5:S23,\"<=1,5\"))","v":""},{"$f":"IF(X40=0,\"\",Y40/X40*100)","v":""}]
[null,null,null,null,null,null,null,null,null,null,null,null,null,null,null,null,null,null,null,null,null,null,"1,5 - 3",{"$f":"COUNTIFS(S5:S23,\">=1,6\",S5:S23,\"<=3\")","v":0},{"$f":"IF(X41=0,\"\",COUNTIFS(P5:P23,\"=1\",S5:S23,\">=1,6\",S5:S23,\"<=3\"))","v":""},{"$f":"IF(X41=0,\"\",Y41/X41*100)","v":""}]
[null,null,null,null,null,null,null,null,null,null,null,null,null,null,null,null,null,null,null,null,null,null,"3 - 4,5",{"$f":"COUNTIFS(S5:S23,\">=3,1\",S5:S23,\"<=4,5\")","v":0},{"$f":"IF(X42=0,\"\",COUNTIFS(P5:P23,\"=1\",S5:S23,\">=3,1\",S5:S23,\"<=4,5\"))","v":""},""]
[null,null,null,null,null,null,null,null,null,null,null,null,null,null,null,null,null,null,null,null,null,null,"4,5 - 6",{"$f":"COUNTIFS(S5:S23,\">=4,6\",S5:S23,\"<=6\")","v":0},{"$f":"IF(X43=0,\"\",COUNTIFS(P5:P23,\"=1\",S5:S23,\">=4,6\",S5:S23,\"<=6\"))","v":""},""]
[null,null,null,null,null,null,null,null,null,null,null,null,null,null,null,null,null,null,null,null,null,null,"over 6 meter",{"$f":"COUNTIFS(S5:S23,\">6\")","v":0},{"$f":"IF(X44=0,\"\",COUNTIFS(P5:P23,\"=1\",S5:S23,\">6\"))","v":""},""]

{"sheet":"Runde 20","index":22,"n_rows":44,"n_cols":29,"rows_kept":44,"cut":false,"hidden":false,"merged":[]}
["Korsør Golf Klub - 18 huller - Gul tee",null,null,null,null,null,null,null,null,{"$f":"IF(E25=\"0\",\"0\",\"1\")","v":"0"},null,"Dato:",null,null,"Handicap:",null,null,null,null,"Antal tildelte slag:"]
[]
[null,null,null,null,null,null,null,"Tee shot",null,null,"Fairway hits i %",null,null,"Bunker",null,null,null,"Approach shots"]
["Hul","Gul tee","Par","HCP","Score","Netto","Driver","Wood","Jern","Venstre","Midt","Højre","FB","GB","SS","Putts","GIR","Dist. to pin (m)","Dist. to hole (m)","% SS","% GIR","Putts/GIR","Eagles","Birdies","Bogeys","Værre","% Scramble","3+ Putts","% Driver/Fairwayhits"]
[1,307,4,11,null,null,null,null,null,null,null,null,null,null,null,null,null,null,null,null,null,{"$f":"IF(Q5=0,\"\",P5)","v":""},null,null,null,null,{"$f":"IF(AND(Q5=\"\",P5=1),1,\"\")","v":""},null,{"$f":"IF(AND(G5=\"\"),\"\",SUM(K5))","v":""}]
[2,323,4,5,null,null,null,null,null,null,null,null,null,null,null,null,null,null,null,null,null,"",null,null,null,null,"",null,""]
[3,138,3,15,null,null,null,null,null,null,null,null,null,null,null,null,null,null,null,null,null,"",null,null,null,null,"",null,""]
[4,310,4,13,null,null,null,null,null,null,null,null,null,null,null,null,null,null,null,null,null,"",null,null,null,null,"",null,""]
[5,431,5,3,null,null,null,null,null,null,null,null,null,null,null,null,null,null,null,null,null,"",null,null,null,null,"",null,""]
[6,312,4,9,null,null,null,null,null,null,null,null,null,null,null,null,null,null,null,null,null,"",null,null,null,null,"",null,""]
[7,498,5,1,null,null,null,null,null,null,null,null,null,null,null,null,null,null,null,null,null,"",null,null,null,null,"",null,""]
[8,138,3,17,null,null,null,null,null,null,null,null,null,null,null,null,null,null,null,null,null,"",null,null,null,null,"",null,""]
[9,310,4,7,null,null,null,null,null,null,null,null,null,null,null,null,null,null,null,null,null,"",null,null,null,null,"",null,""]
[null,{"$f":"SUM(B5:B13)","v":2767},{"$f":"SUM(C5:C13)","v":36},"UD",{"$f":"SUM(E5:E13)","v":0},{"$f":"SUM(F5:F13)","v":0},{"$f":"SUM(G5:G13)","v":0},{"$f":"SUM(H5:H13)","v":0},{"$f":"SUM(I5:I13)","v":0},{"$f":"IF((A28=27),\"\",(SUM(J5:J13)/SUM(J5:L13))*100)","v":""},{"$f":"IF((A28=27),\"\",(SUM(K5:K13)/SUM(J5:L13))*100)","v":""},{"$f":"IF((A28=27),\"\",(SUM(L5:L13)/SUM(J5:L13))*100)","v":""},{"$f":"SUM(M5:M13)","v":0},{"$f":"SUM(N5:N13)","v":0},{"$f":"SUM(O5:O13)","v":0},{"$f":"SUM(P5:P13)","v":0},{"$f":"SUM(Q5:Q13)","v":0},null,{"$f":"IF(Q14=0,\"\",SUM(S5:S13)/Q14)","v":""},null,null,{"$f":"SUM(V5:V13)","v":0},{"$f":"ColorFunction($E$30,$E$5:$E$13)","v":0},{"$f":"ColorFunction($E$31,$E$5:$E$13)","v":0},{"$f":"ColorFunction($E$32,$E$5:$E$13)","v":0},{"$f":"ColorFunction($E$33,$E$5:$E$13)","v":0},{"$f":"SUM(AA5:AA13)/(9-Q14)*100","v":0},{"$f":"COUNTIF(P5:P13,\">2\")","v":0},{"$f":"IF((G14=0),\"\",SUM(AC5:AC13)/G14*100)","v":""}]
[10,481,5,4,null,null,null,null,null,null,null,null,null,null,null,null,null,null,null,null,null,{"$f":"IF(Q15=0,\"\",P15)","v":""},null,null,null,null,{"$f":"IF(AND(Q15=\"\",P15=1),1,\"\")","v":""},null,{"$f":"IF(AND(G15=\"\"),\"\",SUM(K15))","v":""}]
[11,319,4,16,null,null,null,null,null,null,null,null,null,null,null,null,null,null,null,null,null,"",null,null,null,null,"",null,""]
[12,431,5,2,null,null,null,null,null,null,null,null,null,null,null,null,null,null,null,null,null,"",null,null,null,null,"",null,""]
[13,122,3,18,null,null,null,null,null,null,null,null,null,null,null,null,null,null,null,null,null,"",null,null,null,null,"",null,""]
[14,379,4,6,null,null,null,null,null,null,null,null,null,null,null,null,null,null,null,null,null,"",null,null,null,null,"",null,""]
[15,316,4,8,null,null,null,null,null,null,null,null,null,null,null,null,null,null,null,null,null,"",null,null,null,null,"",null,""]
[16,322,4,14,null,null,null,null,null,null,null,null,null,null,null,null,null,null,null,null,null,"",null,null,null,null,"",null,""]
[17,345,4,10,null,null,null,null,null,null,null,null,null,null,null,null,null,null,null,null,null,"",null,null,null,null,"",null,""]
[18,281,4,12,null,null,null,null,null,null,null,null,null,null,null,null,null,null,null,null,null,"",null,null,null,null,"",null,""]
[null,{"$f":"SUM(B15:B23)","v":2996},{"$f":"SUM(C15:C23)","v":37},"IND",{"$f":"SUM(E15:E23)","v":0},{"$f":"SUM(F15:F23)","v":0},{"$f":"SUM(G15:G23)","v":0},{"$f":"SUM(H15:H23)","v":0},{"$f":"SUM(I15:I23)","v":0},{"$f":"IF((A29=27),\"\",(SUM(J15:J23)/SUM(J15:L23))*100)","v":""},{"$f":"IF((A29=27),\"\",(SUM(K15:K23)/SUM(J15:L23))*100)","v":""},{"$f":"IF((A29=27),\"\",(SUM(L15:L23)/SUM(J15:L23))*100)","v":""},{"$f":"SUM(M15:M23)","v":0},{"$f":"SUM(N15:N23)","v":0},{"$f":"SUM(O15:O23)","v":0},{"$f":"SUM(P15:P23)","v":0},{"$f":"SUM(Q15:Q23)","v":0},null,{"$f":"IF(Q24=0,\"\",SUM(S15:S23)/Q24)","v":""},null,null,{"$f":"SUM(V15:V23)","v":0},{"$f":"ColorFunction($E$30,$E$15:$E$23)","v":0},{"$f":"ColorFunction($E$31,$E$15:$E$23)","v":0},{"$f":"ColorFunction($E$32,$E$15:$E$23)","v":0},{"$f":"ColorFunction($E$33,$E$15:$E$23)","v":0},{"$f":"SUM(AA15:AA23)/(9-Q24)*100","v":0},{"$f":"COUNTIF(P15:P23,\">2\")","v":0},{"$f":"IF((G24=0),\"\",SUM(AC15:AC23)/G24*100)","v":""}]
[null,{"$f":"SUM(B24,B14)","v":5763},{"$f":"SUM(C24,C14)","v":73},"TOTAL",{"$f":"IF(E14=0,\"0\",(E24+E14))","v":"0"},{"$f":"SUM(F14,F24)","v":0},{"$f":"SUM(G24,G14)","v":0},{"$f":"SUM(H24,H14)","v":0},{"$f":"SUM(I24,I14)","v":0},{"$f":"IF((A28=27),\"\",(SUM(J14,J24)/2))","v":""},{"$f":"IF((A28=27),\"\",(SUM(K14,K24)/2))","v":""},{"$f":"IF((A28=27),\"\",(SUM(L14,L24)/2))","v":""},{"$f":"SUM(M24,M14)","v":0},{"$f":"SUM(N24,N14)","v":0},{"$f":"SUM(O24,O14)","v":0},{"$f":"IF(P14+P24=0,\"\",SUM(P24,P14))","v":""},{"$f":"IF(Q14+Q24=0,\"\",SUM(Q24,Q14))","v":""},null,{"$f":"IF(Q25=\"\",\"\",SUM(S24,S14)/2)","v":""},{"$f":"IF(N25=0,\"\",(O25)/N25*100)","v":""},{"$f":"IF(Q25=\"\",\"\",(Q25)/18*100)","v":""},{"$f":"IF(Q25=\"\",\"\",(V14+V24)/Q25)","v":""},{"$f":"SUM(W14,W24)","v":0},{"$f":"SUM(X14,X24)","v":0},{"$f":"SUM(Y14,Y24)","v":0},{"$f":"SUM(Z14,Z24)","v":0},{"$f":"SUM(AA14,AA24)/2","v":0},{"$f":"SUM(AB14,AB24)","v":0},{"$f":"SUM(AC24,AC14)/2","v":0}]
[]
[null,null,null,null,"Udfyld alle grønne felter med 1 for positiv eller antal i tal"]
[{"$f":"COUNTBLANK(I5:K13)","v":27},null,null,null,null,null,null,null,null,null,null,null,null,null,null,null,null,null,null,null,null,null,"Approach"]
[{"$f":"COUNTBLANK(I15:K23)","v":27},null,null,null,"Udfyld følgende farver:",null,null,null,null,null,null,null,null,null,null,null,null,null,"Holes to par",null,null,null,"Længde (m)","Antal","Afstand (m)"]
[{"$f":"SUM(L5:L23)","v":0},null,null,null,"Eagles",null,null,null,null,null,null,null,null,null,null,null,null,null,"Par 3",{"$f":"SUMIF(C:C,\"3\",E:E)/COUNTIF(C:C,3)","v":0},null,null,"45-70",{"$f":"COUNTIFS(R5:R23,\">=45\",R5:R23,\"<=70\")","v":0},{"$f":"IF(X30=0,\"\",AVERAGEIFS(S5:S23,R5:R23,\">=45\",R5:R23,\"<=70\"))","v":""}]
[null,null,null,null,"Birdies",null,null,null,null,null,null,null,null,null,null,null,null,null,"Par 4",{"$f":"SUMIF(C:C,\"4\",E:E)/COUNTIF(C:C,4)","v":0},null,null,"71-90",{"$f":"COUNTIFS(R5:R23,\">=71\",R5:R23,\"<=90\")","v":0},{"$f":"IF(X31=0,\"\",AVERAGEIFS(S5:S23,R5:R23,\">=71\",R5:R23,\"<=90\"))","v":""}]
[null,null,null,null,"Bogeys",null,null,null,null,null,null,null,null,null,null,null,null,null,"Par 5",{"$f":"SUMIF(C:C,\"5\",E:E)/COUNTIF(C:C,5)","v":0},null,null,"91-115",{"$f":"COUNTIFS(R5:R23,\">=91\",R5:R23,\"<=115\")","v":0},{"$f":"IF(X32=0,\"\",AVERAGEIFS(S5:S23,R5:R23,\">=91\",R5:R23,\"<=115\"))","v":""}]
[null,null,null,null,"Doublebogeys eller værre",null,null,null,null,null,null,null,null,null,null,null,null,null,null,null,null,null,"116-140",{"$f":"COUNTIFS(R5:R23,\">=116\",R5:R23,\"<=140\")","v":0},{"$f":"IF(X33=0,\"\",AVERAGEIFS(S5:S23,R5:R23,\">=116\",R5:R23,\"<=140\"))","v":""}]
[null,null,null,null,null,null,null,null,null,null,null,null,null,null,null,null,null,null,"First 4",{"$f":"IF(E25=\"0\",\"\",SUM(E5:E8)-SUM(C5:C8))","v":""},null,null,"141-160",{"$f":"COUNTIFS(R5:R23,\">=141\",R5:R23,\"<=161\")","v":0},{"$f":"IF(X34=0,\"\",AVERAGEIFS(S5:S23,R5:R23,\">=141\",R5:R23,\"<=160\"))","v":""}]
[null,null,null,null,null,null,null,null,null,null,null,null,null,null,null,null,null,null,"Last 4",{"$f":"IF(E25=\"0\",\"\",SUM(E20:E23)-SUM(C20:C23))","v":""},null,null,"161-180",{"$f":"COUNTIFS(R5:R23,\">=161\",R5:R23,\"<=180\")","v":0},{"$f":"IF(X35=0,\"\",AVERAGEIFS(S5:S23,R5:R23,\">=161\",R5:R23,\"<=180\"))","v":""}]
[]
[null,null,null,null,null,null,null,null,null,null,null,null,null,null,null,null,null,null,null,null,null,null,"Putting"]
[null,null,null,null,null,null,null,null,null,null,null,null,null,null,null,null,null,null,null,null,null,null,"Længde (m)","Antal","Holet","Holet (%)"]
[null,null,null,null,null,null,null,null,null,null,null,null,null,null,null,null,null,null,null,null,null,null,"under 1 m",{"$f":"COUNTIFS(S5:S23,\">=0,1\",S5:S23,\"<=0,9\")","v":0},{"$f":"IF(X39=0,\"\",COUNTIFS(P5:P23,\"=1\",S5:S23,\"<1\"))","v":""},{"$f":"IF(X39=0,\"\",Y39/X39*100)","v":""}]
[null,null,null,null,null,null,null,null,null,null,null,null,null,null,null,null,null,null,null,null,null,null,"1 - 1,5",{"$f":"COUNTIFS(S5:S23,\">=1\",S5:S23,\"<=1,5\")","v":0},{"$f":"IF(X40=0,\"\",COUNTIFS(P5:P23,\"=1\",S5:S23,\">=1\",S5:S23,\"<=1,5\"))","v":""},{"$f":"IF(X40=0,\"\",Y40/X40*100)","v":""}]
[null,null,null,null,null,null,null,null,null,null,null,null,null,null,null,null,null,null,null,null,null,null,"1,5 - 3",{"$f":"COUNTIFS(S5:S23,\">=1,6\",S5:S23,\"<=3\")","v":0},{"$f":"IF(X41=0,\"\",COUNTIFS(P5:P23,\"=1\",S5:S23,\">=1,6\",S5:S23,\"<=3\"))","v":""},{"$f":"IF(X41=0,\"\",Y41/X41*100)","v":""}]
[null,null,null,null,null,null,null,null,null,null,null,null,null,null,null,null,null,null,null,null,null,null,"3 - 4,5",{"$f":"COUNTIFS(S5:S23,\">=3,1\",S5:S23,\"<=4,5\")","v":0},{"$f":"IF(X42=0,\"\",COUNTIFS(P5:P23,\"=1\",S5:S23,\">=3,1\",S5:S23,\"<=4,5\"))","v":""},""]
[null,null,null,null,null,null,null,null,null,null,null,null,null,null,null,null,null,null,null,null,null,null,"4,5 - 6",{"$f":"COUNTIFS(S5:S23,\">=4,6\",S5:S23,\"<=6\")","v":0},{"$f":"IF(X43=0,\"\",COUNTIFS(P5:P23,\"=1\",S5:S23,\">=4,6\",S5:S23,\"<=6\"))","v":""},""]
[null,null,null,null,null,null,null,null,null,null,null,null,null,null,null,null,null,null,null,null,null,null,"over 6 meter",{"$f":"COUNTIFS(S5:S23,\">6\")","v":0},{"$f":"IF(X44=0,\"\",COUNTIFS(P5:P23,\"=1\",S5:S23,\">6\"))","v":""},""]

{"sheet":"Runde 21","index":23,"n_rows":44,"n_cols":29,"rows_kept":44,"cut":false,"hidden":false,"merged":[]}
["Korsør Golf Klub - 18 huller - Gul tee",null,null,null,null,null,null,null,null,{"$f":"IF(E25=\"0\",\"0\",\"1\")","v":"0"},null,"Dato:",null,null,"Handicap:",null,null,null,null,"Antal tildelte slag:"]
[]
[null,null,null,null,null,null,null,"Tee shot",null,null,"Fairway hits i %",null,null,"Bunker",null,null,null,"Approach shots"]
["Hul","Gul tee","Par","HCP","Score","Netto","Driver","Wood","Jern","Venstre","Midt","Højre","FB","GB","SS","Putts","GIR","Dist. to pin (m)","Dist. to hole (m)","% SS","% GIR","Putts/GIR","Eagles","Birdies","Bogeys","Værre","% Scramble","3+ Putts","% Driver/Fairwayhits"]
[1,307,4,11,null,null,null,null,null,null,null,null,null,null,null,null,null,null,null,null,null,{"$f":"IF(Q5=0,\"\",P5)","v":""},null,null,null,null,{"$f":"IF(AND(Q5=\"\",P5=1),1,\"\")","v":""},null,{"$f":"IF(AND(G5=\"\"),\"\",SUM(K5))","v":""}]
[2,323,4,5,null,null,null,null,null,null,null,null,null,null,null,null,null,null,null,null,null,"",null,null,null,null,"",null,""]
[3,138,3,15,null,null,null,null,null,null,null,null,null,null,null,null,null,null,null,null,null,"",null,null,null,null,"",null,""]
[4,310,4,13,null,null,null,null,null,null,null,null,null,null,null,null,null,null,null,null,null,"",null,null,null,null,"",null,""]
[5,431,5,3,null,null,null,null,null,null,null,null,null,null,null,null,null,null,null,null,null,"",null,null,null,null,"",null,""]
[6,312,4,9,null,null,null,null,null,null,null,null,null,null,null,null,null,null,null,null,null,"",null,null,null,null,"",null,""]
[7,498,5,1,null,null,null,null,null,null,null,null,null,null,null,null,null,null,null,null,null,"",null,null,null,null,"",null,""]
[8,138,3,17,null,null,null,null,null,null,null,null,null,null,null,null,null,null,null,null,null,"",null,null,null,null,"",null,""]
[9,310,4,7,null,null,null,null,null,null,null,null,null,null,null,null,null,null,null,null,null,"",null,null,null,null,"",null,""]
[null,{"$f":"SUM(B5:B13)","v":2767},{"$f":"SUM(C5:C13)","v":36},"UD",{"$f":"SUM(E5:E13)","v":0},{"$f":"SUM(F5:F13)","v":0},{"$f":"SUM(G5:G13)","v":0},{"$f":"SUM(H5:H13)","v":0},{"$f":"SUM(I5:I13)","v":0},{"$f":"IF((A28=27),\"\",(SUM(J5:J13)/SUM(J5:L13))*100)","v":""},{"$f":"IF((A28=27),\"\",(SUM(K5:K13)/SUM(J5:L13))*100)","v":""},{"$f":"IF((A28=27),\"\",(SUM(L5:L13)/SUM(J5:L13))*100)","v":""},{"$f":"SUM(M5:M13)","v":0},{"$f":"SUM(N5:N13)","v":0},{"$f":"SUM(O5:O13)","v":0},{"$f":"SUM(P5:P13)","v":0},{"$f":"SUM(Q5:Q13)","v":0},null,{"$f":"IF(Q14=0,\"\",SUM(S5:S13)/Q14)","v":""},null,null,{"$f":"SUM(V5:V13)","v":0},{"$f":"ColorFunction($E$30,$E$5:$E$13)","v":0},{"$f":"ColorFunction($E$31,$E$5:$E$13)","v":0},{"$f":"ColorFunction($E$32,$E$5:$E$13)","v":0},{"$f":"ColorFunction($E$33,$E$5:$E$13)","v":0},{"$f":"SUM(AA5:AA13)/(9-Q14)*100","v":0},{"$f":"COUNTIF(P5:P13,\">2\")","v":0},{"$f":"IF((G14=0),\"\",SUM(AC5:AC13)/G14*100)","v":""}]
[10,481,5,4,null,null,null,null,null,null,null,null,null,null,null,null,null,null,null,null,null,{"$f":"IF(Q15=0,\"\",P15)","v":""},null,null,null,null,{"$f":"IF(AND(Q15=\"\",P15=1),1,\"\")","v":""},null,{"$f":"IF(AND(G15=\"\"),\"\",SUM(K15))","v":""}]
[11,319,4,16,null,null,null,null,null,null,null,null,null,null,null,null,null,null,null,null,null,"",null,null,null,null,"",null,""]
[12,431,5,2,null,null,null,null,null,null,null,null,null,null,null,null,null,null,null,null,null,"",null,null,null,null,"",null,""]
[13,122,3,18,null,null,null,null,null,null,null,null,null,null,null,null,null,null,null,null,null,"",null,null,null,null,"",null,""]
[14,379,4,6,null,null,null,null,null,null,null,null,null,null,null,null,null,null,null,null,null,"",null,null,null,null,"",null,""]
[15,316,4,8,null,null,null,null,null,null,null,null,null,null,null,null,null,null,null,null,null,"",null,null,null,null,"",null,""]
[16,322,4,14,null,null,null,null,null,null,null,null,null,null,null,null,null,null,null,null,null,"",null,null,null,null,"",null,""]
[17,345,4,10,null,null,null,null,null,null,null,null,null,null,null,null,null,null,null,null,null,"",null,null,null,null,"",null,""]
[18,281,4,12,null,null,null,null,null,null,null,null,null,null,null,null,null,null,null,null,null,"",null,null,null,null,"",null,""]
[null,{"$f":"SUM(B15:B23)","v":2996},{"$f":"SUM(C15:C23)","v":37},"IND",{"$f":"SUM(E15:E23)","v":0},{"$f":"SUM(F15:F23)","v":0},{"$f":"SUM(G15:G23)","v":0},{"$f":"SUM(H15:H23)","v":0},{"$f":"SUM(I15:I23)","v":0},{"$f":"IF((A29=27),\"\",(SUM(J15:J23)/SUM(J15:L23))*100)","v":""},{"$f":"IF((A29=27),\"\",(SUM(K15:K23)/SUM(J15:L23))*100)","v":""},{"$f":"IF((A29=27),\"\",(SUM(L15:L23)/SUM(J15:L23))*100)","v":""},{"$f":"SUM(M15:M23)","v":0},{"$f":"SUM(N15:N23)","v":0},{"$f":"SUM(O15:O23)","v":0},{"$f":"SUM(P15:P23)","v":0},{"$f":"SUM(Q15:Q23)","v":0},null,{"$f":"IF(Q24=0,\"\",SUM(S15:S23)/Q24)","v":""},null,null,{"$f":"SUM(V15:V23)","v":0},{"$f":"ColorFunction($E$30,$E$15:$E$23)","v":0},{"$f":"ColorFunction($E$31,$E$15:$E$23)","v":0},{"$f":"ColorFunction($E$32,$E$15:$E$23)","v":0},{"$f":"ColorFunction($E$33,$E$15:$E$23)","v":0},{"$f":"SUM(AA15:AA23)/(9-Q24)*100","v":0},{"$f":"COUNTIF(P15:P23,\">2\")","v":0},{"$f":"IF((G24=0),\"\",SUM(AC15:AC23)/G24*100)","v":""}]
[null,{"$f":"SUM(B24,B14)","v":5763},{"$f":"SUM(C24,C14)","v":73},"TOTAL",{"$f":"IF(E14=0,\"0\",(E24+E14))","v":"0"},{"$f":"SUM(F14,F24)","v":0},{"$f":"SUM(G24,G14)","v":0},{"$f":"SUM(H24,H14)","v":0},{"$f":"SUM(I24,I14)","v":0},{"$f":"IF((A28=27),\"\",(SUM(J14,J24)/2))","v":""},{"$f":"IF((A28=27),\"\",(SUM(K14,K24)/2))","v":""},{"$f":"IF((A28=27),\"\",(SUM(L14,L24)/2))","v":""},{"$f":"SUM(M24,M14)","v":0},{"$f":"SUM(N24,N14)","v":0},{"$f":"SUM(O24,O14)","v":0},{"$f":"IF(P14+P24=0,\"\",SUM(P24,P14))","v":""},{"$f":"IF(Q14+Q24=0,\"\",SUM(Q24,Q14))","v":""},null,{"$f":"IF(Q25=\"\",\"\",SUM(S24,S14)/2)","v":""},{"$f":"IF(N25=0,\"\",(O25)/N25*100)","v":""},{"$f":"IF(Q25=\"\",\"\",(Q25)/18*100)","v":""},{"$f":"IF(Q25=\"\",\"\",(V14+V24)/Q25)","v":""},{"$f":"SUM(W14,W24)","v":0},{"$f":"SUM(X14,X24)","v":0},{"$f":"SUM(Y14,Y24)","v":0},{"$f":"SUM(Z14,Z24)","v":0},{"$f":"SUM(AA14,AA24)/2","v":0},{"$f":"SUM(AB14,AB24)","v":0},{"$f":"SUM(AC24,AC14)/2","v":0}]
[]
[null,null,null,null,"Udfyld alle grønne felter med 1 for positiv eller antal i tal"]
[{"$f":"COUNTBLANK(I5:K13)","v":27},null,null,null,null,null,null,null,null,null,null,null,null,null,null,null,null,null,null,null,null,null,"Approach"]
[{"$f":"COUNTBLANK(I15:K23)","v":27},null,null,null,"Udfyld følgende farver:",null,null,null,null,null,null,null,null,null,null,null,null,null,"Holes to par",null,null,null,"Længde (m)","Antal","Afstand (m)"]
[{"$f":"SUM(L5:L23)","v":0},null,null,null,"Eagles",null,null,null,null,null,null,null,null,null,null,null,null,null,"Par 3",{"$f":"SUMIF(C:C,\"3\",E:E)/COUNTIF(C:C,3)","v":0},null,null,"45-70",{"$f":"COUNTIFS(R5:R23,\">=45\",R5:R23,\"<=70\")","v":0},{"$f":"IF(X30=0,\"\",AVERAGEIFS(S5:S23,R5:R23,\">=45\",R5:R23,\"<=70\"))","v":""}]
[null,null,null,null,"Birdies",null,null,null,null,null,null,null,null,null,null,null,null,null,"Par 4",{"$f":"SUMIF(C:C,\"4\",E:E)/COUNTIF(C:C,4)","v":0},null,null,"71-90",{"$f":"COUNTIFS(R5:R23,\">=71\",R5:R23,\"<=90\")","v":0},{"$f":"IF(X31=0,\"\",AVERAGEIFS(S5:S23,R5:R23,\">=71\",R5:R23,\"<=90\"))","v":""}]
[null,null,null,null,"Bogeys",null,null,null,null,null,null,null,null,null,null,null,null,null,"Par 5",{"$f":"SUMIF(C:C,\"5\",E:E)/COUNTIF(C:C,5)","v":0},null,null,"91-115",{"$f":"COUNTIFS(R5:R23,\">=91\",R5:R23,\"<=115\")","v":0},{"$f":"IF(X32=0,\"\",AVERAGEIFS(S5:S23,R5:R23,\">=91\",R5:R23,\"<=115\"))","v":""}]
[null,null,null,null,"Doublebogeys eller værre",null,null,null,null,null,null,null,null,null,null,null,null,null,null,null,null,null,"116-140",{"$f":"COUNTIFS(R5:R23,\">=116\",R5:R23,\"<=140\")","v":0},{"$f":"IF(X33=0,\"\",AVERAGEIFS(S5:S23,R5:R23,\">=116\",R5:R23,\"<=140\"))","v":""}]
[null,null,null,null,null,null,null,null,null,null,null,null,null,null,null,null,null,null,"First 4",{"$f":"IF(E25=\"0\",\"\",SUM(E5:E8)-SUM(C5:C8))","v":""},null,null,"141-160",{"$f":"COUNTIFS(R5:R23,\">=141\",R5:R23,\"<=161\")","v":0},{"$f":"IF(X34=0,\"\",AVERAGEIFS(S5:S23,R5:R23,\">=141\",R5:R23,\"<=160\"))","v":""}]
[null,null,null,null,null,null,null,null,null,null,null,null,null,null,null,null,null,null,"Last 4",{"$f":"IF(E25=\"0\",\"\",SUM(E20:E23)-SUM(C20:C23))","v":""},null,null,"161-180",{"$f":"COUNTIFS(R5:R23,\">=161\",R5:R23,\"<=180\")","v":0},{"$f":"IF(X35=0,\"\",AVERAGEIFS(S5:S23,R5:R23,\">=161\",R5:R23,\"<=180\"))","v":""}]
[]
[null,null,null,null,null,null,null,null,null,null,null,null,null,null,null,null,null,null,null,null,null,null,"Putting"]
[null,null,null,null,null,null,null,null,null,null,null,null,null,null,null,null,null,null,null,null,null,null,"Længde (m)","Antal","Holet","Holet (%)"]
[null,null,null,null,null,null,null,null,null,null,null,null,null,null,null,null,null,null,null,null,null,null,"under 1 m",{"$f":"COUNTIFS(S5:S23,\">=0,1\",S5:S23,\"<=0,9\")","v":0},{"$f":"IF(X39=0,\"\",COUNTIFS(P5:P23,\"=1\",S5:S23,\"<1\"))","v":""},{"$f":"IF(X39=0,\"\",Y39/X39*100)","v":""}]
[null,null,null,null,null,null,null,null,null,null,null,null,null,null,null,null,null,null,null,null,null,null,"1 - 1,5",{"$f":"COUNTIFS(S5:S23,\">=1\",S5:S23,\"<=1,5\")","v":0},{"$f":"IF(X40=0,\"\",COUNTIFS(P5:P23,\"=1\",S5:S23,\">=1\",S5:S23,\"<=1,5\"))","v":""},{"$f":"IF(X40=0,\"\",Y40/X40*100)","v":""}]
[null,null,null,null,null,null,null,null,null,null,null,null,null,null,null,null,null,null,null,null,null,null,"1,5 - 3",{"$f":"COUNTIFS(S5:S23,\">=1,6\",S5:S23,\"<=3\")","v":0},{"$f":"IF(X41=0,\"\",COUNTIFS(P5:P23,\"=1\",S5:S23,\">=1,6\",S5:S23,\"<=3\"))","v":""},{"$f":"IF(X41=0,\"\",Y41/X41*100)","v":""}]
[null,null,null,null,null,null,null,null,null,null,null,null,null,null,null,null,null,null,null,null,null,null,"3 - 4,5",{"$f":"COUNTIFS(S5:S23,\">=3,1\",S5:S23,\"<=4,5\")","v":0},{"$f":"IF(X42=0,\"\",COUNTIFS(P5:P23,\"=1\",S5:S23,\">=3,1\",S5:S23,\"<=4,5\"))","v":""},""]
[null,null,null,null,null,null,null,null,null,null,null,null,null,null,null,null,null,null,null,null,null,null,"4,5 - 6",{"$f":"COUNTIFS(S5:S23,\">=4,6\",S5:S23,\"<=6\")","v":0},{"$f":"IF(X43=0,\"\",COUNTIFS(P5:P23,\"=1\",S5:S23,\">=4,6\",S5:S23,\"<=6\"))","v":""},""]
[null,null,null,null,null,null,null,null,null,null,null,null,null,null,null,null,null,null,null,null,null,null,"over 6 meter",{"$f":"COUNTIFS(S5:S23,\">6\")","v":0},{"$f":"IF(X44=0,\"\",COUNTIFS(P5:P23,\"=1\",S5:S23,\">6\"))","v":""},""]

{"sheet":"Runde 22","index":24,"n_rows":44,"n_cols":29,"rows_kept":44,"cut":false,"hidden":false,"merged":[]}
["Korsør Golf Klub - 18 huller - Gul tee",null,null,null,null,null,null,null,null,{"$f":"IF(E25=\"0\",\"0\",\"1\")","v":"0"},null,"Dato:",null,null,"Handicap:",null,null,null,null,"Antal tildelte slag:"]
[]
[null,null,null,null,null,null,null,"Tee shot",null,null,"Fairway hits i %",null,null,"Bunker",null,null,null,"Approach shots"]
["Hul","Gul tee","Par","HCP","Score","Netto","Driver","Wood","Jern","Venstre","Midt","Højre","FB","GB","SS","Putts","GIR","Dist. to pin (m)","Dist. to hole (m)","% SS","% GIR","Putts/GIR","Eagles","Birdies","Bogeys","Værre","% Scramble","3+ Putts","% Driver/Fairwayhits"]
[1,307,4,11,null,null,null,null,null,null,null,null,null,null,null,null,null,null,null,null,null,{"$f":"IF(Q5=0,\"\",P5)","v":""},null,null,null,null,{"$f":"IF(AND(Q5=\"\",P5=1),1,\"\")","v":""},null,{"$f":"IF(AND(G5=\"\"),\"\",SUM(K5))","v":""}]
[2,323,4,5,null,null,null,null,null,null,null,null,null,null,null,null,null,null,null,null,null,"",null,null,null,null,"",null,""]
[3,138,3,15,null,null,null,null,null,null,null,null,null,null,null,null,null,null,null,null,null,"",null,null,null,null,"",null,""]
[4,310,4,13,null,null,null,null,null,null,null,null,null,null,null,null,null,null,null,null,null,"",null,null,null,null,"",null,""]
[5,431,5,3,null,null,null,null,null,null,null,null,null,null,null,null,null,null,null,null,null,"",null,null,null,null,"",null,""]
[6,312,4,9,null,null,null,null,null,null,null,null,null,null,null,null,null,null,null,null,null,"",null,null,null,null,"",null,""]
[7,498,5,1,null,null,null,null,null,null,null,null,null,null,null,null,null,null,null,null,null,"",null,null,null,null,"",null,""]
[8,138,3,17,null,null,null,null,null,null,null,null,null,null,null,null,null,null,null,null,null,"",null,null,null,null,"",null,""]
[9,310,4,7,null,null,null,null,null,null,null,null,null,null,null,null,null,null,null,null,null,"",null,null,null,null,"",null,""]
[null,{"$f":"SUM(B5:B13)","v":2767},{"$f":"SUM(C5:C13)","v":36},"UD",{"$f":"SUM(E5:E13)","v":0},{"$f":"SUM(F5:F13)","v":0},{"$f":"SUM(G5:G13)","v":0},{"$f":"SUM(H5:H13)","v":0},{"$f":"SUM(I5:I13)","v":0},{"$f":"IF((A28=27),\"\",(SUM(J5:J13)/SUM(J5:L13))*100)","v":""},{"$f":"IF((A28=27),\"\",(SUM(K5:K13)/SUM(J5:L13))*100)","v":""},{"$f":"IF((A28=27),\"\",(SUM(L5:L13)/SUM(J5:L13))*100)","v":""},{"$f":"SUM(M5:M13)","v":0},{"$f":"SUM(N5:N13)","v":0},{"$f":"SUM(O5:O13)","v":0},{"$f":"SUM(P5:P13)","v":0},{"$f":"SUM(Q5:Q13)","v":0},null,{"$f":"IF(Q14=0,\"\",SUM(S5:S13)/Q14)","v":""},null,null,{"$f":"SUM(V5:V13)","v":0},{"$f":"ColorFunction($E$30,$E$5:$E$13)","v":0},{"$f":"ColorFunction($E$31,$E$5:$E$13)","v":0},{"$f":"ColorFunction($E$32,$E$5:$E$13)","v":0},{"$f":"ColorFunction($E$33,$E$5:$E$13)","v":0},{"$f":"SUM(AA5:AA13)/(9-Q14)*100","v":0},{"$f":"COUNTIF(P5:P13,\">2\")","v":0},{"$f":"IF((G14=0),\"\",SUM(AC5:AC13)/G14*100)","v":""}]
[10,481,5,4,null,null,null,null,null,null,null,null,null,null,null,null,null,null,null,null,null,{"$f":"IF(Q15=0,\"\",P15)","v":""},null,null,null,null,{"$f":"IF(AND(Q15=\"\",P15=1),1,\"\")","v":""},null,{"$f":"IF(AND(G15=\"\"),\"\",SUM(K15))","v":""}]
[11,319,4,16,null,null,null,null,null,null,null,null,null,null,null,null,null,null,null,null,null,"",null,null,null,null,"",null,""]
[12,431,5,2,null,null,null,null,null,null,null,null,null,null,null,null,null,null,null,null,null,"",null,null,null,null,"",null,""]
[13,122,3,18,null,null,null,null,null,null,null,null,null,null,null,null,null,null,null,null,null,"",null,null,null,null,"",null,""]
[14,379,4,6,null,null,null,null,null,null,null,null,null,null,null,null,null,null,null,null,null,"",null,null,null,null,"",null,""]
[15,316,4,8,null,null,null,null,null,null,null,null,null,null,null,null,null,null,null,null,null,"",null,null,null,null,"",null,""]
[16,322,4,14,null,null,null,null,null,null,null,null,null,null,null,null,null,null,null,null,null,"",null,null,null,null,"",null,""]
[17,345,4,10,null,null,null,null,null,null,null,null,null,null,null,null,null,null,null,null,null,"",null,null,null,null,"",null,""]
[18,281,4,12,null,null,null,null,null,null,null,null,null,null,null,null,null,null,null,null,null,"",null,null,null,null,"",null,""]
[null,{"$f":"SUM(B15:B23)","v":2996},{"$f":"SUM(C15:C23)","v":37},"IND",{"$f":"SUM(E15:E23)","v":0},{"$f":"SUM(F15:F23)","v":0},{"$f":"SUM(G15:G23)","v":0},{"$f":"SUM(H15:H23)","v":0},{"$f":"SUM(I15:I23)","v":0},{"$f":"IF((A29=27),\"\",(SUM(J15:J23)/SUM(J15:L23))*100)","v":""},{"$f":"IF((A29=27),\"\",(SUM(K15:K23)/SUM(J15:L23))*100)","v":""},{"$f":"IF((A29=27),\"\",(SUM(L15:L23)/SUM(J15:L23))*100)","v":""},{"$f":"SUM(M15:M23)","v":0},{"$f":"SUM(N15:N23)","v":0},{"$f":"SUM(O15:O23)","v":0},{"$f":"SUM(P15:P23)","v":0},{"$f":"SUM(Q15:Q23)","v":0},null,{"$f":"IF(Q24=0,\"\",SUM(S15:S23)/Q24)","v":""},null,null,{"$f":"SUM(V15:V23)","v":0},{"$f":"ColorFunction($E$30,$E$15:$E$23)","v":0},{"$f":"ColorFunction($E$31,$E$15:$E$23)","v":0},{"$f":"ColorFunction($E$32,$E$15:$E$23)","v":0},{"$f":"ColorFunction($E$33,$E$15:$E$23)","v":0},{"$f":"SUM(AA15:AA23)/(9-Q24)*100","v":0},{"$f":"COUNTIF(P15:P23,\">2\")","v":0},{"$f":"IF((G24=0),\"\",SUM(AC15:AC23)/G24*100)","v":""}]
[null,{"$f":"SUM(B24,B14)","v":5763},{"$f":"SUM(C24,C14)","v":73},"TOTAL",{"$f":"IF(E14=0,\"0\",(E24+E14))","v":"0"},{"$f":"SUM(F14,F24)","v":0},{"$f":"SUM(G24,G14)","v":0},{"$f":"SUM(H24,H14)","v":0},{"$f":"SUM(I24,I14)","v":0},{"$f":"IF((A28=27),\"\",(SUM(J14,J24)/2))","v":""},{"$f":"IF((A28=27),\"\",(SUM(K14,K24)/2))","v":""},{"$f":"IF((A28=27),\"\",(SUM(L14,L24)/2))","v":""},{"$f":"SUM(M24,M14)","v":0},{"$f":"SUM(N24,N14)","v":0},{"$f":"SUM(O24,O14)","v":0},{"$f":"IF(P14+P24=0,\"\",SUM(P24,P14))","v":""},{"$f":"IF(Q14+Q24=0,\"\",SUM(Q24,Q14))","v":""},null,{"$f":"IF(Q25=\"\",\"\",SUM(S24,S14)/2)","v":""},{"$f":"IF(N25=0,\"\",(O25)/N25*100)","v":""},{"$f":"IF(Q25=\"\",\"\",(Q25)/18*100)","v":""},{"$f":"IF(Q25=\"\",\"\",(V14+V24)/Q25)","v":""},{"$f":"SUM(W14,W24)","v":0},{"$f":"SUM(X14,X24)","v":0},{"$f":"SUM(Y14,Y24)","v":0},{"$f":"SUM(Z14,Z24)","v":0},{"$f":"SUM(AA14,AA24)/2","v":0},{"$f":"SUM(AB14,AB24)","v":0},{"$f":"SUM(AC24,AC14)/2","v":0}]
[]
[null,null,null,null,"Udfyld alle grønne felter med 1 for positiv eller antal i tal"]
[{"$f":"COUNTBLANK(I5:K13)","v":27},null,null,null,null,null,null,null,null,null,null,null,null,null,null,null,null,null,null,null,null,null,"Approach"]
[{"$f":"COUNTBLANK(I15:K23)","v":27},null,null,null,"Udfyld følgende farver:",null,null,null,null,null,null,null,null,null,null,null,null,null,"Holes to par",null,null,null,"Længde (m)","Antal","Afstand (m)"]
[{"$f":"SUM(L5:L23)","v":0},null,null,null,"Eagles",null,null,null,null,null,null,null,null,null,null,null,null,null,"Par 3",{"$f":"SUMIF(C:C,\"3\",E:E)/COUNTIF(C:C,3)","v":0},null,null,"45-70",{"$f":"COUNTIFS(R5:R23,\">=45\",R5:R23,\"<=70\")","v":0},{"$f":"IF(X30=0,\"\",AVERAGEIFS(S5:S23,R5:R23,\">=45\",R5:R23,\"<=70\"))","v":""}]
[null,null,null,null,"Birdies",null,null,null,null,null,null,null,null,null,null,null,null,null,"Par 4",{"$f":"SUMIF(C:C,\"4\",E:E)/COUNTIF(C:C,4)","v":0},null,null,"71-90",{"$f":"COUNTIFS(R5:R23,\">=71\",R5:R23,\"<=90\")","v":0},{"$f":"IF(X31=0,\"\",AVERAGEIFS(S5:S23,R5:R23,\">=71\",R5:R23,\"<=90\"))","v":""}]
[null,null,null,null,"Bogeys",null,null,null,null,null,null,null,null,null,null,null,null,null,"Par 5",{"$f":"SUMIF(C:C,\"5\",E:E)/COUNTIF(C:C,5)","v":0},null,null,"91-115",{"$f":"COUNTIFS(R5:R23,\">=91\",R5:R23,\"<=115\")","v":0},{"$f":"IF(X32=0,\"\",AVERAGEIFS(S5:S23,R5:R23,\">=91\",R5:R23,\"<=115\"))","v":""}]
[null,null,null,null,"Doublebogeys eller værre",null,null,null,null,null,null,null,null,null,null,null,null,null,null,null,null,null,"116-140",{"$f":"COUNTIFS(R5:R23,\">=116\",R5:R23,\"<=140\")","v":0},{"$f":"IF(X33=0,\"\",AVERAGEIFS(S5:S23,R5:R23,\">=116\",R5:R23,\"<=140\"))","v":""}]
[null,null,null,null,null,null,null,null,null,null,null,null,null,null,null,null,null,null,"First 4",{"$f":"IF(E25=\"0\",\"\",SUM(E5:E8)-SUM(C5:C8))","v":""},null,null,"141-160",{"$f":"COUNTIFS(R5:R23,\">=141\",R5:R23,\"<=161\")","v":0},{"$f":"IF(X34=0,\"\",AVERAGEIFS(S5:S23,R5:R23,\">=141\",R5:R23,\"<=160\"))","v":""}]
[null,null,null,null,null,null,null,null,null,null,null,null,null,null,null,null,null,null,"Last 4",{"$f":"IF(E25=\"0\",\"\",SUM(E20:E23)-SUM(C20:C23))","v":""},null,null,"161-180",{"$f":"COUNTIFS(R5:R23,\">=161\",R5:R23,\"<=180\")","v":0},{"$f":"IF(X35=0,\"\",AVERAGEIFS(S5:S23,R5:R23,\">=161\",R5:R23,\"<=180\"))","v":""}]
[]
[null,null,null,null,null,null,null,null,null,null,null,null,null,null,null,null,null,null,null,null,null,null,"Putting"]
[null,null,null,null,null,null,null,null,null,null,null,null,null,null,null,null,null,null,null,null,null,null,"Længde (m)","Antal","Holet","Holet (%)"]
[null,null,null,null,null,null,null,null,null,null,null,null,null,null,null,null,null,null,null,null,null,null,"under 1 m",{"$f":"COUNTIFS(S5:S23,\">=0,1\",S5:S23,\"<=0,9\")","v":0},{"$f":"IF(X39=0,\"\",COUNTIFS(P5:P23,\"=1\",S5:S23,\"<1\"))","v":""},{"$f":"IF(X39=0,\"\",Y39/X39*100)","v":""}]
[null,null,null,null,null,null,null,null,null,null,null,null,null,null,null,null,null,null,null,null,null,null,"1 - 1,5",{"$f":"COUNTIFS(S5:S23,\">=1\",S5:S23,\"<=1,5\")","v":0},{"$f":"IF(X40=0,\"\",COUNTIFS(P5:P23,\"=1\",S5:S23,\">=1\",S5:S23,\"<=1,5\"))","v":""},{"$f":"IF(X40=0,\"\",Y40/X40*100)","v":""}]
[null,null,null,null,null,null,null,null,null,null,null,null,null,null,null,null,null,null,null,null,null,null,"1,5 - 3",{"$f":"COUNTIFS(S5:S23,\">=1,6\",S5:S23,\"<=3\")","v":0},{"$f":"IF(X41=0,\"\",COUNTIFS(P5:P23,\"=1\",S5:S23,\">=1,6\",S5:S23,\"<=3\"))","v":""},{"$f":"IF(X41=0,\"\",Y41/X41*100)","v":""}]
[null,null,null,null,null,null,null,null,null,null,null,null,null,null,null,null,null,null,null,null,null,null,"3 - 4,5",{"$f":"COUNTIFS(S5:S23,\">=3,1\",S5:S23,\"<=4,5\")","v":0},{"$f":"IF(X42=0,\"\",COUNTIFS(P5:P23,\"=1\",S5:S23,\">=3,1\",S5:S23,\"<=4,5\"))","v":""},""]
[null,null,null,null,null,null,null,null,null,null,null,null,null,null,null,null,null,null,null,null,null,null,"4,5 - 6",{"$f":"COUNTIFS(S5:S23,\">=4,6\",S5:S23,\"<=6\")","v":0},{"$f":"IF(X43=0,\"\",COUNTIFS(P5:P23,\"=1\",S5:S23,\">=4,6\",S5:S23,\"<=6\"))","v":""},""]
[null,null,null,null,null,null,null,null,null,null,null,null,null,null,null,null,null,null,null,null,null,null,"over 6 meter",{"$f":"COUNTIFS(S5:S23,\">6\")","v":0},{"$f":"IF(X44=0,\"\",COUNTIFS(P5:P23,\"=1\",S5:S23,\">6\"))","v":""},""]

{"sheet":"Runde 23","index":25,"n_rows":44,"n_cols":29,"rows_kept":44,"cut":false,"hidden":false,"merged":[]}
["Korsør Golf Klub - 18 huller - Gul tee",null,null,null,null,null,null,null,null,{"$f":"IF(E25=\"0\",\"0\",\"1\")","v":"0"},null,"Dato:",null,null,"Handicap:",null,null,null,null,"Antal tildelte slag:"]
[]
[null,null,null,null,null,null,null,"Tee shot",null,null,"Fairway hits i %",null,null,"Bunker",null,null,null,"Approach shots"]
["Hul","Gul tee","Par","HCP","Score","Netto","Driver","Wood","Jern","Venstre","Midt","Højre","FB","GB","SS","Putts","GIR","Dist. to pin (m)","Dist. to hole (m)","% SS","% GIR","Putts/GIR","Eagles","Birdies","Bogeys","Værre","% Scramble","3+ Putts","% Driver/Fairwayhits"]
[1,307,4,11,null,null,null,null,null,null,null,null,null,null,null,null,null,null,null,null,null,{"$f":"IF(Q5=0,\"\",P5)","v":""},null,null,null,null,{"$f":"IF(AND(Q5=\"\",P5=1),1,\"\")","v":""},null,{"$f":"IF(AND(G5=\"\"),\"\",SUM(K5))","v":""}]
[2,323,4,5,null,null,null,null,null,null,null,null,null,null,null,null,null,null,null,null,null,"",null,null,null,null,"",null,""]
[3,138,3,15,null,null,null,null,null,null,null,null,null,null,null,null,null,null,null,null,null,"",null,null,null,null,"",null,""]
[4,310,4,13,null,null,null,null,null,null,null,null,null,null,null,null,null,null,null,null,null,"",null,null,null,null,"",null,""]
[5,431,5,3,null,null,null,null,null,null,null,null,null,null,null,null,null,null,null,null,null,"",null,null,null,null,"",null,""]
[6,312,4,9,null,null,null,null,null,null,null,null,null,null,null,null,null,null,null,null,null,"",null,null,null,null,"",null,""]
[7,498,5,1,null,null,null,null,null,null,null,null,null,null,null,null,null,null,null,null,null,"",null,null,null,null,"",null,""]
[8,138,3,17,null,null,null,null,null,null,null,null,null,null,null,null,null,null,null,null,null,"",null,null,null,null,"",null,""]
[9,310,4,7,null,null,null,null,null,null,null,null,null,null,null,null,null,null,null,null,null,"",null,null,null,null,"",null,""]
[null,{"$f":"SUM(B5:B13)","v":2767},{"$f":"SUM(C5:C13)","v":36},"UD",{"$f":"SUM(E5:E13)","v":0},{"$f":"SUM(F5:F13)","v":0},{"$f":"SUM(G5:G13)","v":0},{"$f":"SUM(H5:H13)","v":0},{"$f":"SUM(I5:I13)","v":0},{"$f":"IF((A28=27),\"\",(SUM(J5:J13)/SUM(J5:L13))*100)","v":""},{"$f":"IF((A28=27),\"\",(SUM(K5:K13)/SUM(J5:L13))*100)","v":""},{"$f":"IF((A28=27),\"\",(SUM(L5:L13)/SUM(J5:L13))*100)","v":""},{"$f":"SUM(M5:M13)","v":0},{"$f":"SUM(N5:N13)","v":0},{"$f":"SUM(O5:O13)","v":0},{"$f":"SUM(P5:P13)","v":0},{"$f":"SUM(Q5:Q13)","v":0},null,{"$f":"IF(Q14=0,\"\",SUM(S5:S13)/Q14)","v":""},null,null,{"$f":"SUM(V5:V13)","v":0},{"$f":"ColorFunction($E$30,$E$5:$E$13)","v":0},{"$f":"ColorFunction($E$31,$E$5:$E$13)","v":0},{"$f":"ColorFunction($E$32,$E$5:$E$13)","v":0},{"$f":"ColorFunction($E$33,$E$5:$E$13)","v":0},{"$f":"SUM(AA5:AA13)/(9-Q14)*100","v":0},{"$f":"COUNTIF(P5:P13,\">2\")","v":0},{"$f":"IF((G14=0),\"\",SUM(AC5:AC13)/G14*100)","v":""}]
[10,481,5,4,null,null,null,null,null,null,null,null,null,null,null,null,null,null,null,null,null,{"$f":"IF(Q15=0,\"\",P15)","v":""},null,null,null,null,{"$f":"IF(AND(Q15=\"\",P15=1),1,\"\")","v":""},null,{"$f":"IF(AND(G15=\"\"),\"\",SUM(K15))","v":""}]
[11,319,4,16,null,null,null,null,null,null,null,null,null,null,null,null,null,null,null,null,null,"",null,null,null,null,"",null,""]
[12,431,5,2,null,null,null,null,null,null,null,null,null,null,null,null,null,null,null,null,null,"",null,null,null,null,"",null,""]
[13,122,3,18,null,null,null,null,null,null,null,null,null,null,null,null,null,null,null,null,null,"",null,null,null,null,"",null,""]
[14,379,4,6,null,null,null,null,null,null,null,null,null,null,null,null,null,null,null,null,null,"",null,null,null,null,"",null,""]
[15,316,4,8,null,null,null,null,null,null,null,null,null,null,null,null,null,null,null,null,null,"",null,null,null,null,"",null,""]
[16,322,4,14,null,null,null,null,null,null,null,null,null,null,null,null,null,null,null,null,null,"",null,null,null,null,"",null,""]
[17,345,4,10,null,null,null,null,null,null,null,null,null,null,null,null,null,null,null,null,null,"",null,null,null,null,"",null,""]
[18,281,4,12,null,null,null,null,null,null,null,null,null,null,null,null,null,null,null,null,null,"",null,null,null,null,"",null,""]
[null,{"$f":"SUM(B15:B23)","v":2996},{"$f":"SUM(C15:C23)","v":37},"IND",{"$f":"SUM(E15:E23)","v":0},{"$f":"SUM(F15:F23)","v":0},{"$f":"SUM(G15:G23)","v":0},{"$f":"SUM(H15:H23)","v":0},{"$f":"SUM(I15:I23)","v":0},{"$f":"IF((A29=27),\"\",(SUM(J15:J23)/SUM(J15:L23))*100)","v":""},{"$f":"IF((A29=27),\"\",(SUM(K15:K23)/SUM(J15:L23))*100)","v":""},{"$f":"IF((A29=27),\"\",(SUM(L15:L23)/SUM(J15:L23))*100)","v":""},{"$f":"SUM(M15:M23)","v":0},{"$f":"SUM(N15:N23)","v":0},{"$f":"SUM(O15:O23)","v":0},{"$f":"SUM(P15:P23)","v":0},{"$f":"SUM(Q15:Q23)","v":0},null,{"$f":"IF(Q24=0,\"\",SUM(S15:S23)/Q24)","v":""},null,null,{"$f":"SUM(V15:V23)","v":0},{"$f":"ColorFunction($E$30,$E$15:$E$23)","v":0},{"$f":"ColorFunction($E$31,$E$15:$E$23)","v":0},{"$f":"ColorFunction($E$32,$E$15:$E$23)","v":0},{"$f":"ColorFunction($E$33,$E$15:$E$23)","v":0},{"$f":"SUM(AA15:AA23)/(9-Q24)*100","v":0},{"$f":"COUNTIF(P15:P23,\">2\")","v":0},{"$f":"IF((G24=0),\"\",SUM(AC15:AC23)/G24*100)","v":""}]
[null,{"$f":"SUM(B24,B14)","v":5763},{"$f":"SUM(C24,C14)","v":73},"TOTAL",{"$f":"IF(E14=0,\"0\",(E24+E14))","v":"0"},{"$f":"SUM(F14,F24)","v":0},{"$f":"SUM(G24,G14)","v":0},{"$f":"SUM(H24,H14)","v":0},{"$f":"SUM(I24,I14)","v":0},{"$f":"IF((A28=27),\"\",(SUM(J14,J24)/2))","v":""},{"$f":"IF((A28=27),\"\",(SUM(K14,K24)/2))","v":""},{"$f":"IF((A28=27),\"\",(SUM(L14,L24)/2))","v":""},{"$f":"SUM(M24,M14)","v":0},{"$f":"SUM(N24,N14)","v":0},{"$f":"SUM(O24,O14)","v":0},{"$f":"IF(P14+P24=0,\"\",SUM(P24,P14))","v":""},{"$f":"IF(Q14+Q24=0,\"\",SUM(Q24,Q14))","v":""},null,{"$f":"IF(Q25=\"\",\"\",SUM(S24,S14)/2)","v":""},{"$f":"IF(N25=0,\"\",(O25)/N25*100)","v":""},{"$f":"IF(Q25=\"\",\"\",(Q25)/18*100)","v":""},{"$f":"IF(Q25=\"\",\"\",(V14+V24)/Q25)","v":""},{"$f":"SUM(W14,W24)","v":0},{"$f":"SUM(X14,X24)","v":0},{"$f":"SUM(Y14,Y24)","v":0},{"$f":"SUM(Z14,Z24)","v":0},{"$f":"SUM(AA14,AA24)/2","v":0},{"$f":"SUM(AB14,AB24)","v":0},{"$f":"SUM(AC24,AC14)/2","v":0}]
[]
[null,null,null,null,"Udfyld alle grønne felter med 1 for positiv eller antal i tal"]
[{"$f":"COUNTBLANK(I5:K13)","v":27},null,null,null,null,null,null,null,null,null,null,null,null,null,null,null,null,null,null,null,null,null,"Approach"]
[{"$f":"COUNTBLANK(I15:K23)","v":27},null,null,null,"Udfyld følgende farver:",null,null,null,null,null,null,null,null,null,null,null,null,null,"Holes to par",null,null,null,"Længde (m)","Antal","Afstand (m)"]
[{"$f":"SUM(L5:L23)","v":0},null,null,null,"Eagles",null,null,null,null,null,null,null,null,null,null,null,null,null,"Par 3",{"$f":"SUMIF(C:C,\"3\",E:E)/COUNTIF(C:C,3)","v":0},null,null,"45-70",{"$f":"COUNTIFS(R5:R23,\">=45\",R5:R23,\"<=70\")","v":0},{"$f":"IF(X30=0,\"\",AVERAGEIFS(S5:S23,R5:R23,\">=45\",R5:R23,\"<=70\"))","v":""}]
[null,null,null,null,"Birdies",null,null,null,null,null,null,null,null,null,null,null,null,null,"Par 4",{"$f":"SUMIF(C:C,\"4\",E:E)/COUNTIF(C:C,4)","v":0},null,null,"71-90",{"$f":"COUNTIFS(R5:R23,\">=71\",R5:R23,\"<=90\")","v":0},{"$f":"IF(X31=0,\"\",AVERAGEIFS(S5:S23,R5:R23,\">=71\",R5:R23,\"<=90\"))","v":""}]
[null,null,null,null,"Bogeys",null,null,null,null,null,null,null,null,null,null,null,null,null,"Par 5",{"$f":"SUMIF(C:C,\"5\",E:E)/COUNTIF(C:C,5)","v":0},null,null,"91-115",{"$f":"COUNTIFS(R5:R23,\">=91\",R5:R23,\"<=115\")","v":0},{"$f":"IF(X32=0,\"\",AVERAGEIFS(S5:S23,R5:R23,\">=91\",R5:R23,\"<=115\"))","v":""}]
[null,null,null,null,"Doublebogeys eller værre",null,null,null,null,null,null,null,null,null,null,null,null,null,null,null,null,null,"116-140",{"$f":"COUNTIFS(R5:R23,\">=116\",R5:R23,\"<=140\")","v":0},{"$f":"IF(X33=0,\"\",AVERAGEIFS(S5:S23,R5:R23,\">=116\",R5:R23,\"<=140\"))","v":""}]
[null,null,null,null,null,null,null,null,null,null,null,null,null,null,null,null,null,null,"First 4",{"$f":"IF(E25=\"0\",\"\",SUM(E5:E8)-SUM(C5:C8))","v":""},null,null,"141-160",{"$f":"COUNTIFS(R5:R23,\">=141\",R5:R23,\"<=161\")","v":0},{"$f":"IF(X34=0,\"\",AVERAGEIFS(S5:S23,R5:R23,\">=141\",R5:R23,\"<=160\"))","v":""}]
[null,null,null,null,null,null,null,null,null,null,null,null,null,null,null,null,null,null,"Last 4",{"$f":"IF(E25=\"0\",\"\",SUM(E20:E23)-SUM(C20:C23))","v":""},null,null,"161-180",{"$f":"COUNTIFS(R5:R23,\">=161\",R5:R23,\"<=180\")","v":0},{"$f":"IF(X35=0,\"\",AVERAGEIFS(S5:S23,R5:R23,\">=161\",R5:R23,\"<=180\"))","v":""}]
[]
[null,null,null,null,null,null,null,null,null,null,null,null,null,null,null,null,null,null,null,null,null,null,"Putting"]
[null,null,null,null,null,null,null,null,null,null,null,null,null,null,null,null,null,null,null,null,null,null,"Længde (m)","Antal","Holet","Holet (%)"]
[null,null,null,null,null,null,null,null,null,null,null,null,null,null,null,null,null,null,null,null,null,null,"under 1 m",{"$f":"COUNTIFS(S5:S23,\">=0,1\",S5:S23,\"<=0,9\")","v":0},{"$f":"IF(X39=0,\"\",COUNTIFS(P5:P23,\"=1\",S5:S23,\"<1\"))","v":""},{"$f":"IF(X39=0,\"\",Y39/X39*100)","v":""}]
[null,null,null,null,null,null,null,null,null,null,null,null,null,null,null,null,null,null,null,null,null,null,"1 - 1,5",{"$f":"COUNTIFS(S5:S23,\">=1\",S5:S23,\"<=1,5\")","v":0},{"$f":"IF(X40=0,\"\",COUNTIFS(P5:P23,\"=1\",S5:S23,\">=1\",S5:S23,\"<=1,5\"))","v":""},{"$f":"IF(X40=0,\"\",Y40/X40*100)","v":""}]
[null,null,null,null,null,null,null,null,null,null,null,null,null,null,null,null,null,null,null,null,null,null,"1,5 - 3",{"$f":"COUNTIFS(S5:S23,\">=1,6\",S5:S23,\"<=3\")","v":0},{"$f":"IF(X41=0,\"\",COUNTIFS(P5:P23,\"=1\",S5:S23,\">=1,6\",S5:S23,\"<=3\"))","v":""},{"$f":"IF(X41=0,\"\",Y41/X41*100)","v":""}]
[null,null,null,null,null,null,null,null,null,null,null,null,null,null,null,null,null,null,null,null,null,null,"3 - 4,5",{"$f":"COUNTIFS(S5:S23,\">=3,1\",S5:S23,\"<=4,5\")","v":0},{"$f":"IF(X42=0,\"\",COUNTIFS(P5:P23,\"=1\",S5:S23,\">=3,1\",S5:S23,\"<=4,5\"))","v":""},""]
[null,null,null,null,null,null,null,null,null,null,null,null,null,null,null,null,null,null,null,null,null,null,"4,5 - 6",{"$f":"COUNTIFS(S5:S23,\">=4,6\",S5:S23,\"<=6\")","v":0},{"$f":"IF(X43=0,\"\",COUNTIFS(P5:P23,\"=1\",S5:S23,\">=4,6\",S5:S23,\"<=6\"))","v":""},""]
[null,null,null,null,null,null,null,null,null,null,null,null,null,null,null,null,null,null,null,null,null,null,"over 6 meter",{"$f":"COUNTIFS(S5:S23,\">6\")","v":0},{"$f":"IF(X44=0,\"\",COUNTIFS(P5:P23,\"=1\",S5:S23,\">6\"))","v":""},""]

{"sheet":"Runde 24","index":26,"n_rows":44,"n_cols":29,"rows_kept":44,"cut":false,"hidden":false,"merged":[]}
["Korsør Golf Klub - 18 huller - Gul tee",null,null,null,null,null,null,null,null,{"$f":"IF(E25=\"0\",\"0\",\"1\")","v":"0"},null,"Dato:",null,null,"Handicap:",null,null,null,null,"Antal tildelte slag:"]
[]
[null,null,null,null,null,null,null,"Tee shot",null,null,"Fairway hits i %",null,null,"Bunker",null,null,null,"Approach shots"]
["Hul","Gul tee","Par","HCP","Score","Netto","Driver","Wood","Jern","Venstre","Midt","Højre","FB","GB","SS","Putts","GIR","Dist. to pin (m)","Dist. to hole (m)","% SS","% GIR","Putts/GIR","Eagles","Birdies","Bogeys","Værre","% Scramble","3+ Putts","% Driver/Fairwayhits"]
[1,307,4,11,null,null,null,null,null,null,null,null,null,null,null,null,null,null,null,null,null,{"$f":"IF(Q5=0,\"\",P5)","v":""},null,null,null,null,{"$f":"IF(AND(Q5=\"\",P5=1),1,\"\")","v":""},null,{"$f":"IF(AND(G5=\"\"),\"\",SUM(K5))","v":""}]
[2,323,4,5,null,null,null,null,null,null,null,null,null,null,null,null,null,null,null,null,null,"",null,null,null,null,"",null,""]
[3,138,3,15,null,null,null,null,null,null,null,null,null,null,null,null,null,null,null,null,null,"",null,null,null,null,"",null,""]
[4,310,4,13,null,null,null,null,null,null,null,null,null,null,null,null,null,null,null,null,null,"",null,null,null,null,"",null,""]
[5,431,5,3,null,null,null,null,null,null,null,null,null,null,null,null,null,null,null,null,null,"",null,null,null,null,"",null,""]
[6,312,4,9,null,null,null,null,null,null,null,null,null,null,null,null,null,null,null,null,null,"",null,null,null,null,"",null,""]
[7,498,5,1,null,null,null,null,null,null,null,null,null,null,null,null,null,null,null,null,null,"",null,null,null,null,"",null,""]
[8,138,3,17,null,null,null,null,null,null,null,null,null,null,null,null,null,null,null,null,null,"",null,null,null,null,"",null,""]
[9,310,4,7,null,null,null,null,null,null,null,null,null,null,null,null,null,null,null,null,null,"",null,null,null,null,"",null,""]
[null,{"$f":"SUM(B5:B13)","v":2767},{"$f":"SUM(C5:C13)","v":36},"UD",{"$f":"SUM(E5:E13)","v":0},{"$f":"SUM(F5:F13)","v":0},{"$f":"SUM(G5:G13)","v":0},{"$f":"SUM(H5:H13)","v":0},{"$f":"SUM(I5:I13)","v":0},{"$f":"IF((A28=27),\"\",(SUM(J5:J13)/SUM(J5:L13))*100)","v":""},{"$f":"IF((A28=27),\"\",(SUM(K5:K13)/SUM(J5:L13))*100)","v":""},{"$f":"IF((A28=27),\"\",(SUM(L5:L13)/SUM(J5:L13))*100)","v":""},{"$f":"SUM(M5:M13)","v":0},{"$f":"SUM(N5:N13)","v":0},{"$f":"SUM(O5:O13)","v":0},{"$f":"SUM(P5:P13)","v":0},{"$f":"SUM(Q5:Q13)","v":0},null,{"$f":"IF(Q14=0,\"\",SUM(S5:S13)/Q14)","v":""},null,null,{"$f":"SUM(V5:V13)","v":0},{"$f":"ColorFunction($E$30,$E$5:$E$13)","v":0},{"$f":"ColorFunction($E$31,$E$5:$E$13)","v":0},{"$f":"ColorFunction($E$32,$E$5:$E$13)","v":0},{"$f":"ColorFunction($E$33,$E$5:$E$13)","v":0},{"$f":"SUM(AA5:AA13)/(9-Q14)*100","v":0},{"$f":"COUNTIF(P5:P13,\">2\")","v":0},{"$f":"IF((G14=0),\"\",SUM(AC5:AC13)/G14*100)","v":""}]
[10,481,5,4,null,null,null,null,null,null,null,null,null,null,null,null,null,null,null,null,null,{"$f":"IF(Q15=0,\"\",P15)","v":""},null,null,null,null,{"$f":"IF(AND(Q15=\"\",P15=1),1,\"\")","v":""},null,{"$f":"IF(AND(G15=\"\"),\"\",SUM(K15))","v":""}]
[11,319,4,16,null,null,null,null,null,null,null,null,null,null,null,null,null,null,null,null,null,"",null,null,null,null,"",null,""]
[12,431,5,2,null,null,null,null,null,null,null,null,null,null,null,null,null,null,null,null,null,"",null,null,null,null,"",null,""]
[13,122,3,18,null,null,null,null,null,null,null,null,null,null,null,null,null,null,null,null,null,"",null,null,null,null,"",null,""]
[14,379,4,6,null,null,null,null,null,null,null,null,null,null,null,null,null,null,null,null,null,"",null,null,null,null,"",null,""]
[15,316,4,8,null,null,null,null,null,null,null,null,null,null,null,null,null,null,null,null,null,"",null,null,null,null,"",null,""]
[16,322,4,14,null,null,null,null,null,null,null,null,null,null,null,null,null,null,null,null,null,"",null,null,null,null,"",null,""]
[17,345,4,10,null,null,null,null,null,null,null,null,null,null,null,null,null,null,null,null,null,"",null,null,null,null,"",null,""]
[18,281,4,12,null,null,null,null,null,null,null,null,null,null,null,null,null,null,null,null,null,"",null,null,null,null,"",null,""]
[null,{"$f":"SUM(B15:B23)","v":2996},{"$f":"SUM(C15:C23)","v":37},"IND",{"$f":"SUM(E15:E23)","v":0},{"$f":"SUM(F15:F23)","v":0},{"$f":"SUM(G15:G23)","v":0},{"$f":"SUM(H15:H23)","v":0},{"$f":"SUM(I15:I23)","v":0},{"$f":"IF((A29=27),\"\",(SUM(J15:J23)/SUM(J15:L23))*100)","v":""},{"$f":"IF((A29=27),\"\",(SUM(K15:K23)/SUM(J15:L23))*100)","v":""},{"$f":"IF((A29=27),\"\",(SUM(L15:L23)/SUM(J15:L23))*100)","v":""},{"$f":"SUM(M15:M23)","v":0},{"$f":"SUM(N15:N23)","v":0},{"$f":"SUM(O15:O23)","v":0},{"$f":"SUM(P15:P23)","v":0},{"$f":"SUM(Q15:Q23)","v":0},null,{"$f":"IF(Q24=0,\"\",SUM(S15:S23)/Q24)","v":""},null,null,{"$f":"SUM(V15:V23)","v":0},{"$f":"ColorFunction($E$30,$E$15:$E$23)","v":0},{"$f":"ColorFunction($E$31,$E$15:$E$23)","v":0},{"$f":"ColorFunction($E$32,$E$15:$E$23)","v":0},{"$f":"ColorFunction($E$33,$E$15:$E$23)","v":0},{"$f":"SUM(AA15:AA23)/(9-Q24)*100","v":0},{"$f":"COUNTIF(P15:P23,\">2\")","v":0},{"$f":"IF((G24=0),\"\",SUM(AC15:AC23)/G24*100)","v":""}]
[null,{"$f":"SUM(B24,B14)","v":5763},{"$f":"SUM(C24,C14)","v":73},"TOTAL",{"$f":"IF(E14=0,\"0\",(E24+E14))","v":"0"},{"$f":"SUM(F14,F24)","v":0},{"$f":"SUM(G24,G14)","v":0},{"$f":"SUM(H24,H14)","v":0},{"$f":"SUM(I24,I14)","v":0},{"$f":"IF((A28=27),\"\",(SUM(J14,J24)/2))","v":""},{"$f":"IF((A28=27),\"\",(SUM(K14,K24)/2))","v":""},{"$f":"IF((A28=27),\"\",(SUM(L14,L24)/2))","v":""},{"$f":"SUM(M24,M14)","v":0},{"$f":"SUM(N24,N14)","v":0},{"$f":"SUM(O24,O14)","v":0},{"$f":"IF(P14+P24=0,\"\",SUM(P24,P14))","v":""},{"$f":"IF(Q14+Q24=0,\"\",SUM(Q24,Q14))","v":""},null,{"$f":"IF(Q25=\"\",\"\",SUM(S24,S14)/2)","v":""},{"$f":"IF(N25=0,\"\",(O25)/N25*100)","v":""},{"$f":"IF(Q25=\"\",\"\",(Q25)/18*100)","v":""},{"$f":"IF(Q25=\"\",\"\",(V14+V24)/Q25)","v":""},{"$f":"SUM(W14,W24)","v":0},{"$f":"SUM(X14,X24)","v":0},{"$f":"SUM(Y14,Y24)","v":0},{"$f":"SUM(Z14,Z24)","v":0},{"$f":"SUM(AA14,AA24)/2","v":0},{"$f":"SUM(AB14,AB24)","v":0},{"$f":"SUM(AC24,AC14)/2","v":0}]
[]
[null,null,null,null,"Udfyld alle grønne felter med 1 for positiv eller antal i tal"]
[{"$f":"COUNTBLANK(I5:K13)","v":27},null,null,null,null,null,null,null,null,null,null,null,null,null,null,null,null,null,null,null,null,null,"Approach"]
[{"$f":"COUNTBLANK(I15:K23)","v":27},null,null,null,"Udfyld følgende farver:",null,null,null,null,null,null,null,null,null,null,null,null,null,"Holes to par",null,null,null,"Længde (m)","Antal","Afstand (m)"]
[{"$f":"SUM(L5:L23)","v":0},null,null,null,"Eagles",null,null,null,null,null,null,null,null,null,null,null,null,null,"Par 3",{"$f":"SUMIF(C:C,\"3\",E:E)/COUNTIF(C:C,3)","v":0},null,null,"45-70",{"$f":"COUNTIFS(R5:R23,\">=45\",R5:R23,\"<=70\")","v":0},{"$f":"IF(X30=0,\"\",AVERAGEIFS(S5:S23,R5:R23,\">=45\",R5:R23,\"<=70\"))","v":""}]
[null,null,null,null,"Birdies",null,null,null,null,null,null,null,null,null,null,null,null,null,"Par 4",{"$f":"SUMIF(C:C,\"4\",E:E)/COUNTIF(C:C,4)","v":0},null,null,"71-90",{"$f":"COUNTIFS(R5:R23,\">=71\",R5:R23,\"<=90\")","v":0},{"$f":"IF(X31=0,\"\",AVERAGEIFS(S5:S23,R5:R23,\">=71\",R5:R23,\"<=90\"))","v":""}]
[null,null,null,null,"Bogeys",null,null,null,null,null,null,null,null,null,null,null,null,null,"Par 5",{"$f":"SUMIF(C:C,\"5\",E:E)/COUNTIF(C:C,5)","v":0},null,null,"91-115",{"$f":"COUNTIFS(R5:R23,\">=91\",R5:R23,\"<=115\")","v":0},{"$f":"IF(X32=0,\"\",AVERAGEIFS(S5:S23,R5:R23,\">=91\",R5:R23,\"<=115\"))","v":""}]
[null,null,null,null,"Doublebogeys eller værre",null,null,null,null,null,null,null,null,null,null,null,null,null,null,null,null,null,"116-140",{"$f":"COUNTIFS(R5:R23,\">=116\",R5:R23,\"<=140\")","v":0},{"$f":"IF(X33=0,\"\",AVERAGEIFS(S5:S23,R5:R23,\">=116\",R5:R23,\"<=140\"))","v":""}]
[null,null,null,null,null,null,null,null,null,null,null,null,null,null,null,null,null,null,"First 4",{"$f":"IF(E25=\"0\",\"\",SUM(E5:E8)-SUM(C5:C8))","v":""},null,null,"141-160",{"$f":"COUNTIFS(R5:R23,\">=141\",R5:R23,\"<=161\")","v":0},{"$f":"IF(X34=0,\"\",AVERAGEIFS(S5:S23,R5:R23,\">=141\",R5:R23,\"<=160\"))","v":""}]
[null,null,null,null,null,null,null,null,null,null,null,null,null,null,null,null,null,null,"Last 4",{"$f":"IF(E25=\"0\",\"\",SUM(E20:E23)-SUM(C20:C23))","v":""},null,null,"161-180",{"$f":"COUNTIFS(R5:R23,\">=161\",R5:R23,\"<=180\")","v":0},{"$f":"IF(X35=0,\"\",AVERAGEIFS(S5:S23,R5:R23,\">=161\",R5:R23,\"<=180\"))","v":""}]
[]
[null,null,null,null,null,null,null,null,null,null,null,null,null,null,null,null,null,null,null,null,null,null,"Putting"]
[null,null,null,null,null,null,null,null,null,null,null,null,null,null,null,null,null,null,null,null,null,null,"Længde (m)","Antal","Holet","Holet (%)"]
[null,null,null,null,null,null,null,null,null,null,null,null,null,null,null,null,null,null,null,null,null,null,"under 1 m",{"$f":"COUNTIFS(S5:S23,\">=0,1\",S5:S23,\"<=0,9\")","v":0},{"$f":"IF(X39=0,\"\",COUNTIFS(P5:P23,\"=1\",S5:S23,\"<1\"))","v":""},{"$f":"IF(X39=0,\"\",Y39/X39*100)","v":""}]
[null,null,null,null,null,null,null,null,null,null,null,null,null,null,null,null,null,null,null,null,null,null,"1 - 1,5",{"$f":"COUNTIFS(S5:S23,\">=1\",S5:S23,\"<=1,5\")","v":0},{"$f":"IF(X40=0,\"\",COUNTIFS(P5:P23,\"=1\",S5:S23,\">=1\",S5:S23,\"<=1,5\"))","v":""},{"$f":"IF(X40=0,\"\",Y40/X40*100)","v":""}]
[null,null,null,null,null,null,null,null,null,null,null,null,null,null,null,null,null,null,null,null,null,null,"1,5 - 3",{"$f":"COUNTIFS(S5:S23,\">=1,6\",S5:S23,\"<=3\")","v":0},{"$f":"IF(X41=0,\"\",COUNTIFS(P5:P23,\"=1\",S5:S23,\">=1,6\",S5:S23,\"<=3\"))","v":""},{"$f":"IF(X41=0,\"\",Y41/X41*100)","v":""}]
[null,null,null,null,null,null,null,null,null,null,null,null,null,null,null,null,null,null,null,null,null,null,"3 - 4,5",{"$f":"COUNTIFS(S5:S23,\">=3,1\",S5:S23,\"<=4,5\")","v":0},{"$f":"IF(X42=0,\"\",COUNTIFS(P5:P23,\"=1\",S5:S23,\">=3,1\",S5:S23,\"<=4,5\"))","v":""},""]
[null,null,null,null,null,null,null,null,null,null,null,null,null,null,null,null,null,null,null,null,null,null,"4,5 - 6",{"$f":"COUNTIFS(S5:S23,\">=4,6\",S5:S23,\"<=6\")","v":0},{"$f":"IF(X43=0,\"\",COUNTIFS(P5:P23,\"=1\",S5:S23,\">=4,6\",S5:S23,\"<=6\"))","v":""},""]
[null,null,null,null,null,null,null,null,null,null,null,null,null,null,null,null,null,null,null,null,null,null,"over 6 meter",{"$f":"COUNTIFS(S5:S23,\">6\")","v":0},{"$f":"IF(X44=0,\"\",COUNTIFS(P5:P23,\"=1\",S5:S23,\">6\"))","v":""},""]

{"sheet":"Runde 25","index":27,"n_rows":44,"n_cols":29,"rows_kept":44,"cut":false,"hidden":false,"merged":[]}
["Korsør Golf Klub - 18 huller - Gul tee",null,null,null,null,null,null,null,null,{"$f":"IF(E25=\"0\",\"0\",\"1\")","v":"0"},null,"Dato:",null,null,"Handicap:",null,null,null,null,"Antal tildelte slag:"]
[]
[null,null,null,null,null,null,null,"Tee shot",null,null,"Fairway hits i %",null,null,"Bunker",null,null,null,"Approach shots"]
["Hul","Gul tee","Par","HCP","Score","Netto","Driver","Wood","Jern","Venstre","Midt","Højre","FB","GB","SS","Putts","GIR","Dist. to pin (m)","Dist. to hole (m)","% SS","% GIR","Putts/GIR","Eagles","Birdies","Bogeys","Værre","% Scramble","3+ Putts","% Driver/Fairwayhits"]
[1,307,4,11,null,null,null,null,null,null,null,null,null,null,null,null,null,null,null,null,null,{"$f":"IF(Q5=0,\"\",P5)","v":""},null,null,null,null,{"$f":"IF(AND(Q5=\"\",P5=1),1,\"\")","v":""},null,{"$f":"IF(AND(G5=\"\"),\"\",SUM(K5))","v":""}]
[2,323,4,5,null,null,null,null,null,null,null,null,null,null,null,null,null,null,null,null,null,"",null,null,null,null,"",null,""]
[3,138,3,15,null,null,null,null,null,null,null,null,null,null,null,null,null,null,null,null,null,"",null,null,null,null,"",null,""]
[4,310,4,13,null,null,null,null,null,null,null,null,null,null,null,null,null,null,null,null,null,"",null,null,null,null,"",null,""]
[5,431,5,3,null,null,null,null,null,null,null,null,null,null,null,null,null,null,null,null,null,"",null,null,null,null,"",null,""]
[6,312,4,9,null,null,null,null,null,null,null,null,null,null,null,null,null,null,null,null,null,"",null,null,null,null,"",null,""]
[7,498,5,1,null,null,null,null,null,null,null,null,null,null,null,null,null,null,null,null,null,"",null,null,null,null,"",null,""]
[8,138,3,17,null,null,null,null,null,null,null,null,null,null,null,null,null,null,null,null,null,"",null,null,null,null,"",null,""]
[9,310,4,7,null,null,null,null,null,null,null,null,null,null,null,null,null,null,null,null,null,"",null,null,null,null,"",null,""]
[null,{"$f":"SUM(B5:B13)","v":2767},{"$f":"SUM(C5:C13)","v":36},"UD",{"$f":"SUM(E5:E13)","v":0},{"$f":"SUM(F5:F13)","v":0},{"$f":"SUM(G5:G13)","v":0},{"$f":"SUM(H5:H13)","v":0},{"$f":"SUM(I5:I13)","v":0},{"$f":"IF((A28=27),\"\",(SUM(J5:J13)/SUM(J5:L13))*100)","v":""},{"$f":"IF((A28=27),\"\",(SUM(K5:K13)/SUM(J5:L13))*100)","v":""},{"$f":"IF((A28=27),\"\",(SUM(L5:L13)/SUM(J5:L13))*100)","v":""},{"$f":"SUM(M5:M13)","v":0},{"$f":"SUM(N5:N13)","v":0},{"$f":"SUM(O5:O13)","v":0},{"$f":"SUM(P5:P13)","v":0},{"$f":"SUM(Q5:Q13)","v":0},null,{"$f":"IF(Q14=0,\"\",SUM(S5:S13)/Q14)","v":""},null,null,{"$f":"SUM(V5:V13)","v":0},{"$f":"ColorFunction($E$30,$E$5:$E$13)","v":0},{"$f":"ColorFunction($E$31,$E$5:$E$13)","v":0},{"$f":"ColorFunction($E$32,$E$5:$E$13)","v":0},{"$f":"ColorFunction($E$33,$E$5:$E$13)","v":0},{"$f":"SUM(AA5:AA13)/(9-Q14)*100","v":0},{"$f":"COUNTIF(P5:P13,\">2\")","v":0},{"$f":"IF((G14=0),\"\",SUM(AC5:AC13)/G14*100)","v":""}]
[10,481,5,4,null,null,null,null,null,null,null,null,null,null,null,null,null,null,null,null,null,{"$f":"IF(Q15=0,\"\",P15)","v":""},null,null,null,null,{"$f":"IF(AND(Q15=\"\",P15=1),1,\"\")","v":""},null,{"$f":"IF(AND(G15=\"\"),\"\",SUM(K15))","v":""}]
[11,319,4,16,null,null,null,null,null,null,null,null,null,null,null,null,null,null,null,null,null,"",null,null,null,null,"",null,""]
[12,431,5,2,null,null,null,null,null,null,null,null,null,null,null,null,null,null,null,null,null,"",null,null,null,null,"",null,""]
[13,122,3,18,null,null,null,null,null,null,null,null,null,null,null,null,null,null,null,null,null,"",null,null,null,null,"",null,""]
[14,379,4,6,null,null,null,null,null,null,null,null,null,null,null,null,null,null,null,null,null,"",null,null,null,null,"",null,""]
[15,316,4,8,null,null,null,null,null,null,null,null,null,null,null,null,null,null,null,null,null,"",null,null,null,null,"",null,""]
[16,322,4,14,null,null,null,null,null,null,null,null,null,null,null,null,null,null,null,null,null,"",null,null,null,null,"",null,""]
[17,345,4,10,null,null,null,null,null,null,null,null,null,null,null,null,null,null,null,null,null,"",null,null,null,null,"",null,""]
[18,281,4,12,null,null,null,null,null,null,null,null,null,null,null,null,null,null,null,null,null,"",null,null,null,null,"",null,""]
[null,{"$f":"SUM(B15:B23)","v":2996},{"$f":"SUM(C15:C23)","v":37},"IND",{"$f":"SUM(E15:E23)","v":0},{"$f":"SUM(F15:F23)","v":0},{"$f":"SUM(G15:G23)","v":0},{"$f":"SUM(H15:H23)","v":0},{"$f":"SUM(I15:I23)","v":0},{"$f":"IF((A29=27),\"\",(SUM(J15:J23)/SUM(J15:L23))*100)","v":""},{"$f":"IF((A29=27),\"\",(SUM(K15:K23)/SUM(J15:L23))*100)","v":""},{"$f":"IF((A29=27),\"\",(SUM(L15:L23)/SUM(J15:L23))*100)","v":""},{"$f":"SUM(M15:M23)","v":0},{"$f":"SUM(N15:N23)","v":0},{"$f":"SUM(O15:O23)","v":0},{"$f":"SUM(P15:P23)","v":0},{"$f":"SUM(Q15:Q23)","v":0},null,{"$f":"IF(Q24=0,\"\",SUM(S15:S23)/Q24)","v":""},null,null,{"$f":"SUM(V15:V23)","v":0},{"$f":"ColorFunction($E$30,$E$15:$E$23)","v":0},{"$f":"ColorFunction($E$31,$E$15:$E$23)","v":0},{"$f":"ColorFunction($E$32,$E$15:$E$23)","v":0},{"$f":"ColorFunction($E$33,$E$15:$E$23)","v":0},{"$f":"SUM(AA15:AA23)/(9-Q24)*100","v":0},{"$f":"COUNTIF(P15:P23,\">2\")","v":0},{"$f":"IF((G24=0),\"\",SUM(AC15:AC23)/G24*100)","v":""}]
[null,{"$f":"SUM(B24,B14)","v":5763},{"$f":"SUM(C24,C14)","v":73},"TOTAL",{"$f":"IF(E14=0,\"0\",(E24+E14))","v":"0"},{"$f":"SUM(F14,F24)","v":0},{"$f":"SUM(G24,G14)","v":0},{"$f":"SUM(H24,H14)","v":0},{"$f":"SUM(I24,I14)","v":0},{"$f":"IF((A28=27),\"\",(SUM(J14,J24)/2))","v":""},{"$f":"IF((A28=27),\"\",(SUM(K14,K24)/2))","v":""},{"$f":"IF((A28=27),\"\",(SUM(L14,L24)/2))","v":""},{"$f":"SUM(M24,M14)","v":0},{"$f":"SUM(N24,N14)","v":0},{"$f":"SUM(O24,O14)","v":0},{"$f":"IF(P14+P24=0,\"\",SUM(P24,P14))","v":""},{"$f":"IF(Q14+Q24=0,\"\",SUM(Q24,Q14))","v":""},null,{"$f":"IF(Q25=\"\",\"\",SUM(S24,S14)/2)","v":""},{"$f":"IF(N25=0,\"\",(O25)/N25*100)","v":""},{"$f":"IF(Q25=\"\",\"\",(Q25)/18*100)","v":""},{"$f":"IF(Q25=\"\",\"\",(V14+V24)/Q25)","v":""},{"$f":"SUM(W14,W24)","v":0},{"$f":"SUM(X14,X24)","v":0},{"$f":"SUM(Y14,Y24)","v":0},{"$f":"SUM(Z14,Z24)","v":0},{"$f":"SUM(AA14,AA24)/2","v":0},{"$f":"SUM(AB14,AB24)","v":0},{"$f":"SUM(AC24,AC14)/2","v":0}]
[]
[null,null,null,null,"Udfyld alle grønne felter med 1 for positiv eller antal i tal"]
[{"$f":"COUNTBLANK(I5:K13)","v":27},null,null,null,null,null,null,null,null,null,null,null,null,null,null,null,null,null,null,null,null,null,"Approach"]
[{"$f":"COUNTBLANK(I15:K23)","v":27},null,null,null,"Udfyld følgende farver:",null,null,null,null,null,null,null,null,null,null,null,null,null,"Holes to par",null,null,null,"Længde (m)","Antal","Afstand (m)"]
[{"$f":"SUM(L5:L23)","v":0},null,null,null,"Eagles",null,null,null,null,null,null,null,null,null,null,null,null,null,"Par 3",{"$f":"SUMIF(C:C,\"3\",E:E)/COUNTIF(C:C,3)","v":0},null,null,"45-70",{"$f":"COUNTIFS(R5:R23,\">=45\",R5:R23,\"<=70\")","v":0},{"$f":"IF(X30=0,\"\",AVERAGEIFS(S5:S23,R5:R23,\">=45\",R5:R23,\"<=70\"))","v":""}]
[null,null,null,null,"Birdies",null,null,null,null,null,null,null,null,null,null,null,null,null,"Par 4",{"$f":"SUMIF(C:C,\"4\",E:E)/COUNTIF(C:C,4)","v":0},null,null,"71-90",{"$f":"COUNTIFS(R5:R23,\">=71\",R5:R23,\"<=90\")","v":0},{"$f":"IF(X31=0,\"\",AVERAGEIFS(S5:S23,R5:R23,\">=71\",R5:R23,\"<=90\"))","v":""}]
[null,null,null,null,"Bogeys",null,null,null,null,null,null,null,null,null,null,null,null,null,"Par 5",{"$f":"SUMIF(C:C,\"5\",E:E)/COUNTIF(C:C,5)","v":0},null,null,"91-115",{"$f":"COUNTIFS(R5:R23,\">=91\",R5:R23,\"<=115\")","v":0},{"$f":"IF(X32=0,\"\",AVERAGEIFS(S5:S23,R5:R23,\">=91\",R5:R23,\"<=115\"))","v":""}]
[null,null,null,null,"Doublebogeys eller værre",null,null,null,null,null,null,null,null,null,null,null,null,null,null,null,null,null,"116-140",{"$f":"COUNTIFS(R5:R23,\">=116\",R5:R23,\"<=140\")","v":0},{"$f":"IF(X33=0,\"\",AVERAGEIFS(S5:S23,R5:R23,\">=116\",R5:R23,\"<=140\"))","v":""}]
[null,null,null,null,null,null,null,null,null,null,null,null,null,null,null,null,null,null,"First 4",{"$f":"IF(E25=\"0\",\"\",SUM(E5:E8)-SUM(C5:C8))","v":""},null,null,"141-160",{"$f":"COUNTIFS(R5:R23,\">=141\",R5:R23,\"<=161\")","v":0},{"$f":"IF(X34=0,\"\",AVERAGEIFS(S5:S23,R5:R23,\">=141\",R5:R23,\"<=160\"))","v":""}]
[null,null,null,null,null,null,null,null,null,null,null,null,null,null,null,null,null,null,"Last 4",{"$f":"IF(E25=\"0\",\"\",SUM(E20:E23)-SUM(C20:C23))","v":""},null,null,"161-180",{"$f":"COUNTIFS(R5:R23,\">=161\",R5:R23,\"<=180\")","v":0},{"$f":"IF(X35=0,\"\",AVERAGEIFS(S5:S23,R5:R23,\">=161\",R5:R23,\"<=180\"))","v":""}]
[]
[null,null,null,null,null,null,null,null,null,null,null,null,null,null,null,null,null,null,null,null,null,null,"Putting"]
[null,null,null,null,null,null,null,null,null,null,null,null,null,null,null,null,null,null,null,null,null,null,"Længde (m)","Antal","Holet","Holet (%)"]
[null,null,null,null,null,null,null,null,null,null,null,null,null,null,null,null,null,null,null,null,null,null,"under 1 m",{"$f":"COUNTIFS(S5:S23,\">=0,1\",S5:S23,\"<=0,9\")","v":0},{"$f":"IF(X39=0,\"\",COUNTIFS(P5:P23,\"=1\",S5:S23,\"<1\"))","v":""},{"$f":"IF(X39=0,\"\",Y39/X39*100)","v":""}]
[null,null,null,null,null,null,null,null,null,null,null,null,null,null,null,null,null,null,null,null,null,null,"1 - 1,5",{"$f":"COUNTIFS(S5:S23,\">=1\",S5:S23,\"<=1,5\")","v":0},{"$f":"IF(X40=0,\"\",COUNTIFS(P5:P23,\"=1\",S5:S23,\">=1\",S5:S23,\"<=1,5\"))","v":""},{"$f":"IF(X40=0,\"\",Y40/X40*100)","v":""}]
[null,null,null,null,null,null,null,null,null,null,null,null,null,null,null,null,null,null,null,null,null,null,"1,5 - 3",{"$f":"COUNTIFS(S5:S23,\">=1,6\",S5:S23,\"<=3\")","v":0},{"$f":"IF(X41=0,\"\",COUNTIFS(P5:P23,\"=1\",S5:S23,\">=1,6\",S5:S23,\"<=3\"))","v":""},{"$f":"IF(X41=0,\"\",Y41/X41*100)","v":""}]
[null,null,null,null,null,null,null,null,null,null,null,null,null,null,null,null,null,null,null,null,null,null,"3 - 4,5",{"$f":"COUNTIFS(S5:S23,\">=3,1\",S5:S23,\"<=4,5\")","v":0},{"$f":"IF(X42=0,\"\",COUNTIFS(P5:P23,\"=1\",S5:S23,\">=3,1\",S5:S23,\"<=4,5\"))","v":""},""]
[null,null,null,null,null,null,null,null,null,null,null,null,null,null,null,null,null,null,null,null,null,null,"4,5 - 6",{"$f":"COUNTIFS(S5:S23,\">=4,6\",S5:S23,\"<=6\")","v":0},{"$f":"IF(X43=0,\"\",COUNTIFS(P5:P23,\"=1\",S5:S23,\">=4,6\",S5:S23,\"<=6\"))","v":""},""]
[null,null,null,null,null,null,null,null,null,null,null,null,null,null,null,null,null,null,null,null,null,null,"over 6 meter",{"$f":"COUNTIFS(S5:S23,\">6\")","v":0},{"$f":"IF(X44=0,\"\",COUNTIFS(P5:P23,\"=1\",S5:S23,\">6\"))","v":""},""]

{"sheet":"Runde 26","index":28,"n_rows":44,"n_cols":29,"rows_kept":44,"cut":false,"hidden":false,"merged":[]}
["Korsør Golf Klub - 18 huller - Gul tee",null,null,null,null,null,null,null,null,{"$f":"IF(E25=\"0\",\"0\",\"1\")","v":"0"},null,"Dato:",null,null,"Handicap:",null,null,null,null,"Antal tildelte slag:"]
[]
[null,null,null,null,null,null,null,"Tee shot",null,null,"Fairway hits i %",null,null,"Bunker",null,null,null,"Approach shots"]
["Hul","Gul tee","Par","HCP","Score","Netto","Driver","Wood","Jern","Venstre","Midt","Højre","FB","GB","SS","Putts","GIR","Dist. to pin (m)","Dist. to hole (m)","% SS","% GIR","Putts/GIR","Eagles","Birdies","Bogeys","Værre","% Scramble","3+ Putts","% Driver/Fairwayhits"]
[1,307,4,11,null,null,null,null,null,null,null,null,null,null,null,null,null,null,null,null,null,{"$f":"IF(Q5=0,\"\",P5)","v":""},null,null,null,null,{"$f":"IF(AND(Q5=\"\",P5=1),1,\"\")","v":""},null,{"$f":"IF(AND(G5=\"\"),\"\",SUM(K5))","v":""}]
[2,323,4,5,null,null,null,null,null,null,null,null,null,null,null,null,null,null,null,null,null,"",null,null,null,null,"",null,""]
[3,138,3,15,null,null,null,null,null,null,null,null,null,null,null,null,null,null,null,null,null,"",null,null,null,null,"",null,""]
[4,310,4,13,null,null,null,null,null,null,null,null,null,null,null,null,null,null,null,null,null,"",null,null,null,null,"",null,""]
[5,431,5,3,null,null,null,null,null,null,null,null,null,null,null,null,null,null,null,null,null,"",null,null,null,null,"",null,""]
[6,312,4,9,null,null,null,null,null,null,null,null,null,null,null,null,null,null,null,null,null,"",null,null,null,null,"",null,""]
[7,498,5,1,null,null,null,null,null,null,null,null,null,null,null,null,null,null,null,null,null,"",null,null,null,null,"",null,""]
[8,138,3,17,null,null,null,null,null,null,null,null,null,null,null,null,null,null,null,null,null,"",null,null,null,null,"",null,""]
[9,310,4,7,null,null,null,null,null,null,null,null,null,null,null,null,null,null,null,null,null,"",null,null,null,null,"",null,""]
[null,{"$f":"SUM(B5:B13)","v":2767},{"$f":"SUM(C5:C13)","v":36},"UD",{"$f":"SUM(E5:E13)","v":0},{"$f":"SUM(F5:F13)","v":0},{"$f":"SUM(G5:G13)","v":0},{"$f":"SUM(H5:H13)","v":0},{"$f":"SUM(I5:I13)","v":0},{"$f":"IF((A28=27),\"\",(SUM(J5:J13)/SUM(J5:L13))*100)","v":""},{"$f":"IF((A28=27),\"\",(SUM(K5:K13)/SUM(J5:L13))*100)","v":""},{"$f":"IF((A28=27),\"\",(SUM(L5:L13)/SUM(J5:L13))*100)","v":""},{"$f":"SUM(M5:M13)","v":0},{"$f":"SUM(N5:N13)","v":0},{"$f":"SUM(O5:O13)","v":0},{"$f":"SUM(P5:P13)","v":0},{"$f":"SUM(Q5:Q13)","v":0},null,{"$f":"IF(Q14=0,\"\",SUM(S5:S13)/Q14)","v":""},null,null,{"$f":"SUM(V5:V13)","v":0},{"$f":"ColorFunction($E$30,$E$5:$E$13)","v":0},{"$f":"ColorFunction($E$31,$E$5:$E$13)","v":0},{"$f":"ColorFunction($E$32,$E$5:$E$13)","v":0},{"$f":"ColorFunction($E$33,$E$5:$E$13)","v":0},{"$f":"SUM(AA5:AA13)/(9-Q14)*100","v":0},{"$f":"COUNTIF(P5:P13,\">2\")","v":0},{"$f":"IF((G14=0),\"\",SUM(AC5:AC13)/G14*100)","v":""}]
[10,481,5,4,null,null,null,null,null,null,null,null,null,null,null,null,null,null,null,null,null,{"$f":"IF(Q15=0,\"\",P15)","v":""},null,null,null,null,{"$f":"IF(AND(Q15=\"\",P15=1),1,\"\")","v":""},null,{"$f":"IF(AND(G15=\"\"),\"\",SUM(K15))","v":""}]
[11,319,4,16,null,null,null,null,null,null,null,null,null,null,null,null,null,null,null,null,null,"",null,null,null,null,"",null,""]
[12,431,5,2,null,null,null,null,null,null,null,null,null,null,null,null,null,null,null,null,null,"",null,null,null,null,"",null,""]
[13,122,3,18,null,null,null,null,null,null,null,null,null,null,null,null,null,null,null,null,null,"",null,null,null,null,"",null,""]
[14,379,4,6,null,null,null,null,null,null,null,null,null,null,null,null,null,null,null,null,null,"",null,null,null,null,"",null,""]
[15,316,4,8,null,null,null,null,null,null,null,null,null,null,null,null,null,null,null,null,null,"",null,null,null,null,"",null,""]
[16,322,4,14,null,null,null,null,null,null,null,null,null,null,null,null,null,null,null,null,null,"",null,null,null,null,"",null,""]
[17,345,4,10,null,null,null,null,null,null,null,null,null,null,null,null,null,null,null,null,null,"",null,null,null,null,"",null,""]
[18,281,4,12,null,null,null,null,null,null,null,null,null,null,null,null,null,null,null,null,null,"",null,null,null,null,"",null,""]
[null,{"$f":"SUM(B15:B23)","v":2996},{"$f":"SUM(C15:C23)","v":37},"IND",{"$f":"SUM(E15:E23)","v":0},{"$f":"SUM(F15:F23)","v":0},{"$f":"SUM(G15:G23)","v":0},{"$f":"SUM(H15:H23)","v":0},{"$f":"SUM(I15:I23)","v":0},{"$f":"IF((A29=27),\"\",(SUM(J15:J23)/SUM(J15:L23))*100)","v":""},{"$f":"IF((A29=27),\"\",(SUM(K15:K23)/SUM(J15:L23))*100)","v":""},{"$f":"IF((A29=27),\"\",(SUM(L15:L23)/SUM(J15:L23))*100)","v":""},{"$f":"SUM(M15:M23)","v":0},{"$f":"SUM(N15:N23)","v":0},{"$f":"SUM(O15:O23)","v":0},{"$f":"SUM(P15:P23)","v":0},{"$f":"SUM(Q15:Q23)","v":0},null,{"$f":"IF(Q24=0,\"\",SUM(S15:S23)/Q24)","v":""},null,null,{"$f":"SUM(V15:V23)","v":0},{"$f":"ColorFunction($E$30,$E$15:$E$23)","v":0},{"$f":"ColorFunction($E$31,$E$15:$E$23)","v":0},{"$f":"ColorFunction($E$32,$E$15:$E$23)","v":0},{"$f":"ColorFunction($E$33,$E$15:$E$23)","v":0},{"$f":"SUM(AA15:AA23)/(9-Q24)*100","v":0},{"$f":"COUNTIF(P15:P23,\">2\")","v":0},{"$f":"IF((G24=0),\"\",SUM(AC15:AC23)/G24*100)","v":""}]
[null,{"$f":"SUM(B24,B14)","v":5763},{"$f":"SUM(C24,C14)","v":73},"TOTAL",{"$f":"IF(E14=0,\"0\",(E24+E14))","v":"0"},{"$f":"SUM(F14,F24)","v":0},{"$f":"SUM(G24,G14)","v":0},{"$f":"SUM(H24,H14)","v":0},{"$f":"SUM(I24,I14)","v":0},{"$f":"IF((A28=27),\"\",(SUM(J14,J24)/2))","v":""},{"$f":"IF((A28=27),\"\",(SUM(K14,K24)/2))","v":""},{"$f":"IF((A28=27),\"\",(SUM(L14,L24)/2))","v":""},{"$f":"SUM(M24,M14)","v":0},{"$f":"SUM(N24,N14)","v":0},{"$f":"SUM(O24,O14)","v":0},{"$f":"IF(P14+P24=0,\"\",SUM(P24,P14))","v":""},{"$f":"IF(Q14+Q24=0,\"\",SUM(Q24,Q14))","v":""},null,{"$f":"IF(Q25=\"\",\"\",SUM(S24,S14)/2)","v":""},{"$f":"IF(N25=0,\"\",(O25)/N25*100)","v":""},{"$f":"IF(Q25=\"\",\"\",(Q25)/18*100)","v":""},{"$f":"IF(Q25=\"\",\"\",(V14+V24)/Q25)","v":""},{"$f":"SUM(W14,W24)","v":0},{"$f":"SUM(X14,X24)","v":0},{"$f":"SUM(Y14,Y24)","v":0},{"$f":"SUM(Z14,Z24)","v":0},{"$f":"SUM(AA14,AA24)/2","v":0},{"$f":"SUM(AB14,AB24)","v":0},{"$f":"SUM(AC24,AC14)/2","v":0}]
[]
[null,null,null,null,"Udfyld alle grønne felter med 1 for positiv eller antal i tal"]
[{"$f":"COUNTBLANK(I5:K13)","v":27},null,null,null,null,null,null,null,null,null,null,null,null,null,null,null,null,null,null,null,null,null,"Approach"]
[{"$f":"COUNTBLANK(I15:K23)","v":27},null,null,null,"Udfyld følgende farver:",null,null,null,null,null,null,null,null,null,null,null,null,null,"Holes to par",null,null,null,"Længde (m)","Antal","Afstand (m)"]
[{"$f":"SUM(L5:L23)","v":0},null,null,null,"Eagles",null,null,null,null,null,null,null,null,null,null,null,null,null,"Par 3",{"$f":"SUMIF(C:C,\"3\",E:E)/COUNTIF(C:C,3)","v":0},null,null,"45-70",{"$f":"COUNTIFS(R5:R23,\">=45\",R5:R23,\"<=70\")","v":0},{"$f":"IF(X30=0,\"\",AVERAGEIFS(S5:S23,R5:R23,\">=45\",R5:R23,\"<=70\"))","v":""}]
[null,null,null,null,"Birdies",null,null,null,null,null,null,null,null,null,null,null,null,null,"Par 4",{"$f":"SUMIF(C:C,\"4\",E:E)/COUNTIF(C:C,4)","v":0},null,null,"71-90",{"$f":"COUNTIFS(R5:R23,\">=71\",R5:R23,\"<=90\")","v":0},{"$f":"IF(X31=0,\"\",AVERAGEIFS(S5:S23,R5:R23,\">=71\",R5:R23,\"<=90\"))","v":""}]
[null,null,null,null,"Bogeys",null,null,null,null,null,null,null,null,null,null,null,null,null,"Par 5",{"$f":"SUMIF(C:C,\"5\",E:E)/COUNTIF(C:C,5)","v":0},null,null,"91-115",{"$f":"COUNTIFS(R5:R23,\">=91\",R5:R23,\"<=115\")","v":0},{"$f":"IF(X32=0,\"\",AVERAGEIFS(S5:S23,R5:R23,\">=91\",R5:R23,\"<=115\"))","v":""}]
[null,null,null,null,"Doublebogeys eller værre",null,null,null,null,null,null,null,null,null,null,null,null,null,null,null,null,null,"116-140",{"$f":"COUNTIFS(R5:R23,\">=116\",R5:R23,\"<=140\")","v":0},{"$f":"IF(X33=0,\"\",AVERAGEIFS(S5:S23,R5:R23,\">=116\",R5:R23,\"<=140\"))","v":""}]
[null,null,null,null,null,null,null,null,null,null,null,null,null,null,null,null,null,null,"First 4",{"$f":"IF(E25=\"0\",\"\",SUM(E5:E8)-SUM(C5:C8))","v":""},null,null,"141-160",{"$f":"COUNTIFS(R5:R23,\">=141\",R5:R23,\"<=161\")","v":0},{"$f":"IF(X34=0,\"\",AVERAGEIFS(S5:S23,R5:R23,\">=141\",R5:R23,\"<=160\"))","v":""}]
[null,null,null,null,null,null,null,null,null,null,null,null,null,null,null,null,null,null,"Last 4",{"$f":"IF(E25=\"0\",\"\",SUM(E20:E23)-SUM(C20:C23))","v":""},null,null,"161-180",{"$f":"COUNTIFS(R5:R23,\">=161\",R5:R23,\"<=180\")","v":0},{"$f":"IF(X35=0,\"\",AVERAGEIFS(S5:S23,R5:R23,\">=161\",R5:R23,\"<=180\"))","v":""}]
[]
[null,null,null,null,null,null,null,null,null,null,null,null,null,null,null,null,null,null,null,null,null,null,"Putting"]
[null,null,null,null,null,null,null,null,null,null,null,null,null,null,null,null,null,null,null,null,null,null,"Længde (m)","Antal","Holet","Holet (%)"]
[null,null,null,null,null,null,null,null,null,null,null,null,null,null,null,null,null,null,null,null,null,null,"under 1 m",{"$f":"COUNTIFS(S5:S23,\">=0,1\",S5:S23,\"<=0,9\")","v":0},{"$f":"IF(X39=0,\"\",COUNTIFS(P5:P23,\"=1\",S5:S23,\"<1\"))","v":""},{"$f":"IF(X39=0,\"\",Y39/X39*100)","v":""}]
[null,null,null,null,null,null,null,null,null,null,null,null,null,null,null,null,null,null,null,null,null,null,"1 - 1,5",{"$f":"COUNTIFS(S5:S23,\">=1\",S5:S23,\"<=1,5\")","v":0},{"$f":"IF(X40=0,\"\",COUNTIFS(P5:P23,\"=1\",S5:S23,\">=1\",S5:S23,\"<=1,5\"))","v":""},{"$f":"IF(X40=0,\"\",Y40/X40*100)","v":""}]
[null,null,null,null,null,null,null,null,null,null,null,null,null,null,null,null,null,null,null,null,null,null,"1,5 - 3",{"$f":"COUNTIFS(S5:S23,\">=1,6\",S5:S23,\"<=3\")","v":0},{"$f":"IF(X41=0,\"\",COUNTIFS(P5:P23,\"=1\",S5:S23,\">=1,6\",S5:S23,\"<=3\"))","v":""},{"$f":"IF(X41=0,\"\",Y41/X41*100)","v":""}]
[null,null,null,null,null,null,null,null,null,null,null,null,null,null,null,null,null,null,null,null,null,null,"3 - 4,5",{"$f":"COUNTIFS(S5:S23,\">=3,1\",S5:S23,\"<=4,5\")","v":0},{"$f":"IF(X42=0,\"\",COUNTIFS(P5:P23,\"=1\",S5:S23,\">=3,1\",S5:S23,\"<=4,5\"))","v":""},""]
[null,null,null,null,null,null,null,null,null,null,null,null,null,null,null,null,null,null,null,null,null,null,"4,5 - 6",{"$f":"COUNTIFS(S5:S23,\">=4,6\",S5:S23,\"<=6\")","v":0},{"$f":"IF(X43=0,\"\",COUNTIFS(P5:P23,\"=1\",S5:S23,\">=4,6\",S5:S23,\"<=6\"))","v":""},""]
[null,null,null,null,null,null,null,null,null,null,null,null,null,null,null,null,null,null,null,null,null,null,"over 6 meter",{"$f":"COUNTIFS(S5:S23,\">6\")","v":0},{"$f":"IF(X44=0,\"\",COUNTIFS(P5:P23,\"=1\",S5:S23,\">6\"))","v":""},""]

{"sheet":"Runde 27","index":29,"n_rows":44,"n_cols":29,"rows_kept":44,"cut":false,"hidden":false,"merged":[]}
["Korsør Golf Klub - 18 huller - Gul tee",null,null,null,null,null,null,null,null,{"$f":"IF(E25=\"0\",\"0\",\"1\")","v":"0"},null,"Dato:",null,null,"Handicap:",null,null,null,null,"Antal tildelte slag:"]
[]
[null,null,null,null,null,null,null,"Tee shot",null,null,"Fairway hits i %",null,null,"Bunker",null,null,null,"Approach shots"]
["Hul","Gul tee","Par","HCP","Score","Netto","Driver","Wood","Jern","Venstre","Midt","Højre","FB","GB","SS","Putts","GIR","Dist. to pin (m)","Dist. to hole (m)","% SS","% GIR","Putts/GIR","Eagles","Birdies","Bogeys","Værre","% Scramble","3+ Putts","% Driver/Fairwayhits"]
[1,307,4,11,null,null,null,null,null,null,null,null,null,null,null,null,null,null,null,null,null,{"$f":"IF(Q5=0,\"\",P5)","v":""},null,null,null,null,{"$f":"IF(AND(Q5=\"\",P5=1),1,\"\")","v":""},null,{"$f":"IF(AND(G5=\"\"),\"\",SUM(K5))","v":""}]
[2,323,4,5,null,null,null,null,null,null,null,null,null,null,null,null,null,null,null,null,null,"",null,null,null,null,"",null,""]
[3,138,3,15,null,null,null,null,null,null,null,null,null,null,null,null,null,null,null,null,null,"",null,null,null,null,"",null,""]
[4,310,4,13,null,null,null,null,null,null,null,null,null,null,null,null,null,null,null,null,null,"",null,null,null,null,"",null,""]
[5,431,5,3,null,null,null,null,null,null,null,null,null,null,null,null,null,null,null,null,null,"",null,null,null,null,"",null,""]
[6,312,4,9,null,null,null,null,null,null,null,null,null,null,null,null,null,null,null,null,null,"",null,null,null,null,"",null,""]
[7,498,5,1,null,null,null,null,null,null,null,null,null,null,null,null,null,null,null,null,null,"",null,null,null,null,"",null,""]
[8,138,3,17,null,null,null,null,null,null,null,null,null,null,null,null,null,null,null,null,null,"",null,null,null,null,"",null,""]
[9,310,4,7,null,null,null,null,null,null,null,null,null,null,null,null,null,null,null,null,null,"",null,null,null,null,"",null,""]
[null,{"$f":"SUM(B5:B13)","v":2767},{"$f":"SUM(C5:C13)","v":36},"UD",{"$f":"SUM(E5:E13)","v":0},{"$f":"SUM(F5:F13)","v":0},{"$f":"SUM(G5:G13)","v":0},{"$f":"SUM(H5:H13)","v":0},{"$f":"SUM(I5:I13)","v":0},{"$f":"IF((A28=27),\"\",(SUM(J5:J13)/SUM(J5:L13))*100)","v":""},{"$f":"IF((A28=27),\"\",(SUM(K5:K13)/SUM(J5:L13))*100)","v":""},{"$f":"IF((A28=27),\"\",(SUM(L5:L13)/SUM(J5:L13))*100)","v":""},{"$f":"SUM(M5:M13)","v":0},{"$f":"SUM(N5:N13)","v":0},{"$f":"SUM(O5:O13)","v":0},{"$f":"SUM(P5:P13)","v":0},{"$f":"SUM(Q5:Q13)","v":0},null,{"$f":"IF(Q14=0,\"\",SUM(S5:S13)/Q14)","v":""},null,null,{"$f":"SUM(V5:V13)","v":0},{"$f":"ColorFunction($E$30,$E$5:$E$13)","v":0},{"$f":"ColorFunction($E$31,$E$5:$E$13)","v":0},{"$f":"ColorFunction($E$32,$E$5:$E$13)","v":0},{"$f":"ColorFunction($E$33,$E$5:$E$13)","v":0},{"$f":"SUM(AA5:AA13)/(9-Q14)*100","v":0},{"$f":"COUNTIF(P5:P13,\">2\")","v":0},{"$f":"IF((G14=0),\"\",SUM(AC5:AC13)/G14*100)","v":""}]
[10,481,5,4,null,null,null,null,null,null,null,null,null,null,null,null,null,null,null,null,null,{"$f":"IF(Q15=0,\"\",P15)","v":""},null,null,null,null,{"$f":"IF(AND(Q15=\"\",P15=1),1,\"\")","v":""},null,{"$f":"IF(AND(G15=\"\"),\"\",SUM(K15))","v":""}]
[11,319,4,16,null,null,null,null,null,null,null,null,null,null,null,null,null,null,null,null,null,"",null,null,null,null,"",null,""]
[12,431,5,2,null,null,null,null,null,null,null,null,null,null,null,null,null,null,null,null,null,"",null,null,null,null,"",null,""]
[13,122,3,18,null,null,null,null,null,null,null,null,null,null,null,null,null,null,null,null,null,"",null,null,null,null,"",null,""]
[14,379,4,6,null,null,null,null,null,null,null,null,null,null,null,null,null,null,null,null,null,"",null,null,null,null,"",null,""]
[15,316,4,8,null,null,null,null,null,null,null,null,null,null,null,null,null,null,null,null,null,"",null,null,null,null,"",null,""]
[16,322,4,14,null,null,null,null,null,null,null,null,null,null,null,null,null,null,null,null,null,"",null,null,null,null,"",null,""]
[17,345,4,10,null,null,null,null,null,null,null,null,null,null,null,null,null,null,null,null,null,"",null,null,null,null,"",null,""]
[18,281,4,12,null,null,null,null,null,null,null,null,null,null,null,null,null,null,null,null,null,"",null,null,null,null,"",null,""]
[null,{"$f":"SUM(B15:B23)","v":2996},{"$f":"SUM(C15:C23)","v":37},"IND",{"$f":"SUM(E15:E23)","v":0},{"$f":"SUM(F15:F23)","v":0},{"$f":"SUM(G15:G23)","v":0},{"$f":"SUM(H15:H23)","v":0},{"$f":"SUM(I15:I23)","v":0},{"$f":"IF((A29=27),\"\",(SUM(J15:J23)/SUM(J15:L23))*100)","v":""},{"$f":"IF((A29=27),\"\",(SUM(K15:K23)/SUM(J15:L23))*100)","v":""},{"$f":"IF((A29=27),\"\",(SUM(L15:L23)/SUM(J15:L23))*100)","v":""},{"$f":"SUM(M15:M23)","v":0},{"$f":"SUM(N15:N23)","v":0},{"$f":"SUM(O15:O23)","v":0},{"$f":"SUM(P15:P23)","v":0},{"$f":"SUM(Q15:Q23)","v":0},null,{"$f":"IF(Q24=0,\"\",SUM(S15:S23)/Q24)","v":""},null,null,{"$f":"SUM(V15:V23)","v":0},{"$f":"ColorFunction($E$30,$E$15:$E$23)","v":0},{"$f":"ColorFunction($E$31,$E$15:$E$23)","v":0},{"$f":"ColorFunction($E$32,$E$15:$E$23)","v":0},{"$f":"ColorFunction($E$33,$E$15:$E$23)","v":0},{"$f":"SUM(AA15:AA23)/(9-Q24)*100","v":0},{"$f":"COUNTIF(P15:P23,\">2\")","v":0},{"$f":"IF((G24=0),\"\",SUM(AC15:AC23)/G24*100)","v":""}]
[null,{"$f":"SUM(B24,B14)","v":5763},{"$f":"SUM(C24,C14)","v":73},"TOTAL",{"$f":"IF(E14=0,\"0\",(E24+E14))","v":"0"},{"$f":"SUM(F14,F24)","v":0},{"$f":"SUM(G24,G14)","v":0},{"$f":"SUM(H24,H14)","v":0},{"$f":"SUM(I24,I14)","v":0},{"$f":"IF((A28=27),\"\",(SUM(J14,J24)/2))","v":""},{"$f":"IF((A28=27),\"\",(SUM(K14,K24)/2))","v":""},{"$f":"IF((A28=27),\"\",(SUM(L14,L24)/2))","v":""},{"$f":"SUM(M24,M14)","v":0},{"$f":"SUM(N24,N14)","v":0},{"$f":"SUM(O24,O14)","v":0},{"$f":"IF(P14+P24=0,\"\",SUM(P24,P14))","v":""},{"$f":"IF(Q14+Q24=0,\"\",SUM(Q24,Q14))","v":""},null,{"$f":"IF(Q25=\"\",\"\",SUM(S24,S14)/2)","v":""},{"$f":"IF(N25=0,\"\",(O25)/N25*100)","v":""},{"$f":"IF(Q25=\"\",\"\",(Q25)/18*100)","v":""},{"$f":"IF(Q25=\"\",\"\",(V14+V24)/Q25)","v":""},{"$f":"SUM(W14,W24)","v":0},{"$f":"SUM(X14,X24)","v":0},{"$f":"SUM(Y14,Y24)","v":0},{"$f":"SUM(Z14,Z24)","v":0},{"$f":"SUM(AA14,AA24)/2","v":0},{"$f":"SUM(AB14,AB24)","v":0},{"$f":"SUM(AC24,AC14)/2","v":0}]
[]
[null,null,null,null,"Udfyld alle grønne felter med 1 for positiv eller antal i tal"]
[{"$f":"COUNTBLANK(I5:K13)","v":27},null,null,null,null,null,null,null,null,null,null,null,null,null,null,null,null,null,null,null,null,null,"Approach"]
[{"$f":"COUNTBLANK(I15:K23)","v":27},null,null,null,"Udfyld følgende farver:",null,null,null,null,null,null,null,null,null,null,null,null,null,"Holes to par",null,null,null,"Længde (m)","Antal","Afstand (m)"]
[{"$f":"SUM(L5:L23)","v":0},null,null,null,"Eagles",null,null,null,null,null,null,null,null,null,null,null,null,null,"Par 3",{"$f":"SUMIF(C:C,\"3\",E:E)/COUNTIF(C:C,3)","v":0},null,null,"45-70",{"$f":"COUNTIFS(R5:R23,\">=45\",R5:R23,\"<=70\")","v":0},{"$f":"IF(X30=0,\"\",AVERAGEIFS(S5:S23,R5:R23,\">=45\",R5:R23,\"<=70\"))","v":""}]
[null,null,null,null,"Birdies",null,null,null,null,null,null,null,null,null,null,null,null,null,"Par 4",{"$f":"SUMIF(C:C,\"4\",E:E)/COUNTIF(C:C,4)","v":0},null,null,"71-90",{"$f":"COUNTIFS(R5:R23,\">=71\",R5:R23,\"<=90\")","v":0},{"$f":"IF(X31=0,\"\",AVERAGEIFS(S5:S23,R5:R23,\">=71\",R5:R23,\"<=90\"))","v":""}]
[null,null,null,null,"Bogeys",null,null,null,null,null,null,null,null,null,null,null,null,null,"Par 5",{"$f":"SUMIF(C:C,\"5\",E:E)/COUNTIF(C:C,5)","v":0},null,null,"91-115",{"$f":"COUNTIFS(R5:R23,\">=91\",R5:R23,\"<=115\")","v":0},{"$f":"IF(X32=0,\"\",AVERAGEIFS(S5:S23,R5:R23,\">=91\",R5:R23,\"<=115\"))","v":""}]
[null,null,null,null,"Doublebogeys eller værre",null,null,null,null,null,null,null,null,null,null,null,null,null,null,null,null,null,"116-140",{"$f":"COUNTIFS(R5:R23,\">=116\",R5:R23,\"<=140\")","v":0},{"$f":"IF(X33=0,\"\",AVERAGEIFS(S5:S23,R5:R23,\">=116\",R5:R23,\"<=140\"))","v":""}]
[null,null,null,null,null,null,null,null,null,null,null,null,null,null,null,null,null,null,"First 4",{"$f":"IF(E25=\"0\",\"\",SUM(E5:E8)-SUM(C5:C8))","v":""},null,null,"141-160",{"$f":"COUNTIFS(R5:R23,\">=141\",R5:R23,\"<=161\")","v":0},{"$f":"IF(X34=0,\"\",AVERAGEIFS(S5:S23,R5:R23,\">=141\",R5:R23,\"<=160\"))","v":""}]
[null,null,null,null,null,null,null,null,null,null,null,null,null,null,null,null,null,null,"Last 4",{"$f":"IF(E25=\"0\",\"\",SUM(E20:E23)-SUM(C20:C23))","v":""},null,null,"161-180",{"$f":"COUNTIFS(R5:R23,\">=161\",R5:R23,\"<=180\")","v":0},{"$f":"IF(X35=0,\"\",AVERAGEIFS(S5:S23,R5:R23,\">=161\",R5:R23,\"<=180\"))","v":""}]
[]
[null,null,null,null,null,null,null,null,null,null,null,null,null,null,null,null,null,null,null,null,null,null,"Putting"]
[null,null,null,null,null,null,null,null,null,null,null,null,null,null,null,null,null,null,null,null,null,null,"Længde (m)","Antal","Holet","Holet (%)"]
[null,null,null,null,null,null,null,null,null,null,null,null,null,null,null,null,null,null,null,null,null,null,"under 1 m",{"$f":"COUNTIFS(S5:S23,\">=0,1\",S5:S23,\"<=0,9\")","v":0},{"$f":"IF(X39=0,\"\",COUNTIFS(P5:P23,\"=1\",S5:S23,\"<1\"))","v":""},{"$f":"IF(X39=0,\"\",Y39/X39*100)","v":""}]
[null,null,null,null,null,null,null,null,null,null,null,null,null,null,null,null,null,null,null,null,null,null,"1 - 1,5",{"$f":"COUNTIFS(S5:S23,\">=1\",S5:S23,\"<=1,5\")","v":0},{"$f":"IF(X40=0,\"\",COUNTIFS(P5:P23,\"=1\",S5:S23,\">=1\",S5:S23,\"<=1,5\"))","v":""},{"$f":"IF(X40=0,\"\",Y40/X40*100)","v":""}]
[null,null,null,null,null,null,null,null,null,null,null,null,null,null,null,null,null,null,null,null,null,null,"1,5 - 3",{"$f":"COUNTIFS(S5:S23,\">=1,6\",S5:S23,\"<=3\")","v":0},{"$f":"IF(X41=0,\"\",COUNTIFS(P5:P23,\"=1\",S5:S23,\">=1,6\",S5:S23,\"<=3\"))","v":""},{"$f":"IF(X41=0,\"\",Y41/X41*100)","v":""}]
[null,null,null,null,null,null,null,null,null,null,null,null,null,null,null,null,null,null,null,null,null,null,"3 - 4,5",{"$f":"COUNTIFS(S5:S23,\">=3,1\",S5:S23,\"<=4,5\")","v":0},{"$f":"IF(X42=0,\"\",COUNTIFS(P5:P23,\"=1\",S5:S23,\">=3,1\",S5:S23,\"<=4,5\"))","v":""},""]
[null,null,null,null,null,null,null,null,null,null,null,null,null,null,null,null,null,null,null,null,null,null,"4,5 - 6",{"$f":"COUNTIFS(S5:S23,\">=4,6\",S5:S23,\"<=6\")","v":0},{"$f":"IF(X43=0,\"\",COUNTIFS(P5:P23,\"=1\",S5:S23,\">=4,6\",S5:S23,\"<=6\"))","v":""},""]
[null,null,null,null,null,null,null,null,null,null,null,null,null,null,null,null,null,null,null,null,null,null,"over 6 meter",{"$f":"COUNTIFS(S5:S23,\">6\")","v":0},{"$f":"IF(X44=0,\"\",COUNTIFS(P5:P23,\"=1\",S5:S23,\">6\"))","v":""},""]

{"sheet":"Runde 28","index":30,"n_rows":44,"n_cols":29,"rows_kept":44,"cut":false,"hidden":false,"merged":[]}
["Korsør Golf Klub - 18 huller - Gul tee",null,null,null,null,null,null,null,null,{"$f":"IF(E25=\"0\",\"0\",\"1\")","v":"0"},null,"Dato:",null,null,"Handicap:",null,null,null,null,"Antal tildelte slag:"]
[]
[null,null,null,null,null,null,null,"Tee shot",null,null,"Fairway hits i %",null,null,"Bunker",null,null,null,"Approach shots"]
["Hul","Gul tee","Par","HCP","Score","Netto","Driver","Wood","Jern","Venstre","Midt","Højre","FB","GB","SS","Putts","GIR","Dist. to pin (m)","Dist. to hole (m)","% SS","% GIR","Putts/GIR","Eagles","Birdies","Bogeys","Værre","% Scramble","3+ Putts","% Driver/Fairwayhits"]
[1,307,4,11,null,null,null,null,null,null,null,null,null,null,null,null,null,null,null,null,null,{"$f":"IF(Q5=0,\"\",P5)","v":""},null,null,null,null,{"$f":"IF(AND(Q5=\"\",P5=1),1,\"\")","v":""},null,{"$f":"IF(AND(G5=\"\"),\"\",SUM(K5))","v":""}]
[2,323,4,5,null,null,null,null,null,null,null,null,null,null,null,null,null,null,null,null,null,"",null,null,null,null,"",null,""]
[3,138,3,15,null,null,null,null,null,null,null,null,null,null,null,null,null,null,null,null,null,"",null,null,null,null,"",null,""]
[4,310,4,13,null,null,null,null,null,null,null,null,null,null,null,null,null,null,null,null,null,"",null,null,null,null,"",null,""]
[5,431,5,3,null,null,null,null,null,null,null,null,null,null,null,null,null,null,null,null,null,"",null,null,null,null,"",null,""]
[6,312,4,9,null,null,null,null,null,null,null,null,null,null,null,null,null,null,null,null,null,"",null,null,null,null,"",null,""]
[7,498,5,1,null,null,null,null,null,null,null,null,null,null,null,null,null,null,null,null,null,"",null,null,null,null,"",null,""]
[8,138,3,17,null,null,null,null,null,null,null,null,null,null,null,null,null,null,null,null,null,"",null,null,null,null,"",null,""]
[9,310,4,7,null,null,null,null,null,null,null,null,null,null,null,null,null,null,null,null,null,"",null,null,null,null,"",null,""]
[null,{"$f":"SUM(B5:B13)","v":2767},{"$f":"SUM(C5:C13)","v":36},"UD",{"$f":"SUM(E5:E13)","v":0},{"$f":"SUM(F5:F13)","v":0},{"$f":"SUM(G5:G13)","v":0},{"$f":"SUM(H5:H13)","v":0},{"$f":"SUM(I5:I13)","v":0},{"$f":"IF((A28=27),\"\",(SUM(J5:J13)/SUM(J5:L13))*100)","v":""},{"$f":"IF((A28=27),\"\",(SUM(K5:K13)/SUM(J5:L13))*100)","v":""},{"$f":"IF((A28=27),\"\",(SUM(L5:L13)/SUM(J5:L13))*100)","v":""},{"$f":"SUM(M5:M13)","v":0},{"$f":"SUM(N5:N13)","v":0},{"$f":"SUM(O5:O13)","v":0},{"$f":"SUM(P5:P13)","v":0},{"$f":"SUM(Q5:Q13)","v":0},null,{"$f":"IF(Q14=0,\"\",SUM(S5:S13)/Q14)","v":""},null,null,{"$f":"SUM(V5:V13)","v":0},{"$f":"ColorFunction($E$30,$E$5:$E$13)","v":0},{"$f":"ColorFunction($E$31,$E$5:$E$13)","v":0},{"$f":"ColorFunction($E$32,$E$5:$E$13)","v":0},{"$f":"ColorFunction($E$33,$E$5:$E$13)","v":0},{"$f":"SUM(AA5:AA13)/(9-Q14)*100","v":0},{"$f":"COUNTIF(P5:P13,\">2\")","v":0},{"$f":"IF((G14=0),\"\",SUM(AC5:AC13)/G14*100)","v":""}]
[10,481,5,4,null,null,null,null,null,null,null,null,null,null,null,null,null,null,null,null,null,{"$f":"IF(Q15=0,\"\",P15)","v":""},null,null,null,null,{"$f":"IF(AND(Q15=\"\",P15=1),1,\"\")","v":""},null,{"$f":"IF(AND(G15=\"\"),\"\",SUM(K15))","v":""}]
[11,319,4,16,null,null,null,null,null,null,null,null,null,null,null,null,null,null,null,null,null,"",null,null,null,null,"",null,""]
[12,431,5,2,null,null,null,null,null,null,null,null,null,null,null,null,null,null,null,null,null,"",null,null,null,null,"",null,""]
[13,122,3,18,null,null,null,null,null,null,null,null,null,null,null,null,null,null,null,null,null,"",null,null,null,null,"",null,""]
[14,379,4,6,null,null,null,null,null,null,null,null,null,null,null,null,null,null,null,null,null,"",null,null,null,null,"",null,""]
[15,316,4,8,null,null,null,null,null,null,null,null,null,null,null,null,null,null,null,null,null,"",null,null,null,null,"",null,""]
[16,322,4,14,null,null,null,null,null,null,null,null,null,null,null,null,null,null,null,null,null,"",null,null,null,null,"",null,""]
[17,345,4,10,null,null,null,null,null,null,null,null,null,null,null,null,null,null,null,null,null,"",null,null,null,null,"",null,""]
[18,281,4,12,null,null,null,null,null,null,null,null,null,null,null,null,null,null,null,null,null,"",null,null,null,null,"",null,""]
[null,{"$f":"SUM(B15:B23)","v":2996},{"$f":"SUM(C15:C23)","v":37},"IND",{"$f":"SUM(E15:E23)","v":0},{"$f":"SUM(F15:F23)","v":0},{"$f":"SUM(G15:G23)","v":0},{"$f":"SUM(H15:H23)","v":0},{"$f":"SUM(I15:I23)","v":0},{"$f":"IF((A29=27),\"\",(SUM(J15:J23)/SUM(J15:L23))*100)","v":""},{"$f":"IF((A29=27),\"\",(SUM(K15:K23)/SUM(J15:L23))*100)","v":""},{"$f":"IF((A29=27),\"\",(SUM(L15:L23)/SUM(J15:L23))*100)","v":""},{"$f":"SUM(M15:M23)","v":0},{"$f":"SUM(N15:N23)","v":0},{"$f":"SUM(O15:O23)","v":0},{"$f":"SUM(P15:P23)","v":0},{"$f":"SUM(Q15:Q23)","v":0},null,{"$f":"IF(Q24=0,\"\",SUM(S15:S23)/Q24)","v":""},null,null,{"$f":"SUM(V15:V23)","v":0},{"$f":"ColorFunction($E$30,$E$15:$E$23)","v":0},{"$f":"ColorFunction($E$31,$E$15:$E$23)","v":0},{"$f":"ColorFunction($E$32,$E$15:$E$23)","v":0},{"$f":"ColorFunction($E$33,$E$15:$E$23)","v":0},{"$f":"SUM(AA15:AA23)/(9-Q24)*100","v":0},{"$f":"COUNTIF(P15:P23,\">2\")","v":0},{"$f":"IF((G24=0),\"\",SUM(AC15:AC23)/G24*100)","v":""}]
[null,{"$f":"SUM(B24,B14)","v":5763},{"$f":"SUM(C24,C14)","v":73},"TOTAL",{"$f":"IF(E14=0,\"0\",(E24+E14))","v":"0"},{"$f":"SUM(F14,F24)","v":0},{"$f":"SUM(G24,G14)","v":0},{"$f":"SUM(H24,H14)","v":0},{"$f":"SUM(I24,I14)","v":0},{"$f":"IF((A28=27),\"\",(SUM(J14,J24)/2))","v":""},{"$f":"IF((A28=27),\"\",(SUM(K14,K24)/2))","v":""},{"$f":"IF((A28=27),\"\",(SUM(L14,L24)/2))","v":""},{"$f":"SUM(M24,M14)","v":0},{"$f":"SUM(N24,N14)","v":0},{"$f":"SUM(O24,O14)","v":0},{"$f":"IF(P14+P24=0,\"\",SUM(P24,P14))","v":""},{"$f":"IF(Q14+Q24=0,\"\",SUM(Q24,Q14))","v":""},null,{"$f":"IF(Q25=\"\",\"\",SUM(S24,S14)/2)","v":""},{"$f":"IF(N25=0,\"\",(O25)/N25*100)","v":""},{"$f":"IF(Q25=\"\",\"\",(Q25)/18*100)","v":""},{"$f":"IF(Q25=\"\",\"\",(V14+V24)/Q25)","v":""},{"$f":"SUM(W14,W24)","v":0},{"$f":"SUM(X14,X24)","v":0},{"$f":"SUM(Y14,Y24)","v":0},{"$f":"SUM(Z14,Z24)","v":0},{"$f":"SUM(AA14,AA24)/2","v":0},{"$f":"SUM(AB14,AB24)","v":0},{"$f":"SUM(AC24,AC14)/2","v":0}]
[]
[null,null,null,null,"Udfyld alle grønne felter med 1 for positiv eller antal i tal"]
[{"$f":"COUNTBLANK(I5:K13)","v":27},null,null,null,null,null,null,null,null,null,null,null,null,null,null,null,null,null,null,null,null,null,"Approach"]
[{"$f":"COUNTBLANK(I15:K23)","v":27},null,null,null,"Udfyld følgende farver:",null,null,null,null,null,null,null,null,null,null,null,null,null,"Holes to par",null,null,null,"Længde (m)","Antal","Afstand (m)"]
[{"$f":"SUM(L5:L23)","v":0},null,null,null,"Eagles",null,null,null,null,null,null,null,null,null,null,null,null,null,"Par 3",{"$f":"SUMIF(C:C,\"3\",E:E)/COUNTIF(C:C,3)","v":0},null,null,"45-70",{"$f":"COUNTIFS(R5:R23,\">=45\",R5:R23,\"<=70\")","v":0},{"$f":"IF(X30=0,\"\",AVERAGEIFS(S5:S23,R5:R23,\">=45\",R5:R23,\"<=70\"))","v":""}]
[null,null,null,null,"Birdies",null,null,null,null,null,null,null,null,null,null,null,null,null,"Par 4",{"$f":"SUMIF(C:C,\"4\",E:E)/COUNTIF(C:C,4)","v":0},null,null,"71-90",{"$f":"COUNTIFS(R5:R23,\">=71\",R5:R23,\"<=90\")","v":0},{"$f":"IF(X31=0,\"\",AVERAGEIFS(S5:S23,R5:R23,\">=71\",R5:R23,\"<=90\"))","v":""}]
[null,null,null,null,"Bogeys",null,null,null,null,null,null,null,null,null,null,null,null,null,"Par 5",{"$f":"SUMIF(C:C,\"5\",E:E)/COUNTIF(C:C,5)","v":0},null,null,"91-115",{"$f":"COUNTIFS(R5:R23,\">=91\",R5:R23,\"<=115\")","v":0},{"$f":"IF(X32=0,\"\",AVERAGEIFS(S5:S23,R5:R23,\">=91\",R5:R23,\"<=115\"))","v":""}]
[null,null,null,null,"Doublebogeys eller værre",null,null,null,null,null,null,null,null,null,null,null,null,null,null,null,null,null,"116-140",{"$f":"COUNTIFS(R5:R23,\">=116\",R5:R23,\"<=140\")","v":0},{"$f":"IF(X33=0,\"\",AVERAGEIFS(S5:S23,R5:R23,\">=116\",R5:R23,\"<=140\"))","v":""}]
[null,null,null,null,null,null,null,null,null,null,null,null,null,null,null,null,null,null,"First 4",{"$f":"IF(E25=\"0\",\"\",SUM(E5:E8)-SUM(C5:C8))","v":""},null,null,"141-160",{"$f":"COUNTIFS(R5:R23,\">=141\",R5:R23,\"<=161\")","v":0},{"$f":"IF(X34=0,\"\",AVERAGEIFS(S5:S23,R5:R23,\">=141\",R5:R23,\"<=160\"))","v":""}]
[null,null,null,null,null,null,null,null,null,null,null,null,null,null,null,null,null,null,"Last 4",{"$f":"IF(E25=\"0\",\"\",SUM(E20:E23)-SUM(C20:C23))","v":""},null,null,"161-180",{"$f":"COUNTIFS(R5:R23,\">=161\",R5:R23,\"<=180\")","v":0},{"$f":"IF(X35=0,\"\",AVERAGEIFS(S5:S23,R5:R23,\">=161\",R5:R23,\"<=180\"))","v":""}]
[]
[null,null,null,null,null,null,null,null,null,null,null,null,null,null,null,null,null,null,null,null,null,null,"Putting"]
[null,null,null,null,null,null,null,null,null,null,null,null,null,null,null,null,null,null,null,null,null,null,"Længde (m)","Antal","Holet","Holet (%)"]
[null,null,null,null,null,null,null,null,null,null,null,null,null,null,null,null,null,null,null,null,null,null,"under 1 m",{"$f":"COUNTIFS(S5:S23,\">=0,1\",S5:S23,\"<=0,9\")","v":0},{"$f":"IF(X39=0,\"\",COUNTIFS(P5:P23,\"=1\",S5:S23,\"<1\"))","v":""},{"$f":"IF(X39=0,\"\",Y39/X39*100)","v":""}]
[null,null,null,null,null,null,null,null,null,null,null,null,null,null,null,null,null,null,null,null,null,null,"1 - 1,5",{"$f":"COUNTIFS(S5:S23,\">=1\",S5:S23,\"<=1,5\")","v":0},{"$f":"IF(X40=0,\"\",COUNTIFS(P5:P23,\"=1\",S5:S23,\">=1\",S5:S23,\"<=1,5\"))","v":""},{"$f":"IF(X40=0,\"\",Y40/X40*100)","v":""}]
[null,null,null,null,null,null,null,null,null,null,null,null,null,null,null,null,null,null,null,null,null,null,"1,5 - 3",{"$f":"COUNTIFS(S5:S23,\">=1,6\",S5:S23,\"<=3\")","v":0},{"$f":"IF(X41=0,\"\",COUNTIFS(P5:P23,\"=1\",S5:S23,\">=1,6\",S5:S23,\"<=3\"))","v":""},{"$f":"IF(X41=0,\"\",Y41/X41*100)","v":""}]
[null,null,null,null,null,null,null,null,null,null,null,null,null,null,null,null,null,null,null,null,null,null,"3 - 4,5",{"$f":"COUNTIFS(S5:S23,\">=3,1\",S5:S23,\"<=4,5\")","v":0},{"$f":"IF(X42=0,\"\",COUNTIFS(P5:P23,\"=1\",S5:S23,\">=3,1\",S5:S23,\"<=4,5\"))","v":""},""]
[null,null,null,null,null,null,null,null,null,null,null,null,null,null,null,null,null,null,null,null,null,null,"4,5 - 6",{"$f":"COUNTIFS(S5:S23,\">=4,6\",S5:S23,\"<=6\")","v":0},{"$f":"IF(X43=0,\"\",COUNTIFS(P5:P23,\"=1\",S5:S23,\">=4,6\",S5:S23,\"<=6\"))","v":""},""]
[null,null,null,null,null,null,null,null,null,null,null,null,null,null,null,null,null,null,null,null,null,null,"over 6 meter",{"$f":"COUNTIFS(S5:S23,\">6\")","v":0},{"$f":"IF(X44=0,\"\",COUNTIFS(P5:P23,\"=1\",S5:S23,\">6\"))","v":""},""]

{"sheet":"Runde 29","index":31,"n_rows":44,"n_cols":29,"rows_kept":44,"cut":false,"hidden":false,"merged":[]}
["Korsør Golf Klub - 18 huller - Gul tee",null,null,null,null,null,null,null,null,{"$f":"IF(E25=\"0\",\"0\",\"1\")","v":"0"},null,"Dato:",null,null,"Handicap:",null,null,null,null,"Antal tildelte slag:"]
[]
[null,null,null,null,null,null,null,"Tee shot",null,null,"Fairway hits i %",null,null,"Bunker",null,null,null,"Approach shots"]
["Hul","Gul tee","Par","HCP","Score","Netto","Driver","Wood","Jern","Venstre","Midt","Højre","FB","GB","SS","Putts","GIR","Dist. to pin (m)","Dist. to hole (m)","% SS","% GIR","Putts/GIR","Eagles","Birdies","Bogeys","Værre","% Scramble","3+ Putts","% Driver/Fairwayhits"]
[1,307,4,11,null,null,null,null,null,null,null,null,null,null,null,null,null,null,null,null,null,{"$f":"IF(Q5=0,\"\",P5)","v":""},null,null,null,null,{"$f":"IF(AND(Q5=\"\",P5=1),1,\"\")","v":""},null,{"$f":"IF(AND(G5=\"\"),\"\",SUM(K5))","v":""}]
[2,323,4,5,null,null,null,null,null,null,null,null,null,null,null,null,null,null,null,null,null,"",null,null,null,null,"",null,""]
[3,138,3,15,null,null,null,null,null,null,null,null,null,null,null,null,null,null,null,null,null,"",null,null,null,null,"",null,""]
[4,310,4,13,null,null,null,null,null,null,null,null,null,null,null,null,null,null,null,null,null,"",null,null,null,null,"",null,""]
[5,431,5,3,null,null,null,null,null,null,null,null,null,null,null,null,null,null,null,null,null,"",null,null,null,null,"",null,""]
[6,312,4,9,null,null,null,null,null,null,null,null,null,null,null,null,null,null,null,null,null,"",null,null,null,null,"",null,""]
[7,498,5,1,null,null,null,null,null,null,null,null,null,null,null,null,null,null,null,null,null,"",null,null,null,null,"",null,""]
[8,138,3,17,null,null,null,null,null,null,null,null,null,null,null,null,null,null,null,null,null,"",null,null,null,null,"",null,""]
[9,310,4,7,null,null,null,null,null,null,null,null,null,null,null,null,null,null,null,null,null,"",null,null,null,null,"",null,""]
[null,{"$f":"SUM(B5:B13)","v":2767},{"$f":"SUM(C5:C13)","v":36},"UD",{"$f":"SUM(E5:E13)","v":0},{"$f":"SUM(F5:F13)","v":0},{"$f":"SUM(G5:G13)","v":0},{"$f":"SUM(H5:H13)","v":0},{"$f":"SUM(I5:I13)","v":0},{"$f":"IF((A28=27),\"\",(SUM(J5:J13)/SUM(J5:L13))*100)","v":""},{"$f":"IF((A28=27),\"\",(SUM(K5:K13)/SUM(J5:L13))*100)","v":""},{"$f":"IF((A28=27),\"\",(SUM(L5:L13)/SUM(J5:L13))*100)","v":""},{"$f":"SUM(M5:M13)","v":0},{"$f":"SUM(N5:N13)","v":0},{"$f":"SUM(O5:O13)","v":0},{"$f":"SUM(P5:P13)","v":0},{"$f":"SUM(Q5:Q13)","v":0},null,{"$f":"IF(Q14=0,\"\",SUM(S5:S13)/Q14)","v":""},null,null,{"$f":"SUM(V5:V13)","v":0},{"$f":"ColorFunction($E$30,$E$5:$E$13)","v":0},{"$f":"ColorFunction($E$31,$E$5:$E$13)","v":0},{"$f":"ColorFunction($E$32,$E$5:$E$13)","v":0},{"$f":"ColorFunction($E$33,$E$5:$E$13)","v":0},{"$f":"SUM(AA5:AA13)/(9-Q14)*100","v":0},{"$f":"COUNTIF(P5:P13,\">2\")","v":0},{"$f":"IF((G14=0),\"\",SUM(AC5:AC13)/G14*100)","v":""}]
[10,481,5,4,null,null,null,null,null,null,null,null,null,null,null,null,null,null,null,null,null,{"$f":"IF(Q15=0,\"\",P15)","v":""},null,null,null,null,{"$f":"IF(AND(Q15=\"\",P15=1),1,\"\")","v":""},null,{"$f":"IF(AND(G15=\"\"),\"\",SUM(K15))","v":""}]
[11,319,4,16,null,null,null,null,null,null,null,null,null,null,null,null,null,null,null,null,null,"",null,null,null,null,"",null,""]
[12,431,5,2,null,null,null,null,null,null,null,null,null,null,null,null,null,null,null,null,null,"",null,null,null,null,"",null,""]
[13,122,3,18,null,null,null,null,null,null,null,null,null,null,null,null,null,null,null,null,null,"",null,null,null,null,"",null,""]
[14,379,4,6,null,null,null,null,null,null,null,null,null,null,null,null,null,null,null,null,null,"",null,null,null,null,"",null,""]
[15,316,4,8,null,null,null,null,null,null,null,null,null,null,null,null,null,null,null,null,null,"",null,null,null,null,"",null,""]
[16,322,4,14,null,null,null,null,null,null,null,null,null,null,null,null,null,null,null,null,null,"",null,null,null,null,"",null,""]
[17,345,4,10,null,null,null,null,null,null,null,null,null,null,null,null,null,null,null,null,null,"",null,null,null,null,"",null,""]
[18,281,4,12,null,null,null,null,null,null,null,null,null,null,null,null,null,null,null,null,null,"",null,null,null,null,"",null,""]
[null,{"$f":"SUM(B15:B23)","v":2996},{"$f":"SUM(C15:C23)","v":37},"IND",{"$f":"SUM(E15:E23)","v":0},{"$f":"SUM(F15:F23)","v":0},{"$f":"SUM(G15:G23)","v":0},{"$f":"SUM(H15:H23)","v":0},{"$f":"SUM(I15:I23)","v":0},{"$f":"IF((A29=27),\"\",(SUM(J15:J23)/SUM(J15:L23))*100)","v":""},{"$f":"IF((A29=27),\"\",(SUM(K15:K23)/SUM(J15:L23))*100)","v":""},{"$f":"IF((A29=27),\"\",(SUM(L15:L23)/SUM(J15:L23))*100)","v":""},{"$f":"SUM(M15:M23)","v":0},{"$f":"SUM(N15:N23)","v":0},{"$f":"SUM(O15:O23)","v":0},{"$f":"SUM(P15:P23)","v":0},{"$f":"SUM(Q15:Q23)","v":0},null,{"$f":"IF(Q24=0,\"\",SUM(S15:S23)/Q24)","v":""},null,null,{"$f":"SUM(V15:V23)","v":0},{"$f":"ColorFunction($E$30,$E$15:$E$23)","v":0},{"$f":"ColorFunction($E$31,$E$15:$E$23)","v":0},{"$f":"ColorFunction($E$32,$E$15:$E$23)","v":0},{"$f":"ColorFunction($E$33,$E$15:$E$23)","v":0},{"$f":"SUM(AA15:AA23)/(9-Q24)*100","v":0},{"$f":"COUNTIF(P15:P23,\">2\")","v":0},{"$f":"IF((G24=0),\"\",SUM(AC15:AC23)/G24*100)","v":""}]
[null,{"$f":"SUM(B24,B14)","v":5763},{"$f":"SUM(C24,C14)","v":73},"TOTAL",{"$f":"IF(E14=0,\"0\",(E24+E14))","v":"0"},{"$f":"SUM(F14,F24)","v":0},{"$f":"SUM(G24,G14)","v":0},{"$f":"SUM(H24,H14)","v":0},{"$f":"SUM(I24,I14)","v":0},{"$f":"IF((A28=27),\"\",(SUM(J14,J24)/2))","v":""},{"$f":"IF((A28=27),\"\",(SUM(K14,K24)/2))","v":""},{"$f":"IF((A28=27),\"\",(SUM(L14,L24)/2))","v":""},{"$f":"SUM(M24,M14)","v":0},{"$f":"SUM(N24,N14)","v":0},{"$f":"SUM(O24,O14)","v":0},{"$f":"IF(P14+P24=0,\"\",SUM(P24,P14))","v":""},{"$f":"IF(Q14+Q24=0,\"\",SUM(Q24,Q14))","v":""},null,{"$f":"IF(Q25=\"\",\"\",SUM(S24,S14)/2)","v":""},{"$f":"IF(N25=0,\"\",(O25)/N25*100)","v":""},{"$f":"IF(Q25=\"\",\"\",(Q25)/18*100)","v":""},{"$f":"IF(Q25=\"\",\"\",(V14+V24)/Q25)","v":""},{"$f":"SUM(W14,W24)","v":0},{"$f":"SUM(X14,X24)","v":0},{"$f":"SUM(Y14,Y24)","v":0},{"$f":"SUM(Z14,Z24)","v":0},{"$f":"SUM(AA14,AA24)/2","v":0},{"$f":"SUM(AB14,AB24)","v":0},{"$f":"SUM(AC24,AC14)/2","v":0}]
[]
[null,null,null,null,"Udfyld alle grønne felter med 1 for positiv eller antal i tal"]
[{"$f":"COUNTBLANK(I5:K13)","v":27},null,null,null,null,null,null,null,null,null,null,null,null,null,null,null,null,null,null,null,null,null,"Approach"]
[{"$f":"COUNTBLANK(I15:K23)","v":27},null,null,null,"Udfyld følgende farver:",null,null,null,null,null,null,null,null,null,null,null,null,null,"Holes to par",null,null,null,"Længde (m)","Antal","Afstand (m)"]
[{"$f":"SUM(L5:L23)","v":0},null,null,null,"Eagles",null,null,null,null,null,null,null,null,null,null,null,null,null,"Par 3",{"$f":"SUMIF(C:C,\"3\",E:E)/COUNTIF(C:C,3)","v":0},null,null,"45-70",{"$f":"COUNTIFS(R5:R23,\">=45\",R5:R23,\"<=70\")","v":0},{"$f":"IF(X30=0,\"\",AVERAGEIFS(S5:S23,R5:R23,\">=45\",R5:R23,\"<=70\"))","v":""}]
[null,null,null,null,"Birdies",null,null,null,null,null,null,null,null,null,null,null,null,null,"Par 4",{"$f":"SUMIF(C:C,\"4\",E:E)/COUNTIF(C:C,4)","v":0},null,null,"71-90",{"$f":"COUNTIFS(R5:R23,\">=71\",R5:R23,\"<=90\")","v":0},{"$f":"IF(X31=0,\"\",AVERAGEIFS(S5:S23,R5:R23,\">=71\",R5:R23,\"<=90\"))","v":""}]
[null,null,null,null,"Bogeys",null,null,null,null,null,null,null,null,null,null,null,null,null,"Par 5",{"$f":"SUMIF(C:C,\"5\",E:E)/COUNTIF(C:C,5)","v":0},null,null,"91-115",{"$f":"COUNTIFS(R5:R23,\">=91\",R5:R23,\"<=115\")","v":0},{"$f":"IF(X32=0,\"\",AVERAGEIFS(S5:S23,R5:R23,\">=91\",R5:R23,\"<=115\"))","v":""}]
[null,null,null,null,"Doublebogeys eller værre",null,null,null,null,null,null,null,null,null,null,null,null,null,null,null,null,null,"116-140",{"$f":"COUNTIFS(R5:R23,\">=116\",R5:R23,\"<=140\")","v":0},{"$f":"IF(X33=0,\"\",AVERAGEIFS(S5:S23,R5:R23,\">=116\",R5:R23,\"<=140\"))","v":""}]
[null,null,null,null,null,null,null,null,null,null,null,null,null,null,null,null,null,null,"First 4",{"$f":"IF(E25=\"0\",\"\",SUM(E5:E8)-SUM(C5:C8))","v":""},null,null,"141-160",{"$f":"COUNTIFS(R5:R23,\">=141\",R5:R23,\"<=161\")","v":0},{"$f":"IF(X34=0,\"\",AVERAGEIFS(S5:S23,R5:R23,\">=141\",R5:R23,\"<=160\"))","v":""}]
[null,null,null,null,null,null,null,null,null,null,null,null,null,null,null,null,null,null,"Last 4",{"$f":"IF(E25=\"0\",\"\",SUM(E20:E23)-SUM(C20:C23))","v":""},null,null,"161-180",{"$f":"COUNTIFS(R5:R23,\">=161\",R5:R23,\"<=180\")","v":0},{"$f":"IF(X35=0,\"\",AVERAGEIFS(S5:S23,R5:R23,\">=161\",R5:R23,\"<=180\"))","v":""}]
[]
[null,null,null,null,null,null,null,null,null,null,null,null,null,null,null,null,null,null,null,null,null,null,"Putting"]
[null,null,null,null,null,null,null,null,null,null,null,null,null,null,null,null,null,null,null,null,null,null,"Længde (m)","Antal","Holet","Holet (%)"]
[null,null,null,null,null,null,null,null,null,null,null,null,null,null,null,null,null,null,null,null,null,null,"under 1 m",{"$f":"COUNTIFS(S5:S23,\">=0,1\",S5:S23,\"<=0,9\")","v":0},{"$f":"IF(X39=0,\"\",COUNTIFS(P5:P23,\"=1\",S5:S23,\"<1\"))","v":""},{"$f":"IF(X39=0,\"\",Y39/X39*100)","v":""}]
[null,null,null,null,null,null,null,null,null,null,null,null,null,null,null,null,null,null,null,null,null,null,"1 - 1,5",{"$f":"COUNTIFS(S5:S23,\">=1\",S5:S23,\"<=1,5\")","v":0},{"$f":"IF(X40=0,\"\",COUNTIFS(P5:P23,\"=1\",S5:S23,\">=1\",S5:S23,\"<=1,5\"))","v":""},{"$f":"IF(X40=0,\"\",Y40/X40*100)","v":""}]
[null,null,null,null,null,null,null,null,null,null,null,null,null,null,null,null,null,null,null,null,null,null,"1,5 - 3",{"$f":"COUNTIFS(S5:S23,\">=1,6\",S5:S23,\"<=3\")","v":0},{"$f":"IF(X41=0,\"\",COUNTIFS(P5:P23,\"=1\",S5:S23,\">=1,6\",S5:S23,\"<=3\"))","v":""},{"$f":"IF(X41=0,\"\",Y41/X41*100)","v":""}]
[null,null,null,null,null,null,null,null,null,null,null,null,null,null,null,null,null,null,null,null,null,null,"3 - 4,5",{"$f":"COUNTIFS(S5:S23,\">=3,1\",S5:S23,\"<=4,5\")","v":0},{"$f":"IF(X42=0,\"\",COUNTIFS(P5:P23,\"=1\",S5:S23,\">=3,1\",S5:S23,\"<=4,5\"))","v":""},""]
[null,null,null,null,null,null,null,null,null,null,null,null,null,null,null,null,null,null,null,null,null,null,"4,5 - 6",{"$f":"COUNTIFS(S5:S23,\">=4,6\",S5:S23,\"<=6\")","v":0},{"$f":"IF(X43=0,\"\",COUNTIFS(P5:P23,\"=1\",S5:S23,\">=4,6\",S5:S23,\"<=6\"))","v":""},""]
[null,null,null,null,null,null,null,null,null,null,null,null,null,null,null,null,null,null,null,null,null,null,"over 6 meter",{"$f":"COUNTIFS(S5:S23,\">6\")","v":0},{"$f":"IF(X44=0,\"\",COUNTIFS(P5:P23,\"=1\",S5:S23,\">6\"))","v":""},""]

{"sheet":"Runde 30","index":32,"n_rows":44,"n_cols":29,"rows_kept":44,"cut":false,"hidden":false,"merged":[]}
["Korsør Golf Klub - 18 huller - Gul tee",null,null,null,null,null,null,null,null,{"$f":"IF(E25=\"0\",\"0\",\"1\")","v":"0"},null,"Dato:",null,null,"Handicap:",null,null,null,null,"Antal tildelte slag:"]
[]
[null,null,null,null,null,null,null,"Tee shot",null,null,"Fairway hits i %",null,null,"Bunker",null,null,null,"Approach shots"]
["Hul","Gul tee","Par","HCP","Score","Netto","Driver","Wood","Jern","Venstre","Midt","Højre","FB","GB","SS","Putts","GIR","Dist. to pin (m)","Dist. to hole (m)","% SS","% GIR","Putts/GIR","Eagles","Birdies","Bogeys","Værre","% Scramble","3+ Putts","% Driver/Fairwayhits"]
[1,307,4,11,null,null,null,null,null,null,null,null,null,null,null,null,null,null,null,null,null,{"$f":"IF(Q5=0,\"\",P5)","v":""},null,null,null,null,{"$f":"IF(AND(Q5=\"\",P5=1),1,\"\")","v":""},null,{"$f":"IF(AND(G5=\"\"),\"\",SUM(K5))","v":""}]
[2,323,4,5,null,null,null,null,null,null,null,null,null,null,null,null,null,null,null,null,null,"",null,null,null,null,"",null,""]
[3,138,3,15,null,null,null,null,null,null,null,null,null,null,null,null,null,null,null,null,null,"",null,null,null,null,"",null,""]
[4,310,4,13,null,null,null,null,null,null,null,null,null,null,null,null,null,null,null,null,null,"",null,null,null,null,"",null,""]
[5,431,5,3,null,null,null,null,null,null,null,null,null,null,null,null,null,null,null,null,null,"",null,null,null,null,"",null,""]
[6,312,4,9,null,null,null,null,null,null,null,null,null,null,null,null,null,null,null,null,null,"",null,null,null,null,"",null,""]
[7,498,5,1,null,null,null,null,null,null,null,null,null,null,null,null,null,null,null,null,null,"",null,null,null,null,"",null,""]
[8,138,3,17,null,null,null,null,null,null,null,null,null,null,null,null,null,null,null,null,null,"",null,null,null,null,"",null,""]
[9,310,4,7,null,null,null,null,null,null,null,null,null,null,null,null,null,null,null,null,null,"",null,null,null,null,"",null,""]
[null,{"$f":"SUM(B5:B13)","v":2767},{"$f":"SUM(C5:C13)","v":36},"UD",{"$f":"SUM(E5:E13)","v":0},{"$f":"SUM(F5:F13)","v":0},{"$f":"SUM(G5:G13)","v":0},{"$f":"SUM(H5:H13)","v":0},{"$f":"SUM(I5:I13)","v":0},{"$f":"IF((A28=27),\"\",(SUM(J5:J13)/SUM(J5:L13))*100)","v":""},{"$f":"IF((A28=27),\"\",(SUM(K5:K13)/SUM(J5:L13))*100)","v":""},{"$f":"IF((A28=27),\"\",(SUM(L5:L13)/SUM(J5:L13))*100)","v":""},{"$f":"SUM(M5:M13)","v":0},{"$f":"SUM(N5:N13)","v":0},{"$f":"SUM(O5:O13)","v":0},{"$f":"SUM(P5:P13)","v":0},{"$f":"SUM(Q5:Q13)","v":0},null,{"$f":"IF(Q14=0,\"\",SUM(S5:S13)/Q14)","v":""},null,null,{"$f":"SUM(V5:V13)","v":0},{"$f":"ColorFunction($E$30,$E$5:$E$13)","v":0},{"$f":"ColorFunction($E$31,$E$5:$E$13)","v":0},{"$f":"ColorFunction($E$32,$E$5:$E$13)","v":0},{"$f":"ColorFunction($E$33,$E$5:$E$13)","v":0},{"$f":"SUM(AA5:AA13)/(9-Q14)*100","v":0},{"$f":"COUNTIF(P5:P13,\">2\")","v":0},{"$f":"IF((G14=0),\"\",SUM(AC5:AC13)/G14*100)","v":""}]
[10,481,5,4,null,null,null,null,null,null,null,null,null,null,null,null,null,null,null,null,null,{"$f":"IF(Q15=0,\"\",P15)","v":""},null,null,null,null,{"$f":"IF(AND(Q15=\"\",P15=1),1,\"\")","v":""},null,{"$f":"IF(AND(G15=\"\"),\"\",SUM(K15))","v":""}]
[11,319,4,16,null,null,null,null,null,null,null,null,null,null,null,null,null,null,null,null,null,"",null,null,null,null,"",null,""]
[12,431,5,2,null,null,null,null,null,null,null,null,null,null,null,null,null,null,null,null,null,"",null,null,null,null,"",null,""]
[13,122,3,18,null,null,null,null,null,null,null,null,null,null,null,null,null,null,null,null,null,"",null,null,null,null,"",null,""]
[14,379,4,6,null,null,null,null,null,null,null,null,null,null,null,null,null,null,null,null,null,"",null,null,null,null,"",null,""]
[15,316,4,8,null,null,null,null,null,null,null,null,null,null,null,null,null,null,null,null,null,"",null,null,null,null,"",null,""]
[16,322,4,14,null,null,null,null,null,null,null,null,null,null,null,null,null,null,null,null,null,"",null,null,null,null,"",null,""]
[17,345,4,10,null,null,null,null,null,null,null,null,null,null,null,null,null,null,null,null,null,"",null,null,null,null,"",null,""]
[18,281,4,12,null,null,null,null,null,null,null,null,null,null,null,null,null,null,null,null,null,"",null,null,null,null,"",null,""]
[null,{"$f":"SUM(B15:B23)","v":2996},{"$f":"SUM(C15:C23)","v":37},"IND",{"$f":"SUM(E15:E23)","v":0},{"$f":"SUM(F15:F23)","v":0},{"$f":"SUM(G15:G23)","v":0},{"$f":"SUM(H15:H23)","v":0},{"$f":"SUM(I15:I23)","v":0},{"$f":"IF((A29=27),\"\",(SUM(J15:J23)/SUM(J15:L23))*100)","v":""},{"$f":"IF((A29=27),\"\",(SUM(K15:K23)/SUM(J15:L23))*100)","v":""},{"$f":"IF((A29=27),\"\",(SUM(L15:L23)/SUM(J15:L23))*100)","v":""},{"$f":"SUM(M15:M23)","v":0},{"$f":"SUM(N15:N23)","v":0},{"$f":"SUM(O15:O23)","v":0},{"$f":"SUM(P15:P23)","v":0},{"$f":"SUM(Q15:Q23)","v":0},null,{"$f":"IF(Q24=0,\"\",SUM(S15:S23)/Q24)","v":""},null,null,{"$f":"SUM(V15:V23)","v":0},{"$f":"ColorFunction($E$30,$E$15:$E$23)","v":0},{"$f":"ColorFunction($E$31,$E$15:$E$23)","v":0},{"$f":"ColorFunction($E$32,$E$15:$E$23)","v":0},{"$f":"ColorFunction($E$33,$E$15:$E$23)","v":0},{"$f":"SUM(AA15:AA23)/(9-Q24)*100","v":0},{"$f":"COUNTIF(P15:P23,\">2\")","v":0},{"$f":"IF((G24=0),\"\",SUM(AC15:AC23)/G24*100)","v":""}]
[null,{"$f":"SUM(B24,B14)","v":5763},{"$f":"SUM(C24,C14)","v":73},"TOTAL",{"$f":"IF(E14=0,\"0\",(E24+E14))","v":"0"},{"$f":"SUM(F14,F24)","v":0},{"$f":"SUM(G24,G14)","v":0},{"$f":"SUM(H24,H14)","v":0},{"$f":"SUM(I24,I14)","v":0},{"$f":"IF((A28=27),\"\",(SUM(J14,J24)/2))","v":""},{"$f":"IF((A28=27),\"\",(SUM(K14,K24)/2))","v":""},{"$f":"IF((A28=27),\"\",(SUM(L14,L24)/2))","v":""},{"$f":"SUM(M24,M14)","v":0},{"$f":"SUM(N24,N14)","v":0},{"$f":"SUM(O24,O14)","v":0},{"$f":"IF(P14+P24=0,\"\",SUM(P24,P14))","v":""},{"$f":"IF(Q14+Q24=0,\"\",SUM(Q24,Q14))","v":""},null,{"$f":"IF(Q25=\"\",\"\",SUM(S24,S14)/2)","v":""},{"$f":"IF(N25=0,\"\",(O25)/N25*100)","v":""},{"$f":"IF(Q25=\"\",\"\",(Q25)/18*100)","v":""},{"$f":"IF(Q25=\"\",\"\",(V14+V24)/Q25)","v":""},{"$f":"SUM(W14,W24)","v":0},{"$f":"SUM(X14,X24)","v":0},{"$f":"SUM(Y14,Y24)","v":0},{"$f":"SUM(Z14,Z24)","v":0},{"$f":"SUM(AA14,AA24)/2","v":0},{"$f":"SUM(AB14,AB24)","v":0},{"$f":"SUM(AC24,AC14)/2","v":0}]
[]
[null,null,null,null,"Udfyld alle grønne felter med 1 for positiv eller antal i tal"]
[{"$f":"COUNTBLANK(I5:K13)","v":27},null,null,null,null,null,null,null,null,null,null,null,null,null,null,null,null,null,null,null,null,null,"Approach"]
[{"$f":"COUNTBLANK(I15:K23)","v":27},null,null,null,"Udfyld følgende farver:",null,null,null,null,null,null,null,null,null,null,null,null,null,"Holes to par",null,null,null,"Længde (m)","Antal","Afstand (m)"]
[{"$f":"SUM(L5:L23)","v":0},null,null,null,"Eagles",null,null,null,null,null,null,null,null,null,null,null,null,null,"Par 3",{"$f":"SUMIF(C:C,\"3\",E:E)/COUNTIF(C:C,3)","v":0},null,null,"45-70",{"$f":"COUNTIFS(R5:R23,\">=45\",R5:R23,\"<=70\")","v":0},{"$f":"IF(X30=0,\"\",AVERAGEIFS(S5:S23,R5:R23,\">=45\",R5:R23,\"<=70\"))","v":""}]
[null,null,null,null,"Birdies",null,null,null,null,null,null,null,null,null,null,null,null,null,"Par 4",{"$f":"SUMIF(C:C,\"4\",E:E)/COUNTIF(C:C,4)","v":0},null,null,"71-90",{"$f":"COUNTIFS(R5:R23,\">=71\",R5:R23,\"<=90\")","v":0},{"$f":"IF(X31=0,\"\",AVERAGEIFS(S5:S23,R5:R23,\">=71\",R5:R23,\"<=90\"))","v":""}]
[null,null,null,null,"Bogeys",null,null,null,null,null,null,null,null,null,null,null,null,null,"Par 5",{"$f":"SUMIF(C:C,\"5\",E:E)/COUNTIF(C:C,5)","v":0},null,null,"91-115",{"$f":"COUNTIFS(R5:R23,\">=91\",R5:R23,\"<=115\")","v":0},{"$f":"IF(X32=0,\"\",AVERAGEIFS(S5:S23,R5:R23,\">=91\",R5:R23,\"<=115\"))","v":""}]
[null,null,null,null,"Doublebogeys eller værre",null,null,null,null,null,null,null,null,null,null,null,null,null,null,null,null,null,"116-140",{"$f":"COUNTIFS(R5:R23,\">=116\",R5:R23,\"<=140\")","v":0},{"$f":"IF(X33=0,\"\",AVERAGEIFS(S5:S23,R5:R23,\">=116\",R5:R23,\"<=140\"))","v":""}]
[null,null,null,null,null,null,null,null,null,null,null,null,null,null,null,null,null,null,"First 4",{"$f":"IF(E25=\"0\",\"\",SUM(E5:E8)-SUM(C5:C8))","v":""},null,null,"141-160",{"$f":"COUNTIFS(R5:R23,\">=141\",R5:R23,\"<=161\")","v":0},{"$f":"IF(X34=0,\"\",AVERAGEIFS(S5:S23,R5:R23,\">=141\",R5:R23,\"<=160\"))","v":""}]
[null,null,null,null,null,null,null,null,null,null,null,null,null,null,null,null,null,null,"Last 4",{"$f":"IF(E25=\"0\",\"\",SUM(E20:E23)-SUM(C20:C23))","v":""},null,null,"161-180",{"$f":"COUNTIFS(R5:R23,\">=161\",R5:R23,\"<=180\")","v":0},{"$f":"IF(X35=0,\"\",AVERAGEIFS(S5:S23,R5:R23,\">=161\",R5:R23,\"<=180\"))","v":""}]
[]
[null,null,null,null,null,null,null,null,null,null,null,null,null,null,null,null,null,null,null,null,null,null,"Putting"]
[null,null,null,null,null,null,null,null,null,null,null,null,null,null,null,null,null,null,null,null,null,null,"Længde (m)","Antal","Holet","Holet (%)"]
[null,null,null,null,null,null,null,null,null,null,null,null,null,null,null,null,null,null,null,null,null,null,"under 1 m",{"$f":"COUNTIFS(S5:S23,\">=0,1\",S5:S23,\"<=0,9\")","v":0},{"$f":"IF(X39=0,\"\",COUNTIFS(P5:P23,\"=1\",S5:S23,\"<1\"))","v":""},{"$f":"IF(X39=0,\"\",Y39/X39*100)","v":""}]
[null,null,null,null,null,null,null,null,null,null,null,null,null,null,null,null,null,null,null,null,null,null,"1 - 1,5",{"$f":"COUNTIFS(S5:S23,\">=1\",S5:S23,\"<=1,5\")","v":0},{"$f":"IF(X40=0,\"\",COUNTIFS(P5:P23,\"=1\",S5:S23,\">=1\",S5:S23,\"<=1,5\"))","v":""},{"$f":"IF(X40=0,\"\",Y40/X40*100)","v":""}]
[null,null,null,null,null,null,null,null,null,null,null,null,null,null,null,null,null,null,null,null,null,null,"1,5 - 3",{"$f":"COUNTIFS(S5:S23,\">=1,6\",S5:S23,\"<=3\")","v":0},{"$f":"IF(X41=0,\"\",COUNTIFS(P5:P23,\"=1\",S5:S23,\">=1,6\",S5:S23,\"<=3\"))","v":""},{"$f":"IF(X41=0,\"\",Y41/X41*100)","v":""}]
[null,null,null,null,null,null,null,null,null,null,null,null,null,null,null,null,null,null,null,null,null,null,"3 - 4,5",{"$f":"COUNTIFS(S5:S23,\">=3,1\",S5:S23,\"<=4,5\")","v":0},{"$f":"IF(X42=0,\"\",COUNTIFS(P5:P23,\"=1\",S5:S23,\">=3,1\",S5:S23,\"<=4,5\"))","v":""},""]
[null,null,null,null,null,null,null,null,null,null,null,null,null,null,null,null,null,null,null,null,null,null,"4,5 - 6",{"$f":"COUNTIFS(S5:S23,\">=4,6\",S5:S23,\"<=6\")","v":0},{"$f":"IF(X43=0,\"\",COUNTIFS(P5:P23,\"=1\",S5:S23,\">=4,6\",S5:S23,\"<=6\"))","v":""},""]
[null,null,null,null,null,null,null,null,null,null,null,null,null,null,null,null,null,null,null,null,null,null,"over 6 meter",{"$f":"COUNTIFS(S5:S23,\">6\")","v":0},{"$f":"IF(X44=0,\"\",COUNTIFS(P5:P23,\"=1\",S5:S23,\">6\"))","v":""},""]

{"sheet":"DATA - nix pille","index":33,"n_rows":23,"n_cols":30,"rows_kept":23,"cut":false,"hidden":false,"merged":[]}
[]
[]
["Runder i alt",{"$f":"('Runde 1'!J1+'Runde 2'!J1+'Runde 3'!J1+'Runde 4'!J1+'Runde 5'!J1+'Runde 6'!J1+'Runde 7'!J1+'Runde 8'!J1+'Runde 9'!J1+'Runde 10'!J1+'Runde 11'!J1+'Runde 12'!J1+'Runde 13'!J1+'Runde 14'!J1+'Runde 15'!J1+'Runde 16'!J1+'Runde 17'!J1+'Runde 18'!J1+'Runde 19'!J1+'Runde 20'!J1+'Runde 21'!J1+'Runde 22'!J1+'Runde 23'!J1+'Runde 24'!J1+'Runde 25'!J1+'Runde 26'!J1+'Runde 27'!J1+'Runde 28'!J1+'Runde 29'!J1+'Runde 30'!J1)","v":0}]
[]
[]
["Score"]
[{"$f":"IF('Runde 1'!M1=\"\",\"\",'Runde 1'!M1)","v":""},{"$f":"IF('Runde 2'!M1=\"\",\"\",'Runde 2'!M1)","v":""},{"$f":"IF('Runde 3'!M1=\"\",\"\",'Runde 3'!M1)","v":""},{"$f":"IF('Runde 4'!M1=\"\",\"\",'Runde 4'!M1)","v":""},{"$f":"IF('Runde 5'!M1=\"\",\"\",'Runde 5'!M1)","v":""},{"$f":"IF('Runde 6'!M1=\"\",\"\",'Runde 6'!M1)","v":""},{"$f":"IF('Runde 7'!M1=\"\",\"\",'Runde 7'!M1)","v":""},{"$f":"IF('Runde 8'!M1=\"\",\"\",'Runde 8'!M1)","v":""},{"$f":"IF('Runde 9'!M1=\"\",\"\",'Runde 9'!M1)","v":""},{"$f":"IF('Runde 10'!M1=\"\",\"\",'Runde 10'!M1)","v":""},{"$f":"IF('Runde 11'!M1=\"\",\"\",'Runde 11'!M1)","v":""},{"$f":"IF('Runde 12'!M1=\"\",\"\",'Runde 12'!M1)","v":""},{"$f":"IF('Runde 13'!M1=\"\",\"\",'Runde 13'!M1)","v":""},{"$f":"IF('Runde 14'!M1=\"\",\"\",'Runde 14'!M1)","v":""},{"$f":"IF('Runde 15'!M1=\"\",\"\",'Runde 15'!M1)","v":""},{"$f":"IF('Runde 16'!M1=\"\",\"\",'Runde 16'!M1)","v":""},{"$f":"IF('Runde 17'!M1=\"\",\"\",'Runde 17'!M1)","v":""},{"$f":"IF('Runde 18'!M1=\"\",\"\",'Runde 18'!M1)","v":""},{"$f":"IF('Runde 19'!M1=\"\",\"\",'Runde 19'!M1)","v":""},{"$f":"IF('Runde 20'!M1=\"\",\"\",'Runde 20'!M1)","v":""},{"$f":"IF('Runde 21'!M1=\"\",\"\",'Runde 21'!M1)","v":""},{"$f":"IF('Runde 22'!M1=\"\",\"\",'Runde 22'!M1)","v":""},{"$f":"IF('Runde 23'!M1=\"\",\"\",'Runde 23'!M1)","v":""},{"$f":"IF('Runde 24'!M1=\"\",\"\",'Runde 24'!M1)","v":""},{"$f":"IF('Runde 25'!M1=\"\",\"\",'Runde 25'!M1)","v":""},{"$f":"IF('Runde 26'!M1=\"\",\"\",'Runde 26'!M1)","v":""},{"$f":"IF('Runde 27'!M1=\"\",\"\",'Runde 27'!M1)","v":""},{"$f":"IF('Runde 28'!M1=\"\",\"\",'Runde 28'!M1)","v":""},{"$f":"IF('Runde 29'!M1=\"\",\"\",'Runde 29'!M1)","v":""},{"$f":"IF('Runde 30'!M1=\"\",\"\",'Runde 30'!M1)","v":""}]
[{"$f":"'Runde 1'!E25","v":"0"},{"$f":"'Runde 2'!E25","v":"0"},{"$f":"'Runde 3'!E25","v":"0"},{"$f":"'Runde 4'!E25","v":"0"},{"$f":"'Runde 5'!E25","v":"0"},{"$f":"'Runde 6'!E25","v":"0"},{"$f":"'Runde 7'!E25","v":"0"},{"$f":"'Runde 8'!E25","v":"0"},{"$f":"'Runde 9'!E25","v":"0"},{"$f":"'Runde 10'!E25","v":"0"},{"$f":"'Runde 11'!E25","v":"0"},{"$f":"'Runde 12'!E25","v":"0"},{"$f":"'Runde 13'!E25","v":"0"},{"$f":"'Runde 14'!E25","v":"0"},{"$f":"'Runde 15'!E25","v":"0"},{"$f":"'Runde 16'!E25","v":"0"},{"$f":"'Runde 17'!E25","v":"0"},{"$f":"'Runde 18'!E25","v":"0"},{"$f":"'Runde 19'!E25","v":"0"},{"$f":"'Runde 20'!E25","v":"0"},{"$f":"'Runde 21'!E25","v":"0"},{"$f":"'Runde 22'!E25","v":"0"},{"$f":"'Runde 23'!E25","v":"0"},{"$f":"'Runde 24'!E25","v":"0"},{"$f":"'Runde 25'!E25","v":"0"},{"$f":"'Runde 26'!E25","v":"0"},{"$f":"'Runde 27'!E25","v":"0"},{"$f":"'Runde 28'!E25","v":"0"},{"$f":"'Runde 29'!E25","v":"0"},{"$f":"'Runde 30'!E25","v":"0"}]
[]
["% GIR"]
["Runde 1","Runde 2","Runde 3","Runde 4","Runde 5","Runde 6","Runde 7","Runde 8","Runde 9","Runde 10","Runde 11","Runde 12","Runde 13","Runde 14","Runde 15","Runde 16","Runde 17","Runde 18","Runde 19","Runde 20","Runde 21","Runde 22","Runde 23","Runde 24","Runde 25","Runde 26","Runde 27","Runde 28","Runde 29","Runde 30"]
[{"$f":"'Runde 1'!U25","v":""},{"$f":"'Runde 2'!U25","v":""},{"$f":"'Runde 3'!U25","v":""},{"$f":"'Runde 4'!U25","v":""},{"$f":"'Runde 5'!U25","v":""},{"$f":"'Runde 6'!U25","v":""},{"$f":"'Runde 7'!U25","v":""},{"$f":"'Runde 8'!U25","v":""},{"$f":"'Runde 9'!U25","v":""},{"$f":"'Runde 10'!U25","v":""},{"$f":"'Runde 11'!U25","v":""},{"$f":"'Runde 12'!U25","v":""},{"$f":"'Runde 13'!U25","v":""},{"$f":"'Runde 14'!U25","v":""},{"$f":"'Runde 15'!U25","v":""},{"$f":"'Runde 16'!U25","v":""},{"$f":"'Runde 17'!U25","v":""},{"$f":"'Runde 18'!U25","v":""},{"$f":"'Runde 19'!U25","v":""},{"$f":"'Runde 20'!U25","v":""},{"$f":"'Runde 21'!U25","v":""},{"$f":"'Runde 22'!U25","v":""},{"$f":"'Runde 23'!U25","v":""},{"$f":"'Runde 24'!U25","v":""},{"$f":"'Runde 25'!U25","v":""},{"$f":"'Runde 26'!U25","v":""},{"$f":"'Runde 27'!U25","v":""},{"$f":"'Runde 28'!U25","v":""},{"$f":"'Runde 29'!U25","v":""},{"$f":"'Runde 30'!U25","v":""}]
[]
["% Fairwayhits"]
["Runde 1","Runde 2","Runde 3","Runde 4","Runde 5","Runde 6","Runde 7","Runde 8","Runde 9","Runde 10","Runde 11","Runde 12","Runde 13","Runde 14","Runde 15","Runde 16","Runde 17","Runde 18","Runde 19","Runde 20","Runde 21","Runde 22","Runde 23","Runde 24","Runde 25","Runde 26","Runde 27","Runde 28","Runde 29","Runde 30"]
[{"$f":"'Runde 1'!K25","v":""},{"$f":"'Runde 2'!K25","v":""},{"$f":"'Runde 3'!K25","v":""},{"$f":"'Runde 4'!K25","v":""},{"$f":"'Runde 5'!K25","v":""},{"$f":"'Runde 6'!K25","v":""},{"$f":"'Runde 7'!K25","v":""},{"$f":"'Runde 8'!K25","v":""},{"$f":"'Runde 9'!K25","v":""},{"$f":"'Runde 10'!K25","v":""},{"$f":"'Runde 11'!K25","v":""},{"$f":"'Runde 12'!K25","v":""},{"$f":"'Runde 13'!K25","v":""},{"$f":"'Runde 14'!K25","v":""},{"$f":"'Runde 15'!K25","v":""},{"$f":"'Runde 16'!K25","v":""},{"$f":"'Runde 17'!K25","v":""},{"$f":"'Runde 18'!K25","v":""},{"$f":"'Runde 19'!K25","v":""},{"$f":"'Runde 20'!K25","v":""},{"$f":"'Runde 21'!K25","v":""},{"$f":"'Runde 22'!K25","v":""},{"$f":"'Runde 23'!K25","v":""},{"$f":"'Runde 24'!K25","v":""},{"$f":"'Runde 25'!K25","v":""},{"$f":"'Runde 26'!K25","v":""},{"$f":"'Runde 27'!K25","v":""},{"$f":"'Runde 28'!K25","v":""},{"$f":"'Runde 29'!K25","v":""},{"$f":"'Runde 30'!K25","v":""}]
[]
["Putts"]
["Runde 1","Runde 2","Runde 3","Runde 4","Runde 5","Runde 6","Runde 7","Runde 8","Runde 9","Runde 10","Runde 11","Runde 12","Runde 13","Runde 14","Runde 15","Runde 16","Runde 17","Runde 18","Runde 19","Runde 20","Runde 21","Runde 22","Runde 23","Runde 24","Runde 25","Runde 26","Runde 27","Runde 28","Runde 29","Runde 30"]
[{"$f":"'Runde 1'!P25","v":""},{"$f":"'Runde 2'!P25","v":""},{"$f":"'Runde 3'!P25","v":""},{"$f":"'Runde 4'!P25","v":""},{"$f":"'Runde 5'!P25","v":""},{"$f":"'Runde 6'!P25","v":""},{"$f":"'Runde 7'!P25","v":""},{"$f":"'Runde 8'!P25","v":""},{"$f":"'Runde 9'!P25","v":""},{"$f":"'Runde 10'!P25","v":""},{"$f":"'Runde 11'!P25","v":""},{"$f":"'Runde 12'!P25","v":""},{"$f":"'Runde 13'!P25","v":""},{"$f":"'Runde 14'!P25","v":""},{"$f":"'Runde 15'!P25","v":""},{"$f":"'Runde 16'!P25","v":""},{"$f":"'Runde 17'!P25","v":""},{"$f":"'Runde 18'!P25","v":""},{"$f":"'Runde 19'!P25","v":""},{"$f":"'Runde 20'!P25","v":""},{"$f":"'Runde 21'!P25","v":""},{"$f":"'Runde 22'!P25","v":""},{"$f":"'Runde 23'!P25","v":""},{"$f":"'Runde 24'!P25","v":""},{"$f":"'Runde 25'!P25","v":""},{"$f":"'Runde 26'!P25","v":""},{"$f":"'Runde 27'!P25","v":""},{"$f":"'Runde 28'!P25","v":""},{"$f":"'Runde 29'!P25","v":""},{"$f":"'Runde 30'!P25","v":""}]
[]
["Bunkers totalt",null,{"$f":"IF(B3=0,\"\",SUM('Runde 1'!N25,'Runde 2'!N25,'Runde 3'!N25,'Runde 4'!N25,'Runde 5'!N25,'Runde 6'!U35,'Runde 7'!N25,'Runde 8'!N25,'Runde 9'!N25,'Runde 10'!N25,'Runde 11'!N25,'Runde 12'!N25,'Runde 13'!N25,'Runde 14'!N25,'Runde 15'!N25,'Runde 16'!N25,'Runde 17'!N25,'Runde 18'!N25,'Runde 19'!N25,'Runde 20'!N25,'Runde 21'!N25,'Runde 22'!N25,'Runde 23'!N25,'Runde 24'!N25,'Runde 25'!N25,'Runde 26'!N25,'Runde 27'!N25,'Runde 27'!N25,'Runde 28'!N25,'Runde 29'!N25,'Runde 30'!N25))","v":""}]
["Sandsaves totalt",null,{"$f":"IF(B3=0,\"\",SUM('Runde 1'!O25,'Runde 2'!O25,'Runde 3'!O25,'Runde 4'!O25,'Runde 5'!O25,'Runde 6'!U35,'Runde 7'!O25,'Runde 8'!O25,'Runde 9'!O25,'Runde 10'!O25,'Runde 11'!O25,'Runde 12'!O25,'Runde 13'!O25,'Runde 14'!O25,'Runde 15'!O25,'Runde 16'!O25,'Runde 17'!O25,'Runde 18'!O25,'Runde 19'!O25,'Runde 20'!O25,'Runde 21'!O25,'Runde 22'!O25,'Runde 23'!O25,'Runde 24'!O25,'Runde 25'!O25,'Runde 26'!O25,'Runde 27'!O25,'Runde 27'!O25,'Runde 28'!O25,'Runde 29'!O25,'Runde 30'!O25))","v":""}]