{"text_format":"1","workbook":"xlsx","n_sheets":34,"sheets":["Sæson statistik","Sæson graf","Scorekort til print","Runde 1","Runde 2","Runde 3","Runde 4","Runde 5","Runde 6","Runde 7","Runde 8","Runde 9","Runde 10","Runde 11","Runde 12","Runde 13","Runde 14","Runde 15","Runde 16","Runde 17","Runde 18","Runde 19","Runde 20","Runde 21","Runde 22","Runde 23","Runde 24","Runde 25","Runde 26","Runde 27","Runde 28","Runde 29","Runde 30","DATA - nix pille"],"not_rendered":{"charts":2,"images":0,"macros":1,"external_links":0,"defined_names":0,"comments":0,"pivot_tables":0},"unopened":[],"bounds":{"document_bytes":16777216,"sheet_cells":100000,"rows_first":2000,"rows_last":500,"rows_between":2000,"halvings":0,"cell_chars":16384,"cell_head_chars":4096},"cells_cut":0,"cells_raw":0,"read":"whole","date_system":"1900"}

{"sheet":"Sæson statistik","index":0,"n_rows":48,"n_cols":24,"rows_kept":48,"cut":false,"hidden":false,"merged":[]}
["Sæson statistik 2010"]
[]
["Antal runder:",{"$f":"('Runde 1'!J1+'Runde 2'!J1+'Runde 3'!J1+'Runde 4'!J1+'Runde 5'!J1+'Runde 6'!J1+'Runde 7'!J1+'Runde 8'!J1+'Runde 9'!J1+'Runde 10'!J1+'Runde 11'!J1+'Runde 12'!J1+'Runde 13'!J1+'Runde 14'!J1+'Runde 15'!J1+'Runde 16'!J1+'Runde 17'!J1+'Runde 18'!J1+'Runde 19'!J1+'Runde 20'!J1+'Runde 21'!J1+'Runde 22'!J1+'Runde 23'!J1+'Runde 24'!J1+'Runde 25'!J1+'Runde 26'!J1+'Runde 27'!J1+'Runde 28'!J1+'Runde 29'!J1+'Runde 30'!J1)","v":26}]
[]
["Gennemsnitlige scores i løbet af sæsonen:"]
[]
["Scoring:"]
["Brutto Score",{"$f":"IF(B3=0,\"\",SUM('Runde 1'!E25,'Runde 2'!E25,'Runde 3'!E25,'Runde 4'!E25,'Runde 5'!E25,'Runde 6'!E25,'Runde 7'!E25,'Runde 8'!E25,'Runde 9'!E25,'Runde 10'!E25,'Runde 11'!E25,'Runde 12'!E25,'Runde 13'!E25,'Runde 14'!E25,'Runde 15'!E25,'Runde 16'!E25,'Runde 17'!E25,'Runde 18'!E25,'Runde 19'!E25,'Runde 20'!E25,'Runde 21'!E25,'Runde 22'!E25,'Runde 23'!E25,'Runde 24'!E25,'Runde 25'!E25,'Runde 26'!E25,'Runde 27'!E25,'Runde 27'!E25,'Runde 28'!E25,'Runde 29'!E25,'Runde 30'!E25)/B3)","v":75.730769230769226},null,null,null,null,null,null,null,null,null,null,null,null,null,null,null,null,null,null,"Gennemsnitlig score/hul"]
["Netto Score",{"$f":"IF(B3=0,\"\",SUM('Runde 1'!F25,'Runde 2'!F25,'Runde 3'!F25,'Runde 4'!F25,'Runde 5'!F25,'Runde 6'!F25,'Runde 7'!F25,'Runde 8'!F25,'Runde 9'!F25,'Runde 10'!F25,'Runde 11'!F25,'Runde 12'!F25,'Runde 13'!F25,'Runde 14'!F25,'Runde 15'!F25,'Runde 16'!F25,'Runde 17'!F25,'Runde 18'!F25,'Runde 19'!F25,'Runde 20'!F25,'Runde 21'!F25,'Runde 22'!F25,'Runde 23'!F25,'Runde 24'!F25,'Runde 25'!F25,'Runde 26'!F25,'Runde 27'!F25,'Runde 27'!F25,'Runde 28'!F25,'Runde 29'!F25,'Runde 30'!F25)/B3)","v":72.461538461538467}]
["Front 9 (par 36)",{"$f":"IF(B3=0,\"\",SUM('Runde 1'!E14,'Runde 2'!E14,'Runde 3'!E14,'Runde 4'!E14,'Runde 5'!E14,'Runde 6'!E14,'Runde 7'!E14,'Runde 8'!E14,'Runde 9'!E14,'Runde 10'!E14,'Runde 11'!E14,'Runde 12'!E14,'Runde 13'!E14,'Runde 14'!E14,'Runde 15'!E14,'Runde 16'!E14,'Runde 17'!E14,'Runde 18'!E14,'Runde 19'!E14,'Runde 20'!E14,'Runde 21'!E14,'Runde 22'!E14,'Runde 23'!E14,'Runde 24'!E14,'Runde 25'!E14,'Runde 26'!E14,'Runde 27'!E14,'Runde 27'!E14,'Runde 28'!E14,'Runde 29'!E14,'Runde 30'!E14)/B3)","v":37.230769230769234},null,null,null,null,null,null,null,null,null,null,null,null,null,null,null,null,null,null,"Hul","Hcp","Par","Score"]
["Back 9 (par 37)",{"$f":"IF(B3=0,\"\",SUM('Runde 1'!E24,'Runde 2'!E24,'Runde 3'!E24,'Runde 4'!E24,'Runde 5'!E24,'Runde 6'!E24,'Runde 7'!E24,'Runde 8'!E24,'Runde 9'!E24,'Runde 10'!E24,'Runde 11'!E24,'Runde 12'!E24,'Runde 13'!E24,'Runde 14'!E24,'Runde 15'!E24,'Runde 16'!E24,'Runde 17'!E24,'Runde 18'!E24,'Runde 19'!E24,'Runde 20'!E24,'Runde 21'!E24,'Runde 22'!E24,'Runde 23'!E24,'Runde 24'!E24,'Runde 25'!E24,'Runde 26'!E24,'Runde 27'!E24,'Runde 27'!E24,'Runde 28'!E24,'Runde 29'!E24,'Runde 30'!E24)/B3)","v":38.5},null,null,null,null,null,null,null,null,null,null,null,null,null,null,null,null,null,null,1,11,4,{"$f":"IF(B3=0,\"\",SUM('Runde 1'!E5,'Runde 2'!E5,'Runde 3'!E5,'Runde 4'!E5,'Runde 5'!E5,'Runde 6'!E5,'Runde 7'!E5,'Runde 8'!E5,'Runde 9'!E5,'Runde 10'!E5,'Runde 11'!E5,'Runde 12'!E5,'Runde 13'!E5,'Runde 14'!E5,'Runde 15'!E5,'Runde 16'!E5,'Runde 17'!E5,'Runde 18'!E5,'Runde 19'!E5,'Runde 20'!E5,'Runde 21'!E5,'Runde 22'!E5,'Runde 23'!E5,'Runde 24'!E5,'Runde 25'!E5,'Runde 26'!E5,'Runde 27'!E5,'Runde 28'!E5,'Runde 29'!E5,'Runde 30'!E5)/B3)","v":4.2692307692307692}]
["Eagles/runde",{"$f":"IF(B3=0,\"\",SUM('Runde 1'!W25,'Runde 2'!W25,'Runde 3'!W25,'Runde 4'!W25,'Runde 5'!W25,'Runde 6'!W25,'Runde 7'!W25,'Runde 8'!W25,'Runde 9'!W25,'Runde 10'!W25,'Runde 11'!W25,'Runde 12'!W25,'Runde 13'!W25,'Runde 14'!W25,'Runde 15'!W25,'Runde 16'!W25,'Runde 17'!W25,'Runde 18'!W25,'Runde 19'!W25,'Runde 20'!W25,'Runde 21'!W25,'Runde 22'!W25,'Runde 23'!W25,'Runde 24'!W25,'Runde 25'!W25,'Runde 26'!W25,'Runde 27'!W25,'Runde 27'!W25,'Runde 28'!W25,'Runde 29'!W25,'Runde 30'!W25)/B3)","v":3.8461538461538464E-2},null,null,null,null,null,null,null,null,null,null,null,null,null,null,null,null,null,null,2,5,4,{"$f":"IF(B3=0,\"\",SUM('Runde 1'!E6,'Runde 2'!E6,'Runde 3'!E6,'Runde 4'!E6,'Runde 5'!E6,'Runde 6'!E6,'Runde 7'!E6,'Runde 8'!E6,'Runde 9'!E6,'Runde 10'!E6,'Runde 11'!E6,'Runde 12'!E6,'Runde 13'!E6,'Runde 14'!E6,'Runde 15'!E6,'Runde 16'!E6,'Runde 17'!E6,'Runde 18'!E6,'Runde 19'!E6,'Runde 20'!E6,'Runde 21'!E6,'Runde 22'!E6,'Runde 23'!E6,'Runde 24'!E6,'Runde 25'!E6,'Runde 26'!E6,'Runde 27'!E6,'Runde 28'!E6,'Runde 29'!E6,'Runde 30'!E6)/B3)","v":4.0769230769230766}]
["Birdies/runde",{"$f":"IF(B3=0,\"\",SUM('Runde 1'!X25,'Runde 2'!X25,'Runde 3'!X25,'Runde 4'!X25,'Runde 5'!X25,'Runde 6'!X25,'Runde 7'!X25,'Runde 8'!X25,'Runde 9'!X25,'Runde 10'!X25,'Runde 11'!X25,'Runde 12'!X25,'Runde 13'!X25,'Runde 14'!X25,'Runde 15'!X25,'Runde 16'!X25,'Runde 17'!X25,'Runde 18'!X25,'Runde 19'!X25,'Runde 20'!X25,'Runde 21'!X25,'Runde 22'!X25,'Runde 23'!X25,'Runde 24'!X25,'Runde 25'!X25,'Runde 26'!X25,'Runde 27'!X25,'Runde 27'!X25,'Runde 28'!X25,'Runde 29'!X25,'Runde 30'!X25)/B3)","v":2.7692307692307692},null,null,null,null,null,null,null,null,null,null,null,null,null,null,null,null,null,null,3,15,3,{"$f":"IF(B3=0,\"\",SUM('Runde 1'!E7,'Runde 2'!E7,'Runde 3'!E7,'Runde 4'!E7,'Runde 5'!E7,'Runde 6'!E7,'Runde 7'!E7,'Runde 8'!E7,'Runde 9'!E7,'Runde 10'!E7,'Runde 11'!E7,'Runde 12'!E7,'Runde 13'!E7,'Runde 14'!E7,'Runde 15'!E7,'Runde 16'!E7,'Runde 17'!E7,'Runde 18'!E7,'Runde 19'!E7,'Runde 20'!E7,'Runde 21'!E7,'Runde 22'!E7,'Runde 23'!E7,'Runde 24'!E7,'Runde 25'!E7,'Runde 26'!E7,'Runde 27'!E7,'Runde 28'!E7,'Runde 29'!E7,'Runde 30'!E7)/B3)","v":3.2307692307692308}]
["Bogeys/runde",{"$f":"IF(B3=0,\"\",SUM('Runde 1'!Y25,'Runde 2'!Y25,'Runde 3'!Y25,'Runde 4'!Y25,'Runde 5'!Y25,'Runde 6'!Y25,'Runde 7'!Y25,'Runde 8'!Y25,'Runde 9'!Y25,'Runde 10'!Y25,'Runde 11'!Y25,'Runde 12'!Y25,'Runde 13'!Y25,'Runde 14'!Y25,'Runde 15'!Y25,'Runde 16'!Y25,'Runde 17'!Y25,'Runde 18'!Y25,'Runde 19'!Y25,'Runde 20'!Y25,'Runde 21'!Y25,'Runde 22'!Y25,'Runde 23'!Y25,'Runde 24'!Y25,'Runde 25'!Y25,'Runde 26'!Y25,'Runde 27'!Y25,'Runde 27'!Y25,'Runde 28'!Y25,'Runde 29'!Y25,'Runde 30'!Y25)/B3)","v":3.4615384615384617},null,null,null,null,null,null,null,null,null,null,null,null,null,null,null,null,null,null,4,13,4,{"$f":"IF(B3=0,\"\",SUM('Runde 1'!E8,'Runde 2'!E8,'Runde 3'!E8,'Runde 4'!E8,'Runde 5'!E8,'Runde 6'!E8,'Runde 7'!E8,'Runde 8'!E8,'Runde 9'!E8,'Runde 10'!E8,'Runde 11'!E8,'Runde 12'!E8,'Runde 13'!E8,'Runde 14'!E8,'Runde 15'!E8,'Runde 16'!E8,'Runde 17'!E8,'Runde 18'!E8,'Runde 19'!E8,'Runde 20'!E8,'Runde 21'!E8,'Runde 22'!E8,'Runde 23'!E8,'Runde 24'!E8,'Runde 25'!E8,'Runde 26'!E8,'Runde 27'!E8,'Runde 28'!E8,'Runde 29'!E8,'Runde 30'!E8)/B3)","v":4.2307692307692308}]
["Værre/runde",{"$f":"IF(B3=0,\"\",SUM('Runde 1'!Z25,'Runde 2'!Z25,'Runde 3'!Z25,'Runde 4'!Z25,'Runde 5'!Z25,'Runde 6'!Z25,'Runde 7'!Z25,'Runde 8'!Z25,'Runde 9'!Z25,'Runde 10'!Z25,'Runde 11'!Z25,'Runde 12'!Z25,'Runde 13'!Z25,'Runde 14'!Z25,'Runde 15'!Z25,'Runde 16'!Z25,'Runde 17'!Z25,'Runde 18'!Z25,'Runde 19'!Z25,'Runde 20'!Z25,'Runde 21'!Z25,'Runde 22'!Z25,'Runde 23'!Z25,'Runde 24'!Z25,'Runde 25'!Z25,'Runde 26'!Z25,'Runde 27'!Z25,'Runde 27'!Z25,'Runde 28'!Z25,'Runde 29'!Z25,'Runde 30'!Z25)/B3)","v":0.92307692307692313},null,null,null,null,null,null,null,null,null,null,null,null,null,null,null,null,null,null,5,3,5,{"$f":"IF(B3=0,\"\",SUM('Runde 1'!E9,'Runde 2'!E9,'Runde 3'!E9,'Runde 4'!E9,'Runde 5'!E9,'Runde 6'!E9,'Runde 7'!E9,'Runde 8'!E9,'Runde 9'!E9,'Runde 10'!E9,'Runde 11'!E9,'Runde 12'!E9,'Runde 13'!E9,'Runde 14'!E9,'Runde 15'!E9,'Runde 16'!E9,'Runde 17'!E9,'Runde 18'!E9,'Runde 19'!E9,'Runde 20'!E9,'Runde 21'!E9,'Runde 22'!E9,'Runde 23'!E9,'Runde 24'!E9,'Runde 25'!E9,'Runde 26'!E9,'Runde 27'!E9,'Runde 28'!E9,'Runde 29'!E9,'Runde 30'!E9)/B3)","v":4.6538461538461542}]
[null,null,null,null,null,null,null,null,null,null,null,null,null,null,null,null,null,null,null,null,6,9,4,{"$f":"IF(B3=0,\"\",SUM('Runde 1'!E10,'Runde 2'!E10,'Runde 3'!E10,'Runde 4'!E10,'Runde 5'!E10,'Runde 6'!E10,'Runde 7'!E10,'Runde 8'!E10,'Runde 9'!E10,'Runde 10'!E10,'Runde 11'!E10,'Runde 12'!E10,'Runde 13'!E10,'Runde 14'!E10,'Runde 15'!E10,'Runde 16'!E10,'Runde 17'!E10,'Runde 18'!E10,'Runde 19'!E10,'Runde 20'!E10,'Runde 21'!E10,'Runde 22'!E10,'Runde 23'!E10,'Runde 24'!E10,'Runde 25'!E10,'Runde 26'!E10,'Runde 27'!E10,'Runde 28'!E10,'Runde 29'!E10,'Runde 30'!E10)/B3)","v":4.0384615384615383}]
["Putting:",null,null,null,null,null,null,null,null,null,null,null,null,null,null,null,null,null,null,null,7,1,5,{"$f":"IF(B3=0,\"\",SUM('Runde 1'!E11,'Runde 2'!E11,'Runde 3'!E11,'Runde 4'!E11,'Runde 5'!E11,'Runde 6'!E11,'Runde 7'!E11,'Runde 8'!E11,'Runde 9'!E11,'Runde 10'!E11,'Runde 11'!E11,'Runde 12'!E11,'Runde 13'!E11,'Runde 14'!E11,'Runde 15'!E11,'Runde 16'!E11,'Runde 17'!E11,'Runde 18'!E11,'Runde 19'!E11,'Runde 20'!E11,'Runde 21'!E11,'Runde 22'!E11,'Runde 23'!E11,'Runde 24'!E11,'Runde 25'!E11,'Runde 26'!E11,'Runde 27'!E11,'Runde 28'!E11,'Runde 29'!E11,'Runde 30'!E11)/B3)","v":5.2307692307692308}]
["Putts/runde",{"$f":"IF(B3=0,\"\",SUM('Runde 1'!P25,'Runde 2'!P25,'Runde 3'!P25,'Runde 4'!P25,'Runde 5'!P25,'Runde 6'!P25,'Runde 7'!P25,'Runde 8'!P25,'Runde 9'!P25,'Runde 10'!P25,'Runde 11'!P25,'Runde 12'!P25,'Runde 13'!P25,'Runde 14'!P25,'Runde 15'!P25,'Runde 16'!P25,'Runde 17'!P25,'Runde 18'!P25,'Runde 19'!P25,'Runde 20'!P25,'Runde 21'!P25,'Runde 22'!P25,'Runde 23'!P25,'Runde 24'!P25,'Runde 25'!P25,'Runde 26'!P25,'Runde 27'!P25,'Runde 27'!P25,'Runde 28'!P25,'Runde 29'!P25,'Runde 30'!P25)/B3)","v":31.576923076923077},null,null,null,null,null,null,null,null,null,null,null,null,null,null,null,null,null,null,8,17,3,{"$f":"IF(B3=0,\"\",SUM('Runde 1'!E12,'Runde 2'!E12,'Runde 3'!E12,'Runde 4'!E12,'Runde 5'!E12,'Runde 6'!E12,'Runde 7'!E12,'Runde 8'!E12,'Runde 9'!E12,'Runde 10'!E12,'Runde 11'!E12,'Runde 12'!E12,'Runde 13'!E12,'Runde 14'!E12,'Runde 15'!E12,'Runde 16'!E12,'Runde 17'!E12,'Runde 18'!E12,'Runde 19'!E12,'Runde 20'!E12,'Runde 21'!E12,'Runde 22'!E12,'Runde 23'!E12,'Runde 24'!E12,'Runde 25'!E12,'Runde 26'!E12,'Runde 27'!E12,'Runde 28'!E12,'Runde 29'!E12,'Runde 30'!E12)/B3)","v":3.4230769230769229}]
["Putts/GIR",{"$f":"IF(B3=0,\"\",SUM('Runde 1'!V25,'Runde 2'!V25,'Runde 3'!V25,'Runde 4'!V25,'Runde 5'!V25,'Runde 6'!V25,'Runde 7'!V25,'Runde 8'!V25,'Runde 9'!V25,'Runde 10'!V25,'Runde 11'!V25,'Runde 12'!V25,'Runde 13'!V25,'Runde 14'!V25,'Runde 15'!V25,'Runde 16'!V25,'Runde 17'!V25,'Runde 18'!V25,'Runde 19'!V25,'Runde 20'!V25,'Runde 21'!V25,'Runde 22'!V25,'Runde 23'!V25,'Runde 24'!V25,'Runde 25'!V25,'Runde 26'!V25,'Runde 27'!V25,'Runde 27'!V25,'Runde 28'!V25,'Runde 29'!V25,'Runde 30'!V25)/B3)","v":1.831694747560132},null,null,null,null,null,null,null,null,null,null,null,null,null,null,null,null,null,null,9,7,4,{"$f":"IF(B3=0,\"\",SUM('Runde 1'!E13,'Runde 2'!E13,'Runde 3'!E13,'Runde 4'!E13,'Runde 5'!E13,'Runde 6'!E13,'Runde 7'!E13,'Runde 8'!E13,'Runde 9'!E13,'Runde 10'!E13,'Runde 11'!E13,'Runde 12'!E13,'Runde 13'!E13,'Runde 14'!E13,'Runde 15'!E13,'Runde 16'!E13,'Runde 17'!E13,'Runde 18'!E13,'Runde 19'!E13,'Runde 20'!E13,'Runde 21'!E13,'Runde 22'!E13,'Runde 23'!E13,'Runde 24'!E13,'Runde 25'!E13,'Runde 26'!E13,'Runde 27'!E13,'Runde 28'!E13,'Runde 29'!E13,'Runde 30'!E13)/B3)","v":4.0769230769230766}]
["3+ Putts/runde",{"$f":"IF(B3=0,\"\",SUM('Runde 1'!AB25,'Runde 2'!AB25,'Runde 3'!AB25,'Runde 4'!AB25,'Runde 5'!AB25,'Runde 6'!AB25,'Runde 7'!AB25,'Runde 8'!AB25,'Runde 9'!AB25,'Runde 10'!AB25,'Runde 11'!AB25,'Runde 12'!AB25,'Runde 13'!AB25,'Runde 14'!AB25,'Runde 15'!AB25,'Runde 16'!AB25,'Runde 17'!AB25,'Runde 18'!AB25,'Runde 19'!AB25,'Runde 20'!AB25,'Runde 21'!AB25,'Runde 22'!AB25,'Runde 23'!AB25,'Runde 24'!AB25,'Runde 25'!AB25,'Runde 26'!AB25,'Runde 27'!AB25,'Runde 27'!AB25,'Runde 28'!AB25,'Runde 29'!AB25,'Runde 30'!AB25)/B3)","v":0.96153846153846156},null,null,null,null,null,null,null,null,null,null,null,null,null,null,null,null,null,null,null,null,{"$f":"SUM(W11:W19)","v":36},{"$f":"SUM(X11:X19)","v":37.230769230769226}]
[null,null,null,null,null,null,null,null,null,null,null,null,null,null,null,null,null,null,null,null,10,4,5,{"$f":"IF(B3=0,\"\",SUM('Runde 1'!E15,'Runde 2'!E15,'Runde 3'!E15,'Runde 4'!E15,'Runde 5'!E15,'Runde 6'!E15,'Runde 7'!E15,'Runde 8'!E15,'Runde 9'!E15,'Runde 10'!E15,'Runde 11'!E15,'Runde 12'!E15,'Runde 13'!E15,'Runde 14'!E15,'Runde 15'!E15,'Runde 16'!E15,'Runde 17'!E15,'Runde 18'!E15,'Runde 19'!E15,'Runde 20'!E15,'Runde 21'!E15,'Runde 22'!E15,'Runde 23'!E15,'Runde 24'!E15,'Runde 25'!E15,'Runde 26'!E15,'Runde 27'!E15,'Runde 28'!E15,'Runde 29'!E15,'Runde 30'!E15)/B3)","v":5}]
["Driving:",null,null,null,null,null,null,null,null,null,null,null,null,null,null,null,null,null,null,null,11,16,4,{"$f":"IF(B3=0,\"\",SUM('Runde 1'!E16,'Runde 2'!E16,'Runde 3'!E16,'Runde 4'!E16,'Runde 5'!E16,'Runde 6'!E16,'Runde 7'!E16,'Runde 8'!E16,'Runde 9'!E16,'Runde 10'!E16,'Runde 11'!E16,'Runde 12'!E16,'Runde 13'!E16,'Runde 14'!E16,'Runde 15'!E16,'Runde 16'!E16,'Runde 17'!E16,'Runde 18'!E16,'Runde 19'!E16,'Runde 20'!E16,'Runde 21'!E16,'Runde 22'!E16,'Runde 23'!E16,'Runde 24'!E16,'Runde 25'!E16,'Runde 26'!E16,'Runde 27'!E16,'Runde 28'!E16,'Runde 29'!E16,'Runde 30'!E16)/B3)","v":4}]
["Drivers/runde",{"$f":"IF(B3=0,\"\",SUM('Runde 1'!G25,'Runde 2'!G25,'Runde 3'!G25,'Runde 4'!G25,'Runde 5'!G25,'Runde 6'!G25,'Runde 7'!G25,'Runde 8'!G25,'Runde 9'!G25,'Runde 10'!G25,'Runde 11'!G25,'Runde 12'!G25,'Runde 13'!G25,'Runde 14'!G25,'Runde 15'!G25,'Runde 16'!G25,'Runde 17'!G25,'Runde 18'!G25,'Runde 19'!G25,'Runde 20'!G25,'Runde 21'!G25,'Runde 22'!G25,'Runde 23'!G25,'Runde 24'!G25,'Runde 25'!G25,'Runde 26'!G25,'Runde 27'!G25,'Runde 27'!G25,'Runde 28'!G25,'Runde 29'!G25,'Runde 30'!G25)/B3)","v":8.5},null,null,null,null,null,null,null,null,null,null,null,null,null,null,null,null,null,null,12,2,5,{"$f":"IF(B3=0,\"\",SUM('Runde 1'!E17,'Runde 2'!E17,'Runde 3'!E17,'Runde 4'!E17,'Runde 5'!E17,'Runde 6'!E17,'Runde 7'!E17,'Runde 8'!E17,'Runde 9'!E17,'Runde 10'!E17,'Runde 11'!E17,'Runde 12'!E17,'Runde 13'!E17,'Runde 14'!E17,'Runde 15'!E17,'Runde 16'!E17,'Runde 17'!E17,'Runde 18'!E17,'Runde 19'!E17,'Runde 20'!E17,'Runde 21'!E17,'Runde 22'!E17,'Runde 23'!E17,'Runde 24'!E17,'Runde 25'!E17,'Runde 26'!E17,'Runde 27'!E17,'Runde 28'!E17,'Runde 29'!E17,'Runde 30'!E17)/B3)","v":5}]
["% Fairway hits (Driver)",{"$f":"IF(B3=0,\"\",SUM('Runde 1'!AC25,'Runde 2'!AC25,'Runde 3'!AC25,'Runde 4'!AC25,'Runde 5'!AC25,'Runde 6'!AC25,'Runde 7'!AC25,'Runde 8'!AC25,'Runde 9'!AC25,'Runde 10'!AC25,'Runde 11'!AC25,'Runde 12'!AC25,'Runde 13'!AC25,'Runde 14'!AC25,'Runde 15'!AC25,'Runde 16'!AC25,'Runde 17'!AC25,'Runde 18'!AC25,'Runde 19'!AC25,'Runde 20'!AC25,'Runde 21'!AC25,'Runde 22'!AC25,'Runde 23'!AC25,'Runde 24'!AC25,'Runde 25'!AC25,'Runde 26'!AC25,'Runde 27'!AC25,'Runde 27'!AC25,'Runde 28'!AC25,'Runde 29'!AC25,'Runde 30'!AC25)/B3)","v":71.666666666666657},null,null,null,null,null,null,null,null,null,null,null,null,null,null,null,null,null,null,13,18,3,{"$f":"IF(B3=0,\"\",SUM('Runde 1'!E18,'Runde 2'!E18,'Runde 3'!E18,'Runde 4'!E18,'Runde 5'!E18,'Runde 6'!E18,'Runde 7'!E18,'Runde 8'!E18,'Runde 9'!E18,'Runde 10'!E18,'Runde 11'!E18,'Runde 12'!E18,'Runde 13'!E18,'Runde 14'!E18,'Runde 15'!E18,'Runde 16'!E18,'Runde 17'!E18,'Runde 18'!E18,'Runde 19'!E18,'Runde 20'!E18,'Runde 21'!E18,'Runde 22'!E18,'Runde 23'!E18,'Runde 24'!E18,'Runde 25'!E18,'Runde 26'!E18,'Runde 27'!E18,'Runde 28'!E18,'Runde 29'!E18,'Runde 30'!E18)/B3)","v":3.0769230769230771}]
["% Fairway hits (alle)",{"$f":"IF(B3=0,\"\",SUM('Runde 1'!K25,'Runde 2'!K25,'Runde 3'!K25,'Runde 4'!K25,'Runde 5'!K25,'Runde 6'!K25,'Runde 7'!K25,'Runde 8'!K25,'Runde 9'!K25,'Runde 10'!K25,'Runde 11'!K25,'Runde 12'!K25,'Runde 13'!K25,'Runde 14'!K25,'Runde 15'!K25,'Runde 16'!K25,'Runde 17'!K25,'Runde 18'!K25,'Runde 19'!K25,'Runde 20'!K25,'Runde 21'!K25,'Runde 22'!K25,'Runde 23'!K25,'Runde 24'!K25,'Runde 25'!K25,'Runde 26'!K25,'Runde 27'!K25,'Runde 27'!K25,'Runde 28'!K25,'Runde 29'!K25,'Runde 30'!K25)/B3)","v":78.420329670329679},null,null,null,null,null,null,null,null,null,null,null,null,null,null,null,null,null,null,14,6,4,{"$f":"IF(B3=0,\"\",SUM('Runde 1'!E19,'Runde 2'!E19,'Runde 3'!E19,'Runde 4'!E19,'Runde 5'!E19,'Runde 6'!E19,'Runde 7'!E19,'Runde 8'!E19,'Runde 9'!E19,'Runde 10'!E19,'Runde 11'!E19,'Runde 12'!E19,'Runde 13'!E19,'Runde 14'!E19,'Runde 15'!E19,'Runde 16'!E19,'Runde 17'!E19,'Runde 18'!E19,'Runde 19'!E19,'Runde 20'!E19,'Runde 21'!E19,'Runde 22'!E19,'Runde 23'!E19,'Runde 24'!E19,'Runde 25'!E19,'Runde 26'!E19,'Runde 27'!E19,'Runde 28'!E19,'Runde 29'!E19,'Runde 30'!E19)/B3)","v":4.4615384615384617}]
["% Teeslag i venstre",{"$f":"IF(B3=0,\"\",SUM('Runde 1'!J25,'Runde 2'!J25,'Runde 3'!J25,'Runde 4'!J25,'Runde 5'!J25,'Runde 6'!J25,'Runde 7'!J25,'Runde 8'!J25,'Runde 9'!J25,'Runde 10'!J25,'Runde 11'!J25,'Runde 12'!J25,'Runde 13'!J25,'Runde 14'!J25,'Runde 15'!J25,'Runde 16'!J25,'Runde 17'!J25,'Runde 18'!J25,'Runde 19'!J25,'Runde 20'!J25,'Runde 21'!J25,'Runde 22'!J25,'Runde 23'!J25,'Runde 24'!J25,'Runde 25'!J25,'Runde 26'!J25,'Runde 27'!J25,'Runde 27'!J25,'Runde 28'!J25,'Runde 29'!J25,'Runde 30'!J25)/B3)","v":13.475274725274726},null,null,null,null,null,null,null,null,null,null,null,null,null,null,null,null,null,null,15,8,4,{"$f":"IF(B3=0,\"\",SUM('Runde 1'!E20,'Runde 2'!E20,'Runde 3'!E20,'Runde 4'!E20,'Runde 5'!E20,'Runde 6'!E20,'Runde 7'!E20,'Runde 8'!E20,'Runde 9'!E20,'Runde 10'!E20,'Runde 11'!E20,'Runde 12'!E20,'Runde 13'!E20,'Runde 14'!E20,'Runde 15'!E20,'Runde 16'!E20,'Runde 17'!E20,'Runde 18'!E20,'Runde 19'!E20,'Runde 20'!E20,'Runde 21'!E20,'Runde 22'!E20,'Runde 23'!E20,'Runde 24'!E20,'Runde 25'!E20,'Runde 26'!E20,'Runde 27'!E20,'Runde 28'!E20,'Runde 29'!E20,'Runde 30'!E20)/B3)","v":4.5}]
["% Teeslag i højre",{"$f":"IF(B3=0,\"\",SUM('Runde 1'!L25,'Runde 2'!L25,'Runde 3'!L25,'Runde 4'!L25,'Runde 5'!L25,'Runde 6'!L25,'Runde 7'!L25,'Runde 8'!L25,'Runde 9'!L25,'Runde 10'!L25,'Runde 11'!L25,'Runde 12'!L25,'Runde 13'!L25,'Runde 14'!L25,'Runde 15'!L25,'Runde 16'!L25,'Runde 17'!L25,'Runde 18'!L25,'Runde 19'!L25,'Runde 20'!L25,'Runde 21'!L25,'Runde 22'!L25,'Runde 23'!L25,'Runde 24'!L25,'Runde 25'!L25,'Runde 26'!L25,'Runde 27'!L25,'Runde 27'!L25,'Runde 28'!L25,'Runde 29'!L25,'Runde 30'!L25)/B3)","v":8.104395604395604},null,null,null,null,null,null,null,null,null,null,null,null,null,null,null,null,null,null,16,14,4,{"$f":"IF(B3=0,\"\",SUM('Runde 1'!E21,'Runde 2'!E21,'Runde 3'!E21,'Runde 4'!E21,'Runde 5'!E21,'Runde 6'!E21,'Runde 7'!E21,'Runde 8'!E21,'Runde 9'!E21,'Runde 10'!E21,'Runde 11'!E21,'Runde 12'!E21,'Runde 13'!E21,'Runde 14'!E21,'Runde 15'!E21,'Runde 16'!E21,'Runde 17'!E21,'Runde 18'!E21,'Runde 19'!E21,'Runde 20'!E21,'Runde 21'!E21,'Runde 22'!E21,'Runde 23'!E21,'Runde 24'!E21,'Runde 25'!E21,'Runde 26'!E21,'Runde 27'!E21,'Runde 28'!E21,'Runde 29'!E21,'Runde 30'!E21)/B3)","v":4.0769230769230766}]
[null,null,null,null,null,null,null,null,null,null,null,null,null,null,null,null,null,null,null,null,17,10,4,{"$f":"IF(B3=0,\"\",SUM('Runde 1'!E22,'Runde 2'!E22,'Runde 3'!E22,'Runde 4'!E22,'Runde 5'!E22,'Runde 6'!E22,'Runde 7'!E22,'Runde 8'!E22,'Runde 9'!E22,'Runde 10'!E22,'Runde 11'!E22,'Runde 12'!E22,'Runde 13'!E22,'Runde 14'!E22,'Runde 15'!E22,'Runde 16'!E22,'Runde 17'!E22,'Runde 18'!E22,'Runde 19'!E22,'Runde 20'!E22,'Runde 21'!E22,'Runde 22'!E22,'Runde 23'!E22,'Runde 24'!E22,'Runde 25'!E22,'Runde 26'!E22,'Runde 27'!E22,'Runde 28'!E22,'Runde 29'!E22,'Runde 30'!E22)/B3)","v":4.3076923076923075}]
["Generelt:",null,null,null,null,null,null,null,null,null,null,null,null,null,null,null,null,null,null,null,18,12,4,{"$f":"IF(B3=0,\"\",SUM('Runde 1'!E23,'Runde 2'!E23,'Runde 3'!E23,'Runde 4'!E23,'Runde 5'!E23,'Runde 6'!E23,'Runde 7'!E23,'Runde 8'!E23,'Runde 9'!E23,'Runde 10'!E23,'Runde 11'!E23,'Runde 12'!E23,'Runde 13'!E23,'Runde 14'!E23,'Runde 15'!E23,'Runde 16'!E23,'Runde 17'!E23,'Runde 18'!E23,'Runde 19'!E23,'Runde 20'!E23,'Runde 21'!E23,'Runde 22'!E23,'Runde 23'!E23,'Runde 24'!E23,'Runde 25'!E23,'Runde 26'!E23,'Runde 27'!E23,'Runde 28'!E23,'Runde 29'!E23,'Runde 30'!E23)/B3)","v":4.0769230769230766}]
["% GIR",{"$f":"IF(B3=0,\"\",SUM('Runde 1'!U25,'Runde 2'!U25,'Runde 3'!U25,'Runde 4'!U25,'Runde 5'!U25,'Runde 6'!U25,'Runde 7'!U25,'Runde 8'!U25,'Runde 9'!U25,'Runde 10'!U25,'Runde 11'!U25,'Runde 12'!U25,'Runde 13'!U25,'Runde 14'!U25,'Runde 15'!U25,'Runde 16'!U25,'Runde 17'!U25,'Runde 18'!U25,'Runde 19'!U25,'Runde 20'!U25,'Runde 21'!U25,'Runde 22'!U25,'Runde 23'!U25,'Runde 24'!U25,'Runde 25'!U25,'Runde 26'!U25,'Runde 27'!U25,'Runde 27'!U25,'Runde 28'!U25,'Runde 29'!U25,'Runde 30'!U25)/B3)","v":66.239316239316238},null,null,null,null,null,null,null,null,null,null,null,null,null,null,null,null,null,null,null,null,{"$f":"SUM(W21:W29)","v":37},{"$f":"SUM(X21:X29)","v":38.5}]
["Afstand til hul (GIR)",{"$f":"IF(B3=0,\"\",AVERAGE('Runde 1'!S25,'Runde 2'!S25,'Runde 3'!S25,'Runde 4'!S25,'Runde 5'!S25,'Runde 6'!S25,'Runde 7'!S25,'Runde 8'!S25,'Runde 9'!S25,'Runde 10'!S25,'Runde 11'!S25,'Runde 12'!S25,'Runde 13'!S25,'Runde 14'!S25,'Runde 15'!S25,'Runde 16'!S25,'Runde 17'!S25,'Runde 18'!S25,'Runde 19'!S25,'Runde 20'!S25,'Runde 21'!S25,'Runde 22'!S25,'Runde 23'!S25,'Runde 24'!S25,'Runde 25'!S25,'Runde 26'!S25,'Runde 27'!S25,'Runde 27'!S25,'Runde 28'!S25,'Runde 29'!S25,'Runde 30'!S25))","v":4.6557242063492064},null,null,null,null,null,null,null,null,null,null,null,null,null,null,null,null,null,null,null,null,{"$f":"SUM(W30,W20)","v":73},{"$f":"SUM(X30,X20)","v":75.730769230769226}]
["% Scrambles",{"$f":"IF(B3=0,\"\",SUM('Runde 1'!AA25,'Runde 2'!AA25,'Runde 3'!AA25,'Runde 4'!AA25,'Runde 5'!AA25,'Runde 6'!AA25,'Runde 7'!AA25,'Runde 8'!AA25,'Runde 9'!AA25,'Runde 10'!AA25,'Runde 11'!AA25,'Runde 12'!AA25,'Runde 13'!AA25,'Runde 14'!AA25,'Runde 15'!AA25,'Runde 16'!AA25,'Runde 17'!AA25,'Runde 18'!AA25,'Runde 19'!AA25,'Runde 20'!AA25,'Runde 21'!AA25,'Runde 22'!AA25,'Runde 23'!AA25,'Runde 24'!AA25,'Runde 25'!AA25,'Runde 26'!AA25,'Runde 27'!AA25,'Runde 27'!AA25,'Runde 28'!AA25,'Runde 29'!AA25,'Runde 30'!AA25)/B3)","v":46.429487179487182}]
[]
["Hulscore ifht par:"]
["Par 3's",{"$f":"IF(B3=0,\"\",SUM('Runde 1'!T30,'Runde 2'!T30,'Runde 3'!T30,'Runde 4'!T30,'Runde 5'!T30,'Runde 6'!U30,'Runde 7'!T30,'Runde 8'!T30,'Runde 9'!T30,'Runde 10'!T30,'Runde 11'!T30,'Runde 12'!T30,'Runde 13'!T30,'Runde 14'!T30,'Runde 15'!T30,'Runde 16'!T30,'Runde 17'!T30,'Runde 18'!T30,'Runde 19'!T30,'Runde 20'!T30,'Runde 21'!T30,'Runde 22'!T30,'Runde 23'!T30,'Runde 24'!T30,'Runde 25'!T30,'Runde 26'!T30,'Runde 27'!T30,'Runde 27'!T30,'Runde 28'!T30,'Runde 29'!T30,'Runde 30'!T30)/B3)","v":3.2435897435897436}]
["Par 4's",{"$f":"IF(B3=0,\"\",SUM('Runde 1'!T31,'Runde 2'!T31,'Runde 3'!T31,'Runde 4'!T31,'Runde 5'!T31,'Runde 6'!U31,'Runde 7'!T31,'Runde 8'!T31,'Runde 9'!T31,'Runde 10'!T31,'Runde 11'!T31,'Runde 12'!T31,'Runde 13'!T31,'Runde 14'!T31,'Runde 15'!T31,'Runde 16'!T31,'Runde 17'!T31,'Runde 18'!T31,'Runde 19'!T31,'Runde 20'!T31,'Runde 21'!T31,'Runde 22'!T31,'Runde 23'!T31,'Runde 24'!T31,'Runde 25'!T31,'Runde 26'!T31,'Runde 27'!T31,'Runde 27'!T31,'Runde 28'!T31,'Runde 29'!T31,'Runde 30'!T31)/B3)","v":4.1923076923076916}]
["Par 5's",{"$f":"IF(B3=0,\"\",SUM('Runde 1'!T32,'Runde 2'!T32,'Runde 3'!T32,'Runde 4'!T32,'Runde 5'!T32,'Runde 6'!U32,'Runde 7'!T32,'Runde 8'!T32,'Runde 9'!T32,'Runde 10'!T32,'Runde 11'!T32,'Runde 12'!T32,'Runde 13'!T32,'Runde 14'!T32,'Runde 15'!T32,'Runde 16'!T32,'Runde 17'!T32,'Runde 18'!T32,'Runde 19'!T32,'Runde 20'!T32,'Runde 21'!T32,'Runde 22'!T32,'Runde 23'!T32,'Runde 24'!T32,'Runde 25'!T32,'Runde 26'!T32,'Runde 27'!T32,'Runde 27'!T32,'Runde 28'!T32,'Runde 29'!T32,'Runde 30'!T32)/B3)","v":4.9711538461538458}]
["First 4 holes to par (+-)",{"$f":"IF(B3=0,\"\",SUM('Runde 1'!T34,'Runde 2'!T34,'Runde 3'!T34,'Runde 4'!T34,'Runde 5'!T34,'Runde 6'!U34,'Runde 7'!T34,'Runde 8'!T34,'Runde 9'!T34,'Runde 10'!T34,'Runde 11'!T34,'Runde 12'!T34,'Runde 13'!T34,'Runde 14'!T34,'Runde 15'!T34,'Runde 16'!T34,'Runde 17'!T34,'Runde 18'!T34,'Runde 19'!T34,'Runde 20'!T34,'Runde 21'!T34,'Runde 22'!T34,'Runde 23'!T34,'Runde 24'!T34,'Runde 25'!T34,'Runde 26'!T34,'Runde 27'!T34,'Runde 27'!T34,'Runde 28'!T34,'Runde 29'!T34,'Runde 30'!T34)/B3)","v":0.76923076923076927}]
["Last 4 holes to par (+-)",{"$f":"IF(B3=0,\"\",SUM('Runde 1'!T35,'Runde 2'!T35,'Runde 3'!T35,'Runde 4'!T35,'Runde 5'!T35,'Runde 6'!U35,'Runde 7'!T35,'Runde 8'!T35,'Runde 9'!T35,'Runde 10'!T35,'Runde 11'!T35,'Runde 12'!T35,'Runde 13'!T35,'Runde 14'!T35,'Runde 15'!T35,'Runde 16'!T35,'Runde 17'!T35,'Runde 18'!T35,'Runde 19'!T35,'Runde 20'!T35,'Runde 21'!T35,'Runde 22'!T35,'Runde 23'!T35,'Runde 24'!T35,'Runde 25'!T35,'Runde 26'!T35,'Runde 27'!T35,'Runde 27'!T35,'Runde 28'!T35,'Runde 29'!T35,'Runde 30'!T35)/B3)","v":0.88461538461538458},null,"* markerer runder spillet fra hvid tee"]
[]
["Approach (GIR)",null,null,"Putting (GIR)",null,null,"Greenbunkers",null,null,"Scoring"]
["Længde (m)","Afstand (m)",null,"Afstand (m)","Holet (%)",null,"Bunkers/runde",{"$f":"IF(B3=0,\"\",'DATA - nix pille'!C22/B3)","v":0.76923076923076927},null,"Type","Antal","% Andel"]
["45 - 70",{"$f":"IF(B3=0,\"\",AVERAGE('Runde 1'!Y30,'Runde 2'!Y30,'Runde 3'!Y30,'Runde 4'!Y30,'Runde 5'!Y30,'Runde 6'!Y30,'Runde 7'!Y30,'Runde 8'!Y30,'Runde 9'!Y30,'Runde 10'!Y30,'Runde 11'!Y30,'Runde 12'!Y30,'Runde 13'!Y30,'Runde 14'!Y30,'Runde 15'!Y30,'Runde 16'!Y30,'Runde 17'!Y30,'Runde 18'!Y30,'Runde 19'!Y30,'Runde 20'!Y30,'Runde 21'!Y30,'Runde 22'!Y30,'Runde 23'!Y30,'Runde 24'!Y30,'Runde 25'!Y30,'Runde 26'!Y30,'Runde 27'!Y30,'Runde 27'!Y30,'Runde 28'!Y30,'Runde 29'!Y30,'Runde 30'!Y30))","v":4.520833333333333},null,"0 - 1",{"$f":"IF(B3=0,\"\",AVERAGE('Runde 1'!Z39,'Runde 2'!Z39,'Runde 3'!Z39,'Runde 4'!Z39,'Runde 5'!Z39,'Runde 6'!Z39,'Runde 7'!Z39,'Runde 8'!Z39,'Runde 9'!Z39,'Runde 10'!Z39,'Runde 11'!Z39,'Runde 12'!Z39,'Runde 13'!Z39,'Runde 14'!Z39,'Runde 15'!Z39,'Runde 16'!Z39,'Runde 17'!Z39,'Runde 18'!Z39,'Runde 19'!Z39,'Runde 20'!Z39,'Runde 21'!Z39,'Runde 22'!Z39,'Runde 23'!Z39,'Runde 24'!Z39,'Runde 25'!Z39,'Runde 26'!Z39,'Runde 27'!Z39,'Runde 27'!Z39,'Runde 28'!Z39,'Runde 29'!Z39,'Runde 30'!Z39))","v":100},null,"Sandsave%",{"$f":"IF(B3=0,\"\",('DATA - nix pille'!C23/'DATA - nix pille'!C22))","v":0.2},null,"Eagles",{"$f":"IF(B3=0,\"\",SUM('Runde 1'!W25,'Runde 2'!W25,'Runde 3'!W25,'Runde 4'!W25,'Runde 5'!W25,'Runde 6'!W25,'Runde 7'!W25,'Runde 8'!W25,'Runde 9'!W25,'Runde 10'!W25,'Runde 11'!W25,'Runde 12'!W25,'Runde 13'!W25,'Runde 14'!W25,'Runde 15'!W25,'Runde 16'!W25,'Runde 17'!W25,'Runde 18'!W25,'Runde 19'!W25,'Runde 20'!W25,'Runde 21'!W25,'Runde 22'!W25,'Runde 23'!W25,'Runde 24'!W25,'Runde 25'!W25,'Runde 26'!W25,'Runde 27'!W25,'Runde 27'!W25,'Runde 28'!W25,'Runde 29'!W25,'Runde 30'!W25))","v":1},{"$f":"IF(B3=0,\"\",(K43/(B3*18))*100)","v":0.21367521367521369}]
["71 - 90",{"$f":"IF(B3=0,\"\",AVERAGE('Runde 1'!Y31,'Runde 2'!Y31,'Runde 3'!Y31,'Runde 4'!Y31,'Runde 5'!Y31,'Runde 6'!Y31,'Runde 7'!Y31,'Runde 8'!Y31,'Runde 9'!Y31,'Runde 10'!Y31,'Runde 11'!Y31,'Runde 12'!Y31,'Runde 13'!Y31,'Runde 14'!Y31,'Runde 15'!Y31,'Runde 16'!Y31,'Runde 17'!Y31,'Runde 18'!Y31,'Runde 19'!Y31,'Runde 20'!Y31,'Runde 21'!Y31,'Runde 22'!Y31,'Runde 23'!Y31,'Runde 24'!Y31,'Runde 25'!Y31,'Runde 26'!Y31,'Runde 27'!Y31,'Runde 27'!Y31,'Runde 28'!Y31,'Runde 29'!Y31,'Runde 30'!Y31))","v":4.9355555555555553},null,"1 - 1,5",{"$f":"IF(B3=0,\"\",AVERAGE('Runde 1'!Z40,'Runde 2'!Z40,'Runde 3'!Z40,'Runde 4'!Z40,'Runde 5'!Z40,'Runde 6'!Z40,'Runde 7'!Z40,'Runde 8'!Z40,'Runde 9'!Z40,'Runde 10'!Z40,'Runde 11'!Z40,'Runde 12'!Z40,'Runde 13'!Z40,'Runde 14'!Z40,'Runde 15'!Z40,'Runde 16'!Z40,'Runde 17'!Z40,'Runde 18'!Z40,'Runde 19'!Z40,'Runde 20'!Z40,'Runde 21'!Z40,'Runde 22'!Z40,'Runde 23'!Z40,'Runde 24'!Z40,'Runde 25'!Z40,'Runde 26'!Z40,'Runde 27'!Z40,'Runde 27'!Z40,'Runde 28'!Z40,'Runde 29'!Z40,'Runde 30'!Z40))","v":59.090909090909093},null,null,null,null,"Birdies",{"$f":"IF(B3=0,\"\",SUM('Runde 1'!X25,'Runde 2'!X25,'Runde 3'!X25,'Runde 4'!X25,'Runde 5'!X25,'Runde 6'!X25,'Runde 7'!X25,'Runde 8'!X25,'Runde 9'!X25,'Runde 10'!X25,'Runde 11'!X25,'Runde 12'!X25,'Runde 13'!X25,'Runde 14'!X25,'Runde 15'!X25,'Runde 16'!X25,'Runde 17'!X25,'Runde 18'!X25,'Runde 19'!X25,'Runde 20'!X25,'Runde 21'!X25,'Runde 22'!X25,'Runde 23'!X25,'Runde 24'!X25,'Runde 25'!X25,'Runde 26'!X25,'Runde 27'!X25,'Runde 27'!X25,'Runde 28'!X25,'Runde 29'!X25,'Runde 30'!X25))","v":72},{"$f":"IF(B3=0,\"\",(K44/(B3*18))*100)","v":15.384615384615385}]
["91 - 115",{"$f":"IF(B3=0,\"\",AVERAGE('Runde 1'!Y32,'Runde 2'!Y32,'Runde 3'!Y32,'Runde 4'!Y32,'Runde 5'!Y32,'Runde 6'!Y32,'Runde 7'!Y32,'Runde 8'!Y32,'Runde 9'!Y32,'Runde 10'!Y32,'Runde 11'!Y32,'Runde 12'!Y32,'Runde 13'!Y32,'Runde 14'!Y32,'Runde 15'!Y32,'Runde 16'!Y32,'Runde 17'!Y32,'Runde 18'!Y32,'Runde 19'!Y32,'Runde 20'!Y32,'Runde 21'!Y32,'Runde 22'!Y32,'Runde 23'!Y32,'Runde 24'!Y32,'Runde 25'!Y32,'Runde 26'!Y32,'Runde 27'!Y32,'Runde 27'!Y32,'Runde 28'!Y32,'Runde 29'!Y32,'Runde 30'!Y32))","v":4.2549019607843137},null,"1,5 - 3",{"$f":"IF(B3=0,\"\",AVERAGE('Runde 1'!Z41,'Runde 2'!Z41,'Runde 3'!Z41,'Runde 4'!Z41,'Runde 5'!Z41,'Runde 6'!Z41,'Runde 7'!Z41,'Runde 8'!Z41,'Runde 9'!Z41,'Runde 10'!Z41,'Runde 11'!Z41,'Runde 12'!Z41,'Runde 13'!Z41,'Runde 14'!Z41,'Runde 15'!Z41,'Runde 16'!Z41,'Runde 17'!Z41,'Runde 18'!Z41,'Runde 19'!Z41,'Runde 20'!Z41,'Runde 21'!Z41,'Runde 22'!Z41,'Runde 23'!Z41,'Runde 24'!Z41,'Runde 25'!Z41,'Runde 26'!Z41,'Runde 27'!Z41,'Runde 27'!Z41,'Runde 28'!Z41,'Runde 29'!Z41,'Runde 30'!Z41))","v":47.777777777777779},null,null,null,null,"Pars",{"$f":"IF(B3=0,\"\",((B3*18)-SUM(K43,K44,K46,K47)))","v":281},{"$f":"IF(B3=0,\"\",(K45/(B3*18))*100)","v":60.042735042735039}]
["116 - 140",{"$f":"IF(B3=0,\"\",AVERAGE('Runde 1'!Y33,'Runde 2'!Y33,'Runde 3'!Y33,'Runde 4'!Y33,'Runde 5'!Y33,'Runde 6'!Y33,'Runde 7'!Y33,'Runde 8'!Y33,'Runde 9'!Y33,'Runde 10'!Y33,'Runde 11'!Y33,'Runde 12'!Y33,'Runde 13'!Y33,'Runde 14'!Y33,'Runde 15'!Y33,'Runde 16'!Y33,'Runde 17'!Y33,'Runde 18'!Y33,'Runde 19'!Y33,'Runde 20'!Y33,'Runde 21'!Y33,'Runde 22'!Y33,'Runde 23'!Y33,'Runde 24'!Y33,'Runde 25'!Y33,'Runde 26'!Y33,'Runde 27'!Y33,'Runde 27'!Y33,'Runde 28'!Y33,'Runde 29'!Y33,'Runde 30'!Y33))","v":4.7988888888888894},null,"3 - 4,5",{"$f":"IF(B3=0,\"\",AVERAGE('Runde 1'!Z42,'Runde 2'!Z42,'Runde 3'!Z42,'Runde 4'!Z42,'Runde 5'!Z42,'Runde 6'!Z42,'Runde 7'!Z42,'Runde 8'!Z42,'Runde 9'!Z42,'Runde 10'!Z42,'Runde 11'!Z42,'Runde 12'!Z42,'Runde 13'!Z42,'Runde 14'!Z42,'Runde 15'!Z42,'Runde 16'!Z42,'Runde 17'!Z42,'Runde 18'!Z42,'Runde 19'!Z42,'Runde 20'!Z42,'Runde 21'!Z42,'Runde 22'!Z42,'Runde 23'!Z42,'Runde 24'!Z42,'Runde 25'!Z42,'Runde 26'!Z42,'Runde 27'!Z42,'Runde 27'!Z42,'Runde 28'!Z42,'Runde 29'!Z42,'Runde 30'!Z42))","v":18.333333333333332},null,null,null,null,"Bogeys",{"$f":"IF(B3=0,\"\",SUM('Runde 1'!Y25,'Runde 2'!Y25,'Runde 3'!Y25,'Runde 4'!Y25,'Runde 5'!Y25,'Runde 6'!Y25,'Runde 7'!Y25,'Runde 8'!Y25,'Runde 9'!Y25,'Runde 10'!Y25,'Runde 11'!Y25,'Runde 12'!Y25,'Runde 13'!Y25,'Runde 14'!Y25,'Runde 15'!Y25,'Runde 16'!Y25,'Runde 17'!Y25,'Runde 18'!Y25,'Runde 19'!Y25,'Runde 20'!Y25,'Runde 21'!Y25,'Runde 22'!Y25,'Runde 23'!Y25,'Runde 24'!Y25,'Runde 25'!Y25,'Runde 26'!Y25,'Runde 27'!Y25,'Runde 27'!Y25,'Runde 28'!Y25,'Runde 29'!Y25,'Runde 30'!Y25))","v":90},{"$f":"IF(B3=0,\"\",(K46/(B3*18))*100)","v":19.230769230769234}]
["141 - 160",{"$f":"IF(B3=0,\"\",AVERAGE('Runde 1'!Y34,'Runde 2'!Y34,'Runde 3'!Y34,'Runde 4'!Y34,'Runde 5'!Y34,'Runde 6'!Y34,'Runde 7'!Y34,'Runde 8'!Y34,'Runde 9'!Y34,'Runde 10'!Y34,'Runde 11'!Y34,'Runde 12'!Y34,'Runde 13'!Y34,'Runde 14'!Y34,'Runde 15'!Y34,'Runde 16'!Y34,'Runde 17'!Y34,'Runde 18'!Y34,'Runde 19'!Y34,'Runde 20'!Y34,'Runde 21'!Y34,'Runde 22'!Y34,'Runde 23'!Y34,'Runde 24'!Y34,'Runde 25'!Y34,'Runde 26'!Y34,'Runde 27'!Y34,'Runde 27'!Y34,'Runde 28'!Y34,'Runde 29'!Y34,'Runde 30'!Y34))","v":5.2142857142857144},null,"4,5 - 6",{"$f":"IF(B3=0,\"\",AVERAGE('Runde 1'!Z43,'Runde 2'!Z43,'Runde 3'!Z43,'Runde 4'!Z43,'Runde 5'!Z43,'Runde 6'!Z43,'Runde 7'!Z43,'Runde 8'!Z43,'Runde 9'!Z43,'Runde 10'!Z43,'Runde 11'!Z43,'Runde 12'!Z43,'Runde 13'!Z43,'Runde 14'!Z43,'Runde 15'!Z43,'Runde 16'!Z43,'Runde 17'!Z43,'Runde 18'!Z43,'Runde 19'!Z43,'Runde 20'!Z43,'Runde 21'!Z43,'Runde 22'!Z43,'Runde 23'!Z43,'Runde 24'!Z43,'Runde 25'!Z43,'Runde 26'!Z43,'Runde 27'!Z43,'Runde 27'!Z43,'Runde 28'!Z43,'Runde 29'!Z43,'Runde 30'!Z43))","v":7.4537037037037033},null,null,null,null,"Doubles",{"$f":"IF(B3=0,\"\",SUM('Runde 1'!Z25,'Runde 2'!Z25,'Runde 3'!Z25,'Runde 4'!Z25,'Runde 5'!Z25,'Runde 6'!Z25,'Runde 7'!Z25,'Runde 8'!Z25,'Runde 9'!Z25,'Runde 10'!Z25,'Runde 11'!Z25,'Runde 12'!Z25,'Runde 13'!Z25,'Runde 14'!Z25,'Runde 15'!Z25,'Runde 16'!Z25,'Runde 17'!Z25,'Runde 18'!Z25,'Runde 19'!Z25,'Runde 20'!Z25,'Runde 21'!Z25,'Runde 22'!Z25,'Runde 23'!Z25,'Runde 24'!Z25,'Runde 25'!Z25,'Runde 26'!Z25,'Runde 27'!Z25,'Runde 27'!Z25,'Runde 28'!Z25,'Runde 29'!Z25,'Runde 30'!Z25))","v":24},{"$f":"IF(B3=0,\"\",(K47/(B3*18))*100)","v":5.1282051282051277}]
["161 - 180",{"$f":"IF(B3=0,\"\",AVERAGE('Runde 1'!Y35,'Runde 2'!Y35,'Runde 3'!Y35,'Runde 4'!Y35,'Runde 5'!Y35,'Runde 6'!Y35,'Runde 7'!Y35,'Runde 8'!Y35,'Runde 9'!Y35,'Runde 10'!Y35,'Runde 11'!Y35,'Runde 12'!Y35,'Runde 13'!Y35,'Runde 14'!Y35,'Runde 15'!Y35,'Runde 16'!Y35,'Runde 17'!Y35,'Runde 18'!Y35,'Runde 19'!Y35,'Runde 20'!Y35,'Runde 21'!Y35,'Runde 22'!Y35,'Runde 23'!Y35,'Runde 24'!Y35,'Runde 25'!Y35,'Runde 26'!Y35,'Runde 27'!Y35,'Runde 27'!Y35,'Runde 28'!Y35,'Runde 29'!Y35,'Runde 30'!Y35))","v":6.75},null,"over 6 m",{"$f":"IF(B3=0,\"\",AVERAGE('Runde 1'!Z44,'Runde 2'!Z44,'Runde 3'!Z44,'Runde 4'!Z44,'Runde 5'!Z44,'Runde 6'!Z44,'Runde 7'!Z44,'Runde 8'!Z44,'Runde 9'!Z44,'Runde 10'!Z44,'Runde 11'!Z44,'Runde 12'!Z44,'Runde 13'!Z44,'Runde 14'!Z44,'Runde 15'!Z44,'Runde 16'!Z44,'Runde 17'!Z44,'Runde 18'!Z44,'Runde 19'!Z44,'Runde 20'!Z44,'Runde 21'!Z44,'Runde 22'!Z44,'Runde 23'!Z44,'Runde 24'!Z44,'Runde 25'!Z44,'Runde 26'!Z44,'Runde 27'!Z44,'Runde 27'!Z44,'Runde 28'!Z44,'Runde 29'!Z44,'Runde 30'!Z44))","v":6.1111111111111107}]

{"sheet":"Sæson graf","index":1,"n_rows":0,"n_cols":0,"rows_kept":0,"cut":false,"hidden":false,"merged":[]}

{"sheet":"Scorekort til print","index":2,"n_rows":137,"n_cols":17,"rows_kept":137,"cut":false,"hidden":false,"merged":[]}
["Vallø Golf Klub - 18 huller - Gul tee",null,null,null,null,null,null,null,null,{"$f":"IF(E25=\"0\",\"0\",\"1\")","v":"1"},null,"Dato:"]
[]
[null,null,null,null,null,null,null,"Tee shot",null,null,"Fairway hits i %",null,null,"Bunker"]
["Hul","Gul tee","Par","HCP","Score","Netto","Driver","Wood","Jern","Venstre","Midt","Højre","FB","GB","SS","Putts","GIR"]
[1,387,4,3]
[2,126,3,13]
[3,437,5,11]
[4,437,5,9]
[5,391,4,5]
[6,164,3,15]
[7,397,4,1]
[8,101,3,17]
[9,343,4,7]
[null,{"$f":"SUM(B5:B13)","v":2783},{"$f":"SUM(C5:C13)","v":35},"UD"]
[10,384,4,4]
[11,322,4,12]
[12,262,4,16]
[13,167,3,14]
[14,355,4,10]
[15,126,3,18]
[16,522,5,8]
[17,451,5,6]
[18,405,4,2]
[null,{"$f":"SUM(B15:B23)","v":2994},{"$f":"SUM(C15:C23)","v":36},"IND"]
[null,{"$f":"SUM(B24,B14)","v":5777},{"$f":"SUM(C24,C14)","v":71},"TOTAL"]
[]
[]
[]
["Korsør Golf Klub - 18 huller - Gul tee",null,null,null,null,null,null,null,null,{"$f":"IF(E53=\"0\",\"0\",\"1\")","v":"1"},null,"Dato:"]
[]
[null,null,null,null,null,null,null,"Tee shot",null,null,"Fairway hits i %",null,null,"Bunker"]
["Hul","Gul tee","Par","HCP","Score","Netto","Driver","Wood","Jern","Venstre","Midt","Højre","FB","GB","SS","Putts","GIR"]
[1,307,4,11]
[2,323,4,5]
[3,138,3,15]
[4,310,4,13]
[5,431,5,3]
[6,312,4,9]
[7,498,5,1]
[8,138,3,17]
[9,310,4,7]
[null,{"$f":"SUM(B33:B41)","v":2767},{"$f":"SUM(C33:C41)","v":36},"UD"]
[10,481,5,4]
[11,319,4,16]
[12,431,5,2]
[13,122,3,18]
[14,379,4,6]
[15,316,4,8]
[16,322,4,14]
[17,345,4,10]
[18,281,4,12]
[null,{"$f":"SUM(B43:B51)","v":2996},{"$f":"SUM(C43:C51)","v":37},"IND"]
[null,{"$f":"SUM(B52,B42)","v":5763},{"$f":"SUM(C52,C42)","v":73},"TOTAL"]
[]
[]
[]
["Roskilde Golf Klub - 18 huller - Gul tee",null,null,null,null,null,null,null,null,{"$f":"IF(E81=\"0\",\"0\",\"1\")","v":"1"},null,"Dato:"]
[]
[null,null,null,null,null,null,null,"Tee shot",null,null,"Fairway hits i %",null,null,"Bunker"]
["Hul","Gul tee","Par","HCP","Score","Netto","Driver","Wood","Jern","Venstre","Midt","Højre","FB","GB","SS","Putts","GIR"]
[1,453,5,4]
[2,294,4,8]
[3,317,4,12]
[4,308,4,10]
[5,160,3,18]
[6,299,4,14]
[7,152,3,16]
[8,308,4,6]
[9,332,4,2]
[null,{"$f":"SUM(B61:B69)","v":2623},{"$f":"SUM(C61:C69)","v":35},"UD"]
[10,372,4,1]
[11,269,4,9]
[12,496,5,3]
[13,178,3,15]
[14,390,4,7]
[15,485,5,5]
[16,310,4,13]
[17,147,3,17]
[18,453,5,11]
[null,{"$f":"SUM(B71:B79)","v":3100},{"$f":"SUM(C71:C79)","v":37},"IND"]
[null,{"$f":"SUM(B80,B70)","v":5723},{"$f":"SUM(C80,C70)","v":72},"TOTAL"]
[]
[]
[]
["Trelleborg Golf Klub - 18 huller - Gul tee",null,null,null,null,null,null,null,null,{"$f":"IF(E109=\"0\",\"0\",\"1\")","v":"1"},null,"Dato:"]
[]
[null,null,null,null,null,null,null,"Tee shot",null,null,"Fairway hits i %",null,null,"Bunker"]
["Hul","Gul tee","Par","HCP","Score","Netto","Driver","Wood","Jern","Venstre","Midt","Højre","FB","GB","SS","Putts","GIR"]
[1,432,5,5]
[2,336,4,15]
[3,351,4,3]
[4,340,4,11]
[5,145,3,17]
[6,318,4,13]
[7,517,5,1]
[8,387,4,7]
[9,115,3,9]
[null,{"$f":"SUM(B89:B97)","v":2941},{"$f":"SUM(C89:C97)","v":36},"UD"]
[10,360,4,14]
[11,325,4,12]
[12,482,5,2]
[13,370,4,8]
[14,365,4,4]
[15,128,3,16]
[16,380,4,10]
[17,160,3,18]
[18,504,5,6]
[null,{"$f":"SUM(B99:B107)","v":3074},{"$f":"SUM(C99:C107)","v":36},"IND"]
[null,{"$f":"SUM(B108,B98)","v":6015},{"$f":"SUM(C108,C98)","v":72},"TOTAL"]
[]
[]
[]
["Korsør Golf Klub - 18 huller - Hvid tee",null,null,null,null,null,null,null,null,{"$f":"IF(E137=\"0\",\"0\",\"1\")","v":"1"},null,"Dato:"]
[]
[null,null,null,null,null,null,null,"Tee shot",null,null,"Fairway hits i %",null,null,"Bunker"]
["Hul","Gul tee","Par","HCP","Score","Netto","Driver","Wood","Jern","Venstre","Midt","Højre","FB","GB","SS","Putts","GIR"]
[1,313,4,11]
[2,340,4,5]
[3,143,3,15]
[4,335,4,13]
[5,443,5,3]
[6,319,4,9]
[7,555,5,1]
[8,143,3,17]
[9,320,4,7]
[null,{"$f":"SUM(B117:B125)","v":2911},{"$f":"SUM(C117:C125)","v":36},"UD"]
[10,490,5,4]
[11,330,4,16]
[12,451,5,2]
[13,140,3,18]
[14,383,4,6]
[15,332,4,8]
[16,334,4,14]
[17,368,4,10]
[18,299,4,12]
[null,{"$f":"SUM(B127:B135)","v":3127},{"$f":"SUM(C127:C135)","v":37},"IND"]
[null,{"$f":"SUM(B136,B126)","v":6038},{"$f":"SUM(C136,C126)","v":73},"TOTAL"]

{"sheet":"Runde 1","index":3,"n_rows":44,"n_cols":29,"rows_kept":44,"cut":false,"hidden":false,"merged":[]}
["Korsør Golf Klub - 18 huller - Gul tee",null,null,null,null,null,null,null,null,{"$f":"IF(E25=\"0\",\"0\",\"1\")","v":"1"},"Dato:","2010-04-18",null,"Handicap:",4.5,null,"ATS:",3,null,"Vejr:","10-15 grader, jævn vind",null,"Turnering:","Åbningsturnering",null,null,"Gunstart hul 16"]
[]
[null,null,null,null,null,null,null,"Tee shot",null,null,"Fairway hits i %",null,null,"Bunker",null,null,null,"Approach shots"]
["Hul","Gul tee","Par","HCP","Score","Netto","Driver","Wood","Jern","Venstre","Midt","Højre","FB","GB","SS","Putts","GIR","Dist. to pin (m)","Dist. to hole (m)","% SS","% GIR","Putts/GIR","Eagles","Birdies","Bogeys","Værre","% Scramble","3+ Putts","% Driver/Fairwayhits"]
[1,307,4,11,5,5,null,1,null,1,null,null,null,null,null,3,1,null,null,null,null,{"$f":"IF(Q5=0,\"\",P5)","v":3},null,null,null,null,{"$f":"IF(AND(Q5=\"\",P5=1),1,\"\")","v":""},null,{"$f":"IF(AND(G5=\"\"),\"\",SUM(K5))","v":""}]
[2,323,4,5,5,5,1,null,null,1,null,null,null,null,null,2,null,null,null,null,null,"",null,null,null,null,"",null,0]
[3,138,3,15,4,4,null,null,null,null,null,null,null,null,null,2,null,null,null,null,null,"",null,null,null,null,"",null,""]
[4,310,4,13,3,3,null,1,null,null,1,null,null,null,null,1,1,null,null,null,null,1,null,null,null,null,"",null,""]
[5,431,5,3,5,4,1,null,null,1,null,null,null,null,null,2,1,null,null,null,null,2,null,null,null,null,"",null,0]
[6,312,4,9,4,4,null,1,null,null,1,null,null,null,null,2,1,null,null,null,null,2,null,null,null,null,"",null,""]
[7,498,5,1,7,6,null,null,1,1,null,null,null,null,null,2,null,null,null,null,null,"",null,null,null,null,"",null,""]
[8,138,3,17,3,3,null,null,null,null,null,null,null,null,null,2,1,null,null,null,null,2,null,null,null,null,"",null,""]
[9,310,4,7,4,4,null,1,null,null,1,null,null,null,null,1,null,null,null,null,null,"",null,null,null,null,1,null,""]
[null,{"$f":"SUM(B5:B13)","v":2767},{"$f":"SUM(C5:C13)","v":36},"UD",{"$f":"SUM(E5:E13)","v":40},{"$f":"SUM(F5:F13)","v":38},{"$f":"SUM(G5:G13)","v":2},{"$f":"SUM(H5:H13)","v":4},{"$f":"SUM(I5:I13)","v":1},{"$f":"IF((A28=27),\"\",(SUM(J5:J13)/SUM(J5:L13))*100)","v":57.142857142857139},{"$f":"IF((A28=27),\"\",(SUM(K5:K13)/SUM(J5:L13))*100)","v":42.857142857142854},{"$f":"IF((A28=27),\"\",(SUM(L5:L13)/SUM(J5:L13))*100)","v":0},{"$f":"SUM(M5:M13)","v":0},{"$f":"SUM(N5:N13)","v":0},{"$f":"SUM(O5:O13)","v":0},{"$f":"SUM(P5:P13)","v":17},{"$f":"SUM(Q5:Q13)","v":5},null,{"$f":"IF(Q14=0,\"\",SUM(S5:S13)/Q14)","v":0},null,null,{"$f":"SUM(V5:V13)","v":10},{"$f":"ColorFunction($E$30,$E$5:$E$13)","v":0},{"$f":"ColorFunction($E$31,$E$5:$E$13)","v":1},{"$f":"ColorFunction($E$32,$E$5:$E$13)","v":3},{"$f":"ColorFunction($E$33,$E$5:$E$13)","v":1},{"$f":"SUM(AA5:AA13)/(9-Q14)*100","v":25},{"$f":"COUNTIF(P5:P13,\">2\")","v":1},{"$f":"IF((G14=0),\"\",SUM(AC5:AC13)/G14*100)","v":0}]
[10,481,5,4,5,5,1,null,null,null,1,null,null,null,null,2,1,null,null,null,null,{"$f":"IF(Q15=0,\"\",P15)","v":2},null,null,null,null,{"$f":"IF(AND(Q15=\"\",P15=1),1,\"\")","v":""},null,{"$f":"IF(AND(G15=\"\"),\"\",SUM(K15))","v":1}]
[11,319,4,16,5,5,null,1,null,null,1,null,null,null,null,2,null,null,null,null,null,"",null,null,null,null,"",null,""]
[12,431,5,2,5,4,1,null,null,null,1,null,null,null,null,2,1,null,null,null,null,2,null,null,null,null,"",null,1]
[13,122,3,18,3,3,null,null,null,null,null,null,null,null,null,2,1,null,null,null,null,2,null,null,null,null,"",null,""]
[14,379,4,6,4,4,1,null,null,null,null,1,null,null,null,1,null,null,null,null,null,"",null,null,null,null,1,null,0]
[15,316,4,8,6,6,1,null,null,null,1,null,null,1,null,2,null,null,null,null,null,"",null,null,null,null,"",null,1]
[16,322,4,14,5,5,null,1,null,null,null,1,null,null,null,2,null,null,null,null,null,"",null,null,null,null,"",null,""]
[17,345,4,10,4,4,1,null,null,null,1,null,null,null,null,2,1,null,null,null,null,2,null,null,null,null,"",null,1]
[18,281,4,12,4,4,null,null,1,null,1,null,null,null,null,2,1,null,null,null,null,2,null,null,null,null,"",null,""]
[null,{"$f":"SUM(B15:B23)","v":2996},{"$f":"SUM(C15:C23)","v":37},"IND",{"$f":"SUM(E15:E23)","v":41},{"$f":"SUM(F15:F23)","v":40},{"$f":"SUM(G15:G23)","v":5},{"$f":"SUM(H15:H23)","v":2},{"$f":"SUM(I15:I23)","v":1},{"$f":"IF((A29=27),\"\",(SUM(J15:J23)/SUM(J15:L23))*100)","v":0},{"$f":"IF((A29=27),\"\",(SUM(K15:K23)/SUM(J15:L23))*100)","v":75},{"$f":"IF((A29=27),\"\",(SUM(L15:L23)/SUM(J15:L23))*100)","v":25},{"$f":"SUM(M15:M23)","v":0},{"$f":"SUM(N15:N23)","v":1},{"$f":"SUM(O15:O23)","v":0},{"$f":"SUM(P15:P23)","v":17},{"$f":"SUM(Q15:Q23)","v":5},null,{"$f":"IF(Q24=0,\"\",SUM(S15:S23)/Q24)","v":0},null,null,{"$f":"SUM(V15:V23)","v":10},{"$f":"ColorFunction($E$30,$E$15:$E$23)","v":0},{"$f":"ColorFunction($E$31,$E$15:$E$23)","v":0},{"$f":"ColorFunction($E$32,$E$15:$E$23)","v":2},{"$f":"ColorFunction($E$33,$E$15:$E$23)","v":1},{"$f":"SUM(AA15:AA23)/(9-Q24)*100","v":25},{"$f":"COUNTIF(P15:P23,\">2\")","v":0},{"$f":"IF((G24=0),\"\",SUM(AC15:AC23)/G24*100)","v":80}]
[null,{"$f":"SUM(B24,B14)","v":5763},{"$f":"SUM(C24,C14)","v":73},"TOTAL",{"$f":"IF(E14=0,\"0\",(E24+E14))","v":81},{"$f":"SUM(F14,F24)","v":78},{"$f":"SUM(G24,G14)","v":7},{"$f":"SUM(H24,H14)","v":6},{"$f":"SUM(I24,I14)","v":2},{"$f":"IF((A28=27),\"\",(SUM(J14,J24)/2))","v":28.571428571428569},{"$f":"IF((A28=27),\"\",(SUM(K14,K24)/2))","v":58.928571428571431},{"$f":"IF((A28=27),\"\",(SUM(L14,L24)/2))","v":12.5},{"$f":"SUM(M24,M14)","v":0},{"$f":"SUM(N24,N14)","v":1},{"$f":"SUM(O24,O14)","v":0},{"$f":"IF(P14+P24=0,\"\",SUM(P24,P14))","v":34},{"$f":"IF(Q14+Q24=0,\"\",SUM(Q24,Q14))","v":10},null,{"$f":"IF(S14+S24=0,\"\",SUM(S24,S14)/2)","v":""},{"$f":"IF(N25=0,\"\",(O25)/N25*100)","v":0},{"$f":"IF(Q25=\"\",\"\",(Q25)/18*100)","v":55.555555555555557},{"$f":"IF(Q25=\"\",\"\",(V14+V24)/Q25)","v":2},{"$f":"SUM(W14,W24)","v":0},{"$f":"SUM(X14,X24)","v":1},{"$f":"SUM(Y14,Y24)","v":5},{"$f":"SUM(Z14,Z24)","v":2},{"$f":"SUM(AA14,AA24)/2","v":25},{"$f":"SUM(AB14,AB24)","v":1},{"$f":"SUM(AC24,AC14)/2","v":40}]
[]
[null,null,null,null,"Udfyld alle grønne felter med 1 for positiv eller antal i tal"]
[{"$f":"COUNTBLANK(J5:L13)","v":20},null,null,null,null,null,null,null,null,null,null,null,null,null,null,null,null,null,null,null,null,null,"Approach"]
[{"$f":"COUNTBLANK(J15:L23)","v":19},null,null,null,"Udfyld følgende farver:",null,null,null,null,null,null,null,null,null,null,null,null,null,"Holes to par",null,null,null,"Længde (m)","Antal","Afstand (m)"]
[{"$f":"SUM(M5:M23)","v":0},null,null,null,"Eagles",null,null,null,null,null,null,null,null,null,null,null,null,null,"Par 3",{"$f":"SUMIF(C:C,\"3\",E:E)/COUNTIF(C:C,3)","v":3.3333333333333335},null,null,"45-70",{"$f":"COUNTIFS(R5:R23,\">=45\",R5:R23,\"<=70\")","v":0},{"$f":"IF(X30=0,\"\",AVERAGEIFS(S5:S23,R5:R23,\">=45\",R5:R23,\"<=70\"))","v":""}]
[null,null,null,null,"Birdies",null,null,null,null,null,null,null,null,null,null,null,null,null,"Par 4",{"$f":"SUMIF(C:C,\"4\",E:E)/COUNTIF(C:C,4)","v":4.4545454545454541},null,null,"71-90",{"$f":"COUNTIFS(R5:R23,\">=71\",R5:R23,\"<=90\")","v":0},{"$f":"IF(X31=0,\"\",AVERAGEIFS(S5:S23,R5:R23,\">=71\",R5:R23,\"<=90\"))","v":""}]
[null,null,null,null,"Bogeys",null,null,null,null,null,null,null,null,null,null,null,null,null,"Par 5",{"$f":"SUMIF(C:C,\"5\",E:E)/COUNTIF(C:C,5)","v":5.5},null,null,"91-115",{"$f":"COUNTIFS(R5:R23,\">=91\",R5:R23,\"<=115\")","v":0},{"$f":"IF(X32=0,\"\",AVERAGEIFS(S5:S23,R5:R23,\">=91\",R5:R23,\"<=115\"))","v":""}]
[null,null,null,null,"Doublebogeys eller værre",null,null,null,null,null,null,null,null,null,null,null,null,null,null,null,null,null,"116-140",{"$f":"COUNTIFS(R5:R23,\">=116\",R5:R23,\"<=140\")","v":0},{"$f":"IF(X33=0,\"\",AVERAGEIFS(S5:S23,R5:R23,\">=116\",R5:R23,\"<=140\"))","v":""}]
[null,null,null,null,null,null,null,null,null,null,null,null,null,null,null,null,null,null,"First 4",{"$f":"IF(E25=\"0\",\"\",SUM(E5:E8)-SUM(C5:C8))","v":2},null,null,"141-160",{"$f":"COUNTIFS(R5:R23,\">=141\",R5:R23,\"<=161\")","v":0},{"$f":"IF(X34=0,\"\",AVERAGEIFS(S5:S23,R5:R23,\">=141\",R5:R23,\"<=160\"))","v":""}]
[null,null,null,null,null,null,null,null,null,null,null,null,null,null,null,null,null,null,"Last 4",2,null,null,"161-180",{"$f":"COUNTIFS(R5:R23,\">=161\",R5:R23,\"<=180\")","v":0},{"$f":"IF(X35=0,\"\",AVERAGEIFS(S5:S23,R5:R23,\">=161\",R5:R23,\"<=180\"))","v":""}]
[]
[null,null,null,null,null,null,null,null,null,null,null,null,null,null,null,null,null,null,null,null,null,null,"Putting"]
[null,null,null,null,null,null,null,null,null,null,null,null,null,null,null,null,null,null,null,null,null,null,"Længde (m)","Antal","Holet","Holet (%)"]
[null,null,null,null,null,null,null,null,null,null,null,null,null,null,null,null,null,null,null,null,null,null,"under 1 m",{"$f":"COUNTIFS(S5:S23,\">=0,1\",S5:S23,\"<=0,9\")","v":0},{"$f":"IF(X39=0,\"\",COUNTIFS(P5:P23,\"=1\",S5:S23,\"<1\"))","v":""},{"$f":"IF(X39=0,\"\",Y39/X39*100)","v":""}]
[null,null,null,null,null,null,null,null,null,null,null,null,null,null,null,null,null,null,null,null,null,null,"1 - 1,5",{"$f":"COUNTIFS(S5:S23,\">=1\",S5:S23,\"<=1,5\")","v":0},{"$f":"IF(X40=0,\"\",COUNTIFS(P5:P23,\"=1\",S5:S23,\">=1\",S5:S23,\"<=1,5\"))","v":""},{"$f":"IF(X40=0,\"\",Y40/X40*100)","v":""}]
[null,null,null,null,null,null,null,null,null,null,null,null,null,null,null,null,null,null,null,null,null,null,"1,5 - 3",{"$f":"COUNTIFS(S5:S23,\">=1,6\",S5:S23,\"<=3\")","v":0},{"$f":"IF(X41=0,\"\",COUNTIFS(P5:P23,\"=1\",S5:S23,\">=1,6\",S5:S23,\"<=3\"))","v":""},{"$f":"IF(X41=0,\"\",Y41/X41*100)","v":""}]
[null,null,null,null,null,null,null,null,null,null,null,null,null,null,null,null,null,null,null,null,null,null,"3 - 4,5",{"$f":"COUNTIFS(S5:S23,\">=3,1\",S5:S23,\"<=4,5\")","v":0},{"$f":"IF(X42=0,\"\",COUNTIFS(P5:P23,\"=1\",S5:S23,\">=3,1\",S5:S23,\"<=4,5\"))","v":""},""]
[null,null,null,null,null,null,null,null,null,null,null,null,null,null,null,null,null,null,null,null,null,null,"4,5 - 6",{"$f":"COUNTIFS(S5:S23,\">=4,6\",S5:S23,\"<=6\")","v":0},{"$f":"IF(X43=0,\"\",COUNTIFS(P5:P23,\"=1\",S5:S23,\">=4,6\",S5:S23,\"<=6\"))","v":""},""]
[null,null,null,null,null,null,null,null,null,null,null,null,null,null,null,null,null,null,null,null,null,null,"over 6 meter",{"$f":"COUNTIFS(S5:S23,\">6\")","v":0},{"$f":"IF(X44=0,\"\",COUNTIFS(P5:P23,\"=1\",S5:S23,\">6\"))","v":""},""]

{"sheet":"Runde 2","index":4,"n_rows":44,"n_cols":29,"rows_kept":44,"cut":false,"hidden":false,"merged":[]}
["Korsør Golf Klub - 18 huller - Gul tee",null,null,null,null,null,null,null,null,{"$f":"IF(E25=\"0\",\"0\",\"1\")","v":"1"},"Dato:","2010-04-20",null,"Handicap:",4.5,null,"ATS:",3,null,"Vejr:","3-6 grader, regn og jævn vind",null,null,"Turnering:","Tirsdagsklub"]
[]
[null,null,null,null,null,null,null,"Tee shot",null,null,"Fairway hits i %",null,null,"Bunker",null,null,null,"Approach shots"]
["Hul","Gul tee","Par","HCP","Score","Netto","Driver","Wood","Jern","Venstre","Midt","Højre","FB","GB","SS","Putts","GIR","Dist. to pin (m)","Dist. to hole (m)","% SS","% GIR","Putts/GIR","Eagles","Birdies","Bogeys","Værre","% Scramble","3+ Putts","% Driver/Fairwayhits"]
[1,307,4,11,4,4,null,1,null,null,1,null,null,null,null,1,null,25,1,null,null,{"$f":"IF(Q5=0,\"\",P5)","v":""},null,null,null,null,{"$f":"IF(AND(Q5=\"\",P5=1),1,\"\")","v":1},null,{"$f":"IF(AND(G5=\"\"),\"\",SUM(K5))","v":""}]
[2,323,4,5,5,5,1,null,null,null,1,null,null,null,null,2,null,null,null,null,null,"",null,null,null,null,"",null,1]
[3,138,3,15,2,2,null,null,null,null,null,null,null,null,null,1,1,145,3,null,null,1,null,null,null,null,"",null,""]
[4,310,4,13,5,5,null,1,null,null,null,1,null,null,null,2,null,44,3,null,null,"",null,null,null,null,"",null,""]
[5,431,5,3,4,3,1,null,null,null,1,null,null,null,null,1,1,48,6,null,null,1,null,null,null,null,"",null,1]
[6,312,4,9,4,4,1,null,null,null,null,1,null,null,null,2,1,98,5,null,null,2,null,null,null,null,"",null,0]
[7,498,5,1,5,4,null,null,1,null,1,null,null,null,null,2,1,116,6,null,null,2,null,null,null,null,"",null,""]
[8,138,3,17,5,5,null,null,null,null,null,null,null,1,null,2,null,null,null,null,null,"",null,null,null,null,"",null,""]
[9,310,4,7,4,4,null,1,null,null,1,null,null,null,null,2,1,124,6,null,null,2,null,null,null,null,"",null,""]
[null,{"$f":"SUM(B5:B13)","v":2767},{"$f":"SUM(C5:C13)","v":36},"UD",{"$f":"SUM(E5:E13)","v":38},{"$f":"SUM(F5:F13)","v":36},{"$f":"SUM(G5:G13)","v":3},{"$f":"SUM(H5:H13)","v":3},{"$f":"SUM(I5:I13)","v":1},{"$f":"IF((A28=27),\"\",(SUM(J5:J13)/SUM(J5:L13))*100)","v":0},{"$f":"IF((A28=27),\"\",(SUM(K5:K13)/SUM(J5:L13))*100)","v":71.428571428571431},{"$f":"IF((A28=27),\"\",(SUM(L5:L13)/SUM(J5:L13))*100)","v":28.571428571428569},{"$f":"SUM(M5:M13)","v":0},{"$f":"SUM(N5:N13)","v":1},{"$f":"SUM(O5:O13)","v":0},{"$f":"SUM(P5:P13)","v":15},{"$f":"SUM(Q5:Q13)","v":5},null,{"$f":"IF(Q14=0,\"\",SUM(S5:S13)/Q14)","v":6},null,null,{"$f":"SUM(V5:V13)","v":8},{"$f":"ColorFunction($E$30,$E$5:$E$13)","v":0},{"$f":"ColorFunction($E$31,$E$5:$E$13)","v":2},{"$f":"ColorFunction($E$32,$E$5:$E$13)","v":2},{"$f":"ColorFunction($E$33,$E$5:$E$13)","v":1},{"$f":"SUM(AA5:AA13)/(9-Q14)*100","v":25},{"$f":"COUNTIF(P5:P13,\">2\")","v":0},{"$f":"IF((G14=0),\"\",SUM(AC5:AC13)/G14*100)","v":66.666666666666657}]
[10,481,5,4,5,5,1,null,null,null,1,null,null,null,null,2,1,99,10,null,null,{"$f":"IF(Q15=0,\"\",P15)","v":2},null,null,null,null,{"$f":"IF(AND(Q15=\"\",P15=1),1,\"\")","v":""},null,{"$f":"IF(AND(G15=\"\"),\"\",SUM(K15))","v":1}]
[11,319,4,16,4,4,null,1,null,null,1,null,null,null,null,2,1,123,5,null,null,2,null,null,null,null,"",null,""]
[12,431,5,2,6,5,1,null,null,null,1,null,null,null,null,3,1,88,8,null,null,3,null,null,null,null,"",null,1]
[13,122,3,18,3,3,null,null,null,null,null,null,null,null,null,2,1,120,6,null,null,2,null,null,null,null,"",null,""]
[14,379,4,6,6,6,1,null,null,1,null,null,null,null,null,2,null,null,null,null,null,"",null,null,null,null,"",null,0]
[15,316,4,8,4,4,1,null,null,null,1,null,null,null,null,1,null,null,null,null,null,"",null,null,null,null,1,null,1]
[16,322,4,14,4,4,1,null,null,null,1,null,null,null,null,2,1,94,4,null,null,2,null,null,null,null,"",null,1]
[17,345,4,10,4,4,1,null,null,null,1,null,null,null,null,1,null,null,null,null,null,"",null,null,null,null,1,null,1]
[18,281,4,12,4,4,null,1,null,null,1,null,null,null,null,2,1,82,5,null,null,2,null,null,null,null,"",null,""]
[null,{"$f":"SUM(B15:B23)","v":2996},{"$f":"SUM(C15:C23)","v":37},"IND",{"$f":"SUM(E15:E23)","v":40},{"$f":"SUM(F15:F23)","v":39},{"$f":"SUM(G15:G23)","v":6},{"$f":"SUM(H15:H23)","v":2},{"$f":"SUM(I15:I23)","v":0},{"$f":"IF((A29=27),\"\",(SUM(J15:J23)/SUM(J15:L23))*100)","v":12.5},{"$f":"IF((A29=27),\"\",(SUM(K15:K23)/SUM(J15:L23))*100)","v":87.5},{"$f":"IF((A29=27),\"\",(SUM(L15:L23)/SUM(J15:L23))*100)","v":0},{"$f":"SUM(M15:M23)","v":0},{"$f":"SUM(N15:N23)","v":0},{"$f":"SUM(O15:O23)","v":0},{"$f":"SUM(P15:P23)","v":17},{"$f":"SUM(Q15:Q23)","v":6},null,{"$f":"IF(Q24=0,\"\",SUM(S15:S23)/Q24)","v":6.333333333333333},null,null,{"$f":"SUM(V15:V23)","v":13},{"$f":"ColorFunction($E$30,$E$15:$E$23)","v":0},{"$f":"ColorFunction($E$31,$E$15:$E$23)","v":0},{"$f":"ColorFunction($E$32,$E$15:$E$23)","v":1},{"$f":"ColorFunction($E$33,$E$15:$E$23)","v":1},{"$f":"SUM(AA15:AA23)/(9-Q24)*100","v":66.666666666666657},{"$f":"COUNTIF(P15:P23,\">2\")","v":1},{"$f":"IF((G24=0),\"\",SUM(AC15:AC23)/G24*100)","v":83.333333333333343}]
[null,{"$f":"SUM(B24,B14)","v":5763},{"$f":"SUM(C24,C14)","v":73},"TOTAL",{"$f":"IF(E14=0,\"0\",(E24+E14))","v":78},{"$f":"SUM(F14,F24)","v":75},{"$f":"SUM(G24,G14)","v":9},{"$f":"SUM(H24,H14)","v":5},{"$f":"SUM(I24,I14)","v":1},{"$f":"IF((A28=27),\"\",(SUM(J14,J24)/2))","v":6.25},{"$f":"IF((A28=27),\"\",(SUM(K14,K24)/2))","v":79.464285714285722},{"$f":"IF((A28=27),\"\",(SUM(L14,L24)/2))","v":14.285714285714285},{"$f":"SUM(M24,M14)","v":0},{"$f":"SUM(N24,N14)","v":1},{"$f":"SUM(O24,O14)","v":0},{"$f":"IF(P14+P24=0,\"\",SUM(P24,P14))","v":32},{"$f":"IF(Q14+Q24=0,\"\",SUM(Q24,Q14))","v":11},null,{"$f":"IF(S14+S24=0,\"\",SUM(S24,S14)/2)","v":6.1666666666666661},{"$f":"IF(N25=0,\"\",(O25)/N25*100)","v":0},{"$f":"IF(Q25=\"\",\"\",(Q25)/18*100)","v":61.111111111111114},{"$f":"IF(Q25=\"\",\"\",(V14+V24)/Q25)","v":1.9090909090909092},{"$f":"SUM(W14,W24)","v":0},{"$f":"SUM(X14,X24)","v":2},{"$f":"SUM(Y14,Y24)","v":3},{"$f":"SUM(Z14,Z24)","v":2},{"$f":"SUM(AA14,AA24)/2","v":45.833333333333329},{"$f":"SUM(AB14,AB24)","v":1},{"$f":"SUM(AC24,AC14)/2","v":75}]
[]
[null,null,null,null,"Udfyld alle grønne felter med 1 for positiv eller antal i tal"]
[{"$f":"COUNTBLANK(I5:K13)","v":21},null,null,null,null,null,null,null,null,null,null,null,null,null,null,null,null,null,null,null,null,null,"Approach"]
[{"$f":"COUNTBLANK(I15:K23)","v":19},null,null,null,"Udfyld følgende farver:",null,null,null,null,null,null,null,null,null,null,null,null,null,"Holes to par",null,null,null,"Længde (m)","Antal","Afstand (m)"]
[{"$f":"SUM(L5:L23)","v":30.571428571428569},null,null,null,"Eagles",null,null,null,null,null,null,null,null,null,null,null,null,null,"Par 3",{"$f":"SUMIF(C:C,\"3\",E:E)/COUNTIF(C:C,3)","v":3.3333333333333335},null,null,"45-70",{"$f":"COUNTIFS(R5:R23,\">=45\",R5:R23,\"<=70\")","v":1},{"$f":"IF(X30=0,\"\",AVERAGEIFS(S5:S23,R5:R23,\">=45\",R5:R23,\"<=70\"))","v":6}]
[null,null,null,null,"Birdies",null,null,null,null,null,null,null,null,null,null,null,null,null,"Par 4",{"$f":"SUMIF(C:C,\"4\",E:E)/COUNTIF(C:C,4)","v":4.3636363636363633},null,null,"71-90",{"$f":"COUNTIFS(R5:R23,\">=71\",R5:R23,\"<=90\")","v":2},{"$f":"IF(X31=0,\"\",AVERAGEIFS(S5:S23,R5:R23,\">=71\",R5:R23,\"<=90\"))","v":6.5}]
[null,null,null,null,"Bogeys",null,null,null,null,null,null,null,null,null,null,null,null,null,"Par 5",{"$f":"SUMIF(C:C,\"5\",E:E)/COUNTIF(C:C,5)","v":5},null,null,"91-115",{"$f":"COUNTIFS(R5:R23,\">=91\",R5:R23,\"<=115\")","v":3},{"$f":"IF(X32=0,\"\",AVERAGEIFS(S5:S23,R5:R23,\">=91\",R5:R23,\"<=115\"))","v":6.333333333333333}]
[null,null,null,null,"Doublebogeys eller værre",null,null,null,null,null,null,null,null,null,null,null,null,null,null,null,null,null,"116-140",{"$f":"COUNTIFS(R5:R23,\">=116\",R5:R23,\"<=140\")","v":4},{"$f":"IF(X33=0,\"\",AVERAGEIFS(S5:S23,R5:R23,\">=116\",R5:R23,\"<=140\"))","v":5.75}]
[null,null,null,null,null,null,null,null,null,null,null,null,null,null,null,null,null,null,"First 4",{"$f":"IF(E25=\"0\",\"\",SUM(E5:E8)-SUM(C5:C8))","v":1},null,null,"141-160",{"$f":"COUNTIFS(R5:R23,\">=141\",R5:R23,\"<=161\")","v":1},{"$f":"IF(X34=0,\"\",AVERAGEIFS(S5:S23,R5:R23,\">=141\",R5:R23,\"<=160\"))","v":3}]
[null,null,null,null,null,null,null,null,null,null,null,null,null,null,null,null,null,null,"Last 4",{"$f":"IF(E25=\"0\",\"\",SUM(E20:E23)-SUM(C20:C23))","v":0},null,null,"161-180",{"$f":"COUNTIFS(R5:R23,\">=161\",R5:R23,\"<=180\")","v":0},{"$f":"IF(X35=0,\"\",AVERAGEIFS(S5:S23,R5:R23,\">=161\",R5:R23,\"<=180\"))","v":""}]
[]
[null,null,null,null,null,null,null,null,null,null,null,null,null,null,null,null,null,null,null,null,null,null,"Putting"]
[null,null,null,null,null,null,null,null,null,null,null,null,null,null,null,null,null,null,null,null,null,null,"Længde (m)","Antal","Holet","Holet (%)"]
[null,null,null,null,null,null,null,null,null,null,null,null,null,null,null,null,null,null,null,null,null,null,"under 1 m",{"$f":"COUNTIFS(S5:S23,\">=0,1\",S5:S23,\"<=0,9\")","v":0},{"$f":"IF(X39=0,\"\",COUNTIFS(P5:P23,\"=1\",S5:S23,\"<1\"))","v":""},{"$f":"IF(X39=0,\"\",Y39/X39*100)","v":""}]
[null,null,null,null,null,null,null,null,null,null,null,null,null,null,null,null,null,null,null,null,null,null,"1 - 1,5",{"$f":"COUNTIFS(S5:S23,\">=1\",S5:S23,\"<=1,5\")","v":1},{"$f":"IF(X40=0,\"\",COUNTIFS(P5:P23,\"=1\",S5:S23,\">=1\",S5:S23,\"<=1,5\"))","v":1},{"$f":"IF(X40=0,\"\",Y40/X40*100)","v":100}]
[null,null,null,null,null,null,null,null,null,null,null,null,null,null,null,null,null,null,null,null,null,null,"1,5 - 3",{"$f":"COUNTIFS(S5:S23,\">=1,6\",S5:S23,\"<=3\")","v":2},{"$f":"IF(X41=0,\"\",COUNTIFS(P5:P23,\"=1\",S5:S23,\">=1,6\",S5:S23,\"<=3\"))","v":1},{"$f":"IF(X41=0,\"\",Y41/X41*100)","v":50}]
[null,null,null,null,null,null,null,null,null,null,null,null,null,null,null,null,null,null,null,null,null,null,"3 - 4,5",{"$f":"COUNTIFS(S5:S23,\">=3,1\",S5:S23,\"<=4,5\")","v":1},{"$f":"IF(X42=0,\"\",COUNTIFS(P5:P23,\"=1\",S5:S23,\">=3,1\",S5:S23,\"<=4,5\"))","v":0},0]
[null,null,null,null,null,null,null,null,null,null,null,null,null,null,null,null,null,null,null,null,null,null,"4,5 - 6",{"$f":"COUNTIFS(S5:S23,\">=4,6\",S5:S23,\"<=6\")","v":8},{"$f":"IF(X43=0,\"\",COUNTIFS(P5:P23,\"=1\",S5:S23,\">=4,6\",S5:S23,\"<=6\"))","v":1},12.5]
[null,null,null,null,null,null,null,null,null,null,null,null,null,null,null,null,null,null,null,null,null,null,"over 6 meter",{"$f":"COUNTIFS(S5:S23,\">6\")","v":2},{"$f":"IF(X44=0,\"\",COUNTIFS(P5:P23,\"=1\",S5:S23,\">6\"))","v":0},0]

{"sheet":"Runde 3","index":5,"n_rows":44,"n_cols":29,"rows_kept":44,"cut":false,"hidden":false,"merged":[]}
["Korsør Golf Klub - 18 huller - Gul tee",null,null,null,null,null,null,null,null,{"$f":"IF(E25=\"0\",\"0\",\"1\")","v":"1"},"Dato:","2010-04-27",null,"Handicap:",4.8,null,"ATS:",4,null,"Vejr:","15 grader, sol og frisk vind",null,"Turnering:","Tirsdagsklub"]
[]
[null,null,null,null,null,null,null,"Tee shot",null,null,"Fairway hits i %",null,null,"Bunker",null,null,null,"Approach shots"]
["Hul","Gul tee","Par","HCP","Score","Netto","Driver","Wood","Jern","Venstre","Midt","Højre","FB","GB","SS","Putts","GIR","Dist. to pin (m)","Dist. to hole (m)","% SS","% GIR","Putts/GIR","Eagles","Birdies","Bogeys","Værre","% Scramble","3+ Putts","% Driver/Fairwayhits"]
[1,307,4,11,4,4,1,null,null,null,1,null,null,null,null,2,1,143,8,null,null,{"$f":"IF(Q5=0,\"\",P5)","v":2},null,null,null,null,{"$f":"IF(AND(Q5=\"\",P5=1),1,\"\")","v":""},null,{"$f":"IF(AND(G5=\"\"),\"\",SUM(K5))","v":1}]
[2,323,4,5,4,4,1,null,null,1,null,null,null,null,null,2,1,95,4,null,null,2,null,null,null,null,"",null,0]
[3,138,3,15,3,3,null,null,null,null,null,null,null,null,null,1,null,null,null,null,null,"",null,null,null,null,1,null,""]
[4,310,4,13,4,4,null,null,1,null,1,null,null,null,null,2,1,125,7,null,null,2,null,null,null,null,"",null,""]
[5,431,5,3,6,5,1,null,null,null,1,null,null,null,null,4,1,150,8,null,null,4,null,null,null,null,"",null,1]
[6,312,4,9,5,5,1,null,null,null,null,1,null,null,null,2,null,null,null,null,null,"",null,null,null,null,"",null,0]
[7,498,5,1,5,4,null,null,1,null,1,null,null,null,null,2,1,135,6,null,null,2,null,null,null,null,"",null,""]
[8,138,3,17,2,2,null,null,null,null,null,null,null,null,null,1,1,144,8,null,null,1,null,null,null,null,"",null,""]
[9,310,4,7,4,4,null,1,null,null,1,null,null,null,null,2,1,115,5,null,null,2,null,null,null,null,"",null,""]
[null,{"$f":"SUM(B5:B13)","v":2767},{"$f":"SUM(C5:C13)","v":36},"UD",{"$f":"SUM(E5:E13)","v":37},{"$f":"SUM(F5:F13)","v":35},{"$f":"SUM(G5:G13)","v":4},{"$f":"SUM(H5:H13)","v":1},{"$f":"SUM(I5:I13)","v":2},{"$f":"IF((A28=27),\"\",(SUM(J5:J13)/SUM(J5:L13))*100)","v":14.285714285714285},{"$f":"IF((A28=27),\"\",(SUM(K5:K13)/SUM(J5:L13))*100)","v":71.428571428571431},{"$f":"IF((A28=27),\"\",(SUM(L5:L13)/SUM(J5:L13))*100)","v":14.285714285714285},{"$f":"SUM(M5:M13)","v":0},{"$f":"SUM(N5:N13)","v":0},{"$f":"SUM(O5:O13)","v":0},{"$f":"SUM(P5:P13)","v":18},{"$f":"SUM(Q5:Q13)","v":7},null,{"$f":"IF(Q14=0,\"\",SUM(S5:S13)/Q14)","v":6.5714285714285712},null,null,{"$f":"SUM(V5:V13)","v":15},{"$f":"ColorFunction($E$30,$E$5:$E$13)","v":0},{"$f":"ColorFunction($E$31,$E$5:$E$13)","v":1},{"$f":"ColorFunction($E$32,$E$5:$E$13)","v":2},{"$f":"ColorFunction($E$33,$E$5:$E$13)","v":0},{"$f":"SUM(AA5:AA13)/(9-Q14)*100","v":50},{"$f":"COUNTIF(P5:P13,\">2\")","v":1},{"$f":"IF((G14=0),\"\",SUM(AC5:AC13)/G14*100)","v":50}]
[10,481,5,4,5,4,1,null,null,null,1,null,null,null,null,2,1,95,2,null,null,{"$f":"IF(Q15=0,\"\",P15)","v":2},null,null,null,null,{"$f":"IF(AND(Q15=\"\",P15=1),1,\"\")","v":""},null,{"$f":"IF(AND(G15=\"\"),\"\",SUM(K15))","v":1}]
[11,319,4,16,3,3,null,1,null,null,1,null,null,null,null,1,1,124,6,null,null,1,null,null,null,null,"",null,""]
[12,431,5,2,6,5,1,null,null,null,1,null,null,null,null,2,null,null,null,null,null,"",null,null,null,null,"",null,1]
[13,122,3,18,3,3,null,null,null,null,null,null,null,null,null,2,1,123,6,null,null,2,null,null,null,null,"",null,""]
[14,379,4,6,4,4,1,null,null,null,1,null,null,null,null,2,1,115,3,null,null,2,null,null,null,null,"",null,1]
[15,316,4,8,5,5,1,null,null,null,1,null,null,null,null,3,1,126,15,null,null,3,null,null,null,null,"",null,1]
[16,322,4,14,5,5,1,null,null,1,null,null,null,null,null,1,null,null,null,null,null,"",null,null,null,null,1,null,0]
[17,345,4,10,6,6,1,null,null,1,null,null,null,null,null,3,null,null,null,null,null,"",null,null,null,null,"",null,0]
[18,281,4,12,4,4,null,1,null,null,1,null,null,null,null,2,1,100,6,null,null,2,null,null,null,null,"",null,""]
[null,{"$f":"SUM(B15:B23)","v":2996},{"$f":"SUM(C15:C23)","v":37},"IND",{"$f":"SUM(E15:E23)","v":41},{"$f":"SUM(F15:F23)","v":39},{"$f":"SUM(G15:G23)","v":6},{"$f":"SUM(H15:H23)","v":2},{"$f":"SUM(I15:I23)","v":0},{"$f":"IF((A29=27),\"\",(SUM(J15:J23)/SUM(J15:L23))*100)","v":25},{"$f":"IF((A29=27),\"\",(SUM(K15:K23)/SUM(J15:L23))*100)","v":75},{"$f":"IF((A29=27),\"\",(SUM(L15:L23)/SUM(J15:L23))*100)","v":0},{"$f":"SUM(M15:M23)","v":0},{"$f":"SUM(N15:N23)","v":0},{"$f":"SUM(O15:O23)","v":0},{"$f":"SUM(P15:P23)","v":18},{"$f":"SUM(Q15:Q23)","v":6},null,{"$f":"IF(Q24=0,\"\",SUM(S15:S23)/Q24)","v":6.333333333333333},null,null,{"$f":"SUM(V15:V23)","v":12},{"$f":"ColorFunction($E$30,$E$15:$E$23)","v":0},{"$f":"ColorFunction($E$31,$E$15:$E$23)","v":1},{"$f":"ColorFunction($E$32,$E$15:$E$23)","v":3},{"$f":"ColorFunction($E$33,$E$15:$E$23)","v":1},{"$f":"SUM(AA15:AA23)/(9-Q24)*100","v":33.333333333333329},{"$f":"COUNTIF(P15:P23,\">2\")","v":2},{"$f":"IF((G24=0),\"\",SUM(AC15:AC23)/G24*100)","v":66.666666666666657}]
[null,{"$f":"SUM(B24,B14)","v":5763},{"$f":"SUM(C24,C14)","v":73},"TOTAL",{"$f":"IF(E14=0,\"0\",(E24+E14))","v":78},{"$f":"SUM(F14,F24)","v":74},{"$f":"SUM(G24,G14)","v":10},{"$f":"SUM(H24,H14)","v":3},{"$f":"SUM(I24,I14)","v":2},{"$f":"IF((A28=27),\"\",(SUM(J14,J24)/2))","v":19.642857142857142},{"$f":"IF((A28=27),\"\",(SUM(K14,K24)/2))","v":73.214285714285722},{"$f":"IF((A28=27),\"\",(SUM(L14,L24)/2))","v":7.1428571428571423},{"$f":"SUM(M24,M14)","v":0},{"$f":"SUM(N24,N14)","v":0},{"$f":"SUM(O24,O14)","v":0},{"$f":"IF(P14+P24=0,\"\",SUM(P24,P14))","v":36},{"$f":"IF(Q14+Q24=0,\"\",SUM(Q24,Q14))","v":13},null,{"$f":"IF(S14+S24=0,\"\",SUM(S24,S14)/2)","v":6.4523809523809526},{"$f":"IF(N25=0,\"\",(O25)/N25*100)","v":""},{"$f":"IF(Q25=\"\",\"\",(Q25)/18*100)","v":72.222222222222214},{"$f":"IF(Q25=\"\",\"\",(V14+V24)/Q25)","v":2.0769230769230771},{"$f":"SUM(W14,W24)","v":0},{"$f":"SUM(X14,X24)","v":2},{"$f":"SUM(Y14,Y24)","v":5},{"$f":"SUM(Z14,Z24)","v":1},{"$f":"SUM(AA14,AA24)/2","v":41.666666666666664},{"$f":"SUM(AB14,AB24)","v":3},{"$f":"SUM(AC24,AC14)/2","v":58.333333333333329}]
[]
[null,null,null,null,"Udfyld alle grønne felter med 1 for positiv eller antal i tal"]
[{"$f":"COUNTBLANK(I5:K13)","v":19},null,null,null,null,null,null,null,null,null,null,null,null,null,null,null,null,null,null,null,null,null,"Approach"]
[{"$f":"COUNTBLANK(I15:K23)","v":19},null,null,null,"Udfyld følgende farver:",null,null,null,null,null,null,null,null,null,null,null,null,null,"Holes to par",null,null,null,"Længde (m)","Antal","Afstand (m)"]
[{"$f":"SUM(L5:L23)","v":15.285714285714285},null,null,null,"Eagles",null,null,null,null,null,null,null,null,null,null,null,null,null,"Par 3",{"$f":"SUMIF(C:C,\"3\",E:E)/COUNTIF(C:C,3)","v":2.6666666666666665},null,null,"45-70",{"$f":"COUNTIFS(R5:R23,\">=45\",R5:R23,\"<=70\")","v":0},{"$f":"IF(X30=0,\"\",AVERAGEIFS(S5:S23,R5:R23,\">=45\",R5:R23,\"<=70\"))","v":""}]
[null,null,null,null,"Birdies",null,null,null,null,null,null,null,null,null,null,null,null,null,"Par 4",{"$f":"SUMIF(C:C,\"4\",E:E)/COUNTIF(C:C,4)","v":4.3636363636363633},null,null,"71-90",{"$f":"COUNTIFS(R5:R23,\">=71\",R5:R23,\"<=90\")","v":0},{"$f":"IF(X31=0,\"\",AVERAGEIFS(S5:S23,R5:R23,\">=71\",R5:R23,\"<=90\"))","v":""}]
[null,null,null,null,"Bogeys",null,null,null,null,null,null,null,null,null,null,null,null,null,"Par 5",{"$f":"SUMIF(C:C,\"5\",E:E)/COUNTIF(C:C,5)","v":5.5},null,null,"91-115",{"$f":"COUNTIFS(R5:R23,\">=91\",R5:R23,\"<=115\")","v":5},{"$f":"IF(X32=0,\"\",AVERAGEIFS(S5:S23,R5:R23,\">=91\",R5:R23,\"<=115\"))","v":4}]
[null,null,null,null,"Doublebogeys eller værre",null,null,null,null,null,null,null,null,null,null,null,null,null,null,null,null,null,"116-140",{"$f":"COUNTIFS(R5:R23,\">=116\",R5:R23,\"<=140\")","v":5},{"$f":"IF(X33=0,\"\",AVERAGEIFS(S5:S23,R5:R23,\">=116\",R5:R23,\"<=140\"))","v":8}]
[null,null,null,null,null,null,null,null,null,null,null,null,null,null,null,null,null,null,"First 4",{"$f":"IF(E25=\"0\",\"\",SUM(E5:E8)-SUM(C5:C8))","v":0},null,null,"141-160",{"$f":"COUNTIFS(R5:R23,\">=141\",R5:R23,\"<=161\")","v":3},{"$f":"IF(X34=0,\"\",AVERAGEIFS(S5:S23,R5:R23,\">=141\",R5:R23,\"<=160\"))","v":8}]
[null,null,null,null,null,null,null,null,null,null,null,null,null,null,null,null,null,null,"Last 4",{"$f":"IF(E25=\"0\",\"\",SUM(E20:E23)-SUM(C20:C23))","v":4},null,null,"161-180",{"$f":"COUNTIFS(R5:R23,\">=161\",R5:R23,\"<=180\")","v":0},{"$f":"IF(X35=0,\"\",AVERAGEIFS(S5:S23,R5:R23,\">=161\",R5:R23,\"<=180\"))","v":""}]
[]
[null,null,null,null,null,null,null,null,null,null,null,null,null,null,null,null,null,null,null,null,null,null,"Putting"]
[null,null,null,null,null,null,null,null,null,null,null,null,null,null,null,null,null,null,null,null,null,null,"Længde (m)","Antal","Holet","Holet (%)"]
[null,null,null,null,null,null,null,null,null,null,null,null,null,null,null,null,null,null,null,null,null,null,"under 1 m",{"$f":"COUNTIFS(S5:S23,\">=0,1\",S5:S23,\"<=0,9\")","v":0},{"$f":"IF(X39=0,\"\",COUNTIFS(P5:P23,\"=1\",S5:S23,\"<1\"))","v":""},{"$f":"IF(X39=0,\"\",Y39/X39*100)","v":""}]
[null,null,null,null,null,null,null,null,null,null,null,null,null,null,null,null,null,null,null,null,null,null,"1 - 1,5",{"$f":"COUNTIFS(S5:S23,\">=1\",S5:S23,\"<=1,5\")","v":0},{"$f":"IF(X40=0,\"\",COUNTIFS(P5:P23,\"=1\",S5:S23,\">=1\",S5:S23,\"<=1,5\"))","v":""},{"$f":"IF(X40=0,\"\",Y40/X40*100)","v":""}]
[null,null,null,null,null,null,null,null,null,null,null,null,null,null,null,null,null,null,null,null,null,null,"1,5 - 3",{"$f":"COUNTIFS(S5:S23,\">=1,6\",S5:S23,\"<=3\")","v":2},{"$f":"IF(X41=0,\"\",COUNTIFS(P5:P23,\"=1\",S5:S23,\">=1,6\",S5:S23,\"<=3\"))","v":0},{"$f":"IF(X41=0,\"\",Y41/X41*100)","v":0}]
[null,null,null,null,null,null,null,null,null,null,null,null,null,null,null,null,null,null,null,null,null,null,"3 - 4,5",{"$f":"COUNTIFS(S5:S23,\">=3,1\",S5:S23,\"<=4,5\")","v":1},{"$f":"IF(X42=0,\"\",COUNTIFS(P5:P23,\"=1\",S5:S23,\">=3,1\",S5:S23,\"<=4,5\"))","v":0},0]
[null,null,null,null,null,null,null,null,null,null,null,null,null,null,null,null,null,null,null,null,null,null,"4,5 - 6",{"$f":"COUNTIFS(S5:S23,\">=4,6\",S5:S23,\"<=6\")","v":5},{"$f":"IF(X43=0,\"\",COUNTIFS(P5:P23,\"=1\",S5:S23,\">=4,6\",S5:S23,\"<=6\"))","v":1},20]
[null,null,null,null,null,null,null,null,null,null,null,null,null,null,null,null,null,null,null,null,null,null,"over 6 meter",{"$f":"COUNTIFS(S5:S23,\">6\")","v":6},{"$f":"IF(X44=0,\"\",COUNTIFS(P5:P23,\"=1\",S5:S23,\">6\"))","v":1},16.666666666666664]

{"sheet":"Runde 4","index":6,"n_rows":44,"n_cols":29,"rows_kept":44,"cut":false,"hidden":false,"merged":[]}
["Korsør Golf Klub - 18 huller - Gul tee",null,null,null,null,null,null,null,null,{"$f":"IF(E25=\"0\",\"0\",\"1\")","v":"1"},"Dato:","2010-05-11",null,"Handicap:",4.8,null,"ATS:",4,null,"Vejr:","Sol og svag vind, 10 grader",null,"Turnering:","Tirsdagsklub"]
[]
[null,null,null,null,null,null,null,"Tee shot",null,null,"Fairway hits i %",null,null,"Bunker",null,null,null,"Approach shots"]
["Hul","Gul tee","Par","HCP","Score","Netto","Driver","Wood","Jern","Venstre","Midt","Højre","FB","GB","SS","Putts","GIR","Dist. to pin (m)","Dist. to hole (m)","% SS","% GIR","Putts/GIR","Eagles","Birdies","Bogeys","Værre","% Scramble","3+ Putts","% Driver/Fairwayhits"]
[1,307,4,11,5,5,null,1,null,null,1,null,null,null,null,2,null,null,null,null,null,{"$f":"IF(Q5=0,\"\",P5)","v":""},null,null,null,null,{"$f":"IF(AND(Q5=\"\",P5=1),1,\"\")","v":""},null,{"$f":"IF(AND(G5=\"\"),\"\",SUM(K5))","v":""}]
[2,323,4,5,4,4,1,null,null,null,1,null,null,null,null,2,1,120,4,null,null,2,null,null,null,null,"",null,1]
[3,138,3,15,4,4,null,null,null,null,null,null,null,null,null,3,1,135,7,null,null,3,null,null,null,null,"",null,""]
[4,310,4,13,4,4,null,1,null,null,1,null,null,null,null,2,1,112,9,null,null,2,null,null,null,null,"",null,""]
[5,431,5,3,5,4,1,null,null,null,1,null,null,null,null,2,1,43,5,null,null,2,null,null,null,null,"",null,1]
[6,312,4,9,4,4,null,1,null,null,1,null,null,null,null,2,1,77,1,null,null,2,null,null,null,null,"",null,""]
[7,498,5,1,4,3,null,null,1,null,1,null,null,null,null,1,1,100,0.2,null,null,1,null,null,null,null,"",null,""]
[8,138,3,17,3,3,null,null,null,null,null,null,null,null,null,1,null,null,null,null,null,"",null,null,null,null,1,null,""]
[1,310,4,7,4,4,null,1,null,null,1,null,null,null,null,1,null,null,null,null,null,"",null,null,null,null,1,null,""]
[null,{"$f":"SUM(B5:B13)","v":2767},{"$f":"SUM(C5:C13)","v":36},"UD",{"$f":"SUM(E5:E13)","v":37},{"$f":"SUM(F5:F13)","v":35},{"$f":"SUM(G5:G13)","v":2},{"$f":"SUM(H5:H13)","v":4},{"$f":"SUM(I5:I13)","v":1},{"$f":"IF((A28=27),\"\",(SUM(J5:J13)/SUM(J5:L13))*100)","v":0},{"$f":"IF((A28=27),\"\",(SUM(K5:K13)/SUM(J5:L13))*100)","v":100},{"$f":"IF((A28=27),\"\",(SUM(L5:L13)/SUM(J5:L13))*100)","v":0},{"$f":"SUM(M5:M13)","v":0},{"$f":"SUM(N5:N13)","v":0},{"$f":"SUM(O5:O13)","v":0},{"$f":"SUM(P5:P13)","v":16},{"$f":"SUM(Q5:Q13)","v":6},null,{"$f":"IF(Q14=0,\"\",SUM(S5:S13)/Q14)","v":4.3666666666666663},null,null,{"$f":"SUM(V5:V13)","v":12},{"$f":"ColorFunction($E$30,$E$5:$E$13)","v":0},{"$f":"ColorFunction($E$31,$E$5:$E$13)","v":1},{"$f":"ColorFunction($E$32,$E$5:$E$13)","v":2},{"$f":"ColorFunction($E$33,$E$5:$E$13)","v":0},{"$f":"SUM(AA5:AA13)/(9-Q14)*100","v":66.666666666666657},{"$f":"COUNTIF(P5:P13,\">2\")","v":1},{"$f":"IF((G14=0),\"\",SUM(AC5:AC13)/G14*100)","v":100}]
[10,481,5,4,4,3,1,null,null,null,1,null,null,null,null,1,1,50,4,null,null,{"$f":"IF(Q15=0,\"\",P15)","v":1},null,null,null,null,{"$f":"IF(AND(Q15=\"\",P15=1),1,\"\")","v":""},null,{"$f":"IF(AND(G15=\"\"),\"\",SUM(K15))","v":1}]
[11,319,4,16,5,5,null,null,1,null,1,null,null,null,null,2,null,null,null,null,null,"",null,null,null,null,"",null,""]
[12,431,5,2,6,5,1,null,null,null,1,null,null,null,null,2,null,null,null,null,null,"",null,null,null,null,"",null,1]
[13,122,3,18,4,4,null,null,null,null,null,null,null,null,null,2,null,null,null,null,null,"",null,null,null,null,"",null,""]
[14,379,4,6,5,5,1,null,null,null,1,null,null,null,null,2,null,null,null,null,null,"",null,null,null,null,"",null,1]
[15,316,4,8,4,4,1,null,null,null,1,null,null,null,null,2,1,95,8,null,null,2,null,null,null,null,"",null,1]
[16,322,4,14,4,4,1,null,null,null,1,null,null,null,null,2,1,101,6,null,null,2,null,null,null,null,"",null,1]
[17,345,4,10,4,4,null,1,null,null,1,null,null,null,null,2,1,135,7,null,null,2,null,null,null,null,"",null,""]
[18,281,4,12,3,3,null,1,null,null,1,null,null,null,null,1,1,72,3.5,null,null,1,null,null,null,null,"",null,""]
[null,{"$f":"SUM(B15:B23)","v":2996},{"$f":"SUM(C15:C23)","v":37},"IND",{"$f":"SUM(E15:E23)","v":39},{"$f":"SUM(F15:F23)","v":37},{"$f":"SUM(G15:G23)","v":5},{"$f":"SUM(H15:H23)","v":2},{"$f":"SUM(I15:I23)","v":1},{"$f":"IF((A29=27),\"\",(SUM(J15:J23)/SUM(J15:L23))*100)","v":0},{"$f":"IF((A29=27),\"\",(SUM(K15:K23)/SUM(J15:L23))*100)","v":100},{"$f":"IF((A29=27),\"\",(SUM(L15:L23)/SUM(J15:L23))*100)","v":0},{"$f":"SUM(M15:M23)","v":0},{"$f":"SUM(N15:N23)","v":0},{"$f":"SUM(O15:O23)","v":0},{"$f":"SUM(P15:P23)","v":16},{"$f":"SUM(Q15:Q23)","v":5},null,{"$f":"IF(Q24=0,\"\",SUM(S15:S23)/Q24)","v":5.7},null,null,{"$f":"SUM(V15:V23)","v":8},{"$f":"ColorFunction($E$30,$E$15:$E$23)","v":0},{"$f":"ColorFunction($E$31,$E$15:$E$23)","v":2},{"$f":"ColorFunction($E$32,$E$15:$E$23)","v":4},{"$f":"ColorFunction($E$33,$E$15:$E$23)","v":0},{"$f":"SUM(AA15:AA23)/(9-Q24)*100","v":0},{"$f":"COUNTIF(P15:P23,\">2\")","v":0},{"$f":"IF((G24=0),\"\",SUM(AC15:AC23)/G24*100)","v":100}]
[null,{"$f":"SUM(B24,B14)","v":5763},{"$f":"SUM(C24,C14)","v":73},"TOTAL",{"$f":"IF(E14=0,\"0\",(E24+E14))","v":76},{"$f":"SUM(F14,F24)","v":72},{"$f":"SUM(G24,G14)","v":7},{"$f":"SUM(H24,H14)","v":6},{"$f":"SUM(I24,I14)","v":2},{"$f":"IF((A28=27),\"\",(SUM(J14,J24)/2))","v":0},{"$f":"IF((A28=27),\"\",(SUM(K14,K24)/2))","v":100},{"$f":"IF((A28=27),\"\",(SUM(L14,L24)/2))","v":0},{"$f":"SUM(M24,M14)","v":0},{"$f":"SUM(N24,N14)","v":0},{"$f":"SUM(O24,O14)","v":0},{"$f":"IF(P14+P24=0,\"\",SUM(P24,P14))","v":32},{"$f":"IF(Q14+Q24=0,\"\",SUM(Q24,Q14))","v":11},null,{"$f":"IF(S14+S24=0,\"\",SUM(S24,S14)/2)","v":5.0333333333333332},{"$f":"IF(N25=0,\"\",(O25)/N25*100)","v":""},{"$f":"IF(Q25=\"\",\"\",(Q25)/18*100)","v":61.111111111111114},{"$f":"IF(Q25=\"\",\"\",(V14+V24)/Q25)","v":1.8181818181818181},{"$f":"SUM(W14,W24)","v":0},{"$f":"SUM(X14,X24)","v":3},{"$f":"SUM(Y14,Y24)","v":6},{"$f":"SUM(Z14,Z24)","v":0},{"$f":"SUM(AA14,AA24)/2","v":33.333333333333329},{"$f":"SUM(AB14,AB24)","v":1},{"$f":"SUM(AC24,AC14)/2","v":100}]
[]
[null,null,null,null,"Udfyld alle grønne felter med 1 for positiv eller antal i tal"]
[{"$f":"COUNTBLANK(I5:K13)","v":19},null,null,null,null,null,null,null,null,null,null,null,null,null,null,null,null,null,null,null,null,null,"Approach"]
[{"$f":"COUNTBLANK(I15:K23)","v":18},null,null,null,"Udfyld følgende farver:",null,null,null,null,null,null,null,null,null,null,null,null,null,"Holes to par",null,null,null,"Længde (m)","Antal","Afstand (m)"]
[{"$f":"SUM(L5:L23)","v":0},null,null,null,"Eagles",null,null,null,null,null,null,null,null,null,null,null,null,null,"Par 3",{"$f":"SUMIF(C:C,\"3\",E:E)/COUNTIF(C:C,3)","v":3.6666666666666665},null,null,"45-70",{"$f":"COUNTIFS(R5:R23,\">=45\",R5:R23,\"<=70\")","v":1},{"$f":"IF(X30=0,\"\",AVERAGEIFS(S5:S23,R5:R23,\">=45\",R5:R23,\"<=70\"))","v":4}]
[null,null,null,null,"Birdies",null,null,null,null,null,null,null,null,null,null,null,null,null,"Par 4",{"$f":"SUMIF(C:C,\"4\",E:E)/COUNTIF(C:C,4)","v":4.1818181818181817},null,null,"71-90",{"$f":"COUNTIFS(R5:R23,\">=71\",R5:R23,\"<=90\")","v":2},{"$f":"IF(X31=0,\"\",AVERAGEIFS(S5:S23,R5:R23,\">=71\",R5:R23,\"<=90\"))","v":2.25}]
[null,null,null,null,"Bogeys",null,null,null,null,null,null,null,null,null,null,null,null,null,"Par 5",{"$f":"SUMIF(C:C,\"5\",E:E)/COUNTIF(C:C,5)","v":4.75},null,null,"91-115",{"$f":"COUNTIFS(R5:R23,\">=91\",R5:R23,\"<=115\")","v":4},{"$f":"IF(X32=0,\"\",AVERAGEIFS(S5:S23,R5:R23,\">=91\",R5:R23,\"<=115\"))","v":5.8}]
[null,null,null,null,"Doublebogeys eller værre",null,null,null,null,null,null,null,null,null,null,null,null,null,null,null,null,null,"116-140",{"$f":"COUNTIFS(R5:R23,\">=116\",R5:R23,\"<=140\")","v":3},{"$f":"IF(X33=0,\"\",AVERAGEIFS(S5:S23,R5:R23,\">=116\",R5:R23,\"<=140\"))","v":6}]
[null,null,null,null,null,null,null,null,null,null,null,null,null,null,null,null,null,null,"First 4",{"$f":"IF(E25=\"0\",\"\",SUM(E5:E8)-SUM(C5:C8))","v":2},null,null,"141-160",{"$f":"COUNTIFS(R5:R23,\">=141\",R5:R23,\"<=161\")","v":0},{"$f":"IF(X34=0,\"\",AVERAGEIFS(S5:S23,R5:R23,\">=141\",R5:R23,\"<=160\"))","v":""}]
[null,null,null,null,null,null,null,null,null,null,null,null,null,null,null,null,null,null,"Last 4",{"$f":"IF(E25=\"0\",\"\",SUM(E20:E23)-SUM(C20:C23))","v":-1},null,null,"161-180",{"$f":"COUNTIFS(R5:R23,\">=161\",R5:R23,\"<=180\")","v":0},{"$f":"IF(X35=0,\"\",AVERAGEIFS(S5:S23,R5:R23,\">=161\",R5:R23,\"<=180\"))","v":""}]
[]
[null,null,null,null,null,null,null,null,null,null,null,null,null,null,null,null,null,null,null,null,null,null,"Putting"]
[null,null,null,null,null,null,null,null,null,null,null,null,null,null,null,null,null,null,null,null,null,null,"Længde (m)","Antal","Holet","Holet (%)"]
[null,null,null,null,null,null,null,null,null,null,null,null,null,null,null,null,null,null,null,null,null,null,"under 1 m",{"$f":"COUNTIFS(S5:S23,\">=0,1\",S5:S23,\"<=0,9\")","v":1},{"$f":"IF(X39=0,\"\",COUNTIFS(P5:P23,\"=1\",S5:S23,\"<1\"))","v":1},{"$f":"IF(X39=0,\"\",Y39/X39*100)","v":100}]
[null,null,null,null,null,null,null,null,null,null,null,null,null,null,null,null,null,null,null,null,null,null,"1 - 1,5",{"$f":"COUNTIFS(S5:S23,\">=1\",S5:S23,\"<=1,5\")","v":1},{"$f":"IF(X40=0,\"\",COUNTIFS(P5:P23,\"=1\",S5:S23,\">=1\",S5:S23,\"<=1,5\"))","v":0},{"$f":"IF(X40=0,\"\",Y40/X40*100)","v":0}]
[null,null,null,null,null,null,null,null,null,null,null,null,null,null,null,null,null,null,null,null,null,null,"1,5 - 3",{"$f":"COUNTIFS(S5:S23,\">=1,6\",S5:S23,\"<=3\")","v":0},{"$f":"IF(X41=0,\"\",COUNTIFS(P5:P23,\"=1\",S5:S23,\">=1,6\",S5:S23,\"<=3\"))","v":""},{"$f":"IF(X41=0,\"\",Y41/X41*100)","v":""}]
[null,null,null,null,null,null,null,null,null,null,null,null,null,null,null,null,null,null,null,null,null,null,"3 - 4,5",{"$f":"COUNTIFS(S5:S23,\">=3,1\",S5:S23,\"<=4,5\")","v":4},{"$f":"IF(X42=0,\"\",COUNTIFS(P5:P23,\"=1\",S5:S23,\">=3,1\",S5:S23,\"<=4,5\"))","v":2},50]
[null,null,null,null,null,null,null,null,null,null,null,null,null,null,null,null,null,null,null,null,null,null,"4,5 - 6",{"$f":"COUNTIFS(S5:S23,\">=4,6\",S5:S23,\"<=6\")","v":2},{"$f":"IF(X43=0,\"\",COUNTIFS(P5:P23,\"=1\",S5:S23,\">=4,6\",S5:S23,\"<=6\"))","v":0},0]
[null,null,null,null,null,null,null,null,null,null,null,null,null,null,null,null,null,null,null,null,null,null,"over 6 meter",{"$f":"COUNTIFS(S5:S23,\">6\")","v":4},{"$f":"IF(X44=0,\"\",COUNTIFS(P5:P23,\"=1\",S5:S23,\">6\"))","v":0},0]

{"sheet":"Runde 5","index":7,"n_rows":44,"n_cols":29,"rows_kept":44,"cut":false,"hidden":false,"merged":[]}
["Korsør Golf Klub - 18 huller - Gul tee",null,null,null,null,null,null,null,null,{"$f":"IF(E25=\"0\",\"0\",\"1\")","v":"1"},"Dato:","2010-05-18",null,"Handicap:",4.5999999999999996,null,"ATS:",3,null,"Vejr:","Sol 10-15 grader, jævn vind",null,"Turnering:","Tirsdagsklub"]
[]
[null,null,null,null,null,null,null,"Tee shot",null,null,"Fairway hits i %",null,null,"Bunker",null,null,null,"Approach shots"]
["Hul","Gul tee","Par","HCP","Score","Netto","Driver","Wood","Jern","Venstre","Midt","Højre","FB","GB","SS","Putts","GIR","Dist. to pin (m)","Dist. to hole (m)","% SS","% GIR","Putts/GIR","Eagles","Birdies","Bogeys","Værre","% Scramble","3+ Putts","% Driver/Fairwayhits"]
[1,307,4,11,4,4,null,1,null,null,1,null,null,null,null,2,1,85,5,null,null,{"$f":"IF(Q5=0,\"\",P5)","v":2},null,null,null,null,{"$f":"IF(AND(Q5=\"\",P5=1),1,\"\")","v":""},null,{"$f":"IF(AND(G5=\"\"),\"\",SUM(K5))","v":""}]
[2,323,4,5,4,4,1,null,null,null,1,null,null,null,null,2,1,71,3.5,null,null,2,null,null,null,null,"",null,1]
[3,138,3,15,3,3,null,null,null,null,null,null,null,null,null,2,1,131,4.5,null,null,2,null,null,null,null,"",null,""]
[4,310,4,13,4,4,null,null,1,null,1,null,null,null,null,1,null,null,null,null,null,"",null,null,null,null,1,null,""]
[5,431,5,3,4,3,1,null,null,null,1,null,null,null,null,1,1,15,0.5,null,null,1,null,null,null,null,"",null,1]
[6,312,4,9,4,4,1,null,null,null,1,null,null,null,null,2,1,72,3.5,null,null,2,null,null,null,null,"",null,1]
[7,498,5,1,4,3,null,null,1,null,1,null,null,null,null,1,1,155,6,null,null,1,null,null,null,null,"",null,""]
[8,138,3,17,3,3,null,null,null,null,null,null,null,null,null,2,1,138,5,null,null,2,null,null,null,null,"",null,""]
[9,310,4,7,4,4,null,1,null,null,1,null,null,null,null,1,null,null,null,null,null,"",null,null,null,null,1,null,""]
[null,{"$f":"SUM(B5:B13)","v":2767},{"$f":"SUM(C5:C13)","v":36},"UD",{"$f":"SUM(E5:E13)","v":34},{"$f":"SUM(F5:F13)","v":32},{"$f":"SUM(G5:G13)","v":3},{"$f":"SUM(H5:H13)","v":2},{"$f":"SUM(I5:I13)","v":2},{"$f":"IF((A28=27),\"\",(SUM(J5:J13)/SUM(J5:L13))*100)","v":0},{"$f":"IF((A28=27),\"\",(SUM(K5:K13)/SUM(J5:L13))*100)","v":100},{"$f":"IF((A28=27),\"\",(SUM(L5:L13)/SUM(J5:L13))*100)","v":0},{"$f":"SUM(M5:M13)","v":0},{"$f":"SUM(N5:N13)","v":0},{"$f":"SUM(O5:O13)","v":0},{"$f":"SUM(P5:P13)","v":14},{"$f":"SUM(Q5:Q13)","v":7},null,{"$f":"IF(Q14=0,\"\",SUM(S5:S13)/Q14)","v":4},null,null,{"$f":"SUM(V5:V13)","v":12},{"$f":"ColorFunction($E$30,$E$5:$E$13)","v":0},{"$f":"ColorFunction($E$31,$E$5:$E$13)","v":2},{"$f":"ColorFunction($E$32,$E$5:$E$13)","v":0},{"$f":"ColorFunction($E$33,$E$5:$E$13)","v":0},{"$f":"SUM(AA5:AA13)/(9-Q14)*100","v":100},{"$f":"COUNTIF(P5:P13,\">2\")","v":0},{"$f":"IF((G14=0),\"\",SUM(AC5:AC13)/G14*100)","v":100}]
[10,481,5,4,5,5,1,null,null,null,1,null,null,null,null,2,1,85,7,null,null,{"$f":"IF(Q15=0,\"\",P15)","v":2},null,null,null,null,{"$f":"IF(AND(Q15=\"\",P15=1),1,\"\")","v":""},null,{"$f":"IF(AND(G15=\"\"),\"\",SUM(K15))","v":1}]
[11,319,4,16,4,4,null,1,null,null,1,null,null,null,null,2,1,135,6,null,null,2,null,null,null,null,"",null,""]
[12,431,5,2,5,4,1,null,null,null,1,null,null,null,null,1,null,65,4,null,null,"",null,null,null,null,1,null,1]
[13,122,3,18,4,4,null,null,null,null,null,null,null,null,null,2,null,null,null,null,null,"",null,null,null,null,"",null,""]
[14,379,4,6,4,4,1,null,null,null,1,null,null,null,null,2,1,133,5,null,null,2,null,null,null,null,"",null,1]
[15,316,4,8,6,6,1,null,null,1,null,null,null,1,null,2,null,null,null,null,null,"",null,null,null,null,"",null,0]
[16,322,4,14,4,4,1,null,null,null,1,null,null,null,null,1,1,null,null,null,null,1,null,null,null,null,"",null,1]
[17,345,4,10,5,5,1,null,null,null,1,null,null,null,null,3,1,148,5,null,null,3,null,null,null,null,"",null,1]
[18,281,4,12,3,3,null,1,null,null,1,null,null,null,null,1,1,109,1.5,null,null,1,null,null,null,null,"",null,""]
[null,{"$f":"SUM(B15:B23)","v":2996},{"$f":"SUM(C15:C23)","v":37},"IND",{"$f":"SUM(E15:E23)","v":40},{"$f":"SUM(F15:F23)","v":39},{"$f":"SUM(G15:G23)","v":6},{"$f":"SUM(H15:H23)","v":2},{"$f":"SUM(I15:I23)","v":0},{"$f":"IF((A29=27),\"\",(SUM(J15:J23)/SUM(J15:L23))*100)","v":12.5},{"$f":"IF((A29=27),\"\",(SUM(K15:K23)/SUM(J15:L23))*100)","v":87.5},{"$f":"IF((A29=27),\"\",(SUM(L15:L23)/SUM(J15:L23))*100)","v":0},{"$f":"SUM(M15:M23)","v":0},{"$f":"SUM(N15:N23)","v":1},{"$f":"SUM(O15:O23)","v":0},{"$f":"SUM(P15:P23)","v":16},{"$f":"SUM(Q15:Q23)","v":6},null,{"$f":"IF(Q24=0,\"\",SUM(S15:S23)/Q24)","v":4.75},null,null,{"$f":"SUM(V15:V23)","v":11},{"$f":"ColorFunction($E$30,$E$15:$E$23)","v":0},{"$f":"ColorFunction($E$31,$E$15:$E$23)","v":1},{"$f":"ColorFunction($E$32,$E$15:$E$23)","v":2},{"$f":"ColorFunction($E$33,$E$15:$E$23)","v":1},{"$f":"SUM(AA15:AA23)/(9-Q24)*100","v":33.333333333333329},{"$f":"COUNTIF(P15:P23,\">2\")","v":1},{"$f":"IF((G24=0),\"\",SUM(AC15:AC23)/G24*100)","v":83.333333333333343}]
[null,{"$f":"SUM(B24,B14)","v":5763},{"$f":"SUM(C24,C14)","v":73},"TOTAL",{"$f":"IF(E14=0,\"0\",(E24+E14))","v":74},{"$f":"SUM(F14,F24)","v":71},{"$f":"SUM(G24,G14)","v":9},{"$f":"SUM(H24,H14)","v":4},{"$f":"SUM(I24,I14)","v":2},{"$f":"IF((A28=27),\"\",(SUM(J14,J24)/2))","v":6.25},{"$f":"IF((A28=27),\"\",(SUM(K14,K24)/2))","v":93.75},{"$f":"IF((A28=27),\"\",(SUM(L14,L24)/2))","v":0},{"$f":"SUM(M24,M14)","v":0},{"$f":"SUM(N24,N14)","v":1},{"$f":"SUM(O24,O14)","v":0},{"$f":"IF(P14+P24=0,\"\",SUM(P24,P14))","v":30},{"$f":"IF(Q14+Q24=0,\"\",SUM(Q24,Q14))","v":13},null,{"$f":"IF(S14+S24=0,\"\",SUM(S24,S14)/2)","v":4.375},{"$f":"IF(N25=0,\"\",(O25)/N25*100)","v":0},{"$f":"IF(Q25=\"\",\"\",(Q25)/18*100)","v":72.222222222222214},{"$f":"IF(Q25=\"\",\"\",(V14+V24)/Q25)","v":1.7692307692307692},{"$f":"SUM(W14,W24)","v":0},{"$f":"SUM(X14,X24)","v":3},{"$f":"SUM(Y14,Y24)","v":2},{"$f":"SUM(Z14,Z24)","v":1},{"$f":"SUM(AA14,AA24)/2","v":66.666666666666657},{"$f":"SUM(AB14,AB24)","v":1},{"$f":"SUM(AC24,AC14)/2","v":91.666666666666671}]
[]
[null,null,null,null,"Udfyld alle grønne felter med 1 for positiv eller antal i tal"]
[{"$f":"COUNTBLANK(I5:K13)","v":18},null,null,null,null,null,null,null,null,null,null,null,null,null,null,null,null,null,null,null,null,null,"Approach"]
[{"$f":"COUNTBLANK(I15:K23)","v":19},null,null,null,"Udfyld følgende farver:",null,null,null,null,null,null,null,null,null,null,null,null,null,"Holes to par",null,null,null,"Længde (m)","Antal","Afstand (m)"]
[{"$f":"SUM(L5:L23)","v":0},null,null,null,"Eagles",null,null,null,null,null,null,null,null,null,null,null,null,null,"Par 3",{"$f":"SUMIF(C:C,\"3\",E:E)/COUNTIF(C:C,3)","v":3.3333333333333335},null,null,"45-70",{"$f":"COUNTIFS(R5:R23,\">=45\",R5:R23,\"<=70\")","v":1},{"$f":"IF(X30=0,\"\",AVERAGEIFS(S5:S23,R5:R23,\">=45\",R5:R23,\"<=70\"))","v":4}]
[null,null,null,null,"Birdies",null,null,null,null,null,null,null,null,null,null,null,null,null,"Par 4",{"$f":"SUMIF(C:C,\"4\",E:E)/COUNTIF(C:C,4)","v":4.1818181818181817},null,null,"71-90",{"$f":"COUNTIFS(R5:R23,\">=71\",R5:R23,\"<=90\")","v":4},{"$f":"IF(X31=0,\"\",AVERAGEIFS(S5:S23,R5:R23,\">=71\",R5:R23,\"<=90\"))","v":4.75}]
[null,null,null,null,"Bogeys",null,null,null,null,null,null,null,null,null,null,null,null,null,"Par 5",{"$f":"SUMIF(C:C,\"5\",E:E)/COUNTIF(C:C,5)","v":4.5},null,null,"91-115",{"$f":"COUNTIFS(R5:R23,\">=91\",R5:R23,\"<=115\")","v":1},{"$f":"IF(X32=0,\"\",AVERAGEIFS(S5:S23,R5:R23,\">=91\",R5:R23,\"<=115\"))","v":1.5}]
[null,null,null,null,"Doublebogeys eller værre",null,null,null,null,null,null,null,null,null,null,null,null,null,null,null,null,null,"116-140",{"$f":"COUNTIFS(R5:R23,\">=116\",R5:R23,\"<=140\")","v":4},{"$f":"IF(X33=0,\"\",AVERAGEIFS(S5:S23,R5:R23,\">=116\",R5:R23,\"<=140\"))","v":5.125}]
[null,null,null,null,null,null,null,null,null,null,null,null,null,null,null,null,null,null,"First 4",{"$f":"IF(E25=\"0\",\"\",SUM(E5:E8)-SUM(C5:C8))","v":0},null,null,"141-160",{"$f":"COUNTIFS(R5:R23,\">=141\",R5:R23,\"<=161\")","v":2},{"$f":"IF(X34=0,\"\",AVERAGEIFS(S5:S23,R5:R23,\">=141\",R5:R23,\"<=160\"))","v":5.5}]
[null,null,null,null,null,null,null,null,null,null,null,null,null,null,null,null,null,null,"Last 4",{"$f":"IF(E25=\"0\",\"\",SUM(E20:E23)-SUM(C20:C23))","v":2},null,null,"161-180",{"$f":"COUNTIFS(R5:R23,\">=161\",R5:R23,\"<=180\")","v":0},{"$f":"IF(X35=0,\"\",AVERAGEIFS(S5:S23,R5:R23,\">=161\",R5:R23,\"<=180\"))","v":""}]
[]
[null,null,null,null,null,null,null,null,null,null,null,null,null,null,null,null,null,null,null,null,null,null,"Putting"]
[null,null,null,null,null,null,null,null,null,null,null,null,null,null,null,null,null,null,null,null,null,null,"Længde (m)","Antal","Holet","Holet (%)"]
[null,null,null,null,null,null,null,null,null,null,null,null,null,null,null,null,null,null,null,null,null,null,"under 1 m",{"$f":"COUNTIFS(S5:S23,\">=0,1\",S5:S23,\"<=0,9\")","v":1},{"$f":"IF(X39=0,\"\",COUNTIFS(P5:P23,\"=1\",S5:S23,\"<1\"))","v":1},{"$f":"IF(X39=0,\"\",Y39/X39*100)","v":100}]
[null,null,null,null,null,null,null,null,null,null,null,null,null,null,null,null,null,null,null,null,null,null,"1 - 1,5",{"$f":"COUNTIFS(S5:S23,\">=1\",S5:S23,\"<=1,5\")","v":1},{"$f":"IF(X40=0,\"\",COUNTIFS(P5:P23,\"=1\",S5:S23,\">=1\",S5:S23,\"<=1,5\"))","v":1},{"$f":"IF(X40=0,\"\",Y40/X40*100)","v":100}]
[null,null,null,null,null,null,null,null,null,null,null,null,null,null,null,null,null,null,null,null,null,null,"1,5 - 3",{"$f":"COUNTIFS(S5:S23,\">=1,6\",S5:S23,\"<=3\")","v":0},{"$f":"IF(X41=0,\"\",COUNTIFS(P5:P23,\"=1\",S5:S23,\">=1,6\",S5:S23,\"<=3\"))","v":""},{"$f":"IF(X41=0,\"\",Y41/X41*100)","v":""}]
[null,null,null,null,null,null,null,null,null,null,null,null,null,null,null,null,null,null,null,null,null,null,"3 - 4,5",{"$f":"COUNTIFS(S5:S23,\">=3,1\",S5:S23,\"<=4,5\")","v":5},{"$f":"IF(X42=0,\"\",COUNTIFS(P5:P23,\"=1\",S5:S23,\">=3,1\",S5:S23,\"<=4,5\"))","v":1},20]
[null,null,null,null,null,null,null,null,null,null,null,null,null,null,null,null,null,null,null,null,null,null,"4,5 - 6",{"$f":"COUNTIFS(S5:S23,\">=4,6\",S5:S23,\"<=6\")","v":6},{"$f":"IF(X43=0,\"\",COUNTIFS(P5:P23,\"=1\",S5:S23,\">=4,6\",S5:S23,\"<=6\"))","v":1},16.666666666666664]
[null,null,null,null,null,null,null,null,null,null,null,null,null,null,null,null,null,null,null,null,null,null,"over 6 meter",{"$f":"COUNTIFS(S5:S23,\">6\")","v":1},{"$f":"IF(X44=0,\"\",COUNTIFS(P5:P23,\"=1\",S5:S23,\">6\"))","v":0},0]

{"sheet":"Runde 6","index":8,"n_rows":44,"n_cols":29,"rows_kept":44,"cut":false,"hidden":false,"merged":[]}
["Korsør Golf Klub - 18 huller - Hvid tee",null,null,null,null,null,null,null,null,{"$f":"IF(E25=\"0\",\"0\",\"1\")","v":"1"},"Dato:","22-05-2010*",null,"Handicap:",4.5,null,"ATS:",5,null,"Vejr:","Sol 15-20 grader, jævn vind",null,"Turnering:","GTS elitepokal"]
[]
[null,null,null,null,null,null,null,"Tee shot",null,null,"Fairway hits i %",null,null,"Bunker",null,null,null,"Approach shots"]
["Hul","Gul tee","Par","HCP","Score","Netto","Driver","Wood","Jern","Venstre","Midt","Højre","FB","GB","SS","Putts","GIR","Dist. to pin (m)","Dist. to hole (m)","% SS","% GIR","Putts/GIR","Eagles","Birdies","Bogeys","Værre","% Scramble","3+ Putts","% Driver/Fairwayhits"]
[1,313,4,11,4,4,1,null,null,null,1,null,null,null,null,1,null,null,null,null,null,{"$f":"IF(Q5=0,\"\",P5)","v":""},null,null,null,null,{"$f":"IF(AND(Q5=\"\",P5=1),1,\"\")","v":1},null,{"$f":"IF(AND(G5=\"\"),\"\",SUM(K5))","v":1}]
[2,340,4,5,4,3,1,null,null,null,1,null,null,null,null,1,null,null,null,null,null,"",null,null,null,null,1,null,1]
[3,143,3,15,3,3,null,null,null,null,null,null,null,null,null,1,null,null,null,null,null,"",null,null,null,null,1,null,""]
[4,335,4,13,5,5,null,1,null,null,null,1,null,null,null,2,null,null,null,null,null,"",null,null,null,null,"",null,""]
[5,443,5,3,4,3,1,null,null,null,1,null,null,null,null,1,1,41,4,null,null,1,null,null,null,null,"",null,1]
[6,319,4,9,3,3,1,null,null,1,null,null,null,null,null,1,1,81,5,null,null,1,null,null,null,null,"",null,0]
[7,555,5,1,6,5,1,null,null,null,null,1,null,null,null,2,null,null,null,null,null,"",null,null,null,null,"",null,0]
[8,143,3,17,3,3,null,null,null,null,null,null,null,null,null,2,1,145,3,null,null,2,null,null,null,null,"",null,""]
[9,320,4,7,3,3,1,null,null,null,1,null,null,null,null,1,1,103,3.5,null,null,1,null,null,null,null,"",null,1]
[null,{"$f":"SUM(B5:B13)","v":2911},{"$f":"SUM(C5:C13)","v":36},"UD",{"$f":"SUM(E5:E13)","v":35},{"$f":"SUM(F5:F13)","v":32},{"$f":"SUM(G5:G13)","v":6},{"$f":"SUM(H5:H13)","v":1},{"$f":"SUM(I5:I13)","v":0},{"$f":"IF((A28=27),\"\",(SUM(J5:J13)/SUM(J5:L13))*100)","v":14.285714285714285},{"$f":"IF((A28=27),\"\",(SUM(K5:K13)/SUM(J5:L13))*100)","v":57.142857142857139},{"$f":"IF((A28=27),\"\",(SUM(L5:L13)/SUM(J5:L13))*100)","v":28.571428571428569},{"$f":"SUM(M5:M13)","v":0},{"$f":"SUM(N5:N13)","v":0},{"$f":"SUM(O5:O13)","v":0},{"$f":"SUM(P5:P13)","v":12},{"$f":"SUM(Q5:Q13)","v":4},null,{"$f":"IF(Q14=0,\"\",SUM(S5:S13)/Q14)","v":3.875},null,null,{"$f":"SUM(V5:V13)","v":5},{"$f":"ColorFunction($E$30,$E$5:$E$13)","v":0},{"$f":"ColorFunction($E$31,$E$5:$E$13)","v":3},{"$f":"ColorFunction($E$32,$E$5:$E$13)","v":2},{"$f":"ColorFunction($E$33,$E$5:$E$13)","v":0},{"$f":"SUM(AA5:AA13)/(9-Q14)*100","v":60},{"$f":"COUNTIF(P5:P13,\">2\")","v":0},{"$f":"IF((G14=0),\"\",SUM(AC5:AC13)/G14*100)","v":66.666666666666657}]
[10,490,5,4,6,5,1,null,null,1,null,null,null,null,null,2,null,null,null,null,null,{"$f":"IF(Q15=0,\"\",P15)","v":""},null,null,null,null,{"$f":"IF(AND(Q15=\"\",P15=1),1,\"\")","v":""},null,{"$f":"IF(AND(G15=\"\"),\"\",SUM(K15))","v":0}]
[11,330,4,16,4,4,null,1,null,null,1,null,null,null,null,2,1,134,5,null,null,2,null,null,null,null,"",null,""]
[12,451,5,2,5,4,1,null,null,null,null,1,null,null,null,2,1,106,5,null,null,2,null,null,null,null,"",null,0]
[13,140,3,18,3,3,null,null,null,null,null,null,null,null,null,2,1,143,8,null,null,2,null,null,null,null,"",null,""]
[14,383,4,6,4,4,1,null,null,null,1,null,null,null,null,2,1,168,8,null,null,2,null,null,null,null,"",null,1]
[15,332,4,8,4,4,1,null,null,1,null,null,null,null,null,1,null,null,null,null,null,"",null,null,null,null,1,null,0]
[16,334,4,14,4,4,1,null,null,null,1,null,null,null,null,2,1,127,6,null,null,2,null,null,null,null,"",null,1]
[17,368,4,10,4,4,1,null,null,null,1,null,null,null,null,2,1,144,5,null,null,2,null,null,null,null,"",null,1]
[18,299,4,12,4,4,null,1,null,null,1,null,null,null,null,2,1,95,4,null,null,2,null,null,null,null,"",null,""]
[null,{"$f":"SUM(B15:B23)","v":3127},{"$f":"SUM(C15:C23)","v":37},"IND",{"$f":"SUM(E15:E23)","v":38},{"$f":"SUM(F15:F23)","v":36},{"$f":"SUM(G15:G23)","v":6},{"$f":"SUM(H15:H23)","v":2},{"$f":"SUM(I15:I23)","v":0},{"$f":"IF((A29=27),\"\",(SUM(J15:J23)/SUM(J15:L23))*100)","v":25},{"$f":"IF((A29=27),\"\",(SUM(K15:K23)/SUM(J15:L23))*100)","v":62.5},{"$f":"IF((A29=27),\"\",(SUM(L15:L23)/SUM(J15:L23))*100)","v":12.5},{"$f":"SUM(M15:M23)","v":0},{"$f":"SUM(N15:N23)","v":0},{"$f":"SUM(O15:O23)","v":0},{"$f":"SUM(P15:P23)","v":17},{"$f":"SUM(Q15:Q23)","v":7},null,{"$f":"IF(Q24=0,\"\",SUM(S15:S23)/Q24)","v":5.8571428571428568},null,null,{"$f":"SUM(V15:V23)","v":14},{"$f":"ColorFunction($E$30,$E$15:$E$23)","v":0},{"$f":"ColorFunction($E$31,$E$15:$E$23)","v":0},{"$f":"ColorFunction($E$32,$E$15:$E$23)","v":1},{"$f":"ColorFunction($E$33,$E$15:$E$23)","v":0},{"$f":"SUM(AA15:AA23)/(9-Q24)*100","v":50},{"$f":"COUNTIF(P15:P23,\">2\")","v":0},{"$f":"IF((G24=0),\"\",SUM(AC15:AC23)/G24*100)","v":50}]
[null,{"$f":"SUM(B24,B14)","v":6038},{"$f":"SUM(C24,C14)","v":73},"TOTAL",{"$f":"IF(E14=0,\"0\",(E24+E14))","v":73},{"$f":"SUM(F14,F24)","v":68},{"$f":"SUM(G24,G14)","v":12},{"$f":"SUM(H24,H14)","v":3},{"$f":"SUM(I24,I14)","v":0},{"$f":"IF((A28=27),\"\",(SUM(J14,J24)/2))","v":19.642857142857142},{"$f":"IF((A28=27),\"\",(SUM(K14,K24)/2))","v":59.821428571428569},{"$f":"IF((A28=27),\"\",(SUM(L14,L24)/2))","v":20.535714285714285},{"$f":"SUM(M24,M14)","v":0},{"$f":"SUM(N24,N14)","v":0},{"$f":"SUM(O24,O14)","v":0},{"$f":"IF(P14+P24=0,\"\",SUM(P24,P14))","v":29},{"$f":"IF(Q14+Q24=0,\"\",SUM(Q24,Q14))","v":11},null,{"$f":"IF(S14+S24=0,\"\",SUM(S24,S14)/2)","v":4.8660714285714288},{"$f":"IF(N25=0,\"\",(O25)/N25*100)","v":""},{"$f":"IF(Q25=\"\",\"\",(Q25)/18*100)","v":61.111111111111114},{"$f":"IF(Q25=\"\",\"\",(V14+V24)/Q25)","v":1.7272727272727273},{"$f":"SUM(W14,W24)","v":0},{"$f":"SUM(X14,X24)","v":3},{"$f":"SUM(Y14,Y24)","v":3},{"$f":"SUM(Z14,Z24)","v":0},{"$f":"SUM(AA14,AA24)/2","v":55},{"$f":"SUM(AB14,AB24)","v":0},{"$f":"SUM(AC24,AC14)/2","v":58.333333333333329}]
[]
[null,null,null,null,"Udfyld alle grønne felter med 1 for positiv eller antal i tal"]
[{"$f":"COUNTBLANK(I5:K13)","v":22},null,null,null,null,null,null,null,null,null,null,null,null,null,null,null,null,null,null,null,null,null,"Approach"]
[{"$f":"COUNTBLANK(I15:K23)","v":20},null,null,null,"Udfyld følgende farver:",null,null,null,null,null,null,null,null,null,null,null,null,null,null,"Holes to par",null,null,"Længde (m)","Antal","Afstand (m)"]
[{"$f":"SUM(L5:L23)","v":31.571428571428569},null,null,null,"Eagles",null,null,null,null,null,null,null,null,null,null,null,null,null,null,"Par 3",{"$f":"SUMIF(C:C,\"3\",E:E)/COUNTIF(C:C,3)","v":3},null,"45-70",{"$f":"COUNTIFS(R5:R23,\">=45\",R5:R23,\"<=70\")","v":0},{"$f":"IF(X30=0,\"\",AVERAGEIFS(S5:S23,R5:R23,\">=45\",R5:R23,\"<=70\"))","v":""}]
[null,null,null,null,"Birdies",null,null,null,null,null,null,null,null,null,null,null,null,null,null,"Par 4",{"$f":"SUMIF(C:C,\"4\",E:E)/COUNTIF(C:C,4)","v":3.9090909090909092},null,"71-90",{"$f":"COUNTIFS(R5:R23,\">=71\",R5:R23,\"<=90\")","v":1},{"$f":"IF(X31=0,\"\",AVERAGEIFS(S5:S23,R5:R23,\">=71\",R5:R23,\"<=90\"))","v":5}]
[null,null,null,null,"Bogeys",null,null,null,null,null,null,null,null,null,null,null,null,null,null,"Par 5",{"$f":"SUMIF(C:C,\"5\",E:E)/COUNTIF(C:C,5)","v":5.25},null,"91-115",{"$f":"COUNTIFS(R5:R23,\">=91\",R5:R23,\"<=115\")","v":3},{"$f":"IF(X32=0,\"\",AVERAGEIFS(S5:S23,R5:R23,\">=91\",R5:R23,\"<=115\"))","v":4.166666666666667}]
[null,null,null,null,"Doublebogeys eller værre",null,null,null,null,null,null,null,null,null,null,null,null,null,null,null,null,null,"116-140",{"$f":"COUNTIFS(R5:R23,\">=116\",R5:R23,\"<=140\")","v":2},{"$f":"IF(X33=0,\"\",AVERAGEIFS(S5:S23,R5:R23,\">=116\",R5:R23,\"<=140\"))","v":5.5}]
[null,null,null,null,null,null,null,null,null,null,null,null,null,null,null,null,null,null,null,"First 4",{"$f":"IF(E25=\"0\",\"\",SUM(E5:E8)-SUM(C5:C8))","v":1},null,"141-160",{"$f":"COUNTIFS(R5:R23,\">=141\",R5:R23,\"<=161\")","v":3},{"$f":"IF(X34=0,\"\",AVERAGEIFS(S5:S23,R5:R23,\">=141\",R5:R23,\"<=160\"))","v":5.333333333333333}]
[null,null,null,null,null,null,null,null,null,null,null,null,null,null,null,null,null,null,null,"Last 4",{"$f":"IF(E25=\"0\",\"\",SUM(E20:E23)-SUM(C20:C23))","v":0},null,"161-180",{"$f":"COUNTIFS(R5:R23,\">=161\",R5:R23,\"<=180\")","v":1},{"$f":"IF(X35=0,\"\",AVERAGEIFS(S5:S23,R5:R23,\">=161\",R5:R23,\"<=180\"))","v":8}]
[]
[null,null,null,null,null,null,null,null,null,null,null,null,null,null,null,null,null,null,null,null,null,null,"Putting"]
[null,null,null,null,null,null,null,null,null,null,null,null,null,null,null,null,null,null,null,null,null,null,"Længde (m)","Antal","Holet","Holet (%)"]
[null,null,null,null,null,null,null,null,null,null,null,null,null,null,null,null,null,null,null,null,null,null,"under 1 m",{"$f":"COUNTIFS(S5:S23,\">=0,1\",S5:S23,\"<=0,9\")","v":0},{"$f":"IF(X39=0,\"\",COUNTIFS(P5:P23,\"=1\",S5:S23,\"<1\"))","v":""},{"$f":"IF(X39=0,\"\",Y39/X39*100)","v":""}]
[null,null,null,null,null,null,null,null,null,null,null,null,null,null,null,null,null,null,null,null,null,null,"1 - 1,5",{"$f":"COUNTIFS(S5:S23,\">=1\",S5:S23,\"<=1,5\")","v":0},{"$f":"IF(X40=0,\"\",COUNTIFS(P5:P23,\"=1\",S5:S23,\">=1\",S5:S23,\"<=1,5\"))","v":""},{"$f":"IF(X40=0,\"\",Y40/X40*100)","v":""}]
[null,null,null,null,null,null,null,null,null,null,null,null,null,null,null,null,null,null,null,null,null,null,"1,5 - 3",{"$f":"COUNTIFS(S5:S23,\">=1,6\",S5:S23,\"<=3\")","v":1},{"$f":"IF(X41=0,\"\",COUNTIFS(P5:P23,\"=1\",S5:S23,\">=1,6\",S5:S23,\"<=3\"))","v":0},{"$f":"IF(X41=0,\"\",Y41/X41*100)","v":0}]
[null,null,null,null,null,null,null,null,null,null,null,null,null,null,null,null,null,null,null,null,null,null,"3 - 4,5",{"$f":"COUNTIFS(S5:S23,\">=3,1\",S5:S23,\"<=4,5\")","v":4},{"$f":"IF(X42=0,\"\",COUNTIFS(P5:P23,\"=1\",S5:S23,\">=3,1\",S5:S23,\"<=4,5\"))","v":2},50]
[null,null,null,null,null,null,null,null,null,null,null,null,null,null,null,null,null,null,null,null,null,null,"4,5 - 6",{"$f":"COUNTIFS(S5:S23,\">=4,6\",S5:S23,\"<=6\")","v":5},{"$f":"IF(X43=0,\"\",COUNTIFS(P5:P23,\"=1\",S5:S23,\">=4,6\",S5:S23,\"<=6\"))","v":1},20]
[null,null,null,null,null,null,null,null,null,null,null,null,null,null,null,null,null,null,null,null,null,null,"over 6 meter",{"$f":"COUNTIFS(S5:S23,\">6\")","v":2},{"$f":"IF(X44=0,\"\",COUNTIFS(P5:P23,\"=1\",S5:S23,\">6\"))","v":0},0]

{"sheet":"Runde 7","index":9,"n_rows":44,"n_cols":29,"rows_kept":44,"cut":false,"hidden":false,"merged":[]}
["Korsør Golf Klub - 18 huller - Gul tee",null,null,null,null,null,null,null,null,{"$f":"IF(E25=\"0\",\"0\",\"1\")","v":"1"},"Dato:","2010-05-24",null,"Handicap:",4.5,null,"ATS:",3,null,"Vejr:","Regn, jævn-hård vind, 10-12 grader",null,"Turnering:","Pinsemorgenturnering gunstart hul 3"]
[]
[null,null,null,null,null,null,null,"Tee shot",null,null,"Fairway hits i %",null,null,"Bunker",null,null,null,"Approach shots"]
["Hul","Gul tee","Par","HCP","Score","Netto","Driver","Wood","Jern","Venstre","Midt","Højre","FB","GB","SS","Putts","GIR","Dist. to pin (m)","Dist. to hole (m)","% SS","% GIR","Putts/GIR","Eagles","Birdies","Bogeys","Værre","% Scramble","3+ Putts","% Driver/Fairwayhits"]
[1,307,4,11,5,5,null,null,null,null,null,null,null,null,null,2,null,null,null,null,null,{"$f":"IF(Q5=0,\"\",P5)","v":""},null,null,null,null,{"$f":"IF(AND(Q5=\"\",P5=1),1,\"\")","v":""},null,{"$f":"IF(AND(G5=\"\"),\"\",SUM(K5))","v":""}]
[2,323,4,5,4,4,null,null,null,null,null,null,null,null,null,2,1,null,null,null,null,2,null,null,null,null,"",null,""]
[3,138,3,15,3,3,null,null,null,null,null,null,null,null,null,1,null,null,null,null,null,"",null,null,null,null,1,null,""]
[4,310,4,13,4,4,null,null,1,null,1,null,null,null,null,1,null,null,null,null,null,"",null,null,null,null,1,null,""]
[5,431,5,3,5,4,1,null,null,1,null,null,null,null,null,2,1,null,null,null,null,2,null,null,null,null,"",null,0]
[6,312,4,9,4,4,1,null,null,1,null,null,null,null,null,2,1,null,null,null,null,2,null,null,null,null,"",null,0]
[7,498,5,1,5,4,null,null,1,null,1,null,null,null,null,2,1,null,null,null,null,2,null,null,null,null,"",null,""]
[8,138,3,17,4,4,null,null,null,null,null,null,null,1,null,2,null,null,null,null,null,"",null,null,null,null,"",null,""]
[9,310,4,7,4,4,1,null,null,null,1,null,null,null,null,2,1,null,null,null,null,2,null,null,null,null,"",null,1]
[null,{"$f":"SUM(B5:B13)","v":2767},{"$f":"SUM(C5:C13)","v":36},"UD",{"$f":"SUM(E5:E13)","v":38},{"$f":"SUM(F5:F13)","v":36},{"$f":"SUM(G5:G13)","v":3},{"$f":"SUM(H5:H13)","v":0},{"$f":"SUM(I5:I13)","v":2},{"$f":"IF((A28=27),\"\",(SUM(J5:J13)/SUM(J5:L13))*100)","v":40},{"$f":"IF((A28=27),\"\",(SUM(K5:K13)/SUM(J5:L13))*100)","v":60},{"$f":"IF((A28=27),\"\",(SUM(L5:L13)/SUM(J5:L13))*100)","v":0},{"$f":"SUM(M5:M13)","v":0},{"$f":"SUM(N5:N13)","v":1},{"$f":"SUM(O5:O13)","v":0},{"$f":"SUM(P5:P13)","v":16},{"$f":"SUM(Q5:Q13)","v":5},null,{"$f":"IF(Q14=0,\"\",SUM(S5:S13)/Q14)","v":0},null,null,{"$f":"SUM(V5:V13)","v":10},{"$f":"ColorFunction($E$30,$E$5:$E$13)","v":0},{"$f":"ColorFunction($E$31,$E$5:$E$13)","v":0},{"$f":"ColorFunction($E$32,$E$5:$E$13)","v":2},{"$f":"ColorFunction($E$33,$E$5:$E$13)","v":0},{"$f":"SUM(AA5:AA13)/(9-Q14)*100","v":50},{"$f":"COUNTIF(P5:P13,\">2\")","v":0},{"$f":"IF((G14=0),\"\",SUM(AC5:AC13)/G14*100)","v":33.333333333333329}]
[10,481,5,4,6,6,1,null,null,null,1,null,null,null,null,2,null,null,null,null,null,{"$f":"IF(Q15=0,\"\",P15)","v":""},null,null,null,null,{"$f":"IF(AND(Q15=\"\",P15=1),1,\"\")","v":""},null,{"$f":"IF(AND(G15=\"\"),\"\",SUM(K15))","v":1}]
[11,319,4,16,4,4,null,null,1,null,1,null,null,null,null,1,null,null,null,null,null,"",null,null,null,null,1,null,""]
[12,431,5,2,5,4,null,1,null,null,1,null,null,null,null,2,1,null,null,null,null,2,null,null,null,null,"",null,""]
[13,122,3,18,3,3,null,null,null,null,null,null,null,null,null,2,1,null,null,null,null,2,null,null,null,null,"",null,""]
[14,379,4,6,4,4,1,null,null,null,1,null,null,null,null,2,1,null,null,null,null,2,null,null,null,null,"",null,1]
[15,316,4,8,4,4,1,null,null,1,null,null,null,null,null,1,null,null,null,null,null,"",null,null,null,null,1,null,0]
[16,322,4,14,6,6,1,null,null,null,1,null,null,null,null,2,null,null,null,null,null,"",null,null,null,null,"",null,1]
[17,345,4,10,4,4,null,1,null,null,1,null,null,null,null,2,1,null,null,null,null,2,null,null,null,null,"",null,""]
[18,281,4,12,4,4,null,1,null,null,1,null,null,null,null,2,1,null,null,null,null,2,null,null,null,null,"",null,""]
[null,{"$f":"SUM(B15:B23)","v":2996},{"$f":"SUM(C15:C23)","v":37},"IND",{"$f":"SUM(E15:E23)","v":40},{"$f":"SUM(F15:F23)","v":39},{"$f":"SUM(G15:G23)","v":4},{"$f":"SUM(H15:H23)","v":3},{"$f":"SUM(I15:I23)","v":1},{"$f":"IF((A29=27),\"\",(SUM(J15:J23)/SUM(J15:L23))*100)","v":12.5},{"$f":"IF((A29=27),\"\",(SUM(K15:K23)/SUM(J15:L23))*100)","v":87.5},{"$f":"IF((A29=27),\"\",(SUM(L15:L23)/SUM(J15:L23))*100)","v":0},{"$f":"SUM(M15:M23)","v":0},{"$f":"SUM(N15:N23)","v":0},{"$f":"SUM(O15:O23)","v":0},{"$f":"SUM(P15:P23)","v":16},{"$f":"SUM(Q15:Q23)","v":5},null,{"$f":"IF(Q24=0,\"\",SUM(S15:S23)/Q24)","v":0},null,null,{"$f":"SUM(V15:V23)","v":10},{"$f":"ColorFunction($E$30,$E$15:$E$23)","v":0},{"$f":"ColorFunction($E$31,$E$15:$E$23)","v":0},{"$f":"ColorFunction($E$32,$E$15:$E$23)","v":1},{"$f":"ColorFunction($E$33,$E$15:$E$23)","v":1},{"$f":"SUM(AA15:AA23)/(9-Q24)*100","v":50},{"$f":"COUNTIF(P15:P23,\">2\")","v":0},{"$f":"IF((G24=0),\"\",SUM(AC15:AC23)/G24*100)","v":75}]
[null,{"$f":"SUM(B24,B14)","v":5763},{"$f":"SUM(C24,C14)","v":73},"TOTAL",{"$f":"IF(E14=0,\"0\",(E24+E14))","v":78},{"$f":"SUM(F14,F24)","v":75},{"$f":"SUM(G24,G14)","v":7},{"$f":"SUM(H24,H14)","v":3},{"$f":"SUM(I24,I14)","v":3},{"$f":"IF((A28=27),\"\",(SUM(J14,J24)/2))","v":26.25},{"$f":"IF((A28=27),\"\",(SUM(K14,K24)/2))","v":73.75},{"$f":"IF((A28=27),\"\",(SUM(L14,L24)/2))","v":0},{"$f":"SUM(M24,M14)","v":0},{"$f":"SUM(N24,N14)","v":1},{"$f":"SUM(O24,O14)","v":0},{"$f":"IF(P14+P24=0,\"\",SUM(P24,P14))","v":32},{"$f":"IF(Q14+Q24=0,\"\",SUM(Q24,Q14))","v":10},null,{"$f":"IF(S14+S24=0,\"\",SUM(S24,S14)/2)","v":""},{"$f":"IF(N25=0,\"\",(O25)/N25*100)","v":0},{"$f":"IF(Q25=\"\",\"\",(Q25)/18*100)","v":55.555555555555557},{"$f":"IF(Q25=\"\",\"\",(V14+V24)/Q25)","v":2},{"$f":"SUM(W14,W24)","v":0},{"$f":"SUM(X14,X24)","v":0},{"$f":"SUM(Y14,Y24)","v":3},{"$f":"SUM(Z14,Z24)","v":1},{"$f":"SUM(AA14,AA24)/2","v":50},{"$f":"SUM(AB14,AB24)","v":0},{"$f":"SUM(AC24,AC14)/2","v":54.166666666666664}]
[]
[null,null,null,null,"Udfyld alle grønne felter med 1 for positiv eller antal i tal"]
[{"$f":"COUNTBLANK(I5:K13)","v":20},null,null,null,null,null,null,null,null,null,null,null,null,null,null,null,null,null,null,null,null,null,"Approach"]
[{"$f":"COUNTBLANK(I15:K23)","v":18},null,null,null,"Udfyld følgende farver:",null,null,null,null,null,null,null,null,null,null,null,null,null,"Holes to par",null,null,null,"Længde (m)","Antal","Afstand (m)"]
[{"$f":"SUM(L5:L23)","v":0},null,null,null,"Eagles",null,null,null,null,null,null,null,null,null,null,null,null,null,"Par 3",{"$f":"SUMIF(C:C,\"3\",E:E)/COUNTIF(C:C,3)","v":3.3333333333333335},null,null,"45-70",{"$f":"COUNTIFS(R5:R23,\">=45\",R5:R23,\"<=70\")","v":0},{"$f":"IF(X30=0,\"\",AVERAGEIFS(S5:S23,R5:R23,\">=45\",R5:R23,\"<=70\"))","v":""}]
[null,null,null,null,"Birdies",null,null,null,null,null,null,null,null,null,null,null,null,null,"Par 4",{"$f":"SUMIF(C:C,\"4\",E:E)/COUNTIF(C:C,4)","v":4.2727272727272725},null,null,"71-90",{"$f":"COUNTIFS(R5:R23,\">=71\",R5:R23,\"<=90\")","v":0},{"$f":"IF(X31=0,\"\",AVERAGEIFS(S5:S23,R5:R23,\">=71\",R5:R23,\"<=90\"))","v":""}]
[null,null,null,null,"Bogeys",null,null,null,null,null,null,null,null,null,null,null,null,null,"Par 5",{"$f":"SUMIF(C:C,\"5\",E:E)/COUNTIF(C:C,5)","v":5.25},null,null,"91-115",{"$f":"COUNTIFS(R5:R23,\">=91\",R5:R23,\"<=115\")","v":0},{"$f":"IF(X32=0,\"\",AVERAGEIFS(S5:S23,R5:R23,\">=91\",R5:R23,\"<=115\"))","v":""}]
[null,null,null,null,"Doublebogeys eller værre",null,null,null,null,null,null,null,null,null,null,null,null,null,null,null,null,null,"116-140",{"$f":"COUNTIFS(R5:R23,\">=116\",R5:R23,\"<=140\")","v":0},{"$f":"IF(X33=0,\"\",AVERAGEIFS(S5:S23,R5:R23,\">=116\",R5:R23,\"<=140\"))","v":""}]
[null,null,null,null,null,null,null,null,null,null,null,null,null,null,null,null,null,null,"First 4",{"$f":"IF(E25=\"0\",\"\",SUM(E7:E10)-SUM(C7:C10))","v":0},null,null,"141-160",{"$f":"COUNTIFS(R5:R23,\">=141\",R5:R23,\"<=161\")","v":0},{"$f":"IF(X34=0,\"\",AVERAGEIFS(S5:S23,R5:R23,\">=141\",R5:R23,\"<=160\"))","v":""}]
[null,null,null,null,null,null,null,null,null,null,null,null,null,null,null,null,null,null,"Last 4",1,null,null,"161-180",{"$f":"COUNTIFS(R5:R23,\">=161\",R5:R23,\"<=180\")","v":0},{"$f":"IF(X35=0,\"\",AVERAGEIFS(S5:S23,R5:R23,\">=161\",R5:R23,\"<=180\"))","v":""}]
[]
[null,null,null,null,null,null,null,null,null,null,null,null,null,null,null,null,null,null,null,null,null,null,"Putting"]
[null,null,null,null,null,null,null,null,null,null,null,null,null,null,null,null,null,null,null,null,null,null,"Længde (m)","Antal","Holet","Holet (%)"]
[null,null,null,null,null,null,null,null,null,null,null,null,null,null,null,null,null,null,null,null,null,null,"under 1 m",{"$f":"COUNTIFS(S5:S23,\">=0,1\",S5:S23,\"<=0,9\")","v":0},{"$f":"IF(X39=0,\"\",COUNTIFS(P5:P23,\"=1\",S5:S23,\"<1\"))","v":""},{"$f":"IF(X39=0,\"\",Y39/X39*100)","v":""}]
[null,null,null,null,null,null,null,null,null,null,null,null,null,null,null,null,null,null,null,null,null,null,"1 - 1,5",{"$f":"COUNTIFS(S5:S23,\">=1\",S5:S23,\"<=1,5\")","v":0},{"$f":"IF(X40=0,\"\",COUNTIFS(P5:P23,\"=1\",S5:S23,\">=1\",S5:S23,\"<=1,5\"))","v":""},{"$f":"IF(X40=0,\"\",Y40/X40*100)","v":""}]
[null,null,null,null,null,null,null,null,null,null,null,null,null,null,null,null,null,null,null,null,null,null,"1,5 - 3",{"$f":"COUNTIFS(S5:S23,\">=1,6\",S5:S23,\"<=3\")","v":0},{"$f":"IF(X41=0,\"\",COUNTIFS(P5:P23,\"=1\",S5:S23,\">=1,6\",S5:S23,\"<=3\"))","v":""},{"$f":"IF(X41=0,\"\",Y41/X41*100)","v":""}]
[null,null,null,null,null,null,null,null,null,null,null,null,null,null,null,null,null,null,null,null,null,null,"3 - 4,5",{"$f":"COUNTIFS(S5:S23,\">=3,1\",S5:S23,\"<=4,5\")","v":0},{"$f":"IF(X42=0,\"\",COUNTIFS(P5:P23,\"=1\",S5:S23,\">=3,1\",S5:S23,\"<=4,5\"))","v":""},""]
[null,null,null,null,null,null,null,null,null,null,null,null,null,null,null,null,null,null,null,null,null,null,"4,5 - 6",{"$f":"COUNTIFS(S5:S23,\">=4,6\",S5:S23,\"<=6\")","v":0},{"$f":"IF(X43=0,\"\",COUNTIFS(P5:P23,\"=1\",S5:S23,\">=4,6\",S5:S23,\"<=6\"))","v":""},""]
[null,null,null,null,null,null,null,null,null,null,null,null,null,null,null,null,null,null,null,null,null,null,"over 6 meter",{"$f":"COUNTIFS(S5:S23,\">6\")","v":0},{"$f":"IF(X44=0,\"\",COUNTIFS(P5:P23,\"=1\",S5:S23,\">6\"))","v":""},""]

{"sheet":"Runde 8","index":10,"n_rows":44,"n_cols":29,"rows_kept":44,"cut":false,"hidden":false,"merged":[]}
["Korsør Golf Klub - 18 huller - Gul tee",null,null,null,null,null,null,null,null,{"$f":"IF(E25=\"0\",\"0\",\"1\")","v":"1"},"Dato:","2010-06-08",null,"Handicap:",4.3,null,"ATS:",3,null,"Vejr:","Sol, jævn vind, 18 grader",null,"Turnering:","Tirsdagsklub"]
[]
[null,null,null,null,null,null,null,"Tee shot",null,null,"Fairway hits i %",null,null,"Bunker",null,null,null,"Approach shots"]
["Hul","Gul tee","Par","HCP","Score","Netto","Driver","Wood","Jern","Venstre","Midt","Højre","FB","GB","SS","Putts","GIR","Dist. to pin (m)","Dist. to hole (m)","% SS","% GIR","Putts/GIR","Eagles","Birdies","Bogeys","Værre","% Scramble","3+ Putts","% Driver/Fairwayhits"]
[1,307,4,11,5,5,null,1,null,null,1,null,null,null,null,2,null,null,null,null,null,{"$f":"IF(Q5=0,\"\",P5)","v":""},null,null,null,null,{"$f":"IF(AND(Q5=\"\",P5=1),1,\"\")","v":""},null,{"$f":"IF(AND(G5=\"\"),\"\",SUM(K5))","v":""}]
[2,323,4,5,4,4,1,null,null,1,null,null,null,null,null,2,1,107,3,null,null,2,null,null,null,null,"",null,0]
[3,138,3,15,3,3,null,null,null,null,null,null,null,null,null,1,null,null,null,null,null,"",null,null,null,null,1,null,""]
[4,310,4,13,5,5,null,null,1,null,1,null,null,null,null,2,null,null,null,null,null,"",null,null,null,null,"",null,""]
[5,431,5,3,4,3,1,null,null,null,1,null,null,null,null,1,1,20,3,null,null,1,null,null,null,null,"",null,1]
[6,312,4,9,4,4,1,null,null,null,1,null,null,null,null,2,1,62,8,null,null,2,null,null,null,null,"",null,1]
[7,498,5,1,5,4,null,null,1,null,1,null,null,null,null,2,1,128,4,null,null,2,null,null,null,null,"",null,""]
[8,138,3,17,3,3,null,null,null,null,null,null,null,null,null,2,1,135,6,null,null,2,null,null,null,null,"",null,""]
[9,310,4,7,3,3,1,null,null,null,1,null,null,null,null,1,1,115,4,null,null,1,null,null,null,null,"",null,1]
[null,{"$f":"SUM(B5:B13)","v":2767},{"$f":"SUM(C5:C13)","v":36},"UD",{"$f":"SUM(E5:E13)","v":36},{"$f":"SUM(F5:F13)","v":34},{"$f":"SUM(G5:G13)","v":4},{"$f":"SUM(H5:H13)","v":1},{"$f":"SUM(I5:I13)","v":2},{"$f":"IF((A28=27),\"\",(SUM(J5:J13)/SUM(J5:L13))*100)","v":14.285714285714285},{"$f":"IF((A28=27),\"\",(SUM(K5:K13)/SUM(J5:L13))*100)","v":85.714285714285708},{"$f":"IF((A28=27),\"\",(SUM(L5:L13)/SUM(J5:L13))*100)","v":0},{"$f":"SUM(M5:M13)","v":0},{"$f":"SUM(N5:N13)","v":0},{"$f":"SUM(O5:O13)","v":0},{"$f":"SUM(P5:P13)","v":15},{"$f":"SUM(Q5:Q13)","v":6},null,{"$f":"IF(Q14=0,\"\",SUM(S5:S13)/Q14)","v":4.666666666666667},null,null,{"$f":"SUM(V5:V13)","v":10},{"$f":"ColorFunction($E$30,$E$5:$E$13)","v":0},{"$f":"ColorFunction($E$31,$E$5:$E$13)","v":2},{"$f":"ColorFunction($E$32,$E$5:$E$13)","v":2},{"$f":"ColorFunction($E$33,$E$5:$E$13)","v":0},{"$f":"SUM(AA5:AA13)/(9-Q14)*100","v":33.333333333333329},{"$f":"COUNTIF(P5:P13,\">2\")","v":0},{"$f":"IF((G14=0),\"\",SUM(AC5:AC13)/G14*100)","v":75}]
[10,481,5,4,5,5,1,null,null,null,1,null,null,1,null,2,1,12,4,null,null,{"$f":"IF(Q15=0,\"\",P15)","v":2},null,null,null,null,{"$f":"IF(AND(Q15=\"\",P15=1),1,\"\")","v":""},null,{"$f":"IF(AND(G15=\"\"),\"\",SUM(K15))","v":1}]
[11,319,4,16,3,3,null,1,null,null,1,null,null,null,null,1,1,140,5,null,null,1,null,null,null,null,"",null,""]
[12,431,5,2,8,7,1,null,null,null,1,null,null,null,null,3,null,null,null,null,null,"",null,null,null,null,"",null,1]
[13,122,3,18,3,3,null,null,null,null,null,null,null,null,null,2,1,129,7,null,null,2,null,null,null,null,"",null,""]
[14,379,4,6,4,4,1,null,null,null,1,null,null,null,null,2,1,178,10,null,null,2,null,null,null,null,"",null,1]
[15,316,4,8,5,5,1,null,null,null,1,null,null,null,null,2,null,null,null,null,null,"",null,null,null,null,"",null,1]
[16,322,4,14,4,4,null,1,null,null,1,null,null,null,null,2,1,106,6,null,null,2,null,null,null,null,"",null,""]
[17,345,4,10,4,4,1,null,null,null,1,null,null,null,null,2,1,127,1.5,null,null,2,null,null,null,null,"",null,1]
[18,281,4,12,4,4,null,null,1,null,1,null,null,null,null,1,null,null,null,null,null,"",null,null,null,null,1,null,""]
[null,{"$f":"SUM(B15:B23)","v":2996},{"$f":"SUM(C15:C23)","v":37},"IND",{"$f":"SUM(E15:E23)","v":40},{"$f":"SUM(F15:F23)","v":39},{"$f":"SUM(G15:G23)","v":5},{"$f":"SUM(H15:H23)","v":2},{"$f":"SUM(I15:I23)","v":1},{"$f":"IF((A29=27),\"\",(SUM(J15:J23)/SUM(J15:L23))*100)","v":0},{"$f":"IF((A29=27),\"\",(SUM(K15:K23)/SUM(J15:L23))*100)","v":100},{"$f":"IF((A29=27),\"\",(SUM(L15:L23)/SUM(J15:L23))*100)","v":0},{"$f":"SUM(M15:M23)","v":0},{"$f":"SUM(N15:N23)","v":1},{"$f":"SUM(O15:O23)","v":0},{"$f":"SUM(P15:P23)","v":17},{"$f":"SUM(Q15:Q23)","v":6},null,{"$f":"IF(Q24=0,\"\",SUM(S15:S23)/Q24)","v":5.583333333333333},null,null,{"$f":"SUM(V15:V23)","v":11},{"$f":"ColorFunction($E$30,$E$15:$E$23)","v":0},{"$f":"ColorFunction($E$31,$E$15:$E$23)","v":1},{"$f":"ColorFunction($E$32,$E$15:$E$23)","v":1},{"$f":"ColorFunction($E$33,$E$15:$E$23)","v":1},{"$f":"SUM(AA15:AA23)/(9-Q24)*100","v":33.333333333333329},{"$f":"COUNTIF(P15:P23,\">2\")","v":1},{"$f":"IF((G24=0),\"\",SUM(AC15:AC23)/G24*100)","v":100}]
[null,{"$f":"SUM(B24,B14)","v":5763},{"$f":"SUM(C24,C14)","v":73},"TOTAL",{"$f":"IF(E14=0,\"0\",(E24+E14))","v":76},{"$f":"SUM(F14,F24)","v":73},{"$f":"SUM(G24,G14)","v":9},{"$f":"SUM(H24,H14)","v":3},{"$f":"SUM(I24,I14)","v":3},{"$f":"IF((A28=27),\"\",(SUM(J14,J24)/2))","v":7.1428571428571423},{"$f":"IF((A28=27),\"\",(SUM(K14,K24)/2))","v":92.857142857142861},{"$f":"IF((A28=27),\"\",(SUM(L14,L24)/2))","v":0},{"$f":"SUM(M24,M14)","v":0},{"$f":"SUM(N24,N14)","v":1},{"$f":"SUM(O24,O14)","v":0},{"$f":"IF(P14+P24=0,\"\",SUM(P24,P14))","v":32},{"$f":"IF(Q14+Q24=0,\"\",SUM(Q24,Q14))","v":12},null,{"$f":"IF(S14+S24=0,\"\",SUM(S24,S14)/2)","v":5.125},{"$f":"IF(N25=0,\"\",(O25)/N25*100)","v":0},{"$f":"IF(Q25=\"\",\"\",(Q25)/18*100)","v":66.666666666666657},{"$f":"IF(Q25=\"\",\"\",(V14+V24)/Q25)","v":1.75},{"$f":"SUM(W14,W24)","v":0},{"$f":"SUM(X14,X24)","v":3},{"$f":"SUM(Y14,Y24)","v":3},{"$f":"SUM(Z14,Z24)","v":1},{"$f":"SUM(AA14,AA24)/2","v":33.333333333333329},{"$f":"SUM(AB14,AB24)","v":1},{"$f":"SUM(AC24,AC14)/2","v":87.5}]
[]
[null,null,null,null,"Udfyld alle grønne felter med 1 for positiv eller antal i tal"]
[{"$f":"COUNTBLANK(I5:K13)","v":18},null,null,null,null,null,null,null,null,null,null,null,null,null,null,null,null,null,null,null,null,null,"Approach"]
[{"$f":"COUNTBLANK(I15:K23)","v":18},null,null,null,"Udfyld følgende farver:",null,null,null,null,null,null,null,null,null,null,null,null,null,"Holes to par",null,null,null,"Længde (m)","Antal","Afstand (m)"]
[{"$f":"SUM(L5:L23)","v":0},null,null,null,"Eagles",null,null,null,null,null,null,null,null,null,null,null,null,null,"Par 3",{"$f":"SUMIF(C:C,\"3\",E:E)/COUNTIF(C:C,3)","v":3},null,null,"45-70",{"$f":"COUNTIFS(R5:R23,\">=45\",R5:R23,\"<=70\")","v":1},{"$f":"IF(X30=0,\"\",AVERAGEIFS(S5:S23,R5:R23,\">=45\",R5:R23,\"<=70\"))","v":8}]
[null,null,null,null,"Birdies",null,null,null,null,null,null,null,null,null,null,null,null,null,"Par 4",{"$f":"SUMIF(C:C,\"4\",E:E)/COUNTIF(C:C,4)","v":4.0909090909090908},null,null,"71-90",{"$f":"COUNTIFS(R5:R23,\">=71\",R5:R23,\"<=90\")","v":0},{"$f":"IF(X31=0,\"\",AVERAGEIFS(S5:S23,R5:R23,\">=71\",R5:R23,\"<=90\"))","v":""}]
[null,null,null,null,"Bogeys",null,null,null,null,null,null,null,null,null,null,null,null,null,"Par 5",{"$f":"SUMIF(C:C,\"5\",E:E)/COUNTIF(C:C,5)","v":5.5},null,null,"91-115",{"$f":"COUNTIFS(R5:R23,\">=91\",R5:R23,\"<=115\")","v":3},{"$f":"IF(X32=0,\"\",AVERAGEIFS(S5:S23,R5:R23,\">=91\",R5:R23,\"<=115\"))","v":4.333333333333333}]
[null,null,null,null,"Doublebogeys eller værre",null,null,null,null,null,null,null,null,null,null,null,null,null,null,null,null,null,"116-140",{"$f":"COUNTIFS(R5:R23,\">=116\",R5:R23,\"<=140\")","v":5},{"$f":"IF(X33=0,\"\",AVERAGEIFS(S5:S23,R5:R23,\">=116\",R5:R23,\"<=140\"))","v":4.7}]
[null,null,null,null,null,null,null,null,null,null,null,null,null,null,null,null,null,null,"First 4",{"$f":"IF(E25=\"0\",\"\",SUM(E5:E8)-SUM(C5:C8))","v":2},null,null,"141-160",{"$f":"COUNTIFS(R5:R23,\">=141\",R5:R23,\"<=161\")","v":0},{"$f":"IF(X34=0,\"\",AVERAGEIFS(S5:S23,R5:R23,\">=141\",R5:R23,\"<=160\"))","v":""}]
[null,null,null,null,null,null,null,null,null,null,null,null,null,null,null,null,null,null,"Last 4",{"$f":"IF(E25=\"0\",\"\",SUM(E20:E23)-SUM(C20:C23))","v":1},null,null,"161-180",{"$f":"COUNTIFS(R5:R23,\">=161\",R5:R23,\"<=180\")","v":1},{"$f":"IF(X35=0,\"\",AVERAGEIFS(S5:S23,R5:R23,\">=161\",R5:R23,\"<=180\"))","v":10}]
[]
[null,null,null,null,null,null,null,null,null,null,null,null,null,null,null,null,null,null,null,null,null,null,"Putting"]
[null,null,null,null,null,null,null,null,null,null,null,null,null,null,null,null,null,null,null,null,null,null,"Længde (m)","Antal","Holet","Holet (%)"]
[null,null,null,null,null,null,null,null,null,null,null,null,null,null,null,null,null,null,null,null,null,null,"under 1 m",{"$f":"COUNTIFS(S5:S23,\">=0,1\",S5:S23,\"<=0,9\")","v":0},{"$f":"IF(X39=0,\"\",COUNTIFS(P5:P23,\"=1\",S5:S23,\"<1\"))","v":""},{"$f":"IF(X39=0,\"\",Y39/X39*100)","v":""}]
[null,null,null,null,null,null,null,null,null,null,null,null,null,null,null,null,null,null,null,null,null,null,"1 - 1,5",{"$f":"COUNTIFS(S5:S23,\">=1\",S5:S23,\"<=1,5\")","v":1},{"$f":"IF(X40=0,\"\",COUNTIFS(P5:P23,\"=1\",S5:S23,\">=1\",S5:S23,\"<=1,5\"))","v":0},{"$f":"IF(X40=0,\"\",Y40/X40*100)","v":0}]
[null,null,null,null,null,null,null,null,null,null,null,null,null,null,null,null,null,null,null,null,null,null,"1,5 - 3",{"$f":"COUNTIFS(S5:S23,\">=1,6\",S5:S23,\"<=3\")","v":2},{"$f":"IF(X41=0,\"\",COUNTIFS(P5:P23,\"=1\",S5:S23,\">=1,6\",S5:S23,\"<=3\"))","v":1},{"$f":"IF(X41=0,\"\",Y41/X41*100)","v":50}]
[null,null,null,null,null,null,null,null,null,null,null,null,null,null,null,null,null,null,null,null,null,null,"3 - 4,5",{"$f":"COUNTIFS(S5:S23,\">=3,1\",S5:S23,\"<=4,5\")","v":3},{"$f":"IF(X42=0,\"\",COUNTIFS(P5:P23,\"=1\",S5:S23,\">=3,1\",S5:S23,\"<=4,5\"))","v":1},33.333333333333329]
[null,null,null,null,null,null,null,null,null,null,null,null,null,null,null,null,null,null,null,null,null,null,"4,5 - 6",{"$f":"COUNTIFS(S5:S23,\">=4,6\",S5:S23,\"<=6\")","v":4},{"$f":"IF(X43=0,\"\",COUNTIFS(P5:P23,\"=1\",S5:S23,\">=4,6\",S5:S23,\"<=6\"))","v":1},25]
[null,null,null,null,null,null,null,null,null,null,null,null,null,null,null,null,null,null,null,null,null,null,"over 6 meter",{"$f":"COUNTIFS(S5:S23,\">6\")","v":3},{"$f":"IF(X44=0,\"\",COUNTIFS(P5:P23,\"=1\",S5:S23,\">6\"))","v":0},0]

{"sheet":"Runde 9","index":11,"n_rows":44,"n_cols":29,"rows_kept":44,"cut":false,"hidden":false,"merged":[]}
["Korsør Golf Klub - 18 huller - Gul tee",null,null,null,null,null,null,null,null,{"$f":"IF(E25=\"0\",\"0\",\"1\")","v":"1"},"Dato:","2010-06-15",null,"Handicap:",4.3,null,"ATS:",3,null,"Vejr:","Sol, 15 grader, frisk vind",null,"Turnering:","Tirsdagsklub"]
[]
[null,null,null,null,null,null,null,"Tee shot",null,null,"Fairway hits i %",null,null,"Bunker",null,null,null,"Approach shots"]
["Hul","Gul tee","Par","HCP","Score","Netto","Driver","Wood","Jern","Venstre","Midt","Højre","FB","GB","SS","Putts","GIR","Dist. to pin (m)","Dist. to hole (m)","% SS","% GIR","Putts/GIR","Eagles","Birdies","Bogeys","Værre","% Scramble","3+ Putts","% Driver/Fairwayhits"]
[1,307,4,11,4,4,null,1,null,null,1,null,null,null,null,1,null,null,null,null,null,{"$f":"IF(Q5=0,\"\",P5)","v":""},null,null,null,null,{"$f":"IF(AND(Q5=\"\",P5=1),1,\"\")","v":1},null,{"$f":"IF(AND(G5=\"\"),\"\",SUM(K5))","v":""}]
[2,323,4,5,3,3,1,null,null,null,1,null,null,null,null,1,1,115,0.2,null,null,1,null,null,null,null,"",null,1]
[3,138,3,15,4,4,null,null,null,null,null,null,null,null,null,3,1,138,5,null,null,3,null,null,null,null,"",null,""]
[4,310,4,13,4,4,null,null,1,null,1,null,null,null,null,2,1,135,5,null,null,2,null,null,null,null,"",null,""]
[5,431,5,3,5,4,1,null,null,null,1,null,null,null,null,2,1,null,null,null,null,2,null,null,null,null,"",null,1]
[6,312,4,9,4,4,1,null,null,null,1,null,null,null,null,1,null,null,null,null,null,"",null,null,null,null,1,null,1]
[7,498,5,1,5,4,null,null,1,null,1,null,null,null,null,2,1,152,7,null,null,2,null,null,null,null,"",null,""]
[8,138,3,17,4,4,null,null,null,null,null,null,null,null,null,2,null,null,null,null,null,"",null,null,null,null,"",null,""]
[9,310,4,7,4,4,null,1,null,null,1,null,null,null,null,1,null,null,null,null,null,"",null,null,null,null,1,null,""]
[null,{"$f":"SUM(B5:B13)","v":2767},{"$f":"SUM(C5:C13)","v":36},"UD",{"$f":"SUM(E5:E13)","v":37},{"$f":"SUM(F5:F13)","v":35},{"$f":"SUM(G5:G13)","v":3},{"$f":"SUM(H5:H13)","v":2},{"$f":"SUM(I5:I13)","v":2},{"$f":"IF((A28=27),\"\",(SUM(J5:J13)/SUM(J5:L13))*100)","v":0},{"$f":"IF((A28=27),\"\",(SUM(K5:K13)/SUM(J5:L13))*100)","v":100},{"$f":"IF((A28=27),\"\",(SUM(L5:L13)/SUM(J5:L13))*100)","v":0},{"$f":"SUM(M5:M13)","v":0},{"$f":"SUM(N5:N13)","v":0},{"$f":"SUM(O5:O13)","v":0},{"$f":"SUM(P5:P13)","v":15},{"$f":"SUM(Q5:Q13)","v":5},null,{"$f":"IF(Q14=0,\"\",SUM(S5:S13)/Q14)","v":3.44},null,null,{"$f":"SUM(V5:V13)","v":10},{"$f":"ColorFunction($E$30,$E$5:$E$13)","v":0},{"$f":"ColorFunction($E$31,$E$5:$E$13)","v":1},{"$f":"ColorFunction($E$32,$E$5:$E$13)","v":2},{"$f":"ColorFunction($E$33,$E$5:$E$13)","v":0},{"$f":"SUM(AA5:AA13)/(9-Q14)*100","v":75},{"$f":"COUNTIF(P5:P13,\">2\")","v":1},{"$f":"IF((G14=0),\"\",SUM(AC5:AC13)/G14*100)","v":100}]
[10,481,5,4,5,5,1,null,null,null,1,null,null,null,null,2,1,95,6,null,null,{"$f":"IF(Q15=0,\"\",P15)","v":2},null,null,null,null,{"$f":"IF(AND(Q15=\"\",P15=1),1,\"\")","v":""},null,{"$f":"IF(AND(G15=\"\"),\"\",SUM(K15))","v":1}]
[11,319,4,16,5,5,null,1,null,null,1,null,null,null,null,2,null,null,null,null,null,"",null,null,null,null,"",null,""]
[12,431,5,2,5,4,1,null,null,null,null,1,null,null,null,1,null,null,null,null,null,"",null,null,null,null,1,null,0]
[13,122,3,18,3,3,null,null,null,null,null,null,null,null,null,2,1,118,6,null,null,2,null,null,null,null,"",null,""]
[14,379,4,6,5,5,1,null,null,null,1,null,null,null,null,2,null,null,null,null,null,"",null,null,null,null,"",null,1]
[15,316,4,8,4,4,1,null,null,1,null,null,null,null,null,2,1,130,4,null,null,2,null,null,null,null,"",null,0]
[16,322,4,14,4,4,1,null,null,null,1,null,null,null,null,2,1,96,7,null,null,2,null,null,null,null,"",null,1]
[17,345,4,10,4,4,1,null,null,null,1,null,null,null,null,1,null,null,null,null,null,"",null,null,null,null,1,null,1]
[18,281,4,12,4,4,null,1,null,null,1,null,null,null,null,2,1,85,6,null,null,2,null,null,null,null,"",null,""]
[null,{"$f":"SUM(B15:B23)","v":2996},{"$f":"SUM(C15:C23)","v":37},"IND",{"$f":"SUM(E15:E23)","v":39},{"$f":"SUM(F15:F23)","v":38},{"$f":"SUM(G15:G23)","v":6},{"$f":"SUM(H15:H23)","v":2},{"$f":"SUM(I15:I23)","v":0},{"$f":"IF((A29=27),\"\",(SUM(J15:J23)/SUM(J15:L23))*100)","v":12.5},{"$f":"IF((A29=27),\"\",(SUM(K15:K23)/SUM(J15:L23))*100)","v":75},{"$f":"IF((A29=27),\"\",(SUM(L15:L23)/SUM(J15:L23))*100)","v":12.5},{"$f":"SUM(M15:M23)","v":0},{"$f":"SUM(N15:N23)","v":0},{"$f":"SUM(O15:O23)","v":0},{"$f":"SUM(P15:P23)","v":16},{"$f":"SUM(Q15:Q23)","v":5},null,{"$f":"IF(Q24=0,\"\",SUM(S15:S23)/Q24)","v":5.8},null,null,{"$f":"SUM(V15:V23)","v":10},{"$f":"ColorFunction($E$30,$E$15:$E$23)","v":0},{"$f":"ColorFunction($E$31,$E$15:$E$23)","v":0},{"$f":"ColorFunction($E$32,$E$15:$E$23)","v":2},{"$f":"ColorFunction($E$33,$E$15:$E$23)","v":0},{"$f":"SUM(AA15:AA23)/(9-Q24)*100","v":50},{"$f":"COUNTIF(P15:P23,\">2\")","v":0},{"$f":"IF((G24=0),\"\",SUM(AC15:AC23)/G24*100)","v":66.666666666666657}]
[null,{"$f":"SUM(B24,B14)","v":5763},{"$f":"SUM(C24,C14)","v":73},"TOTAL",{"$f":"IF(E14=0,\"0\",(E24+E14))","v":76},{"$f":"SUM(F14,F24)","v":73},{"$f":"SUM(G24,G14)","v":9},{"$f":"SUM(H24,H14)","v":4},{"$f":"SUM(I24,I14)","v":2},{"$f":"IF((A28=27),\"\",(SUM(J14,J24)/2))","v":6.25},{"$f":"IF((A28=27),\"\",(SUM(K14,K24)/2))","v":87.5},{"$f":"IF((A28=27),\"\",(SUM(L14,L24)/2))","v":6.25},{"$f":"SUM(M24,M14)","v":0},{"$f":"SUM(N24,N14)","v":0},{"$f":"SUM(O24,O14)","v":0},{"$f":"IF(P14+P24=0,\"\",SUM(P24,P14))","v":31},{"$f":"IF(Q14+Q24=0,\"\",SUM(Q24,Q14))","v":10},null,{"$f":"IF(S14+S24=0,\"\",SUM(S24,S14)/2)","v":4.62},{"$f":"IF(N25=0,\"\",(O25)/N25*100)","v":""},{"$f":"IF(Q25=\"\",\"\",(Q25)/18*100)","v":55.555555555555557},{"$f":"IF(Q25=\"\",\"\",(V14+V24)/Q25)","v":2},{"$f":"SUM(W14,W24)","v":0},{"$f":"SUM(X14,X24)","v":1},{"$f":"SUM(Y14,Y24)","v":4},{"$f":"SUM(Z14,Z24)","v":0},{"$f":"SUM(AA14,AA24)/2","v":62.5},{"$f":"SUM(AB14,AB24)","v":1},{"$f":"SUM(AC24,AC14)/2","v":83.333333333333329}]
[]
[null,null,null,null,"Udfyld alle grønne felter med 1 for positiv eller antal i tal"]
[{"$f":"COUNTBLANK(I5:K13)","v":18},null,null,null,null,null,null,null,null,null,null,null,null,null,null,null,null,null,null,null,null,null,"Approach"]
[{"$f":"COUNTBLANK(I15:K23)","v":20},null,null,null,"Udfyld følgende farver:",null,null,null,null,null,null,null,null,null,null,null,null,null,"Holes to par",null,null,null,"Længde (m)","Antal","Afstand (m)"]
[{"$f":"SUM(L5:L23)","v":1},null,null,null,"Eagles",null,null,null,null,null,null,null,null,null,null,null,null,null,"Par 3",{"$f":"SUMIF(C:C,\"3\",E:E)/COUNTIF(C:C,3)","v":3.6666666666666665},null,null,"45-70",{"$f":"COUNTIFS(R5:R23,\">=45\",R5:R23,\"<=70\")","v":0},{"$f":"IF(X30=0,\"\",AVERAGEIFS(S5:S23,R5:R23,\">=45\",R5:R23,\"<=70\"))","v":""}]
[null,null,null,null,"Birdies",null,null,null,null,null,null,null,null,null,null,null,null,null,"Par 4",{"$f":"SUMIF(C:C,\"4\",E:E)/COUNTIF(C:C,4)","v":4.0909090909090908},null,null,"71-90",{"$f":"COUNTIFS(R5:R23,\">=71\",R5:R23,\"<=90\")","v":1},{"$f":"IF(X31=0,\"\",AVERAGEIFS(S5:S23,R5:R23,\">=71\",R5:R23,\"<=90\"))","v":6}]
[null,null,null,null,"Bogeys",null,null,null,null,null,null,null,null,null,null,null,null,null,"Par 5",{"$f":"SUMIF(C:C,\"5\",E:E)/COUNTIF(C:C,5)","v":5},null,null,"91-115",{"$f":"COUNTIFS(R5:R23,\">=91\",R5:R23,\"<=115\")","v":3},{"$f":"IF(X32=0,\"\",AVERAGEIFS(S5:S23,R5:R23,\">=91\",R5:R23,\"<=115\"))","v":4.3999999999999995}]
[null,null,null,null,"Doublebogeys eller værre",null,null,null,null,null,null,null,null,null,null,null,null,null,null,null,null,null,"116-140",{"$f":"COUNTIFS(R5:R23,\">=116\",R5:R23,\"<=140\")","v":4},{"$f":"IF(X33=0,\"\",AVERAGEIFS(S5:S23,R5:R23,\">=116\",R5:R23,\"<=140\"))","v":5}]
[null,null,null,null,null,null,null,null,null,null,null,null,null,null,null,null,null,null,"First 4",{"$f":"IF(E25=\"0\",\"\",SUM(E5:E8)-SUM(C5:C8))","v":0},null,null,"141-160",{"$f":"COUNTIFS(R5:R23,\">=141\",R5:R23,\"<=161\")","v":1},{"$f":"IF(X34=0,\"\",AVERAGEIFS(S5:S23,R5:R23,\">=141\",R5:R23,\"<=160\"))","v":7}]
[null,null,null,null,null,null,null,null,null,null,null,null,null,null,null,null,null,null,"Last 4",{"$f":"IF(E25=\"0\",\"\",SUM(E20:E23)-SUM(C20:C23))","v":0},null,null,"161-180",{"$f":"COUNTIFS(R5:R23,\">=161\",R5:R23,\"<=180\")","v":0},{"$f":"IF(X35=0,\"\",AVERAGEIFS(S5:S23,R5:R23,\">=161\",R5:R23,\"<=180\"))","v":""}]
[]
[null,null,null,null,null,null,null,null,null,null,null,null,null,null,null,null,null,null,null,null,null,null,"Putting"]
[null,null,null,null,null,null,null,null,null,null,null,null,null,null,null,null,null,null,null,null,null,null,"Længde (m)","Antal","Holet","Holet (%)"]
[null,null,null,null,null,null,null,null,null,null,null,null,null,null,null,null,null,null,null,null,null,null,"under 1 m",{"$f":"COUNTIFS(S5:S23,\">=0,1\",S5:S23,\"<=0,9\")","v":1},{"$f":"IF(X39=0,\"\",COUNTIFS(P5:P23,\"=1\",S5:S23,\"<1\"))","v":1},{"$f":"IF(X39=0,\"\",Y39/X39*100)","v":100}]
[null,null,null,null,null,null,null,null,null,null,null,null,null,null,null,null,null,null,null,null,null,null,"1 - 1,5",{"$f":"COUNTIFS(S5:S23,\">=1\",S5:S23,\"<=1,5\")","v":0},{"$f":"IF(X40=0,\"\",COUNTIFS(P5:P23,\"=1\",S5:S23,\">=1\",S5:S23,\"<=1,5\"))","v":""},{"$f":"IF(X40=0,\"\",Y40/X40*100)","v":""}]
[null,null,null,null,null,null,null,null,null,null,null,null,null,null,null,null,null,null,null,null,null,null,"1,5 - 3",{"$f":"COUNTIFS(S5:S23,\">=1,6\",S5:S23,\"<=3\")","v":0},{"$f":"IF(X41=0,\"\",COUNTIFS(P5:P23,\"=1\",S5:S23,\">=1,6\",S5:S23,\"<=3\"))","v":""},{"$f":"IF(X41=0,\"\",Y41/X41*100)","v":""}]
[null,null,null,null,null,null,null,null,null,null,null,null,null,null,null,null,null,null,null,null,null,null,"3 - 4,5",{"$f":"COUNTIFS(S5:S23,\">=3,1\",S5:S23,\"<=4,5\")","v":2},{"$f":"IF(X42=0,\"\",COUNTIFS(P5:P23,\"=1\",S5:S23,\">=3,1\",S5:S23,\"<=4,5\"))","v":0},0]
[null,null,null,null,null,null,null,null,null,null,null,null,null,null,null,null,null,null,null,null,null,null,"4,5 - 6",{"$f":"COUNTIFS(S5:S23,\">=4,6\",S5:S23,\"<=6\")","v":5},{"$f":"IF(X43=0,\"\",COUNTIFS(P5:P23,\"=1\",S5:S23,\">=4,6\",S5:S23,\"<=6\"))","v":0},0]
[null,null,null,null,null,null,null,null,null,null,null,null,null,null,null,null,null,null,null,null,null,null,"over 6 meter",{"$f":"COUNTIFS(S5:S23,\">6\")","v":2},{"$f":"IF(X44=0,\"\",COUNTIFS(P5:P23,\"=1\",S5:S23,\">6\"))","v":0},0]

{"sheet":"Runde 10","index":12,"n_rows":44,"n_cols":29,"rows_kept":44,"cut":false,"hidden":false,"merged":[]}
["Korsør Golf Klub - 18 huller - Gul tee",null,null,null,null,null,null,null,null,{"$f":"IF(E25=\"0\",\"0\",\"1\")","v":"1"},"Dato:","2010-06-22",null,"Handicap:",4.3,null,"ATS:",3,null,"Vejr:","Skyet, 18 grader, svag vind",null,"Turnering:","Tirsdagsklub"]
[]
[null,null,null,null,null,null,null,"Tee shot",null,null,"Fairway hits i %",null,null,"Bunker",null,null,null,"Approach shots"]
["Hul","Gul tee","Par","HCP","Score","Netto","Driver","Wood","Jern","Venstre","Midt","Højre","FB","GB","SS","Putts","GIR","Dist. to pin (m)","Dist. to hole (m)","% SS","% GIR","Putts/GIR","Eagles","Birdies","Bogeys","Værre","% Scramble","3+ Putts","% Driver/Fairwayhits"]
[1,307,4,11,4,4,null,1,null,null,1,null,null,null,null,2,1,53,4,null,null,{"$f":"IF(Q5=0,\"\",P5)","v":2},null,null,null,null,{"$f":"IF(AND(Q5=\"\",P5=1),1,\"\")","v":""},null,{"$f":"IF(AND(G5=\"\"),\"\",SUM(K5))","v":""}]
[2,323,4,5,4,4,null,1,null,null,1,null,null,null,null,2,1,114,6,null,null,2,null,null,null,null,"",null,""]
[3,138,3,15,3,3,null,null,null,null,null,null,null,null,null,1,null,null,null,null,null,"",null,null,null,null,1,null,""]
[4,310,4,13,4,4,null,1,null,null,1,null,null,null,null,2,1,115,5,null,null,2,null,null,null,null,"",null,""]
[5,431,5,3,5,4,1,null,null,null,1,null,null,null,null,2,1,15,3,null,null,2,null,null,null,null,"",null,1]
[6,312,4,9,4,4,null,1,null,null,1,null,null,null,null,2,1,112,5,null,null,2,null,null,null,null,"",null,""]
[7,498,5,1,5,4,null,null,1,null,null,1,null,null,null,1,null,null,null,null,null,"",null,null,null,null,1,null,""]
[8,138,3,17,6,6,null,null,null,null,null,null,null,1,null,2,null,null,null,null,null,"",null,null,null,null,"",null,""]
[9,310,4,7,3,3,null,1,null,1,null,null,null,null,null,1,1,75,3,null,null,1,null,null,null,null,"",null,""]
[null,{"$f":"SUM(B5:B13)","v":2767},{"$f":"SUM(C5:C13)","v":36},"UD",{"$f":"SUM(E5:E13)","v":38},{"$f":"SUM(F5:F13)","v":36},{"$f":"SUM(G5:G13)","v":1},{"$f":"SUM(H5:H13)","v":5},{"$f":"SUM(I5:I13)","v":1},{"$f":"IF((A28=27),\"\",(SUM(J5:J13)/SUM(J5:L13))*100)","v":14.285714285714285},{"$f":"IF((A28=27),\"\",(SUM(K5:K13)/SUM(J5:L13))*100)","v":71.428571428571431},{"$f":"IF((A28=27),\"\",(SUM(L5:L13)/SUM(J5:L13))*100)","v":14.285714285714285},{"$f":"SUM(M5:M13)","v":0},{"$f":"SUM(N5:N13)","v":1},{"$f":"SUM(O5:O13)","v":0},{"$f":"SUM(P5:P13)","v":15},{"$f":"SUM(Q5:Q13)","v":6},null,{"$f":"IF(Q14=0,0,SUM(S5:S13)/Q14)","v":4.333333333333333},null,null,{"$f":"SUM(V5:V13)","v":11},{"$f":"ColorFunction($E$30,$E$5:$E$13)","v":0},{"$f":"ColorFunction($E$31,$E$5:$E$13)","v":1},{"$f":"ColorFunction($E$32,$E$5:$E$13)","v":0},{"$f":"ColorFunction($E$33,$E$5:$E$13)","v":1},{"$f":"SUM(AA5:AA13)/(9-Q14)*100","v":66.666666666666657},{"$f":"COUNTIF(P5:P13,\">2\")","v":0},{"$f":"IF((G14=0),\"\",SUM(AC5:AC13)/G14*100)","v":100}]
[10,481,5,4,4,4,1,null,null,null,1,null,null,1,1,1,1,20,3,null,null,{"$f":"IF(Q15=0,\"\",P15)","v":1},null,null,null,null,{"$f":"IF(AND(Q15=\"\",P15=1),1,\"\")","v":""},null,{"$f":"IF(AND(G15=\"\"),\"\",SUM(K15))","v":1}]
[11,319,4,16,4,4,null,1,null,null,1,null,null,null,null,2,1,124,6,null,null,2,null,null,null,null,"",null,""]
[12,431,5,2,5,4,1,null,null,null,null,1,null,null,null,2,1,98,8,null,null,2,null,null,null,null,"",null,0]
[13,122,3,18,3,3,null,null,null,null,null,null,null,null,null,2,1,105,6,null,null,2,null,null,null,null,"",null,""]
[14,379,4,6,4,4,1,null,null,null,1,null,null,null,null,2,1,137,5,null,null,2,null,null,null,null,"",null,1]
[15,316,4,8,4,4,1,null,null,1,null,null,null,null,null,1,null,null,null,null,null,"",null,null,null,null,1,null,0]
[16,322,4,14,4,4,null,1,null,null,1,null,null,null,null,1,null,null,null,null,null,"",null,null,null,null,1,null,""]
[17,345,4,10,4,4,1,null,null,null,1,null,null,null,null,2,1,125,4,null,null,2,null,null,null,null,"",null,1]
[18,281,4,12,4,4,null,1,null,null,1,null,null,null,null,2,1,75,4,null,null,2,null,null,null,null,"",null,""]
[null,{"$f":"SUM(B15:B23)","v":2996},{"$f":"SUM(C15:C23)","v":37},"IND",{"$f":"SUM(E15:E23)","v":36},{"$f":"SUM(F15:F23)","v":35},{"$f":"SUM(G15:G23)","v":5},{"$f":"SUM(H15:H23)","v":3},{"$f":"SUM(I15:I23)","v":0},{"$f":"IF((A29=27),\"\",(SUM(J15:J23)/SUM(J15:L23))*100)","v":12.5},{"$f":"IF((A29=27),\"\",(SUM(K15:K23)/SUM(J15:L23))*100)","v":75},{"$f":"IF((A29=27),\"\",(SUM(L15:L23)/SUM(J15:L23))*100)","v":12.5},{"$f":"SUM(M15:M23)","v":0},{"$f":"SUM(N15:N23)","v":1},{"$f":"SUM(O15:O23)","v":1},{"$f":"SUM(P15:P23)","v":15},{"$f":"SUM(Q15:Q23)","v":7},null,{"$f":"IF(Q24=0,0,SUM(S15:S23)/Q24)","v":5.1428571428571432},null,null,{"$f":"SUM(V15:V23)","v":13},{"$f":"ColorFunction($E$30,$E$15:$E$23)","v":0},{"$f":"ColorFunction($E$31,$E$15:$E$23)","v":1},{"$f":"ColorFunction($E$32,$E$15:$E$23)","v":0},{"$f":"ColorFunction($E$33,$E$15:$E$23)","v":0},{"$f":"SUM(AA15:AA23)/(9-Q24)*100","v":100},{"$f":"COUNTIF(P15:P23,\">2\")","v":0},{"$f":"IF((G24=0),\"\",SUM(AC15:AC23)/G24*100)","v":60}]
[null,{"$f":"SUM(B24,B14)","v":5763},{"$f":"SUM(C24,C14)","v":73},"TOTAL",{"$f":"IF(E14=0,\"0\",(E24+E14))","v":74},{"$f":"SUM(F14,F24)","v":71},{"$f":"SUM(G24,G14)","v":6},{"$f":"SUM(H24,H14)","v":8},{"$f":"SUM(I24,I14)","v":1},{"$f":"IF((A28=27),\"\",(SUM(J14,J24)/2))","v":13.392857142857142},{"$f":"IF((A28=27),\"\",(SUM(K14,K24)/2))","v":73.214285714285722},{"$f":"IF((A28=27),\"\",(SUM(L14,L24)/2))","v":13.392857142857142},{"$f":"SUM(M24,M14)","v":0},{"$f":"SUM(N24,N14)","v":2},{"$f":"SUM(O24,O14)","v":1},{"$f":"IF(P14+P24=0,\"\",SUM(P24,P14))","v":30},{"$f":"IF(Q14+Q24=0,\"\",SUM(Q24,Q14))","v":13},null,{"$f":"IF(S14+S24=0,\"\",SUM(S24,S14)/2)","v":4.7380952380952381},{"$f":"IF(N25=0,\"\",(O25)/N25*100)","v":50},{"$f":"IF(Q25=\"\",\"\",(Q25)/18*100)","v":72.222222222222214},{"$f":"IF(Q25=\"\",\"\",(V14+V24)/Q25)","v":1.8461538461538463},{"$f":"SUM(W14,W24)","v":0},{"$f":"SUM(X14,X24)","v":2},{"$f":"SUM(Y14,Y24)","v":0},{"$f":"SUM(Z14,Z24)","v":1},{"$f":"SUM(AA14,AA24)/2","v":83.333333333333329},{"$f":"SUM(AB14,AB24)","v":0},{"$f":"SUM(AC24,AC14)/2","v":80}]
[]
[null,null,null,null,"Udfyld alle grønne felter med 1 for positiv eller antal i tal"]
[{"$f":"COUNTBLANK(I5:K13)","v":20},null,null,null,null,null,null,null,null,null,null,null,null,null,null,null,null,null,null,null,null,null,"Approach"]
[{"$f":"COUNTBLANK(I15:K23)","v":20},null,null,null,"Udfyld følgende farver:",null,null,null,null,null,null,null,null,null,null,null,null,null,"Holes to par",null,null,null,"Længde (m)","Antal","Afstand (m)"]
[{"$f":"SUM(L5:L23)","v":16.285714285714285},null,null,null,"Eagles",null,null,null,null,null,null,null,null,null,null,null,null,null,"Par 3",{"$f":"SUMIF(C:C,\"3\",E:E)/COUNTIF(C:C,3)","v":4},null,null,"45-70",{"$f":"COUNTIFS(R5:R23,\">=45\",R5:R23,\"<=70\")","v":1},{"$f":"IF(X30=0,\"\",AVERAGEIFS(S5:S23,R5:R23,\">=45\",R5:R23,\"<=70\"))","v":4}]
[null,null,null,null,"Birdies",null,null,null,null,null,null,null,null,null,null,null,null,null,"Par 4",{"$f":"SUMIF(C:C,\"4\",E:E)/COUNTIF(C:C,4)","v":3.9090909090909092},null,null,"71-90",{"$f":"COUNTIFS(R5:R23,\">=71\",R5:R23,\"<=90\")","v":2},{"$f":"IF(X31=0,\"\",AVERAGEIFS(S5:S23,R5:R23,\">=71\",R5:R23,\"<=90\"))","v":3.5}]
[null,null,null,null,"Bogeys",null,null,null,null,null,null,null,null,null,null,null,null,null,"Par 5",{"$f":"SUMIF(C:C,\"5\",E:E)/COUNTIF(C:C,5)","v":4.75},null,null,"91-115",{"$f":"COUNTIFS(R5:R23,\">=91\",R5:R23,\"<=115\")","v":5},{"$f":"IF(X32=0,\"\",AVERAGEIFS(S5:S23,R5:R23,\">=91\",R5:R23,\"<=115\"))","v":6}]
[null,null,null,null,"Doublebogeys eller værre",null,null,null,null,null,null,null,null,null,null,null,null,null,null,null,null,null,"116-140",{"$f":"COUNTIFS(R5:R23,\">=116\",R5:R23,\"<=140\")","v":3},{"$f":"IF(X33=0,\"\",AVERAGEIFS(S5:S23,R5:R23,\">=116\",R5:R23,\"<=140\"))","v":5}]
[null,null,null,null,null,null,null,null,null,null,null,null,null,null,null,null,null,null,"First 4",{"$f":"IF(E25=\"0\",\"\",SUM(E5:E8)-SUM(C5:C8))","v":0},null,null,"141-160",{"$f":"COUNTIFS(R5:R23,\">=141\",R5:R23,\"<=161\")","v":0},{"$f":"IF(X34=0,\"\",AVERAGEIFS(S5:S23,R5:R23,\">=141\",R5:R23,\"<=160\"))","v":""}]
[null,null,null,null,null,null,null,null,null,null,null,null,null,null,null,null,null,null,"Last 4",{"$f":"IF(E25=\"0\",\"\",SUM(E20:E23)-SUM(C20:C23))","v":0},null,null,"161-180",{"$f":"COUNTIFS(R5:R23,\">=161\",R5:R23,\"<=180\")","v":0},{"$f":"IF(X35=0,\"\",AVERAGEIFS(S5:S23,R5:R23,\">=161\",R5:R23,\"<=180\"))","v":""}]
[]
[null,null,null,null,null,null,null,null,null,null,null,null,null,null,null,null,null,null,null,null,null,null,"Putting"]
[null,null,null,null,null,null,null,null,null,null,null,null,null,null,null,null,null,null,null,null,null,null,"Længde (m)","Antal","Holet","Holet (%)"]
[null,null,null,null,null,null,null,null,null,null,null,null,null,null,null,null,null,null,null,null,null,null,"under 1 m",{"$f":"COUNTIFS(S5:S23,\">=0,1\",S5:S23,\"<=0,9\")","v":0},{"$f":"IF(X39=0,\"\",COUNTIFS(P5:P23,\"=1\",S5:S23,\"<1\"))","v":""},{"$f":"IF(X39=0,\"\",Y39/X39*100)","v":""}]
[null,null,null,null,null,null,null,null,null,null,null,null,null,null,null,null,null,null,null,null,null,null,"1 - 1,5",{"$f":"COUNTIFS(S5:S23,\">=1\",S5:S23,\"<=1,5\")","v":0},{"$f":"IF(X40=0,\"\",COUNTIFS(P5:P23,\"=1\",S5:S23,\">=1\",S5:S23,\"<=1,5\"))","v":""},{"$f":"IF(X40=0,\"\",Y40/X40*100)","v":""}]
[null,null,null,null,null,null,null,null,null,null,null,null,null,null,null,null,null,null,null,null,null,null,"1,5 - 3",{"$f":"COUNTIFS(S5:S23,\">=1,6\",S5:S23,\"<=3\")","v":3},{"$f":"IF(X41=0,\"\",COUNTIFS(P5:P23,\"=1\",S5:S23,\">=1,6\",S5:S23,\"<=3\"))","v":2},{"$f":"IF(X41=0,\"\",Y41/X41*100)","v":66.666666666666657}]
[null,null,null,null,null,null,null,null,null,null,null,null,null,null,null,null,null,null,null,null,null,null,"3 - 4,5",{"$f":"COUNTIFS(S5:S23,\">=3,1\",S5:S23,\"<=4,5\")","v":4},{"$f":"IF(X42=0,\"\",COUNTIFS(P5:P23,\"=1\",S5:S23,\">=3,1\",S5:S23,\"<=4,5\"))","v":0},0]
[null,null,null,null,null,null,null,null,null,null,null,null,null,null,null,null,null,null,null,null,null,null,"4,5 - 6",{"$f":"COUNTIFS(S5:S23,\">=4,6\",S5:S23,\"<=6\")","v":6},{"$f":"IF(X43=0,\"\",COUNTIFS(P5:P23,\"=1\",S5:S23,\">=4,6\",S5:S23,\"<=6\"))","v":0},0]
[null,null,null,null,null,null,null,null,null,null,null,null,null,null,null,null,null,null,null,null,null,null,"over 6 meter",{"$f":"COUNTIFS(S5:S23,\">6\")","v":1},{"$f":"IF(X44=0,\"\",COUNTIFS(P5:P23,\"=1\",S5:S23,\">6\"))","v":0},0]

{"sheet":"Runde 11","index":13,"n_rows":44,"n_cols":29,"rows_kept":44,"cut":false,"hidden":false,"merged":[]}
["Korsør Golf Klub - 18 huller - Gul tee",null,null,null,null,null,null,null,null,{"$f":"IF(E25=\"0\",\"0\",\"1\")","v":"1"},"Dato:","2010-06-29",null,"Handicap:",4.3,null,"ATS:",3,null,"Vejr:","Solrigt, 25 grader, jævn vind",null,"Turnering:","Tirsdagsklub"]
[]
[null,null,null,null,null,null,null,"Tee shot",null,null,"Fairway hits i %",null,null,"Bunker",null,null,null,"Approach shots"]
["Hul","Gul tee","Par","HCP","Score","Netto","Driver","Wood","Jern","Venstre","Midt","Højre","FB","GB","SS","Putts","GIR","Dist. to pin (m)","Dist. to hole (m)","% SS","% GIR","Putts/GIR","Eagles","Birdies","Bogeys","Værre","% Scramble","3+ Putts","% Driver/Fairwayhits"]
[1,307,4,11,6,6,1,null,null,1,null,null,null,null,null,2,null,null,null,null,null,{"$f":"IF(Q5=0,\"\",P5)","v":""},null,null,null,null,{"$f":"IF(AND(Q5=\"\",P5=1),1,\"\")","v":""},null,{"$f":"IF(AND(G5=\"\"),\"\",SUM(K5))","v":0}]
[2,323,4,5,3,3,1,null,null,1,null,null,null,null,null,1,1,104,0.3,null,null,1,null,null,null,null,"",null,0]
[3,138,3,15,6,6,null,null,null,null,null,null,null,null,null,2,null,null,null,null,null,"",null,null,null,null,"",null,""]
[4,310,4,13,4,4,null,1,null,null,1,null,null,null,null,1,null,null,null,null,null,"",null,null,null,null,1,null,""]
[5,431,5,3,6,5,1,null,null,null,1,null,null,null,null,2,null,null,null,null,null,"",null,null,null,null,"",null,1]
[6,312,4,9,3,3,1,null,null,null,1,null,null,null,null,1,1,35,1.5,null,null,1,null,null,null,null,"",null,1]
[7,498,5,1,5,4,null,null,1,null,1,null,null,null,null,2,1,88,6,null,null,2,null,null,null,null,"",null,""]
[8,138,3,17,4,4,null,null,null,null,null,null,null,1,null,2,null,null,null,null,null,"",null,null,null,null,"",null,""]
[9,310,4,7,5,5,null,1,null,1,null,null,null,null,null,2,null,null,null,null,null,"",null,null,null,null,"",null,""]
[null,{"$f":"SUM(B5:B13)","v":2767},{"$f":"SUM(C5:C13)","v":36},"UD",{"$f":"SUM(E5:E13)","v":42},{"$f":"SUM(F5:F13)","v":40},{"$f":"SUM(G5:G13)","v":4},{"$f":"SUM(H5:H13)","v":2},{"$f":"SUM(I5:I13)","v":1},{"$f":"IF((A28=27),\"\",(SUM(J5:J13)/SUM(J5:L13))*100)","v":42.857142857142854},{"$f":"IF((A28=27),\"\",(SUM(K5:K13)/SUM(J5:L13))*100)","v":57.142857142857139},{"$f":"IF((A28=27),\"\",(SUM(L5:L13)/SUM(J5:L13))*100)","v":0},{"$f":"SUM(M5:M13)","v":0},{"$f":"SUM(N5:N13)","v":1},{"$f":"SUM(O5:O13)","v":0},{"$f":"SUM(P5:P13)","v":15},{"$f":"SUM(Q5:Q13)","v":3},null,{"$f":"IF(Q14=0,0,SUM(S5:S13)/Q14)","v":2.6},null,null,{"$f":"SUM(V5:V13)","v":4},{"$f":"ColorFunction($E$30,$E$5:$E$13)","v":0},{"$f":"ColorFunction($E$31,$E$5:$E$13)","v":2},{"$f":"ColorFunction($E$32,$E$5:$E$13)","v":3},{"$f":"ColorFunction($E$33,$E$5:$E$13)","v":2},{"$f":"SUM(AA5:AA13)/(9-Q14)*100","v":16.666666666666664},{"$f":"COUNTIF(P5:P13,\">2\")","v":0},{"$f":"IF((G14=0),\"\",SUM(AC5:AC13)/G14*100)","v":50}]
[10,481,5,4,5,5,1,null,null,null,null,1,null,null,null,2,1,42,3,null,null,{"$f":"IF(Q15=0,\"\",P15)","v":2},null,null,null,null,{"$f":"IF(AND(Q15=\"\",P15=1),1,\"\")","v":""},null,{"$f":"IF(AND(G15=\"\"),\"\",SUM(K15))","v":0}]
[11,319,4,16,4,4,null,1,null,null,1,null,null,null,null,2,1,91,4,null,null,2,null,null,null,null,"",null,""]
[12,431,5,2,5,4,1,null,null,null,null,1,1,null,null,2,1,149,3.5,null,null,2,null,null,null,null,"",null,0]
[13,122,3,18,2,2,null,null,null,null,null,null,null,null,null,1,1,127,2.5,null,null,1,null,null,null,null,"",null,""]
[14,379,4,6,5,5,1,null,null,1,null,null,null,null,null,2,null,null,null,null,null,"",null,null,null,null,"",null,0]
[15,316,4,8,4,4,1,null,null,null,1,null,null,null,null,2,1,64,4,null,null,2,null,null,null,null,"",null,1]
[16,322,4,14,3,3,1,null,null,null,null,1,null,null,null,1,1,89,1,null,null,1,null,null,null,null,"",null,0]
[17,345,4,10,7,7,1,null,null,1,null,null,null,null,null,2,null,null,null,null,null,"",null,null,null,null,"",null,0]
[18,281,4,12,4,4,null,1,null,null,1,null,null,null,null,2,1,95,4,null,null,2,null,null,null,null,"",null,""]
[null,{"$f":"SUM(B15:B23)","v":2996},{"$f":"SUM(C15:C23)","v":37},"IND",{"$f":"SUM(E15:E23)","v":39},{"$f":"SUM(F15:F23)","v":38},{"$f":"SUM(G15:G23)","v":6},{"$f":"SUM(H15:H23)","v":2},{"$f":"SUM(I15:I23)","v":0},{"$f":"IF((A29=27),\"\",(SUM(J15:J23)/SUM(J15:L23))*100)","v":25},{"$f":"IF((A29=27),\"\",(SUM(K15:K23)/SUM(J15:L23))*100)","v":37.5},{"$f":"IF((A29=27),\"\",(SUM(L15:L23)/SUM(J15:L23))*100)","v":37.5},{"$f":"SUM(M15:M23)","v":1},{"$f":"SUM(N15:N23)","v":0},{"$f":"SUM(O15:O23)","v":0},{"$f":"SUM(P15:P23)","v":16},{"$f":"SUM(Q15:Q23)","v":7},null,{"$f":"IF(Q24=0,0,SUM(S15:S23)/Q24)","v":3.1428571428571428},null,null,{"$f":"SUM(V15:V23)","v":12},{"$f":"ColorFunction($E$30,$E$15:$E$23)","v":0},{"$f":"ColorFunction($E$31,$E$15:$E$23)","v":2},{"$f":"ColorFunction($E$32,$E$15:$E$23)","v":1},{"$f":"ColorFunction($E$33,$E$15:$E$23)","v":1},{"$f":"SUM(AA15:AA23)/(9-Q24)*100","v":0},{"$f":"COUNTIF(P15:P23,\">2\")","v":0},{"$f":"IF((G24=0),\"\",SUM(AC15:AC23)/G24*100)","v":16.666666666666664}]
[null,{"$f":"SUM(B24,B14)","v":5763},{"$f":"SUM(C24,C14)","v":73},"TOTAL",{"$f":"IF(E14=0,\"0\",(E24+E14))","v":81},{"$f":"SUM(F14,F24)","v":78},{"$f":"SUM(G24,G14)","v":10},{"$f":"SUM(H24,H14)","v":4},{"$f":"SUM(I24,I14)","v":1},{"$f":"IF((A28=27),\"\",(SUM(J14,J24)/2))","v":33.928571428571431},{"$f":"IF((A28=27),\"\",(SUM(K14,K24)/2))","v":47.321428571428569},{"$f":"IF((A28=27),\"\",(SUM(L14,L24)/2))","v":18.75},{"$f":"SUM(M24,M14)","v":1},{"$f":"SUM(N24,N14)","v":1},{"$f":"SUM(O24,O14)","v":0},{"$f":"IF(P14+P24=0,\"\",SUM(P24,P14))","v":31},{"$f":"IF(Q14+Q24=0,\"\",SUM(Q24,Q14))","v":10},null,{"$f":"IF(S14+S24=0,\"\",SUM(S24,S14)/2)","v":2.8714285714285714},{"$f":"IF(N25=0,\"\",(O25)/N25*100)","v":0},{"$f":"IF(Q25=\"\",\"\",(Q25)/18*100)","v":55.555555555555557},{"$f":"IF(Q25=\"\",\"\",(V14+V24)/Q25)","v":1.6},{"$f":"SUM(W14,W24)","v":0},{"$f":"SUM(X14,X24)","v":4},{"$f":"SUM(Y14,Y24)","v":4},{"$f":"SUM(Z14,Z24)","v":3},{"$f":"SUM(AA14,AA24)/2","v":8.3333333333333321},{"$f":"SUM(AB14,AB24)","v":0},{"$f":"SUM(AC24,AC14)/2","v":33.333333333333329}]
[]
[null,null,null,null,"Udfyld alle grønne felter med 1 for positiv eller antal i tal"]
[{"$f":"COUNTBLANK(I5:K13)","v":19},null,null,null,null,null,null,null,null,null,null,null,null,null,null,null,null,null,null,null,null,null,"Approach"]
[{"$f":"COUNTBLANK(I15:K23)","v":22},null,null,null,"Udfyld følgende farver:",null,null,null,null,null,null,null,null,null,null,null,null,null,"Holes to par",null,null,null,"Længde (m)","Antal","Afstand (m)"]
[{"$f":"SUM(L5:L23)","v":3},null,null,null,"Eagles",null,null,null,null,null,null,null,null,null,null,null,null,null,"Par 3",{"$f":"SUMIF(C:C,\"3\",E:E)/COUNTIF(C:C,3)","v":4},null,null,"45-70",{"$f":"COUNTIFS(R5:R23,\">=45\",R5:R23,\"<=70\")","v":1},{"$f":"IF(X30=0,\"\",AVERAGEIFS(S5:S23,R5:R23,\">=45\",R5:R23,\"<=70\"))","v":4}]
[null,null,null,null,"Birdies",null,null,null,null,null,null,null,null,null,null,null,null,null,"Par 4",{"$f":"SUMIF(C:C,\"4\",E:E)/COUNTIF(C:C,4)","v":4.3636363636363633},null,null,"71-90",{"$f":"COUNTIFS(R5:R23,\">=71\",R5:R23,\"<=90\")","v":2},{"$f":"IF(X31=0,\"\",AVERAGEIFS(S5:S23,R5:R23,\">=71\",R5:R23,\"<=90\"))","v":3.5}]
[null,null,null,null,"Bogeys",null,null,null,null,null,null,null,null,null,null,null,null,null,"Par 5",{"$f":"SUMIF(C:C,\"5\",E:E)/COUNTIF(C:C,5)","v":5.25},null,null,"91-115",{"$f":"COUNTIFS(R5:R23,\">=91\",R5:R23,\"<=115\")","v":3},{"$f":"IF(X32=0,\"\",AVERAGEIFS(S5:S23,R5:R23,\">=91\",R5:R23,\"<=115\"))","v":2.7666666666666671}]
[null,null,null,null,"Doublebogeys eller værre",null,null,null,null,null,null,null,null,null,null,null,null,null,null,null,null,null,"116-140",{"$f":"COUNTIFS(R5:R23,\">=116\",R5:R23,\"<=140\")","v":1},{"$f":"IF(X33=0,\"\",AVERAGEIFS(S5:S23,R5:R23,\">=116\",R5:R23,\"<=140\"))","v":2.5}]
[null,null,null,null,null,null,null,null,null,null,null,null,null,null,null,null,null,null,"First 4",{"$f":"IF(E25=\"0\",\"\",SUM(E5:E8)-SUM(C5:C8))","v":4},null,null,"141-160",{"$f":"COUNTIFS(R5:R23,\">=141\",R5:R23,\"<=161\")","v":1},{"$f":"IF(X34=0,\"\",AVERAGEIFS(S5:S23,R5:R23,\">=141\",R5:R23,\"<=160\"))","v":3.5}]
[null,null,null,null,null,null,null,null,null,null,null,null,null,null,null,null,null,null,"Last 4",{"$f":"IF(E25=\"0\",\"\",SUM(E20:E23)-SUM(C20:C23))","v":2},null,null,"161-180",{"$f":"COUNTIFS(R5:R23,\">=161\",R5:R23,\"<=180\")","v":0},{"$f":"IF(X35=0,\"\",AVERAGEIFS(S5:S23,R5:R23,\">=161\",R5:R23,\"<=180\"))","v":""}]
[]
[null,null,null,null,null,null,null,null,null,null,null,null,null,null,null,null,null,null,null,null,null,null,"Putting"]
[null,null,null,null,null,null,null,null,null,null,null,null,null,null,null,null,null,null,null,null,null,null,"Længde (m)","Antal","Holet","Holet (%)"]
[null,null,null,null,null,null,null,null,null,null,null,null,null,null,null,null,null,null,null,null,null,null,"under 1 m",{"$f":"COUNTIFS(S5:S23,\">=0,1\",S5:S23,\"<=0,9\")","v":1},{"$f":"IF(X39=0,\"\",COUNTIFS(P5:P23,\"=1\",S5:S23,\"<1\"))","v":1},{"$f":"IF(X39=0,\"\",Y39/X39*100)","v":100}]
[null,null,null,null,null,null,null,null,null,null,null,null,null,null,null,null,null,null,null,null,null,null,"1 - 1,5",{"$f":"COUNTIFS(S5:S23,\">=1\",S5:S23,\"<=1,5\")","v":2},{"$f":"IF(X40=0,\"\",COUNTIFS(P5:P23,\"=1\",S5:S23,\">=1\",S5:S23,\"<=1,5\"))","v":2},{"$f":"IF(X40=0,\"\",Y40/X40*100)","v":100}]
[null,null,null,null,null,null,null,null,null,null,null,null,null,null,null,null,null,null,null,null,null,null,"1,5 - 3",{"$f":"COUNTIFS(S5:S23,\">=1,6\",S5:S23,\"<=3\")","v":3},{"$f":"IF(X41=0,\"\",COUNTIFS(P5:P23,\"=1\",S5:S23,\">=1,6\",S5:S23,\"<=3\"))","v":1},{"$f":"IF(X41=0,\"\",Y41/X41*100)","v":33.333333333333329}]
[null,null,null,null,null,null,null,null,null,null,null,null,null,null,null,null,null,null,null,null,null,null,"3 - 4,5",{"$f":"COUNTIFS(S5:S23,\">=3,1\",S5:S23,\"<=4,5\")","v":4},{"$f":"IF(X42=0,\"\",COUNTIFS(P5:P23,\"=1\",S5:S23,\">=3,1\",S5:S23,\"<=4,5\"))","v":0},0]
[null,null,null,null,null,null,null,null,null,null,null,null,null,null,null,null,null,null,null,null,null,null,"4,5 - 6",{"$f":"COUNTIFS(S5:S23,\">=4,6\",S5:S23,\"<=6\")","v":1},{"$f":"IF(X43=0,\"\",COUNTIFS(P5:P23,\"=1\",S5:S23,\">=4,6\",S5:S23,\"<=6\"))","v":0},0]
[null,null,null,null,null,null,null,null,null,null,null,null,null,null,null,null,null,null,null,null,null,null,"over 6 meter",{"$f":"COUNTIFS(S5:S23,\">6\")","v":0},{"$f":"IF(X44=0,\"\",COUNTIFS(P5:P23,\"=1\",S5:S23,\">6\"))","v":""},""]

{"sheet":"Runde 12","index":14,"n_rows":44,"n_cols":29,"rows_kept":44,"cut":false,"hidden":false,"merged":[]}
["Korsør Golf Klub - 18 huller - Gul tee",null,null,null,null,null,null,null,null,{"$f":"IF(E25=\"0\",\"0\",\"1\")","v":"1"},"Dato:","2010-07-03",null,"Handicap:",4.5,null,"ATS:",3,null,"Vejr:","Sol, 25 grader, jævn vind",null,"Turnering:","GTS sponsorturnering"]
[]
[null,null,null,null,null,null,null,"Tee shot",null,null,"Fairway hits i %",null,null,"Bunker",null,null,null,"Approach shots"]
["Hul","Gul tee","Par","HCP","Score","Netto","Driver","Wood","Jern","Venstre","Midt","Højre","FB","GB","SS","Putts","GIR","Dist. to pin (m)","Dist. to hole (m)","% SS","% GIR","Putts/GIR","Eagles","Birdies","Bogeys","Værre","% Scramble","3+ Putts","% Driver/Fairwayhits"]
[1,307,4,11,4,4,1,null,null,null,1,null,null,null,null,2,1,53,5,null,null,{"$f":"IF(Q5=0,\"\",P5)","v":2},null,null,null,null,{"$f":"IF(AND(Q5=\"\",P5=1),1,\"\")","v":""},null,{"$f":"IF(AND(G5=\"\"),\"\",SUM(K5))","v":1}]
[2,323,4,5,4,4,1,null,null,null,1,null,null,null,null,2,1,85,6,null,null,2,null,null,null,null,"",null,1]
[3,138,3,15,4,4,null,null,null,null,null,null,null,null,null,2,null,null,null,null,null,"",null,null,null,null,"",null,""]
[4,310,4,13,5,5,null,1,null,null,null,1,null,null,null,2,null,null,null,null,null,"",null,null,null,null,"",null,""]
[5,431,5,3,7,6,1,null,null,null,1,null,null,1,null,1,null,null,null,null,null,"",null,null,null,null,1,null,1]
[6,312,4,9,4,4,1,null,null,null,null,1,null,null,null,1,null,null,null,null,null,"",null,null,null,null,1,null,0]
[7,498,5,1,5,4,null,null,1,null,1,null,null,null,null,2,1,124,8,null,null,2,null,null,null,null,"",null,""]
[8,138,3,17,3,3,null,null,null,null,null,null,null,null,null,2,1,127,4,null,null,2,null,null,null,null,"",null,""]
[9,310,4,7,6,6,null,1,null,null,1,null,null,null,null,2,null,null,null,null,null,"",null,null,null,null,"",null,""]
[null,{"$f":"SUM(B5:B13)","v":2767},{"$f":"SUM(C5:C13)","v":36},"UD",{"$f":"SUM(E5:E13)","v":42},{"$f":"SUM(F5:F13)","v":40},{"$f":"SUM(G5:G13)","v":4},{"$f":"SUM(H5:H13)","v":2},{"$f":"SUM(I5:I13)","v":1},{"$f":"IF((A28=27),\"\",(SUM(J5:J13)/SUM(J5:L13))*100)","v":0},{"$f":"IF((A28=27),\"\",(SUM(K5:K13)/SUM(J5:L13))*100)","v":71.428571428571431},{"$f":"IF((A28=27),\"\",(SUM(L5:L13)/SUM(J5:L13))*100)","v":28.571428571428569},{"$f":"SUM(M5:M13)","v":0},{"$f":"SUM(N5:N13)","v":1},{"$f":"SUM(O5:O13)","v":0},{"$f":"SUM(P5:P13)","v":16},{"$f":"SUM(Q5:Q13)","v":4},null,{"$f":"IF(Q14=0,0,SUM(S5:S13)/Q14)","v":5.75},null,null,{"$f":"SUM(V5:V13)","v":8},{"$f":"ColorFunction($E$30,$E$5:$E$13)","v":0},{"$f":"ColorFunction($E$31,$E$5:$E$13)","v":0},{"$f":"ColorFunction($E$32,$E$5:$E$13)","v":2},{"$f":"ColorFunction($E$33,$E$5:$E$13)","v":2},{"$f":"SUM(AA5:AA13)/(9-Q14)*100","v":40},{"$f":"COUNTIF(P5:P13,\">2\")","v":0},{"$f":"IF((G14=0),\"\",SUM(AC5:AC13)/G14*100)","v":75}]
[10,481,5,4,4,4,1,null,null,null,1,null,null,null,null,1,1,30,2,null,null,{"$f":"IF(Q15=0,\"\",P15)","v":1},null,null,null,null,{"$f":"IF(AND(Q15=\"\",P15=1),1,\"\")","v":""},null,{"$f":"IF(AND(G15=\"\"),\"\",SUM(K15))","v":1}]
[11,319,4,16,3,3,null,1,null,null,1,null,null,null,null,1,1,116,3.5,null,null,1,null,null,null,null,"",null,""]
[12,431,5,2,4,3,1,null,null,null,1,null,null,null,null,1,1,10,1,null,null,1,null,null,null,null,"",null,1]
[13,122,3,18,2,2,null,null,null,null,null,null,null,null,null,1,1,124,4,null,null,1,null,null,null,null,"",null,""]
[14,379,4,6,5,5,1,null,null,1,null,null,null,null,null,2,null,null,null,null,null,"",null,null,null,null,"",null,0]
[15,316,4,8,4,4,1,null,null,1,null,null,null,null,null,1,null,null,null,null,null,"",null,null,null,null,1,null,0]
[16,322,4,14,3,3,null,1,null,null,1,null,null,null,null,1,1,105,1,null,null,1,null,null,null,null,"",null,""]
[17,345,4,10,3,3,null,1,null,null,1,null,null,null,null,1,1,148,3,null,null,1,null,null,null,null,"",null,""]
[18,281,4,12,4,4,null,null,1,null,1,null,null,null,null,2,1,95,5,null,null,2,null,null,null,null,"",null,""]
[null,{"$f":"SUM(B15:B23)","v":2996},{"$f":"SUM(C15:C23)","v":37},"IND",{"$f":"SUM(E15:E23)","v":32},{"$f":"SUM(F15:F23)","v":31},{"$f":"SUM(G15:G23)","v":4},{"$f":"SUM(H15:H23)","v":3},{"$f":"SUM(I15:I23)","v":1},{"$f":"IF((A29=27),\"\",(SUM(J15:J23)/SUM(J15:L23))*100)","v":25},{"$f":"IF((A29=27),\"\",(SUM(K15:K23)/SUM(J15:L23))*100)","v":75},{"$f":"IF((A29=27),\"\",(SUM(L15:L23)/SUM(J15:L23))*100)","v":0},{"$f":"SUM(M15:M23)","v":0},{"$f":"SUM(N15:N23)","v":0},{"$f":"SUM(O15:O23)","v":0},{"$f":"SUM(P15:P23)","v":11},{"$f":"SUM(Q15:Q23)","v":7},null,{"$f":"IF(Q24=0,0,SUM(S15:S23)/Q24)","v":2.7857142857142856},null,null,{"$f":"SUM(V15:V23)","v":8},{"$f":"ColorFunction($E$30,$E$15:$E$23)","v":0},{"$f":"ColorFunction($E$31,$E$15:$E$23)","v":6},{"$f":"ColorFunction($E$32,$E$15:$E$23)","v":1},{"$f":"ColorFunction($E$33,$E$15:$E$23)","v":0},{"$f":"SUM(AA15:AA23)/(9-Q24)*100","v":50},{"$f":"COUNTIF(P15:P23,\">2\")","v":0},{"$f":"IF((G24=0),\"\",SUM(AC15:AC23)/G24*100)","v":50}]
[null,{"$f":"SUM(B24,B14)","v":5763},{"$f":"SUM(C24,C14)","v":73},"TOTAL",{"$f":"IF(E14=0,\"0\",(E24+E14))","v":74},{"$f":"SUM(F14,F24)","v":71},{"$f":"SUM(G24,G14)","v":8},{"$f":"SUM(H24,H14)","v":5},{"$f":"SUM(I24,I14)","v":2},{"$f":"IF((A28=27),\"\",(SUM(J14,J24)/2))","v":12.5},{"$f":"IF((A28=27),\"\",(SUM(K14,K24)/2))","v":73.214285714285722},{"$f":"IF((A28=27),\"\",(SUM(L14,L24)/2))","v":14.285714285714285},{"$f":"SUM(M24,M14)","v":0},{"$f":"SUM(N24,N14)","v":1},{"$f":"SUM(O24,O14)","v":0},{"$f":"IF(P14+P24=0,\"\",SUM(P24,P14))","v":27},{"$f":"IF(Q14+Q24=0,\"\",SUM(Q24,Q14))","v":11},null,{"$f":"IF(S14+S24=0,\"\",SUM(S24,S14)/2)","v":4.2678571428571423},{"$f":"IF(N25=0,\"\",(O25)/N25*100)","v":0},{"$f":"IF(Q25=\"\",\"\",(Q25)/18*100)","v":61.111111111111114},{"$f":"IF(Q25=\"\",\"\",(V14+V24)/Q25)","v":1.4545454545454546},{"$f":"SUM(W14,W24)","v":0},{"$f":"SUM(X14,X24)","v":6},{"$f":"SUM(Y14,Y24)","v":3},{"$f":"SUM(Z14,Z24)","v":2},{"$f":"SUM(AA14,AA24)/2","v":45},{"$f":"SUM(AB14,AB24)","v":0},{"$f":"SUM(AC24,AC14)/2","v":62.5}]
[]
[null,null,null,null,"Udfyld alle grønne felter med 1 for positiv eller antal i tal"]
[{"$f":"COUNTBLANK(I5:K13)","v":21},null,null,null,null,null,null,null,null,null,null,null,null,null,null,null,null,null,null,null,null,null,"Approach"]
[{"$f":"COUNTBLANK(I15:K23)","v":18},null,null,null,"Udfyld følgende farver:",null,null,null,null,null,null,null,null,null,null,null,null,null,"Holes to par",null,null,null,"Længde (m)","Antal","Afstand (m)"]
[{"$f":"SUM(L5:L23)","v":30.571428571428569},null,null,null,"Eagles",null,null,null,null,null,null,null,null,null,null,null,null,null,"Par 3",{"$f":"SUMIF(C:C,\"3\",E:E)/COUNTIF(C:C,3)","v":3},null,null,"45-70",{"$f":"COUNTIFS(R5:R23,\">=45\",R5:R23,\"<=70\")","v":1},{"$f":"IF(X30=0,\"\",AVERAGEIFS(S5:S23,R5:R23,\">=45\",R5:R23,\"<=70\"))","v":5}]
[null,null,null,null,"Birdies",null,null,null,null,null,null,null,null,null,null,null,null,null,"Par 4",{"$f":"SUMIF(C:C,\"4\",E:E)/COUNTIF(C:C,4)","v":4.0909090909090908},null,null,"71-90",{"$f":"COUNTIFS(R5:R23,\">=71\",R5:R23,\"<=90\")","v":1},{"$f":"IF(X31=0,\"\",AVERAGEIFS(S5:S23,R5:R23,\">=71\",R5:R23,\"<=90\"))","v":6}]
[null,null,null,null,"Bogeys",null,null,null,null,null,null,null,null,null,null,null,null,null,"Par 5",{"$f":"SUMIF(C:C,\"5\",E:E)/COUNTIF(C:C,5)","v":5},null,null,"91-115",{"$f":"COUNTIFS(R5:R23,\">=91\",R5:R23,\"<=115\")","v":2},{"$f":"IF(X32=0,\"\",AVERAGEIFS(S5:S23,R5:R23,\">=91\",R5:R23,\"<=115\"))","v":3}]
[null,null,null,null,"Doublebogeys eller værre",null,null,null,null,null,null,null,null,null,null,null,null,null,null,null,null,null,"116-140",{"$f":"COUNTIFS(R5:R23,\">=116\",R5:R23,\"<=140\")","v":4},{"$f":"IF(X33=0,\"\",AVERAGEIFS(S5:S23,R5:R23,\">=116\",R5:R23,\"<=140\"))","v":4.875}]
[null,null,null,null,null,null,null,null,null,null,null,null,null,null,null,null,null,null,"First 4",{"$f":"IF(E25=\"0\",\"\",SUM(E5:E8)-SUM(C5:C8))","v":2},null,null,"141-160",{"$f":"COUNTIFS(R5:R23,\">=141\",R5:R23,\"<=161\")","v":1},{"$f":"IF(X34=0,\"\",AVERAGEIFS(S5:S23,R5:R23,\">=141\",R5:R23,\"<=160\"))","v":3}]
[null,null,null,null,null,null,null,null,null,null,null,null,null,null,null,null,null,null,"Last 4",{"$f":"IF(E25=\"0\",\"\",SUM(E20:E23)-SUM(C20:C23))","v":-2},null,null,"161-180",{"$f":"COUNTIFS(R5:R23,\">=161\",R5:R23,\"<=180\")","v":0},{"$f":"IF(X35=0,\"\",AVERAGEIFS(S5:S23,R5:R23,\">=161\",R5:R23,\"<=180\"))","v":""}]
[]
[null,null,null,null,null,null,null,null,null,null,null,null,null,null,null,null,null,null,null,null,null,null,"Putting"]
[null,null,null,null,null,null,null,null,null,null,null,null,null,null,null,null,null,null,null,null,null,null,"Længde (m)","Antal","Holet","Holet (%)"]
[null,null,null,null,null,null,null,null,null,null,null,null,null,null,null,null,null,null,null,null,null,null,"under 1 m",{"$f":"COUNTIFS(S5:S23,\">=0,1\",S5:S23,\"<=0,9\")","v":0},{"$f":"IF(X39=0,\"\",COUNTIFS(P5:P23,\"=1\",S5:S23,\"<1\"))","v":""},{"$f":"IF(X39=0,\"\",Y39/X39*100)","v":""}]
[null,null,null,null,null,null,null,null,null,null,null,null,null,null,null,null,null,null,null,null,null,null,"1 - 1,5",{"$f":"COUNTIFS(S5:S23,\">=1\",S5:S23,\"<=1,5\")","v":2},{"$f":"IF(X40=0,\"\",COUNTIFS(P5:P23,\"=1\",S5:S23,\">=1\",S5:S23,\"<=1,5\"))","v":2},{"$f":"IF(X40=0,\"\",Y40/X40*100)","v":100}]
[null,null,null,null,null,null,null,null,null,null,null,null,null,null,null,null,null,null,null,null,null,null,"1,5 - 3",{"$f":"COUNTIFS(S5:S23,\">=1,6\",S5:S23,\"<=3\")","v":2},{"$f":"IF(X41=0,\"\",COUNTIFS(P5:P23,\"=1\",S5:S23,\">=1,6\",S5:S23,\"<=3\"))","v":2},{"$f":"IF(X41=0,\"\",Y41/X41*100)","v":100}]
[null,null,null,null,null,null,null,null,null,null,null,null,null,null,null,null,null,null,null,null,null,null,"3 - 4,5",{"$f":"COUNTIFS(S5:S23,\">=3,1\",S5:S23,\"<=4,5\")","v":3},{"$f":"IF(X42=0,\"\",COUNTIFS(P5:P23,\"=1\",S5:S23,\">=3,1\",S5:S23,\"<=4,5\"))","v":2},66.666666666666657]
[null,null,null,null,null,null,null,null,null,null,null,null,null,null,null,null,null,null,null,null,null,null,"4,5 - 6",{"$f":"COUNTIFS(S5:S23,\">=4,6\",S5:S23,\"<=6\")","v":4},{"$f":"IF(X43=0,\"\",COUNTIFS(P5:P23,\"=1\",S5:S23,\">=4,6\",S5:S23,\"<=6\"))","v":0},0]
[null,null,null,null,null,null,null,null,null,null,null,null,null,null,null,null,null,null,null,null,null,null,"over 6 meter",{"$f":"COUNTIFS(S5:S23,\">6\")","v":1},{"$f":"IF(X44=0,\"\",COUNTIFS(P5:P23,\"=1\",S5:S23,\">6\"))","v":0},0]

{"sheet":"Runde 13","index":15,"n_rows":44,"n_cols":29,"rows_kept":44,"cut":false,"hidden":false,"merged":[]}
["Korsør Golf Klub - 18 huller - Hvid tee",null,null,null,null,null,null,null,null,{"$f":"IF(E25=\"0\",\"0\",\"1\")","v":"1"},"Dato:","07-07-2010*",null,"Handicap:",4.4000000000000004,null,"ATS:",5,null,"Vejr:","Sol, hård vind og 20 grader",null,"Turnering:","Tirsdagsklub"]
[]
[null,null,null,null,null,null,null,"Tee shot",null,null,"Fairway hits i %",null,null,"Bunker",null,null,null,"Approach shots"]
["Hul","Gul tee","Par","HCP","Score","Netto","Driver","Wood","Jern","Venstre","Midt","Højre","FB","GB","SS","Putts","GIR","Dist. to pin (m)","Dist. to hole (m)","% SS","% GIR","Putts/GIR","Eagles","Birdies","Bogeys","Værre","% Scramble","3+ Putts","% Driver/Fairwayhits"]
[1,313,4,11,3,3,1,null,null,null,1,null,null,null,null,1,1,60,3,null,null,{"$f":"IF(Q5=0,\"\",P5)","v":1},null,null,null,null,{"$f":"IF(AND(Q5=\"\",P5=1),1,\"\")","v":""},null,{"$f":"IF(AND(G5=\"\"),\"\",SUM(K5))","v":1}]
[2,340,4,5,4,3,1,null,null,null,1,null,null,null,null,1,null,null,null,null,null,"",null,null,null,null,1,null,1]
[3,143,3,15,3,3,null,null,null,null,null,null,null,null,null,1,null,null,null,null,null,"",null,null,null,null,1,null,""]
[4,335,4,13,4,4,null,1,null,null,1,null,null,null,null,1,null,null,null,null,null,"",null,null,null,null,1,null,""]
[5,443,5,3,4,3,1,null,null,null,1,null,null,null,null,1,1,15,2,null,null,1,null,null,null,null,"",null,1]
[6,319,4,9,4,4,1,null,null,null,1,null,null,null,null,2,1,105,5,null,null,2,null,null,null,null,"",null,1]
[7,555,5,1,5,4,null,1,null,null,null,1,null,null,null,2,1,200,14,null,null,2,null,null,null,null,"",null,""]
[8,143,3,17,5,5,null,null,null,null,null,null,null,1,null,2,null,null,null,null,null,"",null,null,null,null,"",null,""]
[9,320,4,7,4,4,null,1,null,1,null,null,null,null,null,2,1,132,5,null,null,2,null,null,null,null,"",null,""]
[null,{"$f":"SUM(B5:B13)","v":2911},{"$f":"SUM(C5:C13)","v":36},"UD",{"$f":"SUM(E5:E13)","v":36},{"$f":"SUM(F5:F13)","v":33},{"$f":"SUM(G5:G13)","v":4},{"$f":"SUM(H5:H13)","v":3},{"$f":"SUM(I5:I13)","v":0},{"$f":"IF((A28=27),\"\",(SUM(J5:J13)/SUM(J5:L13))*100)","v":14.285714285714285},{"$f":"IF((A28=27),\"\",(SUM(K5:K13)/SUM(J5:L13))*100)","v":71.428571428571431},{"$f":"IF((A28=27),\"\",(SUM(L5:L13)/SUM(J5:L13))*100)","v":14.285714285714285},{"$f":"SUM(M5:M13)","v":0},{"$f":"SUM(N5:N13)","v":1},{"$f":"SUM(O5:O13)","v":0},{"$f":"SUM(P5:P13)","v":13},{"$f":"SUM(Q5:Q13)","v":5},null,{"$f":"IF(Q14=0,0,SUM(S5:S13)/Q14)","v":5.8},null,null,{"$f":"SUM(V5:V13)","v":8},{"$f":"ColorFunction($E$30,$E$5:$E$13)","v":0},{"$f":"ColorFunction($E$31,$E$5:$E$13)","v":2},{"$f":"ColorFunction($E$32,$E$5:$E$13)","v":0},{"$f":"ColorFunction($E$33,$E$5:$E$13)","v":1},{"$f":"SUM(AA5:AA13)/(9-Q14)*100","v":75},{"$f":"COUNTIF(P5:P13,\">2\")","v":0},{"$f":"IF((G14=0),\"\",SUM(AC5:AC13)/G14*100)","v":100}]
[10,490,5,4,5,4,1,null,null,null,1,null,null,null,null,2,1,40,3,null,null,{"$f":"IF(Q15=0,\"\",P15)","v":2},null,null,null,null,{"$f":"IF(AND(Q15=\"\",P15=1),1,\"\")","v":""},null,{"$f":"IF(AND(G15=\"\"),\"\",SUM(K15))","v":1}]
[11,330,4,16,4,4,null,1,null,null,1,null,null,null,null,2,1,131,5,null,null,2,null,null,null,null,"",null,""]
[12,451,5,2,5,4,1,null,null,null,1,null,null,null,null,2,1,20,1.5,null,null,2,null,null,null,null,"",null,1]
[13,140,3,18,4,4,null,null,null,null,null,null,null,null,null,3,1,141,7,null,null,3,null,null,null,null,"",null,""]
[14,383,4,6,5,5,1,null,null,null,null,1,null,null,null,2,null,null,null,null,null,"",null,null,null,null,"",null,0]
[15,332,4,8,3,3,1,null,null,null,1,null,null,null,null,1,1,128,6,null,null,1,null,null,null,null,"",null,1]
[16,334,4,14,5,5,1,null,null,null,1,null,null,1,null,2,null,null,null,null,null,"",null,null,null,null,"",null,1]
[17,368,4,10,4,4,1,null,null,null,1,null,null,null,null,2,1,152,8,null,null,2,null,null,null,null,"",null,1]
[18,299,4,12,3,3,null,1,null,null,1,null,null,null,null,1,1,85,10,null,null,1,null,null,null,null,"",null,""]
[null,{"$f":"SUM(B15:B23)","v":3127},{"$f":"SUM(C15:C23)","v":37},"IND",{"$f":"SUM(E15:E23)","v":38},{"$f":"SUM(F15:F23)","v":36},{"$f":"SUM(G15:G23)","v":6},{"$f":"SUM(H15:H23)","v":2},{"$f":"SUM(I15:I23)","v":0},{"$f":"IF((A29=27),\"\",(SUM(J15:J23)/SUM(J15:L23))*100)","v":0},{"$f":"IF((A29=27),\"\",(SUM(K15:K23)/SUM(J15:L23))*100)","v":87.5},{"$f":"IF((A29=27),\"\",(SUM(L15:L23)/SUM(J15:L23))*100)","v":12.5},{"$f":"SUM(M15:M23)","v":0},{"$f":"SUM(N15:N23)","v":1},{"$f":"SUM(O15:O23)","v":0},{"$f":"SUM(P15:P23)","v":17},{"$f":"SUM(Q15:Q23)","v":7},null,{"$f":"IF(Q24=0,0,SUM(S15:S23)/Q24)","v":5.7857142857142856},null,null,{"$f":"SUM(V15:V23)","v":13},{"$f":"ColorFunction($E$30,$E$15:$E$23)","v":0},{"$f":"ColorFunction($E$31,$E$15:$E$23)","v":2},{"$f":"ColorFunction($E$32,$E$15:$E$23)","v":3},{"$f":"ColorFunction($E$33,$E$15:$E$23)","v":0},{"$f":"SUM(AA15:AA23)/(9-Q24)*100","v":0},{"$f":"COUNTIF(P15:P23,\">2\")","v":1},{"$f":"IF((G24=0),\"\",SUM(AC15:AC23)/G24*100)","v":83.333333333333343}]
[null,{"$f":"SUM(B24,B14)","v":6038},{"$f":"SUM(C24,C14)","v":73},"TOTAL",{"$f":"IF(E14=0,\"0\",(E24+E14))","v":74},{"$f":"SUM(F14,F24)","v":69},{"$f":"SUM(G24,G14)","v":10},{"$f":"SUM(H24,H14)","v":5},{"$f":"SUM(I24,I14)","v":0},{"$f":"IF((A28=27),\"\",(SUM(J14,J24)/2))","v":7.1428571428571423},{"$f":"IF((A28=27),\"\",(SUM(K14,K24)/2))","v":79.464285714285722},{"$f":"IF((A28=27),\"\",(SUM(L14,L24)/2))","v":13.392857142857142},{"$f":"SUM(M24,M14)","v":0},{"$f":"SUM(N24,N14)","v":2},{"$f":"SUM(O24,O14)","v":0},{"$f":"IF(P14+P24=0,\"\",SUM(P24,P14))","v":30},{"$f":"IF(Q14+Q24=0,\"\",SUM(Q24,Q14))","v":12},null,{"$f":"IF(S14+S24=0,\"\",SUM(S24,S14)/2)","v":5.7928571428571427},{"$f":"IF(N25=0,\"\",(O25)/N25*100)","v":0},{"$f":"IF(Q25=\"\",\"\",(Q25)/18*100)","v":66.666666666666657},{"$f":"IF(Q25=\"\",\"\",(V14+V24)/Q25)","v":1.75},{"$f":"SUM(W14,W24)","v":0},{"$f":"SUM(X14,X24)","v":4},{"$f":"SUM(Y14,Y24)","v":3},{"$f":"SUM(Z14,Z24)","v":1},{"$f":"SUM(AA14,AA24)/2","v":37.5},{"$f":"SUM(AB14,AB24)","v":1},{"$f":"SUM(AC24,AC14)/2","v":91.666666666666671}]
[]
[null,null,null,null,"Udfyld alle grønne felter med 1 for positiv eller antal i tal"]
[{"$f":"COUNTBLANK(I5:K13)","v":21},null,null,null,null,null,null,null,null,null,null,null,null,null,null,null,null,null,null,null,null,null,"Approach"]
[{"$f":"COUNTBLANK(I15:K23)","v":20},null,null,null,"Udfyld følgende farver:",null,null,null,null,null,null,null,null,null,null,null,null,null,"Holes to par",null,null,null,"Længde (m)","Antal","Afstand (m)"]
[{"$f":"SUM(L5:L23)","v":16.285714285714285},null,null,null,"Eagles",null,null,null,null,null,null,null,null,null,null,null,null,null,"Par 3",{"$f":"SUMIF(C:C,\"3\",E:E)/COUNTIF(C:C,3)","v":4},null,null,"45-70",{"$f":"COUNTIFS(R5:R23,\">=45\",R5:R23,\"<=70\")","v":1},{"$f":"IF(X30=0,\"\",AVERAGEIFS(S5:S23,R5:R23,\">=45\",R5:R23,\"<=70\"))","v":3}]
[null,null,null,null,"Birdies",null,null,null,null,null,null,null,null,null,null,null,null,null,"Par 4",{"$f":"SUMIF(C:C,\"4\",E:E)/COUNTIF(C:C,4)","v":3.9090909090909092},null,null,"71-90",{"$f":"COUNTIFS(R5:R23,\">=71\",R5:R23,\"<=90\")","v":1},{"$f":"IF(X31=0,\"\",AVERAGEIFS(S5:S23,R5:R23,\">=71\",R5:R23,\"<=90\"))","v":10}]
[null,null,null,null,"Bogeys",null,null,null,null,null,null,null,null,null,null,null,null,null,"Par 5",{"$f":"SUMIF(C:C,\"5\",E:E)/COUNTIF(C:C,5)","v":4.75},null,null,"91-115",{"$f":"COUNTIFS(R5:R23,\">=91\",R5:R23,\"<=115\")","v":1},{"$f":"IF(X32=0,\"\",AVERAGEIFS(S5:S23,R5:R23,\">=91\",R5:R23,\"<=115\"))","v":5}]
[null,null,null,null,"Doublebogeys eller værre",null,null,null,null,null,null,null,null,null,null,null,null,null,null,null,null,null,"116-140",{"$f":"COUNTIFS(R5:R23,\">=116\",R5:R23,\"<=140\")","v":3},{"$f":"IF(X33=0,\"\",AVERAGEIFS(S5:S23,R5:R23,\">=116\",R5:R23,\"<=140\"))","v":5.333333333333333}]
[null,null,null,null,null,null,null,null,null,null,null,null,null,null,null,null,null,null,"First 4",{"$f":"IF(E25=\"0\",\"\",SUM(E5:E8)-SUM(C5:C8))","v":-1},null,null,"141-160",{"$f":"COUNTIFS(R5:R23,\">=141\",R5:R23,\"<=161\")","v":2},{"$f":"IF(X34=0,\"\",AVERAGEIFS(S5:S23,R5:R23,\">=141\",R5:R23,\"<=160\"))","v":7.5}]
[null,null,null,null,null,null,null,null,null,null,null,null,null,null,null,null,null,null,"Last 4",{"$f":"IF(E25=\"0\",\"\",SUM(E20:E23)-SUM(C20:C23))","v":-1},null,null,"161-180",{"$f":"COUNTIFS(R5:R23,\">=161\",R5:R23,\"<=180\")","v":0},{"$f":"IF(X35=0,\"\",AVERAGEIFS(S5:S23,R5:R23,\">=161\",R5:R23,\"<=180\"))","v":""}]
[]
[null,null,null,null,null,null,null,null,null,null,null,null,null,null,null,null,null,null,null,null,null,null,"Putting"]
[null,null,null,null,null,null,null,null,null,null,null,null,null,null,null,null,null,null,null,null,null,null,"Længde (m)","Antal","Holet","Holet (%)"]
[null,null,null,null,null,null,null,null,null,null,null,null,null,null,null,null,null,null,null,null,null,null,"under 1 m",{"$f":"COUNTIFS(S5:S23,\">=0,1\",S5:S23,\"<=0,9\")","v":0},{"$f":"IF(X39=0,\"\",COUNTIFS(P5:P23,\"=1\",S5:S23,\"<1\"))","v":""},{"$f":"IF(X39=0,\"\",Y39/X39*100)","v":""}]
[null,null,null,null,null,null,null,null,null,null,null,null,null,null,null,null,null,null,null,null,null,null,"1 - 1,5",{"$f":"COUNTIFS(S5:S23,\">=1\",S5:S23,\"<=1,5\")","v":1},{"$f":"IF(X40=0,\"\",COUNTIFS(P5:P23,\"=1\",S5:S23,\">=1\",S5:S23,\"<=1,5\"))","v":0},{"$f":"IF(X40=0,\"\",Y40/X40*100)","v":0}]
[null,null,null,null,null,null,null,null,null,null,null,null,null,null,null,null,null,null,null,null,null,null,"1,5 - 3",{"$f":"COUNTIFS(S5:S23,\">=1,6\",S5:S23,\"<=3\")","v":3},{"$f":"IF(X41=0,\"\",COUNTIFS(P5:P23,\"=1\",S5:S23,\">=1,6\",S5:S23,\"<=3\"))","v":2},{"$f":"IF(X41=0,\"\",Y41/X41*100)","v":66.666666666666657}]
[null,null,null,null,null,null,null,null,null,null,null,null,null,null,null,null,null,null,null,null,null,null,"3 - 4,5",{"$f":"COUNTIFS(S5:S23,\">=3,1\",S5:S23,\"<=4,5\")","v":0},{"$f":"IF(X42=0,\"\",COUNTIFS(P5:P23,\"=1\",S5:S23,\">=3,1\",S5:S23,\"<=4,5\"))","v":""},""]
[null,null,null,null,null,null,null,null,null,null,null,null,null,null,null,null,null,null,null,null,null,null,"4,5 - 6",{"$f":"COUNTIFS(S5:S23,\">=4,6\",S5:S23,\"<=6\")","v":5},{"$f":"IF(X43=0,\"\",COUNTIFS(P5:P23,\"=1\",S5:S23,\">=4,6\",S5:S23,\"<=6\"))","v":1},20]
[null,null,null,null,null,null,null,null,null,null,null,null,null,null,null,null,null,null,null,null,null,null,"over 6 meter",{"$f":"COUNTIFS(S5:S23,\">6\")","v":4},{"$f":"IF(X44=0,\"\",COUNTIFS(P5:P23,\"=1\",S5:S23,\">6\"))","v":1},25]

{"sheet":"Runde 14","index":16,"n_rows":44,"n_cols":29,"rows_kept":44,"cut":false,"hidden":false,"merged":[]}
["Korsør Golf Klub - 18 huller - Gul tee",null,null,null,null,null,null,null,null,{"$f":"IF(E25=\"0\",\"0\",\"1\")","v":"1"},"Dato:","2010-07-13",null,"Handicap:",3.9,null,"ATS:",3,null,"Vejr:","sol, skyet, 23 grader og hård vind",null,"Turnering:","Tirsdagsklub"]
[]
[null,null,null,null,null,null,null,"Tee shot",null,null,"Fairway hits i %",null,null,"Bunker",null,null,null,"Approach shots"]
["Hul","Gul tee","Par","HCP","Score","Netto","Driver","Wood","Jern","Venstre","Midt","Højre","FB","GB","SS","Putts","GIR","Dist. to pin (m)","Dist. to hole (m)","% SS","% GIR","Putts/GIR","Eagles","Birdies","Bogeys","Værre","% Scramble","3+ Putts","% Driver/Fairwayhits"]
[1,307,4,11,4,4,null,null,1,null,1,null,null,null,null,2,1,null,null,null,null,{"$f":"IF(Q5=0,\"\",P5)","v":2},null,null,null,null,{"$f":"IF(AND(Q5=\"\",P5=1),1,\"\")","v":""},null,{"$f":"IF(AND(G5=\"\"),\"\",SUM(K5))","v":""}]
[2,323,4,5,4,4,1,null,null,null,1,null,null,null,null,2,1,null,null,null,null,2,null,null,null,null,"",null,1]
[3,138,3,15,2,2,null,null,null,null,null,null,null,null,null,1,1,null,null,null,null,1,null,null,null,null,"",null,""]
[4,310,4,13,4,4,null,null,1,null,1,null,null,null,null,2,1,null,null,null,null,2,null,null,null,null,"",null,""]
[5,431,5,3,5,4,1,null,null,null,1,null,null,null,null,2,1,null,null,null,null,2,null,null,null,null,"",null,1]
[6,312,4,9,6,6,1,null,null,1,null,null,null,null,null,2,null,null,null,null,null,"",null,null,null,null,"",null,0]
[7,498,5,1,5,4,null,null,1,null,1,null,null,null,null,2,1,null,null,null,null,2,null,null,null,null,"",null,""]
[8,138,3,17,3,3,null,null,null,null,null,null,null,null,null,2,1,null,null,null,null,2,null,null,null,null,"",null,""]
[9,310,4,7,5,5,null,1,null,null,1,null,null,null,null,2,null,null,null,null,null,"",null,null,null,null,"",null,""]
[null,{"$f":"SUM(B5:B13)","v":2767},{"$f":"SUM(C5:C13)","v":36},"UD",{"$f":"SUM(E5:E13)","v":38},{"$f":"SUM(F5:F13)","v":36},{"$f":"SUM(G5:G13)","v":3},{"$f":"SUM(H5:H13)","v":1},{"$f":"SUM(I5:I13)","v":3},{"$f":"IF((A28=27),\"\",(SUM(J5:J13)/SUM(J5:L13))*100)","v":14.285714285714285},{"$f":"IF((A28=27),\"\",(SUM(K5:K13)/SUM(J5:L13))*100)","v":85.714285714285708},{"$f":"IF((A28=27),\"\",(SUM(L5:L13)/SUM(J5:L13))*100)","v":0},{"$f":"SUM(M5:M13)","v":0},{"$f":"SUM(N5:N13)","v":0},{"$f":"SUM(O5:O13)","v":0},{"$f":"SUM(P5:P13)","v":17},{"$f":"SUM(Q5:Q13)","v":7},null,{"$f":"IF(Q14=0,0,SUM(S5:S13)/Q14)","v":0},null,null,{"$f":"SUM(V5:V13)","v":13},{"$f":"ColorFunction($E$30,$E$5:$E$13)","v":0},{"$f":"ColorFunction($E$31,$E$5:$E$13)","v":1},{"$f":"ColorFunction($E$32,$E$5:$E$13)","v":1},{"$f":"ColorFunction($E$33,$E$5:$E$13)","v":1},{"$f":"SUM(AA5:AA13)/(9-Q14)*100","v":0},{"$f":"COUNTIF(P5:P13,\">2\")","v":0},{"$f":"IF((G14=0),\"\",SUM(AC5:AC13)/G14*100)","v":66.666666666666657}]
[10,481,5,4,5,5,1,null,null,null,1,null,null,null,null,2,1,null,null,null,null,{"$f":"IF(Q15=0,\"\",P15)","v":2},null,null,null,null,{"$f":"IF(AND(Q15=\"\",P15=1),1,\"\")","v":""},null,{"$f":"IF(AND(G15=\"\"),\"\",SUM(K15))","v":1}]
[11,319,4,16,4,4,null,1,null,null,1,null,null,null,null,2,1,null,null,null,null,2,null,null,null,null,"",null,""]
[12,431,5,2,4,3,1,null,null,null,1,null,null,null,null,1,1,null,null,null,null,1,null,null,null,null,"",null,1]
[13,122,3,18,4,4,null,null,null,null,null,null,null,null,null,3,1,null,null,null,null,3,null,null,null,null,"",null,""]
[14,379,4,6,4,4,1,null,null,null,1,null,null,null,null,2,1,null,null,null,null,2,null,null,null,null,"",null,1]
[15,316,4,8,5,5,1,null,null,null,1,null,null,null,null,3,1,null,null,null,null,3,null,null,null,null,"",null,1]
[16,322,4,14,4,4,1,null,null,null,1,null,null,null,null,2,1,null,null,null,null,2,null,null,null,null,"",null,1]
[17,345,4,10,5,5,1,null,null,null,1,null,null,null,null,3,1,null,null,null,null,3,null,null,null,null,"",null,1]
[18,281,4,12,4,4,null,1,null,null,1,null,null,null,null,2,1,null,null,null,null,2,null,null,null,null,"",null,""]
[null,{"$f":"SUM(B15:B23)","v":2996},{"$f":"SUM(C15:C23)","v":37},"IND",{"$f":"SUM(E15:E23)","v":39},{"$f":"SUM(F15:F23)","v":38},{"$f":"SUM(G15:G23)","v":6},{"$f":"SUM(H15:H23)","v":2},{"$f":"SUM(I15:I23)","v":0},{"$f":"IF((A29=27),\"\",(SUM(J15:J23)/SUM(J15:L23))*100)","v":0},{"$f":"IF((A29=27),\"\",(SUM(K15:K23)/SUM(J15:L23))*100)","v":100},{"$f":"IF((A29=27),\"\",(SUM(L15:L23)/SUM(J15:L23))*100)","v":0},{"$f":"SUM(M15:M23)","v":0},{"$f":"SUM(N15:N23)","v":0},{"$f":"SUM(O15:O23)","v":0},{"$f":"SUM(P15:P23)","v":20},{"$f":"SUM(Q15:Q23)","v":9},null,{"$f":"IF(Q24=0,0,SUM(S15:S23)/Q24)","v":0},null,null,{"$f":"SUM(V15:V23)","v":20},{"$f":"ColorFunction($E$30,$E$15:$E$23)","v":0},{"$f":"ColorFunction($E$31,$E$15:$E$23)","v":1},{"$f":"ColorFunction($E$32,$E$15:$E$23)","v":3},{"$f":"ColorFunction($E$33,$E$15:$E$23)","v":0},0,{"$f":"COUNTIF(P15:P23,\">2\")","v":3},{"$f":"IF((G24=0),\"\",SUM(AC15:AC23)/G24*100)","v":100}]
[null,{"$f":"SUM(B24,B14)","v":5763},{"$f":"SUM(C24,C14)","v":73},"TOTAL",{"$f":"IF(E14=0,\"0\",(E24+E14))","v":77},{"$f":"SUM(F14,F24)","v":74},{"$f":"SUM(G24,G14)","v":9},{"$f":"SUM(H24,H14)","v":3},{"$f":"SUM(I24,I14)","v":3},{"$f":"IF((A28=27),\"\",(SUM(J14,J24)/2))","v":7.1428571428571423},{"$f":"IF((A28=27),\"\",(SUM(K14,K24)/2))","v":92.857142857142861},{"$f":"IF((A28=27),\"\",(SUM(L14,L24)/2))","v":0},{"$f":"SUM(M24,M14)","v":0},{"$f":"SUM(N24,N14)","v":0},{"$f":"SUM(O24,O14)","v":0},{"$f":"IF(P14+P24=0,\"\",SUM(P24,P14))","v":37},{"$f":"IF(Q14+Q24=0,\"\",SUM(Q24,Q14))","v":16},null,{"$f":"IF(S14+S24=0,\"\",SUM(S24,S14)/2)","v":""},{"$f":"IF(N25=0,\"\",(O25)/N25*100)","v":""},{"$f":"IF(Q25=\"\",\"\",(Q25)/18*100)","v":88.888888888888886},{"$f":"IF(Q25=\"\",\"\",(V14+V24)/Q25)","v":2.0625},{"$f":"SUM(W14,W24)","v":0},{"$f":"SUM(X14,X24)","v":2},{"$f":"SUM(Y14,Y24)","v":4},{"$f":"SUM(Z14,Z24)","v":1},{"$f":"SUM(AA14,AA24)/2","v":0},{"$f":"SUM(AB14,AB24)","v":3},{"$f":"SUM(AC24,AC14)/2","v":83.333333333333329}]
[]
[null,null,null,null,"Udfyld alle grønne felter med 1 for positiv eller antal i tal"]
[{"$f":"COUNTBLANK(I5:K13)","v":17},null,null,null,null,null,null,null,null,null,null,null,null,null,null,null,null,null,null,null,null,null,"Approach"]
[{"$f":"COUNTBLANK(I15:K23)","v":19},null,null,null,"Udfyld følgende farver:",null,null,null,null,null,null,null,null,null,null,null,null,null,"Holes to par",null,null,null,"Længde (m)","Antal","Afstand (m)"]
[{"$f":"SUM(L5:L23)","v":0},null,null,null,"Eagles",null,null,null,null,null,null,null,null,null,null,null,null,null,"Par 3",{"$f":"SUMIF(C:C,\"3\",E:E)/COUNTIF(C:C,3)","v":3},null,null,"45-70",{"$f":"COUNTIFS(R5:R23,\">=45\",R5:R23,\"<=70\")","v":0},{"$f":"IF(X30=0,\"\",AVERAGEIFS(S5:S23,R5:R23,\">=45\",R5:R23,\"<=70\"))","v":""}]
[null,null,null,null,"Birdies",null,null,null,null,null,null,null,null,null,null,null,null,null,"Par 4",{"$f":"SUMIF(C:C,\"4\",E:E)/COUNTIF(C:C,4)","v":4.4545454545454541},null,null,"71-90",{"$f":"COUNTIFS(R5:R23,\">=71\",R5:R23,\"<=90\")","v":0},{"$f":"IF(X31=0,\"\",AVERAGEIFS(S5:S23,R5:R23,\">=71\",R5:R23,\"<=90\"))","v":""}]
[null,null,null,null,"Bogeys",null,null,null,null,null,null,null,null,null,null,null,null,null,"Par 5",{"$f":"SUMIF(C:C,\"5\",E:E)/COUNTIF(C:C,5)","v":4.75},null,null,"91-115",{"$f":"COUNTIFS(R5:R23,\">=91\",R5:R23,\"<=115\")","v":0},{"$f":"IF(X32=0,\"\",AVERAGEIFS(S5:S23,R5:R23,\">=91\",R5:R23,\"<=115\"))","v":""}]
[null,null,null,null,"Doublebogeys eller værre",null,null,null,null,null,null,null,null,null,null,null,null,null,null,null,null,null,"116-140",{"$f":"COUNTIFS(R5:R23,\">=116\",R5:R23,\"<=140\")","v":0},{"$f":"IF(X33=0,\"\",AVERAGEIFS(S5:S23,R5:R23,\">=116\",R5:R23,\"<=140\"))","v":""}]
[null,null,null,null,null,null,null,null,null,null,null,null,null,null,null,null,null,null,"First 4",{"$f":"IF(E25=\"0\",\"\",SUM(E5:E8)-SUM(C5:C8))","v":-1},null,null,"141-160",{"$f":"COUNTIFS(R5:R23,\">=141\",R5:R23,\"<=161\")","v":0},{"$f":"IF(X34=0,\"\",AVERAGEIFS(S5:S23,R5:R23,\">=141\",R5:R23,\"<=160\"))","v":""}]
[null,null,null,null,null,null,null,null,null,null,null,null,null,null,null,null,null,null,"Last 4",{"$f":"IF(E25=\"0\",\"\",SUM(E20:E23)-SUM(C20:C23))","v":2},null,null,"161-180",{"$f":"COUNTIFS(R5:R23,\">=161\",R5:R23,\"<=180\")","v":0},{"$f":"IF(X35=0,\"\",AVERAGEIFS(S5:S23,R5:R23,\">=161\",R5:R23,\"<=180\"))","v":""}]
[]
[null,null,null,null,null,null,null,null,null,null,null,null,null,null,null,null,null,null,null,null,null,null,"Putting"]
[null,null,null,null,null,null,null,null,null,null,null,null,null,null,null,null,null,null,null,null,null,null,"Længde (m)","Antal","Holet","Holet (%)"]
[null,null,null,null,null,null,null,null,null,null,null,null,null,null,null,null,null,null,null,null,null,null,"under 1 m",{"$f":"COUNTIFS(S5:S23,\">=0,1\",S5:S23,\"<=0,9\")","v":0},{"$f":"IF(X39=0,\"\",COUNTIFS(P5:P23,\"=1\",S5:S23,\"<1\"))","v":""},{"$f":"IF(X39=0,\"\",Y39/X39*100)","v":""}]
[null,null,null,null,null,null,null,null,null,null,null,null,null,null,null,null,null,null,null,null,null,null,"1 - 1,5",{"$f":"COUNTIFS(S5:S23,\">=1\",S5:S23,\"<=1,5\")","v":0},{"$f":"IF(X40=0,\"\",COUNTIFS(P5:P23,\"=1\",S5:S23,\">=1\",S5:S23,\"<=1,5\"))","v":""},{"$f":"IF(X40=0,\"\",Y40/X40*100)","v":""}]
[null,null,null,null,null,null,null,null,null,null,null,null,null,null,null,null,null,null,null,null,null,null,"1,5 - 3",{"$f":"COUNTIFS(S5:S23,\">=1,6\",S5:S23,\"<=3\")","v":0},{"$f":"IF(X41=0,\"\",COUNTIFS(P5:P23,\"=1\",S5:S23,\">=1,6\",S5:S23,\"<=3\"))","v":""},{"$f":"IF(X41=0,\"\",Y41/X41*100)","v":""}]
[null,null,null,null,null,null,null,null,null,null,null,null,null,null,null,null,null,null,null,null,null,null,"3 - 4,5",{"$f":"COUNTIFS(S5:S23,\">=3,1\",S5:S23,\"<=4,5\")","v":0},{"$f":"IF(X42=0,\"\",COUNTIFS(P5:P23,\"=1\",S5:S23,\">=3,1\",S5:S23,\"<=4,5\"))","v":""},""]
[null,null,null,null,null,null,null,null,null,null,null,null,null,null,null,null,null,null,null,null,null,null,"4,5 - 6",{"$f":"COUNTIFS(S5:S23,\">=4,6\",S5:S23,\"<=6\")","v":0},{"$f":"IF(X43=0,\"\",COUNTIFS(P5:P23,\"=1\",S5:S23,\">=4,6\",S5:S23,\"<=6\"))","v":""},""]
[null,null,null,null,null,null,null,null,null,null,null,null,null,null,null,null,null,null,null,null,null,null,"over 6 meter",{"$f":"COUNTIFS(S5:S23,\">6\")","v":0},{"$f":"IF(X44=0,\"\",COUNTIFS(P5:P23,\"=1\",S5:S23,\">6\"))","v":""},""]

{"sheet":"Runde 15","index":17,"n_rows":44,"n_cols":29,"rows_kept":44,"cut":false,"hidden":false,"merged":[]}
["Korsør Golf Klub - 18 huller - Gul tee",null,null,null,null,null,null,null,null,{"$f":"IF(E25=\"0\",\"0\",\"1\")","v":"1"},"Dato:","2010-07-20",null,"Handicap:",3.9,null,"ATS:",3,null,"Vejr:","Sol, hård vind 25 grader",null,"Turnering:","Tirsdagsklub"]
[]
[null,null,null,null,null,null,null,"Tee shot",null,null,"Fairway hits i %",null,null,"Bunker",null,null,null,"Approach shots"]
["Hul","Gul tee","Par","HCP","Score","Netto","Driver","Wood","Jern","Venstre","Midt","Højre","FB","GB","SS","Putts","GIR","Dist. to pin (m)","Dist. to hole (m)","% SS","% GIR","Putts/GIR","Eagles","Birdies","Bogeys","Værre","% Scramble","3+ Putts","% Driver/Fairwayhits"]
[1,307,4,11,4,4,1,null,null,null,1,null,null,null,null,2,1,null,null,null,null,{"$f":"IF(Q5=0,\"\",P5)","v":2},null,null,null,null,{"$f":"IF(AND(Q5=\"\",P5=1),1,\"\")","v":""},null,{"$f":"IF(AND(G5=\"\"),\"\",SUM(K5))","v":1}]
[2,323,4,5,5,5,1,null,null,null,1,null,null,null,null,3,1,null,null,null,null,3,null,null,null,null,"",null,1]
[3,138,3,15,3,3,null,null,null,null,null,null,null,null,null,1,null,null,null,null,null,"",null,null,null,null,1,null,""]
[4,310,4,13,5,5,null,null,1,null,1,null,null,null,null,2,null,null,null,null,null,"",null,null,null,null,"",null,""]
[5,431,5,3,5,4,1,null,null,null,1,null,null,null,null,2,1,null,null,null,null,2,null,null,null,null,"",null,1]
[6,312,4,9,4,4,null,1,null,null,1,null,null,null,null,2,1,null,null,null,null,2,null,null,null,null,"",null,""]
[7,498,5,1,5,4,null,null,1,null,1,null,null,null,null,2,1,null,null,null,null,2,null,null,null,null,"",null,""]
[8,138,3,17,3,3,null,null,null,null,null,null,null,null,null,2,1,null,null,null,null,2,null,null,null,null,"",null,""]
[9,310,4,7,4,4,null,1,null,null,1,null,null,null,null,2,1,null,null,null,null,2,null,null,null,null,"",null,""]
[null,{"$f":"SUM(B5:B13)","v":2767},{"$f":"SUM(C5:C13)","v":36},"UD",{"$f":"SUM(E5:E13)","v":38},{"$f":"SUM(F5:F13)","v":36},{"$f":"SUM(G5:G13)","v":3},{"$f":"SUM(H5:H13)","v":2},{"$f":"SUM(I5:I13)","v":2},{"$f":"IF((A28=27),\"\",(SUM(J5:J13)/SUM(J5:L13))*100)","v":0},{"$f":"IF((A28=27),\"\",(SUM(K5:K13)/SUM(J5:L13))*100)","v":100},{"$f":"IF((A28=27),\"\",(SUM(L5:L13)/SUM(J5:L13))*100)","v":0},{"$f":"SUM(M5:M13)","v":0},{"$f":"SUM(N5:N13)","v":0},{"$f":"SUM(O5:O13)","v":0},{"$f":"SUM(P5:P13)","v":18},{"$f":"SUM(Q5:Q13)","v":7},null,{"$f":"IF(Q14=0,0,SUM(S5:S13)/Q14)","v":0},null,null,{"$f":"SUM(V5:V13)","v":15},{"$f":"ColorFunction($E$30,$E$5:$E$13)","v":0},{"$f":"ColorFunction($E$31,$E$5:$E$13)","v":0},{"$f":"ColorFunction($E$32,$E$5:$E$13)","v":2},{"$f":"ColorFunction($E$33,$E$5:$E$13)","v":0},{"$f":"SUM(AA5:AA13)/(9-Q14)*100","v":50},{"$f":"COUNTIF(P5:P13,\">2\")","v":1},{"$f":"IF((G14=0),\"\",SUM(AC5:AC13)/G14*100)","v":100}]
[10,481,5,4,5,5,1,null,null,null,1,null,1,null,null,1,null,null,null,null,null,{"$f":"IF(Q15=0,\"\",P15)","v":""},null,null,null,null,{"$f":"IF(AND(Q15=\"\",P15=1),1,\"\")","v":1},null,{"$f":"IF(AND(G15=\"\"),\"\",SUM(K15))","v":1}]
[11,319,4,16,4,4,null,1,null,null,1,null,null,null,null,2,1,null,null,null,null,2,null,null,null,null,"",null,""]
[12,431,5,2,5,4,1,null,null,null,1,null,null,null,null,2,1,null,null,null,null,2,null,null,null,null,"",null,1]
[13,122,3,18,3,3,null,null,null,null,null,null,null,null,null,2,1,null,null,null,null,2,null,null,null,null,"",null,""]
[14,379,4,6,6,6,1,null,null,null,null,1,null,null,null,3,null,null,null,null,null,"",null,null,null,null,"",null,0]
[15,316,4,8,5,5,null,1,null,1,null,null,null,null,null,3,1,null,null,null,null,3,null,null,null,null,"",null,""]
[16,322,4,14,3,3,1,null,null,null,1,null,null,null,null,1,1,null,null,null,null,1,null,null,null,null,"",null,1]
[17,345,4,10,4,4,null,1,null,1,null,null,null,null,null,2,1,null,null,null,null,2,null,null,null,null,"",null,""]
[18,281,4,12,4,4,null,1,null,null,1,null,null,null,null,2,1,null,null,null,null,2,null,null,null,null,"",null,""]
[null,{"$f":"SUM(B15:B23)","v":2996},{"$f":"SUM(C15:C23)","v":37},"IND",{"$f":"SUM(E15:E23)","v":39},{"$f":"SUM(F15:F23)","v":38},{"$f":"SUM(G15:G23)","v":4},{"$f":"SUM(H15:H23)","v":4},{"$f":"SUM(I15:I23)","v":0},{"$f":"IF((A29=27),\"\",(SUM(J15:J23)/SUM(J15:L23))*100)","v":25},{"$f":"IF((A29=27),\"\",(SUM(K15:K23)/SUM(J15:L23))*100)","v":62.5},{"$f":"IF((A29=27),\"\",(SUM(L15:L23)/SUM(J15:L23))*100)","v":12.5},{"$f":"SUM(M15:M23)","v":1},{"$f":"SUM(N15:N23)","v":0},{"$f":"SUM(O15:O23)","v":0},{"$f":"SUM(P15:P23)","v":18},{"$f":"SUM(Q15:Q23)","v":7},null,{"$f":"IF(Q24=0,0,SUM(S15:S23)/Q24)","v":0},null,null,{"$f":"SUM(V15:V23)","v":14},{"$f":"ColorFunction($E$30,$E$15:$E$23)","v":0},{"$f":"ColorFunction($E$31,$E$15:$E$23)","v":1},{"$f":"ColorFunction($E$32,$E$15:$E$23)","v":1},{"$f":"ColorFunction($E$33,$E$15:$E$23)","v":1},{"$f":"SUM(AA15:AA23)/(9-Q24)*100","v":50},{"$f":"COUNTIF(P15:P23,\">2\")","v":2},{"$f":"IF((G24=0),\"\",SUM(AC15:AC23)/G24*100)","v":75}]
[null,{"$f":"SUM(B24,B14)","v":5763},{"$f":"SUM(C24,C14)","v":73},"TOTAL",{"$f":"IF(E14=0,\"0\",(E24+E14))","v":77},{"$f":"SUM(F14,F24)","v":74},{"$f":"SUM(G24,G14)","v":7},{"$f":"SUM(H24,H14)","v":6},{"$f":"SUM(I24,I14)","v":2},{"$f":"IF((A28=27),\"\",(SUM(J14,J24)/2))","v":12.5},{"$f":"IF((A28=27),\"\",(SUM(K14,K24)/2))","v":81.25},{"$f":"IF((A28=27),\"\",(SUM(L14,L24)/2))","v":6.25},{"$f":"SUM(M24,M14)","v":1},{"$f":"SUM(N24,N14)","v":0},{"$f":"SUM(O24,O14)","v":0},{"$f":"IF(P14+P24=0,\"\",SUM(P24,P14))","v":36},{"$f":"IF(Q14+Q24=0,\"\",SUM(Q24,Q14))","v":14},null,{"$f":"IF(S14+S24=0,\"\",SUM(S24,S14)/2)","v":""},{"$f":"IF(N25=0,\"\",(O25)/N25*100)","v":""},{"$f":"IF(Q25=\"\",\"\",(Q25)/18*100)","v":77.777777777777786},{"$f":"IF(Q25=\"\",\"\",(V14+V24)/Q25)","v":2.0714285714285716},{"$f":"SUM(W14,W24)","v":0},{"$f":"SUM(X14,X24)","v":1},{"$f":"SUM(Y14,Y24)","v":3},{"$f":"SUM(Z14,Z24)","v":1},{"$f":"SUM(AA14,AA24)/2","v":50},{"$f":"SUM(AB14,AB24)","v":3},{"$f":"SUM(AC24,AC14)/2","v":87.5}]
[]
[null,null,null,null,"Udfyld alle grønne felter med 1 for positiv eller antal i tal"]
[{"$f":"COUNTBLANK(I5:K13)","v":18},null,null,null,null,null,null,null,null,null,null,null,null,null,null,null,null,null,null,null,null,null,"Approach"]
[{"$f":"COUNTBLANK(I15:K23)","v":20},null,null,null,"Udfyld følgende farver:",null,null,null,null,null,null,null,null,null,null,null,null,null,"Holes to par",null,null,null,"Længde (m)","Antal","Afstand (m)"]
[{"$f":"SUM(L5:L23)","v":1},null,null,null,"Eagles",null,null,null,null,null,null,null,null,null,null,null,null,null,"Par 3",{"$f":"SUMIF(C:C,\"3\",E:E)/COUNTIF(C:C,3)","v":3},null,null,"45-70",{"$f":"COUNTIFS(R5:R23,\">=45\",R5:R23,\"<=70\")","v":0},{"$f":"IF(X30=0,\"\",AVERAGEIFS(S5:S23,R5:R23,\">=45\",R5:R23,\"<=70\"))","v":""}]
[null,null,null,null,"Birdies",null,null,null,null,null,null,null,null,null,null,null,null,null,"Par 4",{"$f":"SUMIF(C:C,\"4\",E:E)/COUNTIF(C:C,4)","v":4.3636363636363633},null,null,"71-90",{"$f":"COUNTIFS(R5:R23,\">=71\",R5:R23,\"<=90\")","v":0},{"$f":"IF(X31=0,\"\",AVERAGEIFS(S5:S23,R5:R23,\">=71\",R5:R23,\"<=90\"))","v":""}]
[null,null,null,null,"Bogeys",null,null,null,null,null,null,null,null,null,null,null,null,null,"Par 5",{"$f":"SUMIF(C:C,\"5\",E:E)/COUNTIF(C:C,5)","v":5},null,null,"91-115",{"$f":"COUNTIFS(R5:R23,\">=91\",R5:R23,\"<=115\")","v":0},{"$f":"IF(X32=0,\"\",AVERAGEIFS(S5:S23,R5:R23,\">=91\",R5:R23,\"<=115\"))","v":""}]
[null,null,null,null,"Doublebogeys eller værre",null,null,null,null,null,null,null,null,null,null,null,null,null,null,null,null,null,"116-140",{"$f":"COUNTIFS(R5:R23,\">=116\",R5:R23,\"<=140\")","v":0},{"$f":"IF(X33=0,\"\",AVERAGEIFS(S5:S23,R5:R23,\">=116\",R5:R23,\"<=140\"))","v":""}]
[null,null,null,null,null,null,null,null,null,null,null,null,null,null,null,null,null,null,"First 4",{"$f":"IF(E25=\"0\",\"\",SUM(E5:E8)-SUM(C5:C8))","v":2},null,null,"141-160",{"$f":"COUNTIFS(R5:R23,\">=141\",R5:R23,\"<=161\")","v":0},{"$f":"IF(X34=0,\"\",AVERAGEIFS(S5:S23,R5:R23,\">=141\",R5:R23,\"<=160\"))","v":""}]
[null,null,null,null,null,null,null,null,null,null,null,null,null,null,null,null,null,null,"Last 4",{"$f":"IF(E25=\"0\",\"\",SUM(E20:E23)-SUM(C20:C23))","v":0},null,null,"161-180",{"$f":"COUNTIFS(R5:R23,\">=161\",R5:R23,\"<=180\")","v":0},{"$f":"IF(X35=0,\"\",AVERAGEIFS(S5:S23,R5:R23,\">=161\",R5:R23,\"<=180\"))","v":""}]
[]
[null,null,null,null,null,null,null,null,null,null,null,null,null,null,null,null,null,null,null,null,null,null,"Putting"]
[null,null,null,null,null,null,null,null,null,null,null,null,null,null,null,null,null,null,null,null,null,null,"Længde (m)","Antal","Holet","Holet (%)"]
[null,null,null,null,null,null,null,null,null,null,null,null,null,null,null,null,null,null,null,null,null,null,"under 1 m",{"$f":"COUNTIFS(S5:S23,\">=0,1\",S5:S23,\"<=0,9\")","v":0},{"$f":"IF(X39=0,\"\",COUNTIFS(P5:P23,\"=1\",S5:S23,\"<1\"))","v":""},{"$f":"IF(X39=0,\"\",Y39/X39*100)","v":""}]
[null,null,null,null,null,null,null,null,null,null,null,null,null,null,null,null,null,null,null,null,null,null,"1 - 1,5",{"$f":"COUNTIFS(S5:S23,\">=1\",S5:S23,\"<=1,5\")","v":0},{"$f":"IF(X40=0,\"\",COUNTIFS(P5:P23,\"=1\",S5:S23,\">=1\",S5:S23,\"<=1,5\"))","v":""},{"$f":"IF(X40=0,\"\",Y40/X40*100)","v":""}]
[null,null,null,null,null,null,null,null,null,null,null,null,null,null,null,null,null,null,null,null,null,null,"1,5 - 3",{"$f":"COUNTIFS(S5:S23,\">=1,6\",S5:S23,\"<=3\")","v":0},{"$f":"IF(X41=0,\"\",COUNTIFS(P5:P23,\"=1\",S5:S23,\">=1,6\",S5:S23,\"<=3\"))","v":""},{"$f":"IF(X41=0,\"\",Y41/X41*100)","v":""}]
[null,null,null,null,null,null,null,null,null,null,null,null,null,null,null,null,null,null,null,null,null,null,"3 - 4,5",{"$f":"COUNTIFS(S5:S23,\">=3,1\",S5:S23,\"<=4,5\")","v":0},{"$f":"IF(X42=0,\"\",COUNTIFS(P5:P23,\"=1\",S5:S23,\">=3,1\",S5:S23,\"<=4,5\"))","v":""},""]
[null,null,null,null,null,null,null,null,null,null,null,null,null,null,null,null,null,null,null,null,null,null,"4,5 - 6",{"$f":"COUNTIFS(S5:S23,\">=4,6\",S5:S23,\"<=6\")","v":0},{"$f":"IF(X43=0,\"\",COUNTIFS(P5:P23,\"=1\",S5:S23,\">=4,6\",S5:S23,\"<=6\"))","v":""},""]
[null,null,null,null,null,null,null,null,null,null,null,null,null,null,null,null,null,null,null,null,null,null,"over 6 meter",{"$f":"COUNTIFS(S5:S23,\">6\")","v":0},{"$f":"IF(X44=0,\"\",COUNTIFS(P5:P23,\"=1\",S5:S23,\">6\"))","v":""},""]

{"sheet":"Runde 16","index":18,"n_rows":44,"n_cols":29,"rows_kept":44,"cut":false,"hidden":false,"merged":[]}
["Korsør Golf Klub - 18 huller - Gul tee",null,null,null,null,null,null,null,null,{"$f":"IF(E25=\"0\",\"0\",\"1\")","v":"1"},"Dato:","2010-07-22",null,"Handicap:",4,null,"ATS:",3,null,"Vejr:","Sol, frisk til hård vind, 22-25 grader",null,"Turnering:","Privat med Sacha"]
[]
[null,null,null,null,null,null,null,"Tee shot",null,null,"Fairway hits i %",null,null,"Bunker",null,null,null,"Approach shots"]
["Hul","Gul tee","Par","HCP","Score","Netto","Driver","Wood","Jern","Venstre","Midt","Højre","FB","GB","SS","Putts","GIR","Dist. to pin (m)","Dist. to hole (m)","% SS","% GIR","Putts/GIR","Eagles","Birdies","Bogeys","Værre","% Scramble","3+ Putts","% Driver/Fairwayhits"]
[1,307,4,11,4,4,1,null,null,null,null,1,null,null,null,2,1,85,6,null,null,{"$f":"IF(Q5=0,\"\",P5)","v":2},null,null,null,null,{"$f":"IF(AND(Q5=\"\",P5=1),1,\"\")","v":""},null,{"$f":"IF(AND(G5=\"\"),\"\",SUM(K5))","v":0}]
[2,323,4,5,3,3,1,null,null,null,1,null,null,null,null,1,1,94,3,null,null,1,null,null,null,null,"",null,1]
[3,138,3,15,3,3,null,null,null,null,null,null,null,null,null,2,1,131,5,null,null,2,null,null,null,null,"",null,""]
[4,310,4,13,5,5,null,null,1,null,1,null,null,1,null,2,null,null,null,null,null,"",null,null,null,null,"",null,""]
[5,431,5,3,4,3,1,null,null,null,1,null,null,null,null,1,1,15,2.5,null,null,1,null,null,null,null,"",null,1]
[6,312,4,9,4,4,1,null,null,null,1,null,null,null,null,2,1,74,4,null,null,2,null,null,null,null,"",null,1]
[7,498,5,1,5,4,null,null,1,null,1,null,null,null,null,2,1,76,5,null,null,2,null,null,null,null,"",null,""]
[8,138,3,17,3,3,null,null,null,null,null,null,null,null,null,1,null,null,null,null,null,"",null,null,null,null,1,null,""]
[9,310,4,7,5,5,null,1,null,null,1,null,null,null,null,2,null,null,null,null,null,"",null,null,null,null,"",null,""]
[null,{"$f":"SUM(B5:B13)","v":2767},{"$f":"SUM(C5:C13)","v":36},"UD",{"$f":"SUM(E5:E13)","v":36},{"$f":"SUM(F5:F13)","v":34},{"$f":"SUM(G5:G13)","v":4},{"$f":"SUM(H5:H13)","v":1},{"$f":"SUM(I5:I13)","v":2},{"$f":"IF((A28=27),\"\",(SUM(J5:J13)/SUM(J5:L13))*100)","v":0},{"$f":"IF((A28=27),\"\",(SUM(K5:K13)/SUM(J5:L13))*100)","v":85.714285714285708},{"$f":"IF((A28=27),\"\",(SUM(L5:L13)/SUM(J5:L13))*100)","v":14.285714285714285},{"$f":"SUM(M5:M13)","v":0},{"$f":"SUM(N5:N13)","v":1},{"$f":"SUM(O5:O13)","v":0},{"$f":"SUM(P5:P13)","v":15},{"$f":"SUM(Q5:Q13)","v":6},null,{"$f":"IF(Q14=0,0,SUM(S5:S13)/Q14)","v":4.25},null,null,{"$f":"SUM(V5:V13)","v":10},{"$f":"ColorFunction($E$30,$E$5:$E$13)","v":0},{"$f":"ColorFunction($E$31,$E$5:$E$13)","v":2},{"$f":"ColorFunction($E$32,$E$5:$E$13)","v":2},{"$f":"ColorFunction($E$33,$E$5:$E$13)","v":0},{"$f":"SUM(AA5:AA13)/(9-Q14)*100","v":33.333333333333329},{"$f":"COUNTIF(P5:P13,\">2\")","v":0},{"$f":"IF((G14=0),\"\",SUM(AC5:AC13)/G14*100)","v":75}]
[10,481,5,4,6,6,1,null,null,1,null,null,null,null,null,2,null,null,null,null,null,{"$f":"IF(Q15=0,\"\",P15)","v":""},null,null,null,null,{"$f":"IF(AND(Q15=\"\",P15=1),1,\"\")","v":""},null,{"$f":"IF(AND(G15=\"\"),\"\",SUM(K15))","v":0}]
[11,319,4,16,3,3,null,null,1,null,1,null,null,null,null,1,1,93,1.5,null,null,1,null,null,null,null,"",null,""]
[12,431,5,2,5,4,1,null,null,null,1,null,null,null,null,2,1,10,3,null,null,2,null,null,null,null,"",null,1]
[13,122,3,18,4,4,null,null,null,null,null,null,null,null,null,2,null,null,null,null,null,"",null,null,null,null,"",null,""]
[14,379,4,6,5,5,1,null,null,1,null,null,null,null,null,2,null,null,null,null,null,"",null,null,null,null,"",null,0]
[15,316,4,8,4,4,1,null,null,1,null,null,null,null,null,2,1,111,10,null,null,2,null,null,null,null,"",null,0]
[16,322,4,14,4,4,1,null,null,null,1,null,null,1,1,1,null,null,null,null,null,"",null,null,null,null,1,null,1]
[17,345,4,10,5,5,null,1,null,null,1,null,null,null,null,2,null,null,null,null,null,"",null,null,null,null,"",null,""]
[18,281,4,12,3,3,null,1,null,null,1,null,null,null,null,1,1,108,3.5,null,null,1,null,null,null,null,"",null,""]
[null,{"$f":"SUM(B15:B23)","v":2996},{"$f":"SUM(C15:C23)","v":37},"IND",{"$f":"SUM(E15:E23)","v":39},{"$f":"SUM(F15:F23)","v":38},{"$f":"SUM(G15:G23)","v":5},{"$f":"SUM(H15:H23)","v":2},{"$f":"SUM(I15:I23)","v":1},{"$f":"IF((A29=27),\"\",(SUM(J15:J23)/SUM(J15:L23))*100)","v":37.5},{"$f":"IF((A29=27),\"\",(SUM(K15:K23)/SUM(J15:L23))*100)","v":62.5},{"$f":"IF((A29=27),\"\",(SUM(L15:L23)/SUM(J15:L23))*100)","v":0},{"$f":"SUM(M15:M23)","v":0},{"$f":"SUM(N15:N23)","v":1},{"$f":"SUM(O15:O23)","v":1},{"$f":"SUM(P15:P23)","v":15},{"$f":"SUM(Q15:Q23)","v":4},null,{"$f":"IF(Q24=0,0,SUM(S15:S23)/Q24)","v":4.5},null,null,{"$f":"SUM(V15:V23)","v":6},{"$f":"ColorFunction($E$30,$E$15:$E$23)","v":0},{"$f":"ColorFunction($E$31,$E$15:$E$23)","v":2},{"$f":"ColorFunction($E$32,$E$15:$E$23)","v":4},{"$f":"ColorFunction($E$33,$E$15:$E$23)","v":0},{"$f":"SUM(AA15:AA23)/(9-Q24)*100","v":20},{"$f":"COUNTIF(P15:P23,\">2\")","v":0},{"$f":"IF((G24=0),\"\",SUM(AC15:AC23)/G24*100)","v":40}]
[null,{"$f":"SUM(B24,B14)","v":5763},{"$f":"SUM(C24,C14)","v":73},"TOTAL",{"$f":"IF(E14=0,\"0\",(E24+E14))","v":75},{"$f":"SUM(F14,F24)","v":72},{"$f":"SUM(G24,G14)","v":9},{"$f":"SUM(H24,H14)","v":3},{"$f":"SUM(I24,I14)","v":3},{"$f":"IF((A28=27),\"\",(SUM(J14,J24)/2))","v":18.75},{"$f":"IF((A28=27),\"\",(SUM(K14,K24)/2))","v":74.107142857142861},{"$f":"IF((A28=27),\"\",(SUM(L14,L24)/2))","v":7.1428571428571423},{"$f":"SUM(M24,M14)","v":0},{"$f":"SUM(N24,N14)","v":2},{"$f":"SUM(O24,O14)","v":1},{"$f":"IF(P14+P24=0,\"\",SUM(P24,P14))","v":30},{"$f":"IF(Q14+Q24=0,\"\",SUM(Q24,Q14))","v":10},null,{"$f":"IF(S14+S24=0,\"\",SUM(S24,S14)/2)","v":4.375},{"$f":"IF(N25=0,\"\",(O25)/N25*100)","v":50},{"$f":"IF(Q25=\"\",\"\",(Q25)/18*100)","v":55.555555555555557},{"$f":"IF(Q25=\"\",\"\",(V14+V24)/Q25)","v":1.6},{"$f":"SUM(W14,W24)","v":0},{"$f":"SUM(X14,X24)","v":4},{"$f":"SUM(Y14,Y24)","v":6},{"$f":"SUM(Z14,Z24)","v":0},{"$f":"SUM(AA14,AA24)/2","v":26.666666666666664},{"$f":"SUM(AB14,AB24)","v":0},{"$f":"SUM(AC24,AC14)/2","v":57.5}]
[]
[null,null,null,null,"Udfyld alle grønne felter med 1 for positiv eller antal i tal"]
[{"$f":"COUNTBLANK(I5:K13)","v":19},null,null,null,null,null,null,null,null,null,null,null,null,null,null,null,null,null,null,null,null,null,"Approach"]
[{"$f":"COUNTBLANK(I15:K23)","v":18},null,null,null,"Udfyld følgende farver:",null,null,null,null,null,null,null,null,null,null,null,null,null,"Holes to par",null,null,null,"Længde (m)","Antal","Afstand (m)"]
[{"$f":"SUM(L5:L23)","v":15.285714285714285},null,null,null,"Eagles",null,null,null,null,null,null,null,null,null,null,null,null,null,"Par 3",{"$f":"SUMIF(C:C,\"3\",E:E)/COUNTIF(C:C,3)","v":3.3333333333333335},null,null,"45-70",{"$f":"COUNTIFS(R5:R23,\">=45\",R5:R23,\"<=70\")","v":0},{"$f":"IF(X30=0,\"\",AVERAGEIFS(S5:S23,R5:R23,\">=45\",R5:R23,\"<=70\"))","v":""}]
[null,null,null,null,"Birdies",null,null,null,null,null,null,null,null,null,null,null,null,null,"Par 4",{"$f":"SUMIF(C:C,\"4\",E:E)/COUNTIF(C:C,4)","v":4.0909090909090908},null,null,"71-90",{"$f":"COUNTIFS(R5:R23,\">=71\",R5:R23,\"<=90\")","v":3},{"$f":"IF(X31=0,\"\",AVERAGEIFS(S5:S23,R5:R23,\">=71\",R5:R23,\"<=90\"))","v":5}]
[null,null,null,null,"Bogeys",null,null,null,null,null,null,null,null,null,null,null,null,null,"Par 5",{"$f":"SUMIF(C:C,\"5\",E:E)/COUNTIF(C:C,5)","v":5},null,null,"91-115",{"$f":"COUNTIFS(R5:R23,\">=91\",R5:R23,\"<=115\")","v":4},{"$f":"IF(X32=0,\"\",AVERAGEIFS(S5:S23,R5:R23,\">=91\",R5:R23,\"<=115\"))","v":4.5}]
[null,null,null,null,"Doublebogeys eller værre",null,null,null,null,null,null,null,null,null,null,null,null,null,null,null,null,null,"116-140",{"$f":"COUNTIFS(R5:R23,\">=116\",R5:R23,\"<=140\")","v":1},{"$f":"IF(X33=0,\"\",AVERAGEIFS(S5:S23,R5:R23,\">=116\",R5:R23,\"<=140\"))","v":5}]
[null,null,null,null,null,null,null,null,null,null,null,null,null,null,null,null,null,null,"First 4",{"$f":"IF(E25=\"0\",\"\",SUM(E5:E8)-SUM(C5:C8))","v":0},null,null,"141-160",{"$f":"COUNTIFS(R5:R23,\">=141\",R5:R23,\"<=161\")","v":0},{"$f":"IF(X34=0,\"\",AVERAGEIFS(S5:S23,R5:R23,\">=141\",R5:R23,\"<=160\"))","v":""}]
[null,null,null,null,null,null,null,null,null,null,null,null,null,null,null,null,null,null,"Last 4",{"$f":"IF(E25=\"0\",\"\",SUM(E20:E23)-SUM(C20:C23))","v":0},null,null,"161-180",{"$f":"COUNTIFS(R5:R23,\">=161\",R5:R23,\"<=180\")","v":0},{"$f":"IF(X35=0,\"\",AVERAGEIFS(S5:S23,R5:R23,\">=161\",R5:R23,\"<=180\"))","v":""}]
[]
[null,null,null,null,null,null,null,null,null,null,null,null,null,null,null,null,null,null,null,null,null,null,"Putting"]
[null,null,null,null,null,null,null,null,null,null,null,null,null,null,null,null,null,null,null,null,null,null,"Længde (m)","Antal","Holet","Holet (%)"]
[null,null,null,null,null,null,null,null,null,null,null,null,null,null,null,null,null,null,null,null,null,null,"under 1 m",{"$f":"COUNTIFS(S5:S23,\">=0,1\",S5:S23,\"<=0,9\")","v":0},{"$f":"IF(X39=0,\"\",COUNTIFS(P5:P23,\"=1\",S5:S23,\"<1\"))","v":""},{"$f":"IF(X39=0,\"\",Y39/X39*100)","v":""}]
[null,null,null,null,null,null,null,null,null,null,null,null,null,null,null,null,null,null,null,null,null,null,"1 - 1,5",{"$f":"COUNTIFS(S5:S23,\">=1\",S5:S23,\"<=1,5\")","v":1},{"$f":"IF(X40=0,\"\",COUNTIFS(P5:P23,\"=1\",S5:S23,\">=1\",S5:S23,\"<=1,5\"))","v":1},{"$f":"IF(X40=0,\"\",Y40/X40*100)","v":100}]
[null,null,null,null,null,null,null,null,null,null,null,null,null,null,null,null,null,null,null,null,null,null,"1,5 - 3",{"$f":"COUNTIFS(S5:S23,\">=1,6\",S5:S23,\"<=3\")","v":3},{"$f":"IF(X41=0,\"\",COUNTIFS(P5:P23,\"=1\",S5:S23,\">=1,6\",S5:S23,\"<=3\"))","v":2},{"$f":"IF(X41=0,\"\",Y41/X41*100)","v":66.666666666666657}]
[null,null,null,null,null,null,null,null,null,null,null,null,null,null,null,null,null,null,null,null,null,null,"3 - 4,5",{"$f":"COUNTIFS(S5:S23,\">=3,1\",S5:S23,\"<=4,5\")","v":3},{"$f":"IF(X42=0,\"\",COUNTIFS(P5:P23,\"=1\",S5:S23,\">=3,1\",S5:S23,\"<=4,5\"))","v":1},33.333333333333329]
[null,null,null,null,null,null,null,null,null,null,null,null,null,null,null,null,null,null,null,null,null,null,"4,5 - 6",{"$f":"COUNTIFS(S5:S23,\">=4,6\",S5:S23,\"<=6\")","v":3},{"$f":"IF(X43=0,\"\",COUNTIFS(P5:P23,\"=1\",S5:S23,\">=4,6\",S5:S23,\"<=6\"))","v":0},0]
[null,null,null,null,null,null,null,null,null,null,null,null,null,null,null,null,null,null,null,null,null,null,"over 6 meter",{"$f":"COUNTIFS(S5:S23,\">6\")","v":1},{"$f":"IF(X44=0,\"\",COUNTIFS(P5:P23,\"=1\",S5:S23,\">6\"))","v":0},0]

{"sheet":"Runde 17","index":19,"n_rows":44,"n_cols":29,"rows_kept":44,"cut":false,"hidden":false,"merged":[]}
["Korsør Golf Klub - 18 huller - Gul tee",null,null,null,null,null,null,null,null,{"$f":"IF(E25=\"0\",\"0\",\"1\")","v":"1"},"Dato:","2010-07-23",null,"Handicap:",4,null,"ATS:",3,null,"Vejr:","Skyet, 23 grader, svag vind",null,"Turnering:","Privat med Sacha"]
[]
[null,null,null,null,null,null,null,"Tee shot",null,null,"Fairway hits i %",null,null,"Bunker",null,null,null,"Approach shots"]
["Hul","Gul tee","Par","HCP","Score","Netto","Driver","Wood","Jern","Venstre","Midt","Højre","FB","GB","SS","Putts","GIR","Dist. to pin (m)","Dist. to hole (m)","% SS","% GIR","Putts/GIR","Eagles","Birdies","Bogeys","Værre","% Scramble","3+ Putts","% Driver/Fairwayhits"]
[1,307,4,11,5,5,1,null,null,1,null,null,null,null,null,3,1,77,8,null,null,{"$f":"IF(Q5=0,\"\",P5)","v":3},null,null,null,null,{"$f":"IF(AND(Q5=\"\",P5=1),1,\"\")","v":""},null,{"$f":"IF(AND(G5=\"\"),\"\",SUM(K5))","v":0}]
[2,323,4,5,4,4,1,null,null,null,1,null,null,null,null,2,1,56,3.5,null,null,2,null,null,null,null,"",null,1]
[3,138,3,15,3,3,null,null,null,null,null,null,null,null,null,2,1,131,4,null,null,2,null,null,null,null,"",null,""]
[4,310,4,13,4,4,null,null,1,null,1,null,null,null,null,1,null,null,null,null,null,"",null,null,null,null,1,null,""]
[5,431,5,3,4,3,1,null,null,null,1,null,null,null,null,2,1,179,5,null,null,2,null,null,null,null,"",null,1]
[6,312,4,9,3,3,null,1,null,null,1,null,null,null,null,1,1,93,2,null,null,1,null,null,null,null,"",null,""]
[7,498,5,1,5,4,null,null,1,null,1,null,null,null,null,2,1,85,6,null,null,2,null,null,null,null,"",null,""]
[8,138,3,17,3,3,null,null,null,null,null,null,null,null,null,2,1,139,7,null,null,2,null,null,null,null,"",null,""]
[9,310,4,7,5,5,null,1,null,null,1,null,null,null,null,3,1,89,5,null,null,3,null,null,null,null,"",null,""]
[null,{"$f":"SUM(B5:B13)","v":2767},{"$f":"SUM(C5:C13)","v":36},"UD",{"$f":"SUM(E5:E13)","v":36},{"$f":"SUM(F5:F13)","v":34},{"$f":"SUM(G5:G13)","v":3},{"$f":"SUM(H5:H13)","v":2},{"$f":"SUM(I5:I13)","v":2},{"$f":"IF((A28=27),\"\",(SUM(J5:J13)/SUM(J5:L13))*100)","v":14.285714285714285},{"$f":"IF((A28=27),\"\",(SUM(K5:K13)/SUM(J5:L13))*100)","v":85.714285714285708},{"$f":"IF((A28=27),\"\",(SUM(L5:L13)/SUM(J5:L13))*100)","v":0},{"$f":"SUM(M5:M13)","v":0},{"$f":"SUM(N5:N13)","v":0},{"$f":"SUM(O5:O13)","v":0},{"$f":"SUM(P5:P13)","v":18},{"$f":"SUM(Q5:Q13)","v":8},null,{"$f":"IF(Q14=0,0,SUM(S5:S13)/Q14)","v":5.0625},null,null,{"$f":"SUM(V5:V13)","v":17},{"$f":"ColorFunction($E$30,$E$5:$E$13)","v":0},{"$f":"ColorFunction($E$31,$E$5:$E$13)","v":2},{"$f":"ColorFunction($E$32,$E$5:$E$13)","v":2},{"$f":"ColorFunction($E$33,$E$5:$E$13)","v":0},{"$f":"SUM(AA5:AA13)/(9-Q14)*100","v":100},{"$f":"COUNTIF(P5:P13,\">2\")","v":2},{"$f":"IF((G14=0),\"\",SUM(AC5:AC13)/G14*100)","v":66.666666666666657}]
[10,481,5,4,5,5,1,null,null,null,1,null,null,null,null,2,1,54,4,null,null,{"$f":"IF(Q15=0,\"\",P15)","v":2},null,null,null,null,{"$f":"IF(AND(Q15=\"\",P15=1),1,\"\")","v":""},null,{"$f":"IF(AND(G15=\"\"),\"\",SUM(K15))","v":1}]
[11,319,4,16,4,4,null,null,1,null,1,null,null,null,null,2,1,139,6,null,null,2,null,null,null,null,"",null,""]
[12,431,5,2,4,3,1,null,null,null,null,1,null,null,null,1,1,74,1,null,null,1,null,null,null,null,"",null,0]
[13,122,3,18,2,2,null,null,null,null,null,null,null,null,null,1,1,132,2,null,null,1,null,null,null,null,"",null,""]
[14,379,4,6,4,4,1,null,null,null,1,null,null,null,null,2,1,139,1.5,null,null,2,null,null,null,null,"",null,1]
[15,316,4,8,4,4,1,null,null,1,null,null,null,null,null,2,1,108,5,null,null,2,null,null,null,null,"",null,0]
[16,322,4,14,4,4,1,null,null,null,1,null,null,null,null,2,1,88,6,null,null,2,null,null,null,null,"",null,1]
[17,345,4,10,4,4,null,null,1,null,1,null,null,null,null,2,1,148,4,null,null,2,null,null,null,null,"",null,""]
[18,281,4,12,5,5,null,1,null,null,1,null,null,null,null,3,1,91,5,null,null,3,null,null,null,null,"",null,""]
[null,{"$f":"SUM(B15:B23)","v":2996},{"$f":"SUM(C15:C23)","v":37},"IND",{"$f":"SUM(E15:E23)","v":36},{"$f":"SUM(F15:F23)","v":35},{"$f":"SUM(G15:G23)","v":5},{"$f":"SUM(H15:H23)","v":1},{"$f":"SUM(I15:I23)","v":2},{"$f":"IF((A29=27),\"\",(SUM(J15:J23)/SUM(J15:L23))*100)","v":12.5},{"$f":"IF((A29=27),\"\",(SUM(K15:K23)/SUM(J15:L23))*100)","v":75},{"$f":"IF((A29=27),\"\",(SUM(L15:L23)/SUM(J15:L23))*100)","v":12.5},{"$f":"SUM(M15:M23)","v":0},{"$f":"SUM(N15:N23)","v":0},{"$f":"SUM(O15:O23)","v":0},{"$f":"SUM(P15:P23)","v":17},{"$f":"SUM(Q15:Q23)","v":9},null,{"$f":"IF(Q24=0,0,SUM(S15:S23)/Q24)","v":3.8333333333333335},null,null,{"$f":"SUM(V15:V23)","v":17},{"$f":"ColorFunction($E$30,$E$15:$E$23)","v":0},{"$f":"ColorFunction($E$31,$E$15:$E$23)","v":2},{"$f":"ColorFunction($E$32,$E$15:$E$23)","v":1},{"$f":"ColorFunction($E$33,$E$15:$E$23)","v":0},null,{"$f":"COUNTIF(P15:P23,\">2\")","v":1},{"$f":"IF((G24=0),\"\",SUM(AC15:AC23)/G24*100)","v":60}]
[null,{"$f":"SUM(B24,B14)","v":5763},{"$f":"SUM(C24,C14)","v":73},"TOTAL",{"$f":"IF(E14=0,\"0\",(E24+E14))","v":72},{"$f":"SUM(F14,F24)","v":69},{"$f":"SUM(G24,G14)","v":8},{"$f":"SUM(H24,H14)","v":3},{"$f":"SUM(I24,I14)","v":4},{"$f":"IF((A28=27),\"\",(SUM(J14,J24)/2))","v":13.392857142857142},{"$f":"IF((A28=27),\"\",(SUM(K14,K24)/2))","v":80.357142857142861},{"$f":"IF((A28=27),\"\",(SUM(L14,L24)/2))","v":6.25},{"$f":"SUM(M24,M14)","v":0},{"$f":"SUM(N24,N14)","v":0},{"$f":"SUM(O24,O14)","v":0},{"$f":"IF(P14+P24=0,\"\",SUM(P24,P14))","v":35},{"$f":"IF(Q14+Q24=0,\"\",SUM(Q24,Q14))","v":17},null,{"$f":"IF(S14+S24=0,\"\",SUM(S24,S14)/2)","v":4.447916666666667},{"$f":"IF(N25=0,\"\",(O25)/N25*100)","v":""},{"$f":"IF(Q25=\"\",\"\",(Q25)/18*100)","v":94.444444444444443},{"$f":"IF(Q25=\"\",\"\",(V14+V24)/Q25)","v":2},{"$f":"SUM(W14,W24)","v":0},{"$f":"SUM(X14,X24)","v":4},{"$f":"SUM(Y14,Y24)","v":3},{"$f":"SUM(Z14,Z24)","v":0},100,{"$f":"SUM(AB14,AB24)","v":3},{"$f":"SUM(AC24,AC14)/2","v":63.333333333333329}]
[]
[null,null,null,null,"Udfyld alle grønne felter med 1 for positiv eller antal i tal"]
[{"$f":"COUNTBLANK(I5:K13)","v":18},null,null,null,null,null,null,null,null,null,null,null,null,null,null,null,null,null,null,null,null,null,"Approach"]
[{"$f":"COUNTBLANK(I15:K23)","v":18},null,null,null,"Udfyld følgende farver:",null,null,null,null,null,null,null,null,null,null,null,null,null,"Holes to par",null,null,null,"Længde (m)","Antal","Afstand (m)"]
[{"$f":"SUM(L5:L23)","v":1},null,null,null,"Eagles",null,null,null,null,null,null,null,null,null,null,null,null,null,"Par 3",{"$f":"SUMIF(C:C,\"3\",E:E)/COUNTIF(C:C,3)","v":2.6666666666666665},null,null,"45-70",{"$f":"COUNTIFS(R5:R23,\">=45\",R5:R23,\"<=70\")","v":2},{"$f":"IF(X30=0,\"\",AVERAGEIFS(S5:S23,R5:R23,\">=45\",R5:R23,\"<=70\"))","v":3.75}]
[null,null,null,null,"Birdies",null,null,null,null,null,null,null,null,null,null,null,null,null,"Par 4",{"$f":"SUMIF(C:C,\"4\",E:E)/COUNTIF(C:C,4)","v":4.1818181818181817},null,null,"71-90",{"$f":"COUNTIFS(R5:R23,\">=71\",R5:R23,\"<=90\")","v":5},{"$f":"IF(X31=0,\"\",AVERAGEIFS(S5:S23,R5:R23,\">=71\",R5:R23,\"<=90\"))","v":5.2}]
[null,null,null,null,"Bogeys",null,null,null,null,null,null,null,null,null,null,null,null,null,"Par 5",{"$f":"SUMIF(C:C,\"5\",E:E)/COUNTIF(C:C,5)","v":4.5},null,null,"91-115",{"$f":"COUNTIFS(R5:R23,\">=91\",R5:R23,\"<=115\")","v":3},{"$f":"IF(X32=0,\"\",AVERAGEIFS(S5:S23,R5:R23,\">=91\",R5:R23,\"<=115\"))","v":4}]
[null,null,null,null,"Doublebogeys eller værre",null,null,null,null,null,null,null,null,null,null,null,null,null,null,null,null,null,"116-140",{"$f":"COUNTIFS(R5:R23,\">=116\",R5:R23,\"<=140\")","v":5},{"$f":"IF(X33=0,\"\",AVERAGEIFS(S5:S23,R5:R23,\">=116\",R5:R23,\"<=140\"))","v":4.0999999999999996}]
[null,null,null,null,null,null,null,null,null,null,null,null,null,null,null,null,null,null,"First 4",{"$f":"IF(E25=\"0\",\"\",SUM(E5:E8)-SUM(C5:C8))","v":1},null,null,"141-160",{"$f":"COUNTIFS(R5:R23,\">=141\",R5:R23,\"<=161\")","v":1},{"$f":"IF(X34=0,\"\",AVERAGEIFS(S5:S23,R5:R23,\">=141\",R5:R23,\"<=160\"))","v":4}]
[null,null,null,null,null,null,null,null,null,null,null,null,null,null,null,null,null,null,"Last 4",{"$f":"IF(E25=\"0\",\"\",SUM(E20:E23)-SUM(C20:C23))","v":1},null,null,"161-180",{"$f":"COUNTIFS(R5:R23,\">=161\",R5:R23,\"<=180\")","v":1},{"$f":"IF(X35=0,\"\",AVERAGEIFS(S5:S23,R5:R23,\">=161\",R5:R23,\"<=180\"))","v":5}]
[]
[null,null,null,null,null,null,null,null,null,null,null,null,null,null,null,null,null,null,null,null,null,null,"Putting"]
[null,null,null,null,null,null,null,null,null,null,null,null,null,null,null,null,null,null,null,null,null,null,"Længde (m)","Antal","Holet","Holet (%)"]
[null,null,null,null,null,null,null,null,null,null,null,null,null,null,null,null,null,null,null,null,null,null,"under 1 m",{"$f":"COUNTIFS(S5:S23,\">=0,1\",S5:S23,\"<=0,9\")","v":0},{"$f":"IF(X39=0,\"\",COUNTIFS(P5:P23,\"=1\",S5:S23,\"<1\"))","v":""},{"$f":"IF(X39=0,\"\",Y39/X39*100)","v":""}]
[null,null,null,null,null,null,null,null,null,null,null,null,null,null,null,null,null,null,null,null,null,null,"1 - 1,5",{"$f":"COUNTIFS(S5:S23,\">=1\",S5:S23,\"<=1,5\")","v":2},{"$f":"IF(X40=0,\"\",COUNTIFS(P5:P23,\"=1\",S5:S23,\">=1\",S5:S23,\"<=1,5\"))","v":1},{"$f":"IF(X40=0,\"\",Y40/X40*100)","v":50}]
[null,null,null,null,null,null,null,null,null,null,null,null,null,null,null,null,null,null,null,null,null,null,"1,5 - 3",{"$f":"COUNTIFS(S5:S23,\">=1,6\",S5:S23,\"<=3\")","v":2},{"$f":"IF(X41=0,\"\",COUNTIFS(P5:P23,\"=1\",S5:S23,\">=1,6\",S5:S23,\"<=3\"))","v":2},{"$f":"IF(X41=0,\"\",Y41/X41*100)","v":100}]
[null,null,null,null,null,null,null,null,null,null,null,null,null,null,null,null,null,null,null,null,null,null,"3 - 4,5",{"$f":"COUNTIFS(S5:S23,\">=3,1\",S5:S23,\"<=4,5\")","v":4},{"$f":"IF(X42=0,\"\",COUNTIFS(P5:P23,\"=1\",S5:S23,\">=3,1\",S5:S23,\"<=4,5\"))","v":0},0]
[null,null,null,null,null,null,null,null,null,null,null,null,null,null,null,null,null,null,null,null,null,null,"4,5 - 6",{"$f":"COUNTIFS(S5:S23,\">=4,6\",S5:S23,\"<=6\")","v":8},{"$f":"IF(X43=0,\"\",COUNTIFS(P5:P23,\"=1\",S5:S23,\">=4,6\",S5:S23,\"<=6\"))","v":0},0]
[null,null,null,null,null,null,null,null,null,null,null,null,null,null,null,null,null,null,null,null,null,null,"over 6 meter",{"$f":"COUNTIFS(S5:S23,\">6\")","v":2},{"$f":"IF(X44=0,\"\",COUNTIFS(P5:P23,\"=1\",S5:S23,\">6\"))","v":0},0]

{"sheet":"Runde 18","index":20,"n_rows":44,"n_cols":29,"rows_kept":44,"cut":false,"hidden":false,"merged":[]}
["Korsør Golf Klub - 18 huller - Gul tee",null,null,null,null,null,null,null,null,{"$f":"IF(E25=\"0\",\"0\",\"1\")","v":"1"},"Dato:","2010-07-26",null,"Handicap:",4,null,"ATS:",3,null,"Vejr:","Sol, 22 grader, jævn vind",null,"Turnering:","Max Bank slagspil"]
[]
[null,null,null,null,null,null,null,"Tee shot",null,null,"Fairway hits i %",null,null,"Bunker",null,null,null,"Approach shots"]
["Hul","Gul tee","Par","HCP","Score","Netto","Driver","Wood","Jern","Venstre","Midt","Højre","FB","GB","SS","Putts","GIR","Dist. to pin (m)","Dist. to hole (m)","% SS","% GIR","Putts/GIR","Eagles","Birdies","Bogeys","Værre","% Scramble","3+ Putts","% Driver/Fairwayhits"]
[1,307,4,11,4,4,null,1,null,null,1,null,null,null,null,1,null,null,null,null,null,{"$f":"IF(Q5=0,\"\",P5)","v":""},null,null,null,null,{"$f":"IF(AND(Q5=\"\",P5=1),1,\"\")","v":1},null,{"$f":"IF(AND(G5=\"\"),\"\",SUM(K5))","v":""}]
[2,323,4,5,5,5,1,null,null,1,null,null,null,null,null,2,null,null,null,null,null,"",null,null,null,null,"",null,0]
[3,138,3,15,3,3,null,null,null,null,null,null,null,null,null,2,1,null,null,null,null,2,null,null,null,null,"",null,""]
[4,310,4,13,4,4,null,1,null,null,1,null,null,null,null,2,1,null,null,null,null,2,null,null,null,null,"",null,""]
[5,431,5,3,4,3,1,null,null,null,1,null,null,null,null,2,1,null,null,null,null,2,null,null,null,null,"",null,1]
[6,312,4,9,4,4,null,1,null,null,1,null,null,null,null,2,1,null,null,null,null,2,null,null,null,null,"",null,""]
[7,498,5,1,5,4,null,null,1,null,1,null,null,null,null,2,1,null,null,null,null,2,null,null,null,null,"",null,""]
[8,138,3,17,4,4,null,null,null,null,null,null,null,1,null,2,null,null,null,null,null,"",null,null,null,null,"",null,""]
[9,310,4,7,4,4,null,1,null,null,1,null,null,null,null,2,1,null,null,null,null,2,null,null,null,null,"",null,""]
[null,{"$f":"SUM(B5:B13)","v":2767},{"$f":"SUM(C5:C13)","v":36},"UD",{"$f":"SUM(E5:E13)","v":37},{"$f":"SUM(F5:F13)","v":35},{"$f":"SUM(G5:G13)","v":2},{"$f":"SUM(H5:H13)","v":4},{"$f":"SUM(I5:I13)","v":1},{"$f":"IF((A28=27),\"\",(SUM(J5:J13)/SUM(J5:L13))*100)","v":14.285714285714285},{"$f":"IF((A28=27),\"\",(SUM(K5:K13)/SUM(J5:L13))*100)","v":85.714285714285708},{"$f":"IF((A28=27),\"\",(SUM(L5:L13)/SUM(J5:L13))*100)","v":0},{"$f":"SUM(M5:M13)","v":0},{"$f":"SUM(N5:N13)","v":1},{"$f":"SUM(O5:O13)","v":0},{"$f":"SUM(P5:P13)","v":17},{"$f":"SUM(Q5:Q13)","v":6},null,{"$f":"IF(Q14=0,0,SUM(S5:S13)/Q14)","v":0},null,null,{"$f":"SUM(V5:V13)","v":12},{"$f":"ColorFunction($E$30,$E$5:$E$13)","v":0},{"$f":"ColorFunction($E$31,$E$5:$E$13)","v":1},{"$f":"ColorFunction($E$32,$E$5:$E$13)","v":2},{"$f":"ColorFunction($E$33,$E$5:$E$13)","v":0},{"$f":"SUM(AA5:AA13)/(9-Q14)*100","v":33.333333333333329},{"$f":"COUNTIF(P5:P13,\">2\")","v":0},{"$f":"IF((G14=0),\"\",SUM(AC5:AC13)/G14*100)","v":50}]
[10,481,5,4,5,5,1,null,null,null,1,null,null,null,null,2,1,null,null,null,null,{"$f":"IF(Q15=0,\"\",P15)","v":2},null,null,null,null,{"$f":"IF(AND(Q15=\"\",P15=1),1,\"\")","v":""},null,{"$f":"IF(AND(G15=\"\"),\"\",SUM(K15))","v":1}]
[11,319,4,16,5,5,null,1,null,null,1,null,null,null,null,2,null,null,null,null,null,"",null,null,null,null,"",null,""]
[12,431,5,2,5,4,1,null,null,null,1,null,null,null,null,2,1,null,null,null,null,2,null,null,null,null,"",null,1]
[13,122,3,18,3,3,null,null,null,null,null,null,null,null,null,2,1,null,null,null,null,2,null,null,null,null,"",null,""]
[14,379,4,6,5,5,1,null,null,1,null,null,null,null,null,3,1,null,null,null,null,3,null,null,null,null,"",null,0]
[15,316,4,8,5,5,1,null,null,null,null,1,null,null,null,2,null,null,null,null,null,"",null,null,null,null,"",null,0]
[16,322,4,14,4,4,null,1,null,null,1,null,null,null,null,2,1,null,null,null,null,2,null,null,null,null,"",null,""]
[17,345,4,10,5,5,null,1,null,null,1,null,null,null,null,3,1,null,null,null,null,3,null,null,null,null,"",null,""]
[18,281,4,12,3,3,null,1,null,null,1,null,null,null,null,1,1,null,null,null,null,1,null,null,null,null,"",null,""]
[null,{"$f":"SUM(B15:B23)","v":2996},{"$f":"SUM(C15:C23)","v":37},"IND",{"$f":"SUM(E15:E23)","v":40},{"$f":"SUM(F15:F23)","v":39},{"$f":"SUM(G15:G23)","v":4},{"$f":"SUM(H15:H23)","v":4},{"$f":"SUM(I15:I23)","v":0},{"$f":"IF((A29=27),\"\",(SUM(J15:J23)/SUM(J15:L23))*100)","v":12.5},{"$f":"IF((A29=27),\"\",(SUM(K15:K23)/SUM(J15:L23))*100)","v":75},{"$f":"IF((A29=27),\"\",(SUM(L15:L23)/SUM(J15:L23))*100)","v":12.5},{"$f":"SUM(M15:M23)","v":0},{"$f":"SUM(N15:N23)","v":0},{"$f":"SUM(O15:O23)","v":0},{"$f":"SUM(P15:P23)","v":19},{"$f":"SUM(Q15:Q23)","v":7},null,{"$f":"IF(Q24=0,0,SUM(S15:S23)/Q24)","v":0},null,null,{"$f":"SUM(V15:V23)","v":15},{"$f":"ColorFunction($E$30,$E$15:$E$23)","v":0},{"$f":"ColorFunction($E$31,$E$15:$E$23)","v":1},{"$f":"ColorFunction($E$32,$E$15:$E$23)","v":4},{"$f":"ColorFunction($E$33,$E$15:$E$23)","v":0},{"$f":"SUM(AA15:AA23)/(9-Q24)*100","v":0},{"$f":"COUNTIF(P15:P23,\">2\")","v":2},{"$f":"IF((G24=0),\"\",SUM(AC15:AC23)/G24*100)","v":50}]
[null,{"$f":"SUM(B24,B14)","v":5763},{"$f":"SUM(C24,C14)","v":73},"TOTAL",{"$f":"IF(E14=0,\"0\",(E24+E14))","v":77},{"$f":"SUM(F14,F24)","v":74},{"$f":"SUM(G24,G14)","v":6},{"$f":"SUM(H24,H14)","v":8},{"$f":"SUM(I24,I14)","v":1},{"$f":"IF((A28=27),\"\",(SUM(J14,J24)/2))","v":13.392857142857142},{"$f":"IF((A28=27),\"\",(SUM(K14,K24)/2))","v":80.357142857142861},{"$f":"IF((A28=27),\"\",(SUM(L14,L24)/2))","v":6.25},{"$f":"SUM(M24,M14)","v":0},{"$f":"SUM(N24,N14)","v":1},{"$f":"SUM(O24,O14)","v":0},{"$f":"IF(P14+P24=0,\"\",SUM(P24,P14))","v":36},{"$f":"IF(Q14+Q24=0,\"\",SUM(Q24,Q14))","v":13},null,{"$f":"IF(S14+S24=0,\"\",SUM(S24,S14)/2)","v":""},{"$f":"IF(N25=0,\"\",(O25)/N25*100)","v":0},{"$f":"IF(Q25=\"\",\"\",(Q25)/18*100)","v":72.222222222222214},{"$f":"IF(Q25=\"\",\"\",(V14+V24)/Q25)","v":2.0769230769230771},{"$f":"SUM(W14,W24)","v":0},{"$f":"SUM(X14,X24)","v":2},{"$f":"SUM(Y14,Y24)","v":6},{"$f":"SUM(Z14,Z24)","v":0},{"$f":"SUM(AA14,AA24)/2","v":16.666666666666664},{"$f":"SUM(AB14,AB24)","v":2},{"$f":"SUM(AC24,AC14)/2","v":50}]
[]
[null,null,null,null,"Udfyld alle grønne felter med 1 for positiv eller antal i tal"]
[{"$f":"COUNTBLANK(I5:K13)","v":19},null,null,null,null,null,null,null,null,null,null,null,null,null,null,null,null,null,null,null,null,null,"Approach"]
[{"$f":"COUNTBLANK(I15:K23)","v":20},null,null,null,"Udfyld følgende farver:",null,null,null,null,null,null,null,null,null,null,null,null,null,"Holes to par",null,null,null,"Længde (m)","Antal","Afstand (m)"]
[{"$f":"SUM(L5:L23)","v":1},null,null,null,"Eagles",null,null,null,null,null,null,null,null,null,null,null,null,null,"Par 3",{"$f":"SUMIF(C:C,\"3\",E:E)/COUNTIF(C:C,3)","v":3.3333333333333335},null,null,"45-70",{"$f":"COUNTIFS(R5:R23,\">=45\",R5:R23,\"<=70\")","v":0},{"$f":"IF(X30=0,\"\",AVERAGEIFS(S5:S23,R5:R23,\">=45\",R5:R23,\"<=70\"))","v":""}]
[null,null,null,null,"Birdies",null,null,null,null,null,null,null,null,null,null,null,null,null,"Par 4",{"$f":"SUMIF(C:C,\"4\",E:E)/COUNTIF(C:C,4)","v":4.3636363636363633},null,null,"71-90",{"$f":"COUNTIFS(R5:R23,\">=71\",R5:R23,\"<=90\")","v":0},{"$f":"IF(X31=0,\"\",AVERAGEIFS(S5:S23,R5:R23,\">=71\",R5:R23,\"<=90\"))","v":""}]
[null,null,null,null,"Bogeys",null,null,null,null,null,null,null,null,null,null,null,null,null,"Par 5",{"$f":"SUMIF(C:C,\"5\",E:E)/COUNTIF(C:C,5)","v":4.75},null,null,"91-115",{"$f":"COUNTIFS(R5:R23,\">=91\",R5:R23,\"<=115\")","v":0},{"$f":"IF(X32=0,\"\",AVERAGEIFS(S5:S23,R5:R23,\">=91\",R5:R23,\"<=115\"))","v":""}]
[null,null,null,null,"Doublebogeys eller værre",null,null,null,null,null,null,null,null,null,null,null,null,null,null,null,null,null,"116-140",{"$f":"COUNTIFS(R5:R23,\">=116\",R5:R23,\"<=140\")","v":0},{"$f":"IF(X33=0,\"\",AVERAGEIFS(S5:S23,R5:R23,\">=116\",R5:R23,\"<=140\"))","v":""}]
[null,null,null,null,null,null,null,null,null,null,null,null,null,null,null,null,null,null,"First 4",{"$f":"IF(E25=\"0\",\"\",SUM(E5:E8)-SUM(C5:C8))","v":1},null,null,"141-160",{"$f":"COUNTIFS(R5:R23,\">=141\",R5:R23,\"<=161\")","v":0},{"$f":"IF(X34=0,\"\",AVERAGEIFS(S5:S23,R5:R23,\">=141\",R5:R23,\"<=160\"))","v":""}]
[null,null,null,null,null,null,null,null,null,null,null,null,null,null,null,null,null,null,"Last 4",{"$f":"IF(E25=\"0\",\"\",SUM(E20:E23)-SUM(C20:C23))","v":1},null,null,"161-180",{"$f":"COUNTIFS(R5:R23,\">=161\",R5:R23,\"<=180\")","v":0},{"$f":"IF(X35=0,\"\",AVERAGEIFS(S5:S23,R5:R23,\">=161\",R5:R23,\"<=180\"))","v":""}]
[]
[null,null,null,null,null,null,null,null,null,null,null,null,null,null,null,null,null,null,null,null,null,null,"Putting"]
[null,null,null,null,null,null,null,null,null,null,null,null,null,null,null,null,null,null,null,null,null,null,"Længde (m)","Antal","Holet","Holet (%)"]
[null,null,null,null,null,null,null,null,null,null,null,null,null,null,null,null,null,null,null,null,null,null,"under 1 m",{"$f":"COUNTIFS(S5:S23,\">=0,1\",S5:S23,\"<=0,9\")","v":0},{"$f":"IF(X39=0,\"\",COUNTIFS(P5:P23,\"=1\",S5:S23,\"<1\"))","v":""},{"$f":"IF(X39=0,\"\",Y39/X39*100)","v":""}]
[null,null,null,null,null,null,null,null,null,null,null,null,null,null,null,null,null,null,null,null,null,null,"1 - 1,5",{"$f":"COUNTIFS(S5:S23,\">=1\",S5:S23,\"<=1,5\")","v":0},{"$f":"IF(X40=0,\"\",COUNTIFS(P5:P23,\"=1\",S5:S23,\">=1\",S5:S23,\"<=1,5\"))","v":""},{"$f":"IF(X40=0,\"\",Y40/X40*100)","v":""}]
[null,null,null,null,null,null,null,null,null,null,null,null,null,null,null,null,null,null,null,null,null,null,"1,5 - 3",{"$f":"COUNTIFS(S5:S23,\">=1,6\",S5:S23,\"<=3\")","v":0},{"$f":"IF(X41=0,\"\",COUNTIFS(P5:P23,\"=1\",S5:S23,\">=1,6\",S5:S23,\"<=3\"))","v":""},{"$f":"IF(X41=0,\"\",Y41/X41*100)","v":""}]
[null,null,null,null,null,null,null,null,null,null,null,null,null,null,null,null,null,null,null,null,null,null,"3 - 4,5",{"$f":"COUNTIFS(S5:S23,\">=3,1\",S5:S23,\"<=4,5\")","v":0},{"$f":"IF(X42=0,\"\",COUNTIFS(P5:P23,\"=1\",S5:S23,\">=3,1\",S5:S23,\"<=4,5\"))","v":""},""]
[null,null,null,null,null,null,null,null,null,null,null,null,null,null,null,null,null,null,null,null,null,null,"4,5 - 6",{"$f":"COUNTIFS(S5:S23,\">=4,6\",S5:S23,\"<=6\")","v":0},{"$f":"IF(X43=0,\"\",COUNTIFS(P5:P23,\"=1\",S5:S23,\">=4,6\",S5:S23,\"<=6\"))","v":""},""]
[null,null,null,null,null,null,null,null,null,null,null,null,null,null,null,null,null,null,null,null,null,null,"over 6 meter",{"$f":"COUNTIFS(S5:S23,\">6\")","v":0},{"$f":"IF(X44=0,\"\",COUNTIFS(P5:P23,\"=1\",S5:S23,\">6\"))","v":""},""]

{"sheet":"Runde 19","index":21,"n_rows":44,"n_cols":29,"rows_kept":44,"cut":false,"hidden":false,"merged":[]}
["Korsør Golf Klub - 18 huller - Gul tee",null,null,null,null,null,null,null,null,{"$f":"IF(E25=\"0\",\"0\",\"1\")","v":"1"},"Dato:","2010-07-27",null,"Handicap:",3.9,null,"ATS:",3,null,"Vejr:","Sol, 24 grader, svag vind",null,"Turnering:","Tirsdagsklub"]
[]
[null,null,null,null,null,null,null,"Tee shot",null,null,"Fairway hits i %",null,null,"Bunker",null,null,null,"Approach shots"]
["Hul","Gul tee","Par","HCP","Score","Netto","Driver","Wood","Jern","Venstre","Midt","Højre","FB","GB","SS","Putts","GIR","Dist. to pin (m)","Dist. to hole (m)","% SS","% GIR","Putts/GIR","Eagles","Birdies","Bogeys","Værre","% Scramble","3+ Putts","% Driver/Fairwayhits"]
[1,307,4,11,5,5,null,null,1,null,null,1,null,null,null,2,null,null,null,null,null,{"$f":"IF(Q5=0,\"\",P5)","v":""},null,null,null,null,{"$f":"IF(AND(Q5=\"\",P5=1),1,\"\")","v":""},null,{"$f":"IF(AND(G5=\"\"),\"\",SUM(K5))","v":""}]
[2,323,4,5,5,5,1,null,null,1,null,null,null,null,null,2,null,null,null,null,null,"",null,null,null,null,"",null,0]
[3,138,3,15,3,3,null,null,null,null,null,null,null,null,null,1,null,null,null,null,null,"",null,null,null,null,1,null,""]
[4,310,4,13,4,4,null,1,null,1,null,null,null,null,null,2,1,132,6,null,null,2,null,null,null,null,"",null,""]
[5,431,5,3,3,2,1,null,null,null,1,null,null,null,null,1,1,150,7,null,null,1,null,null,null,null,"",null,1]
[6,312,4,9,4,4,null,1,null,null,1,null,null,null,null,2,1,95,2,null,null,2,null,null,null,null,"",null,""]
[7,498,5,1,6,5,null,null,1,null,1,null,null,1,null,2,null,null,null,null,null,"",null,null,null,null,"",null,""]
[8,138,3,17,3,3,null,null,null,null,null,null,null,null,null,2,1,131,6,null,null,2,null,null,null,null,"",null,""]
[9,310,4,7,4,4,null,1,null,null,1,null,null,null,null,2,1,103,3,null,null,2,null,null,null,null,"",null,""]
[null,{"$f":"SUM(B5:B13)","v":2767},{"$f":"SUM(C5:C13)","v":36},"UD",{"$f":"SUM(E5:E13)","v":37},{"$f":"SUM(F5:F13)","v":35},{"$f":"SUM(G5:G13)","v":2},{"$f":"SUM(H5:H13)","v":3},{"$f":"SUM(I5:I13)","v":2},{"$f":"IF((A28=27),\"\",(SUM(J5:J13)/SUM(J5:L13))*100)","v":28.571428571428569},{"$f":"IF((A28=27),\"\",(SUM(K5:K13)/SUM(J5:L13))*100)","v":57.142857142857139},{"$f":"IF((A28=27),\"\",(SUM(L5:L13)/SUM(J5:L13))*100)","v":14.285714285714285},{"$f":"SUM(M5:M13)","v":0},{"$f":"SUM(N5:N13)","v":1},{"$f":"SUM(O5:O13)","v":0},{"$f":"SUM(P5:P13)","v":16},{"$f":"SUM(Q5:Q13)","v":5},null,{"$f":"IF(Q14=0,0,SUM(S5:S13)/Q14)","v":4.8},null,null,{"$f":"SUM(V5:V13)","v":9},{"$f":"ColorFunction($E$30,$E$5:$E$13)","v":1},{"$f":"ColorFunction($E$31,$E$5:$E$13)","v":0},{"$f":"ColorFunction($E$32,$E$5:$E$13)","v":3},{"$f":"ColorFunction($E$33,$E$5:$E$13)","v":0},{"$f":"SUM(AA5:AA13)/(9-Q14)*100","v":25},{"$f":"COUNTIF(P5:P13,\">2\")","v":0},{"$f":"IF((G14=0),\"\",SUM(AC5:AC13)/G14*100)","v":50}]
[10,481,5,4,4,4,1,null,null,null,1,null,null,null,null,2,1,213,12,null,null,{"$f":"IF(Q15=0,\"\",P15)","v":2},null,null,null,null,{"$f":"IF(AND(Q15=\"\",P15=1),1,\"\")","v":""},null,{"$f":"IF(AND(G15=\"\"),\"\",SUM(K15))","v":1}]
[11,319,4,16,5,5,null,1,null,null,1,null,null,1,null,1,null,null,null,null,null,"",null,null,null,null,1,null,""]
[12,431,5,2,5,4,1,null,null,1,null,null,null,null,null,1,null,null,null,null,null,"",null,null,null,null,1,null,0]
[13,122,3,18,2,2,null,null,null,null,null,null,null,null,null,1,1,108,3,null,null,1,null,null,null,null,"",null,""]
[14,379,4,6,5,5,1,null,null,null,null,1,null,null,null,2,null,null,null,null,null,"",null,null,null,null,"",null,0]
[15,316,4,8,4,4,1,null,null,null,1,null,null,null,null,2,1,64,6,null,null,2,null,null,null,null,"",null,1]
[16,322,4,14,4,4,null,1,null,null,1,null,null,null,null,2,1,125,5,null,null,2,null,null,null,null,"",null,""]
[17,345,4,10,4,4,null,1,null,1,null,null,null,null,null,2,1,155,5,null,null,2,null,null,null,null,"",null,""]
[18,281,4,12,5,5,null,1,null,1,null,null,null,null,null,2,null,null,null,null,null,"",null,null,null,null,"",null,""]
[null,{"$f":"SUM(B15:B23)","v":2996},{"$f":"SUM(C15:C23)","v":37},"IND",{"$f":"SUM(E15:E23)","v":38},{"$f":"SUM(F15:F23)","v":37},{"$f":"SUM(G15:G23)","v":4},{"$f":"SUM(H15:H23)","v":4},{"$f":"SUM(I15:I23)","v":0},{"$f":"IF((A29=27),\"\",(SUM(J15:J23)/SUM(J15:L23))*100)","v":37.5},{"$f":"IF((A29=27),\"\",(SUM(K15:K23)/SUM(J15:L23))*100)","v":50},{"$f":"IF((A29=27),\"\",(SUM(L15:L23)/SUM(J15:L23))*100)","v":12.5},{"$f":"SUM(M15:M23)","v":0},{"$f":"SUM(N15:N23)","v":1},{"$f":"SUM(O15:O23)","v":0},{"$f":"SUM(P15:P23)","v":15},{"$f":"SUM(Q15:Q23)","v":5},null,{"$f":"IF(Q24=0,0,SUM(S15:S23)/Q24)","v":6.2},null,null,{"$f":"SUM(V15:V23)","v":9},{"$f":"ColorFunction($E$30,$E$15:$E$23)","v":0},{"$f":"ColorFunction($E$31,$E$15:$E$23)","v":2},{"$f":"ColorFunction($E$32,$E$15:$E$23)","v":3},{"$f":"ColorFunction($E$33,$E$15:$E$23)","v":0},{"$f":"SUM(AA15:AA23)/(9-Q24)*100","v":50},{"$f":"COUNTIF(P15:P23,\">2\")","v":0},{"$f":"IF((G24=0),\"\",SUM(AC15:AC23)/G24*100)","v":50}]
[null,{"$f":"SUM(B24,B14)","v":5763},{"$f":"SUM(C24,C14)","v":73},"TOTAL",{"$f":"IF(E14=0,\"0\",(E24+E14))","v":75},{"$f":"SUM(F14,F24)","v":72},{"$f":"SUM(G24,G14)","v":6},{"$f":"SUM(H24,H14)","v":7},{"$f":"SUM(I24,I14)","v":2},{"$f":"IF((A28=27),\"\",(SUM(J14,J24)/2))","v":33.035714285714285},{"$f":"IF((A28=27),\"\",(SUM(K14,K24)/2))","v":53.571428571428569},{"$f":"IF((A28=27),\"\",(SUM(L14,L24)/2))","v":13.392857142857142},{"$f":"SUM(M24,M14)","v":0},{"$f":"SUM(N24,N14)","v":2},{"$f":"SUM(O24,O14)","v":0},{"$f":"IF(P14+P24=0,\"\",SUM(P24,P14))","v":31},{"$f":"IF(Q14+Q24=0,\"\",SUM(Q24,Q14))","v":10},null,{"$f":"IF(S14+S24=0,\"\",SUM(S24,S14)/2)","v":5.5},{"$f":"IF(N25=0,\"\",(O25)/N25*100)","v":0},{"$f":"IF(Q25=\"\",\"\",(Q25)/18*100)","v":55.555555555555557},{"$f":"IF(Q25=\"\",\"\",(V14+V24)/Q25)","v":1.8},{"$f":"SUM(W14,W24)","v":1},{"$f":"SUM(X14,X24)","v":2},{"$f":"SUM(Y14,Y24)","v":6},{"$f":"SUM(Z14,Z24)","v":0},{"$f":"SUM(AA14,AA24)/2","v":37.5},{"$f":"SUM(AB14,AB24)","v":0},{"$f":"SUM(AC24,AC14)/2","v":50}]
[]
[null,null,null,null,"Udfyld alle grønne felter med 1 for positiv eller antal i tal"]
[{"$f":"COUNTBLANK(I5:K13)","v":19},null,null,null,null,null,null,null,null,null,null,null,null,null,null,null,null,null,null,null,null,null,"Approach"]
[{"$f":"COUNTBLANK(I15:K23)","v":20},null,null,null,"Udfyld følgende farver:",null,null,null,null,null,null,null,null,null,null,null,null,null,"Holes to par",null,null,null,"Længde (m)","Antal","Afstand (m)"]
[{"$f":"SUM(L5:L23)","v":16.285714285714285},null,null,null,"Eagles",null,null,null,null,null,null,null,null,null,null,null,null,null,"Par 3",{"$f":"SUMIF(C:C,\"3\",E:E)/COUNTIF(C:C,3)","v":2.6666666666666665},null,null,"45-70",{"$f":"COUNTIFS(R5:R23,\">=45\",R5:R23,\"<=70\")","v":1},{"$f":"IF(X30=0,\"\",AVERAGEIFS(S5:S23,R5:R23,\">=45\",R5:R23,\"<=70\"))","v":6}]
[null,null,null,null,"Birdies",null,null,null,null,null,null,null,null,null,null,null,null,null,"Par 4",{"$f":"SUMIF(C:C,\"4\",E:E)/COUNTIF(C:C,4)","v":4.4545454545454541},null,null,"71-90",{"$f":"COUNTIFS(R5:R23,\">=71\",R5:R23,\"<=90\")","v":0},{"$f":"IF(X31=0,\"\",AVERAGEIFS(S5:S23,R5:R23,\">=71\",R5:R23,\"<=90\"))","v":""}]
[null,null,null,null,"Bogeys",null,null,null,null,null,null,null,null,null,null,null,null,null,"Par 5",{"$f":"SUMIF(C:C,\"5\",E:E)/COUNTIF(C:C,5)","v":4.5},null,null,"91-115",{"$f":"COUNTIFS(R5:R23,\">=91\",R5:R23,\"<=115\")","v":3},{"$f":"IF(X32=0,\"\",AVERAGEIFS(S5:S23,R5:R23,\">=91\",R5:R23,\"<=115\"))","v":2.6666666666666665}]
[null,null,null,null,"Doublebogeys eller værre",null,null,null,null,null,null,null,null,null,null,null,null,null,null,null,null,null,"116-140",{"$f":"COUNTIFS(R5:R23,\">=116\",R5:R23,\"<=140\")","v":3},{"$f":"IF(X33=0,\"\",AVERAGEIFS(S5:S23,R5:R23,\">=116\",R5:R23,\"<=140\"))","v":5.666666666666667}]
[null,null,null,null,null,null,null,null,null,null,null,null,null,null,null,null,null,null,"First 4",{"$f":"IF(E25=\"0\",\"\",SUM(E5:E8)-SUM(C5:C8))","v":2},null,null,"141-160",{"$f":"COUNTIFS(R5:R23,\">=141\",R5:R23,\"<=161\")","v":2},{"$f":"IF(X34=0,\"\",AVERAGEIFS(S5:S23,R5:R23,\">=141\",R5:R23,\"<=160\"))","v":6}]
[null,null,null,null,null,null,null,null,null,null,null,null,null,null,null,null,null,null,"Last 4",{"$f":"IF(E25=\"0\",\"\",SUM(E20:E23)-SUM(C20:C23))","v":1},null,null,"161-180",{"$f":"COUNTIFS(R5:R23,\">=161\",R5:R23,\"<=180\")","v":0},{"$f":"IF(X35=0,\"\",AVERAGEIFS(S5:S23,R5:R23,\">=161\",R5:R23,\"<=180\"))","v":""}]
[]
[null,null,null,null,null,null,null,null,null,null,null,null,null,null,null,null,null,null,null,null,null,null,"Putting"]
[null,null,null,null,null,null,null,null,null,null,null,null,null,null,null,null,null,null,null,null,null,null,"Længde (m)","Antal","Holet","Holet (%)"]
[null,null,null,null,null,null,null,null,null,null,null,null,null,null,null,null,null,null,null,null,null,null,"under 1 m",{"$f":"COUNTIFS(S5:S23,\">=0,1\",S5:S23,\"<=0,9\")","v":0},{"$f":"IF(X39=0,\"\",COUNTIFS(P5:P23,\"=1\",S5:S23,\"<1\"))","v":""},{"$f":"IF(X39=0,\"\",Y39/X39*100)","v":""}]
[null,null,null,null,null,null,null,null,null,null,null,null,null,null,null,null,null,null,null,null,null,null,"1 - 1,5",{"$f":"COUNTIFS(S5:S23,\">=1\",S5:S23,\"<=1,5\")","v":0},{"$f":"IF(X40=0,\"\",COUNTIFS(P5:P23,\"=1\",S5:S23,\">=1\",S5:S23,\"<=1,5\"))","v":""},{"$f":"IF(X40=0,\"\",Y40/X40*100)","v":""}]
[null,null,null,null,null,null,null,null,null,null,null,null,null,null,null,null,null,null,null,null,null,null,"1,5 - 3",{"$f":"COUNTIFS(S5:S23,\">=1,6\",S5:S23,\"<=3\")","v":3},{"$f":"IF(X41=0,\"\",COUNTIFS(P5:P23,\"=1\",S5:S23,\">=1,6\",S5:S23,\"<=3\"))","v":1},{"$f":"IF(X41=0,\"\",Y41/X41*100)","v":33.333333333333329}]
[null,null,null,null,null,null,null,null,null,null,null,null,null,null,null,null,null,null,null,null,null,null,"3 - 4,5",{"$f":"COUNTIFS(S5:S23,\">=3,1\",S5:S23,\"<=4,5\")","v":0},{"$f":"IF(X42=0,\"\",COUNTIFS(P5:P23,\"=1\",S5:S23,\">=3,1\",S5:S23,\"<=4,5\"))","v":""},""]
[null,null,null,null,null,null,null,null,null,null,null,null,null,null,null,null,null,null,null,null,null,null,"4,5 - 6",{"$f":"COUNTIFS(S5:S23,\">=4,6\",S5:S23,\"<=6\")","v":6},{"$f":"IF(X43=0,\"\",COUNTIFS(P5:P23,\"=1\",S5:S23,\">=4,6\",S5:S23,\"<=6\"))","v":0},0]
[null,null,null,null,null,null,null,null,null,null,null,null,null,null,null,null,null,null,null,null,null,null,"over 6 meter",{"$f":"COUNTIFS(S5:S23,\">6\")","v":2},{"$f":"IF(X44=0,\"\",COUNTIFS(P5:P23,\"=1\",S5:S23,\">6\"))","v":1},50]

{"sheet":"Runde 20","index":22,"n_rows":44,"n_cols":29,"rows_kept":44,"cut":false,"hidden":false,"merged":[]}
["Korsør Golf Klub - 18 huller - Gul tee",null,null,null,null,null,null,null,null,{"$f":"IF(E25=\"0\",\"0\",\"1\")","v":"1"},"Dato:","2010-06-28",null,"Handicap:",4,null,"ATS:",3,null,"Vejr:","24 grader, sol og svag til jævn vind",null,"Turnering:","Punkt1 Bestball med Jan"]
[]
[null,null,null,null,null,null,null,"Tee shot",null,null,"Fairway hits i %",null,null,"Bunker",null,null,null,"Approach shots"]
["Hul","Gul tee","Par","HCP","Score","Netto","Driver","Wood","Jern","Venstre","Midt","Højre","FB","GB","SS","Putts","GIR","Dist. to pin (m)","Dist. to hole (m)","% SS","% GIR","Putts/GIR","Eagles","Birdies","Bogeys","Værre","% Scramble","3+ Putts","% Driver/Fairwayhits"]
[1,307,4,11,4,4,1,null,null,null,1,null,null,null,null,2,1,37,5,null,null,{"$f":"IF(Q5=0,\"\",P5)","v":2},null,null,null,null,{"$f":"IF(AND(Q5=\"\",P5=1),1,\"\")","v":""},null,{"$f":"IF(AND(G5=\"\"),\"\",SUM(K5))","v":1}]
[2,323,4,5,3,3,1,null,null,null,1,null,null,null,null,1,1,79,2,null,null,1,null,null,null,null,"",null,1]
[3,138,3,15,3,3,null,null,null,null,null,null,null,null,null,2,1,128,4,null,null,2,null,null,null,null,"",null,""]
[4,310,4,13,4,4,null,1,null,null,1,null,null,null,null,2,1,131,6,null,null,2,null,null,null,null,"",null,""]
[5,431,5,3,4,3,1,null,null,null,1,null,null,null,null,1,1,10,2,null,null,1,null,null,null,null,"",null,1]
[6,312,4,9,4,4,null,1,null,null,1,null,null,null,null,2,1,124,6,null,null,2,null,null,null,null,"",null,""]
[7,498,5,1,5,4,null,null,1,null,1,null,null,null,null,2,1,101,7,null,null,2,null,null,null,null,"",null,""]
[8,138,3,17,3,3,null,null,null,null,null,null,null,null,null,2,1,132,5,null,null,2,null,null,null,null,"",null,""]
[9,310,4,7,4,4,null,1,null,null,1,null,null,null,null,2,1,102,3,null,null,2,null,null,null,null,"",null,""]
[null,{"$f":"SUM(B5:B13)","v":2767},{"$f":"SUM(C5:C13)","v":36},"UD",{"$f":"SUM(E5:E13)","v":34},{"$f":"SUM(F5:F13)","v":32},{"$f":"SUM(G5:G13)","v":3},{"$f":"SUM(H5:H13)","v":3},{"$f":"SUM(I5:I13)","v":1},{"$f":"IF((A28=27),\"\",(SUM(J5:J13)/SUM(J5:L13))*100)","v":0},{"$f":"IF((A28=27),\"\",(SUM(K5:K13)/SUM(J5:L13))*100)","v":100},{"$f":"IF((A28=27),\"\",(SUM(L5:L13)/SUM(J5:L13))*100)","v":0},{"$f":"SUM(M5:M13)","v":0},{"$f":"SUM(N5:N13)","v":0},{"$f":"SUM(O5:O13)","v":0},{"$f":"SUM(P5:P13)","v":16},{"$f":"SUM(Q5:Q13)","v":9},null,{"$f":"IF(Q14=0,0,SUM(S5:S13)/Q14)","v":4.4444444444444446},null,null,{"$f":"SUM(V5:V13)","v":16},{"$f":"ColorFunction($E$30,$E$5:$E$13)","v":0},{"$f":"ColorFunction($E$31,$E$5:$E$13)","v":2},{"$f":"ColorFunction($E$32,$E$5:$E$13)","v":0},{"$f":"ColorFunction($E$33,$E$5:$E$13)","v":0},null,{"$f":"COUNTIF(P5:P13,\">2\")","v":0},{"$f":"IF((G14=0),\"\",SUM(AC5:AC13)/G14*100)","v":100}]
[10,481,5,4,5,5,1,null,null,null,1,null,null,null,null,2,1,15,2,null,null,{"$f":"IF(Q15=0,\"\",P15)","v":2},null,null,null,null,{"$f":"IF(AND(Q15=\"\",P15=1),1,\"\")","v":""},null,{"$f":"IF(AND(G15=\"\"),\"\",SUM(K15))","v":1}]
[11,319,4,16,3,3,null,1,null,null,1,null,null,null,null,1,1,93,1.5,null,null,1,null,null,null,null,"",null,""]
[12,431,5,2,4,3,1,null,null,null,1,null,null,null,null,1,1,10,1.5,null,null,1,null,null,null,null,"",null,1]
[13,122,3,18,2,2,null,null,null,null,null,null,null,null,null,1,1,111,5,null,null,1,null,null,null,null,"",null,""]
[14,379,4,6,4,4,1,null,null,null,1,null,null,null,null,2,1,143,8,null,null,2,null,null,null,null,"",null,1]
[15,316,4,8,7,7,1,null,null,null,null,1,null,null,null,2,null,null,null,null,null,"",null,null,null,null,"",null,0]
[16,322,4,14,3,3,null,1,null,null,1,null,null,null,null,1,1,94,2,null,null,1,null,null,null,null,"",null,""]
[17,345,4,10,4,4,null,1,null,null,1,null,null,null,null,2,1,161,4,null,null,2,null,null,null,null,"",null,""]
[18,281,4,12,4,4,null,1,null,null,1,null,null,null,null,1,null,null,null,null,null,"",null,null,null,null,1,null,""]
[null,{"$f":"SUM(B15:B23)","v":2996},{"$f":"SUM(C15:C23)","v":37},"IND",{"$f":"SUM(E15:E23)","v":36},{"$f":"SUM(F15:F23)","v":35},{"$f":"SUM(G15:G23)","v":4},{"$f":"SUM(H15:H23)","v":4},{"$f":"SUM(I15:I23)","v":0},{"$f":"IF((A29=27),\"\",(SUM(J15:J23)/SUM(J15:L23))*100)","v":0},{"$f":"IF((A29=27),\"\",(SUM(K15:K23)/SUM(J15:L23))*100)","v":87.5},{"$f":"IF((A29=27),\"\",(SUM(L15:L23)/SUM(J15:L23))*100)","v":12.5},{"$f":"SUM(M15:M23)","v":0},{"$f":"SUM(N15:N23)","v":0},{"$f":"SUM(O15:O23)","v":0},{"$f":"SUM(P15:P23)","v":13},{"$f":"SUM(Q15:Q23)","v":7},null,{"$f":"IF(Q24=0,0,SUM(S15:S23)/Q24)","v":3.4285714285714284},null,null,{"$f":"SUM(V15:V23)","v":10},{"$f":"ColorFunction($E$30,$E$15:$E$23)","v":0},{"$f":"ColorFunction($E$31,$E$15:$E$23)","v":4},{"$f":"ColorFunction($E$32,$E$15:$E$23)","v":0},{"$f":"ColorFunction($E$33,$E$15:$E$23)","v":1},{"$f":"SUM(AA15:AA23)/(9-Q24)*100","v":50},{"$f":"COUNTIF(P15:P23,\">2\")","v":0},{"$f":"IF((G24=0),\"\",SUM(AC15:AC23)/G24*100)","v":75}]
[null,{"$f":"SUM(B24,B14)","v":5763},{"$f":"SUM(C24,C14)","v":73},"TOTAL",{"$f":"IF(E14=0,\"0\",(E24+E14))","v":70},{"$f":"SUM(F14,F24)","v":67},{"$f":"SUM(G24,G14)","v":7},{"$f":"SUM(H24,H14)","v":7},{"$f":"SUM(I24,I14)","v":1},{"$f":"IF((A28=27),\"\",(SUM(J14,J24)/2))","v":0},{"$f":"IF((A28=27),\"\",(SUM(K14,K24)/2))","v":93.75},{"$f":"IF((A28=27),\"\",(SUM(L14,L24)/2))","v":6.25},{"$f":"SUM(M24,M14)","v":0},{"$f":"SUM(N24,N14)","v":0},{"$f":"SUM(O24,O14)","v":0},{"$f":"IF(P14+P24=0,\"\",SUM(P24,P14))","v":29},{"$f":"IF(Q14+Q24=0,\"\",SUM(Q24,Q14))","v":16},null,{"$f":"IF(S14+S24=0,\"\",SUM(S24,S14)/2)","v":3.9365079365079367},{"$f":"IF(N25=0,\"\",(O25)/N25*100)","v":""},{"$f":"IF(Q25=\"\",\"\",(Q25)/18*100)","v":88.888888888888886},{"$f":"IF(Q25=\"\",\"\",(V14+V24)/Q25)","v":1.625},{"$f":"SUM(W14,W24)","v":0},{"$f":"SUM(X14,X24)","v":6},{"$f":"SUM(Y14,Y24)","v":0},{"$f":"SUM(Z14,Z24)","v":1},50,{"$f":"SUM(AB14,AB24)","v":0},{"$f":"SUM(AC24,AC14)/2","v":87.5}]
[]
[null,null,null,null,"Udfyld alle grønne felter med 1 for positiv eller antal i tal"]
[{"$f":"COUNTBLANK(I5:K13)","v":19},null,null,null,null,null,null,null,null,null,null,null,null,null,null,null,null,null,null,null,null,null,"Approach"]
[{"$f":"COUNTBLANK(I15:K23)","v":20},null,null,null,"Udfyld følgende farver:",null,null,null,null,null,null,null,null,null,null,null,null,null,"Holes to par",null,null,null,"Længde (m)","Antal","Afstand (m)"]
[{"$f":"SUM(L5:L23)","v":1},null,null,null,"Eagles",null,null,null,null,null,null,null,null,null,null,null,null,null,"Par 3",{"$f":"SUMIF(C:C,\"3\",E:E)/COUNTIF(C:C,3)","v":2.6666666666666665},null,null,"45-70",{"$f":"COUNTIFS(R5:R23,\">=45\",R5:R23,\"<=70\")","v":0},{"$f":"IF(X30=0,\"\",AVERAGEIFS(S5:S23,R5:R23,\">=45\",R5:R23,\"<=70\"))","v":""}]
[null,null,null,null,"Birdies",null,null,null,null,null,null,null,null,null,null,null,null,null,"Par 4",{"$f":"SUMIF(C:C,\"4\",E:E)/COUNTIF(C:C,4)","v":4},null,null,"71-90",{"$f":"COUNTIFS(R5:R23,\">=71\",R5:R23,\"<=90\")","v":1},{"$f":"IF(X31=0,\"\",AVERAGEIFS(S5:S23,R5:R23,\">=71\",R5:R23,\"<=90\"))","v":2}]
[null,null,null,null,"Bogeys",null,null,null,null,null,null,null,null,null,null,null,null,null,"Par 5",{"$f":"SUMIF(C:C,\"5\",E:E)/COUNTIF(C:C,5)","v":4.5},null,null,"91-115",{"$f":"COUNTIFS(R5:R23,\">=91\",R5:R23,\"<=115\")","v":5},{"$f":"IF(X32=0,\"\",AVERAGEIFS(S5:S23,R5:R23,\">=91\",R5:R23,\"<=115\"))","v":3.7}]
[null,null,null,null,"Doublebogeys eller værre",null,null,null,null,null,null,null,null,null,null,null,null,null,null,null,null,null,"116-140",{"$f":"COUNTIFS(R5:R23,\">=116\",R5:R23,\"<=140\")","v":4},{"$f":"IF(X33=0,\"\",AVERAGEIFS(S5:S23,R5:R23,\">=116\",R5:R23,\"<=140\"))","v":5.25}]
[null,null,null,null,null,null,null,null,null,null,null,null,null,null,null,null,null,null,"First 4",{"$f":"IF(E25=\"0\",\"\",SUM(E5:E8)-SUM(C5:C8))","v":-1},null,null,"141-160",{"$f":"COUNTIFS(R5:R23,\">=141\",R5:R23,\"<=161\")","v":2},{"$f":"IF(X34=0,\"\",AVERAGEIFS(S5:S23,R5:R23,\">=141\",R5:R23,\"<=160\"))","v":8}]
[null,null,null,null,null,null,null,null,null,null,null,null,null,null,null,null,null,null,"Last 4",{"$f":"IF(E25=\"0\",\"\",SUM(E20:E23)-SUM(C20:C23))","v":2},null,null,"161-180",{"$f":"COUNTIFS(R5:R23,\">=161\",R5:R23,\"<=180\")","v":1},{"$f":"IF(X35=0,\"\",AVERAGEIFS(S5:S23,R5:R23,\">=161\",R5:R23,\"<=180\"))","v":4}]
[]
[null,null,null,null,null,null,null,null,null,null,null,null,null,null,null,null,null,null,null,null,null,null,"Putting"]
[null,null,null,null,null,null,null,null,null,null,null,null,null,null,null,null,null,null,null,null,null,null,"Længde (m)","Antal","Holet","Holet (%)"]
[null,null,null,null,null,null,null,null,null,null,null,null,null,null,null,null,null,null,null,null,null,null,"under 1 m",{"$f":"COUNTIFS(S5:S23,\">=0,1\",S5:S23,\"<=0,9\")","v":0},{"$f":"IF(X39=0,\"\",COUNTIFS(P5:P23,\"=1\",S5:S23,\"<1\"))","v":""},{"$f":"IF(X39=0,\"\",Y39/X39*100)","v":""}]
[null,null,null,null,null,null,null,null,null,null,null,null,null,null,null,null,null,null,null,null,null,null,"1 - 1,5",{"$f":"COUNTIFS(S5:S23,\">=1\",S5:S23,\"<=1,5\")","v":2},{"$f":"IF(X40=0,\"\",COUNTIFS(P5:P23,\"=1\",S5:S23,\">=1\",S5:S23,\"<=1,5\"))","v":2},{"$f":"IF(X40=0,\"\",Y40/X40*100)","v":100}]
[null,null,null,null,null,null,null,null,null,null,null,null,null,null,null,null,null,null,null,null,null,null,"1,5 - 3",{"$f":"COUNTIFS(S5:S23,\">=1,6\",S5:S23,\"<=3\")","v":5},{"$f":"IF(X41=0,\"\",COUNTIFS(P5:P23,\"=1\",S5:S23,\">=1,6\",S5:S23,\"<=3\"))","v":3},{"$f":"IF(X41=0,\"\",Y41/X41*100)","v":60}]
[null,null,null,null,null,null,null,null,null,null,null,null,null,null,null,null,null,null,null,null,null,null,"3 - 4,5",{"$f":"COUNTIFS(S5:S23,\">=3,1\",S5:S23,\"<=4,5\")","v":3},{"$f":"IF(X42=0,\"\",COUNTIFS(P5:P23,\"=1\",S5:S23,\">=3,1\",S5:S23,\"<=4,5\"))","v":0},0]
[null,null,null,null,null,null,null,null,null,null,null,null,null,null,null,null,null,null,null,null,null,null,"4,5 - 6",{"$f":"COUNTIFS(S5:S23,\">=4,6\",S5:S23,\"<=6\")","v":5},{"$f":"IF(X43=0,\"\",COUNTIFS(P5:P23,\"=1\",S5:S23,\">=4,6\",S5:S23,\"<=6\"))","v":1},20]
[null,null,null,null,null,null,null,null,null,null,null,null,null,null,null,null,null,null,null,null,null,null,"over 6 meter",{"$f":"COUNTIFS(S5:S23,\">6\")","v":2},{"$f":"IF(X44=0,\"\",COUNTIFS(P5:P23,\"=1\",S5:S23,\">6\"))","v":0},0]

{"sheet":"Runde 21","index":23,"n_rows":44,"n_cols":29,"rows_kept":44,"cut":false,"hidden":false,"merged":[]}
["Korsør Golf Klub - 18 huller - Gul tee",null,null,null,null,null,null,null,null,{"$f":"IF(E25=\"0\",\"0\",\"1\")","v":"1"},"Dato:","2010-07-29",null,"Handicap:",4,null,"ATS:",3,null,"Vejr:","Skyet, 20 grader, frisk til hård vind",null,"Turnering:","Golf og Ski, festugen"]
[]
[null,null,null,null,null,null,null,"Tee shot",null,null,"Fairway hits i %",null,null,"Bunker",null,null,null,"Approach shots"]
["Hul","Gul tee","Par","HCP","Score","Netto","Driver","Wood","Jern","Venstre","Midt","Højre","FB","GB","SS","Putts","GIR","Dist. to pin (m)","Dist. to hole (m)","% SS","% GIR","Putts/GIR","Eagles","Birdies","Bogeys","Værre","% Scramble","3+ Putts","% Driver/Fairwayhits"]
[1,307,4,11,4,4,1,null,null,null,1,null,null,null,null,2,1,null,null,null,null,{"$f":"IF(Q5=0,\"\",P5)","v":2},null,null,null,null,{"$f":"IF(AND(Q5=\"\",P5=1),1,\"\")","v":""},null,{"$f":"IF(AND(G5=\"\"),\"\",SUM(K5))","v":1}]
[2,323,4,5,4,4,1,null,null,null,1,null,null,null,null,2,1,null,null,null,null,2,null,null,null,null,"",null,1]
[3,138,3,15,4,4,null,null,null,null,null,null,null,null,null,2,null,null,null,null,null,"",null,null,null,null,"",null,""]
[4,310,4,13,4,4,null,null,1,null,1,null,null,null,null,2,1,null,null,null,null,2,null,null,null,null,"",null,""]
[5,431,5,3,4,3,1,null,null,null,1,null,null,null,null,1,1,null,null,null,null,1,null,null,null,null,"",null,1]
[6,312,4,9,4,4,1,null,null,null,1,null,null,null,null,2,1,null,null,null,null,2,null,null,null,null,"",null,1]
[7,498,5,1,6,5,null,null,1,null,1,null,null,null,null,1,null,null,null,null,null,"",null,null,null,null,1,null,""]
[8,138,3,17,4,4,null,null,null,null,null,null,null,null,null,2,null,null,null,null,null,"",null,null,null,null,"",null,""]
[9,310,4,7,4,4,null,1,null,null,1,null,null,null,null,1,null,null,null,null,null,"",null,null,null,null,1,null,""]
[null,{"$f":"SUM(B5:B13)","v":2767},{"$f":"SUM(C5:C13)","v":36},"UD",{"$f":"SUM(E5:E13)","v":38},{"$f":"SUM(F5:F13)","v":36},{"$f":"SUM(G5:G13)","v":4},{"$f":"SUM(H5:H13)","v":1},{"$f":"SUM(I5:I13)","v":2},{"$f":"IF((A28=27),\"\",(SUM(J5:J13)/SUM(J5:L13))*100)","v":0},{"$f":"IF((A28=27),\"\",(SUM(K5:K13)/SUM(J5:L13))*100)","v":100},{"$f":"IF((A28=27),\"\",(SUM(L5:L13)/SUM(J5:L13))*100)","v":0},{"$f":"SUM(M5:M13)","v":0},{"$f":"SUM(N5:N13)","v":0},{"$f":"SUM(O5:O13)","v":0},{"$f":"SUM(P5:P13)","v":15},{"$f":"SUM(Q5:Q13)","v":5},null,{"$f":"IF(Q14=0,0,SUM(S5:S13)/Q14)","v":0},null,null,{"$f":"SUM(V5:V13)","v":9},{"$f":"ColorFunction($E$30,$E$5:$E$13)","v":0},{"$f":"ColorFunction($E$31,$E$5:$E$13)","v":1},{"$f":"ColorFunction($E$32,$E$5:$E$13)","v":3},{"$f":"ColorFunction($E$33,$E$5:$E$13)","v":0},{"$f":"SUM(AA5:AA13)/(9-Q14)*100","v":50},{"$f":"COUNTIF(P5:P13,\">2\")","v":0},{"$f":"IF((G14=0),\"\",SUM(AC5:AC13)/G14*100)","v":100}]
[10,481,5,4,6,6,1,null,null,null,1,null,null,1,null,1,null,null,null,null,null,{"$f":"IF(Q15=0,\"\",P15)","v":""},null,null,null,null,{"$f":"IF(AND(Q15=\"\",P15=1),1,\"\")","v":1},null,{"$f":"IF(AND(G15=\"\"),\"\",SUM(K15))","v":1}]
[11,319,4,16,4,4,null,1,null,null,1,null,null,null,null,2,1,null,null,null,null,2,null,null,null,null,"",null,""]
[12,431,5,2,4,3,1,null,null,null,1,null,null,null,null,1,1,null,null,null,null,1,null,null,null,null,"",null,1]
[13,122,3,18,4,4,null,null,null,null,null,null,null,null,null,3,1,null,null,null,null,3,null,null,null,null,"",null,""]
[14,379,4,6,3,3,1,null,null,null,1,null,null,null,null,1,1,null,null,null,null,1,null,null,null,null,"",null,1]
[15,316,4,8,4,4,1,null,null,1,null,null,null,null,null,2,1,null,null,null,null,2,null,null,null,null,"",null,0]
[16,322,4,14,4,4,1,null,null,null,1,null,null,null,null,2,1,null,null,null,null,2,null,null,null,null,"",null,1]
[17,345,4,10,4,4,null,1,null,null,1,null,null,null,null,2,1,null,null,null,null,2,null,null,null,null,"",null,""]
[18,281,4,12,4,4,null,1,null,null,1,null,null,null,null,2,1,null,null,null,null,2,null,null,null,null,"",null,""]
[null,{"$f":"SUM(B15:B23)","v":2996},{"$f":"SUM(C15:C23)","v":37},"IND",{"$f":"SUM(E15:E23)","v":37},{"$f":"SUM(F15:F23)","v":36},{"$f":"SUM(G15:G23)","v":5},{"$f":"SUM(H15:H23)","v":3},{"$f":"SUM(I15:I23)","v":0},{"$f":"IF((A29=27),\"\",(SUM(J15:J23)/SUM(J15:L23))*100)","v":12.5},{"$f":"IF((A29=27),\"\",(SUM(K15:K23)/SUM(J15:L23))*100)","v":87.5},{"$f":"IF((A29=27),\"\",(SUM(L15:L23)/SUM(J15:L23))*100)","v":0},{"$f":"SUM(M15:M23)","v":0},{"$f":"SUM(N15:N23)","v":1},{"$f":"SUM(O15:O23)","v":0},{"$f":"SUM(P15:P23)","v":16},{"$f":"SUM(Q15:Q23)","v":8},null,{"$f":"IF(Q24=0,0,SUM(S15:S23)/Q24)","v":0},null,null,{"$f":"SUM(V15:V23)","v":15},{"$f":"ColorFunction($E$30,$E$15:$E$23)","v":0},{"$f":"ColorFunction($E$31,$E$15:$E$23)","v":2},{"$f":"ColorFunction($E$32,$E$15:$E$23)","v":1},{"$f":"ColorFunction($E$33,$E$15:$E$23)","v":0},{"$f":"SUM(AA15:AA23)/(9-Q24)*100","v":100},{"$f":"COUNTIF(P15:P23,\">2\")","v":1},{"$f":"IF((G24=0),\"\",SUM(AC15:AC23)/G24*100)","v":80}]
[null,{"$f":"SUM(B24,B14)","v":5763},{"$f":"SUM(C24,C14)","v":73},"TOTAL",{"$f":"IF(E14=0,\"0\",(E24+E14))","v":75},{"$f":"SUM(F14,F24)","v":72},{"$f":"SUM(G24,G14)","v":9},{"$f":"SUM(H24,H14)","v":4},{"$f":"SUM(I24,I14)","v":2},{"$f":"IF((A28=27),\"\",(SUM(J14,J24)/2))","v":6.25},{"$f":"IF((A28=27),\"\",(SUM(K14,K24)/2))","v":93.75},{"$f":"IF((A28=27),\"\",(SUM(L14,L24)/2))","v":0},{"$f":"SUM(M24,M14)","v":0},{"$f":"SUM(N24,N14)","v":1},{"$f":"SUM(O24,O14)","v":0},{"$f":"IF(P14+P24=0,\"\",SUM(P24,P14))","v":31},{"$f":"IF(Q14+Q24=0,\"\",SUM(Q24,Q14))","v":13},null,{"$f":"IF(S14+S24=0,\"\",SUM(S24,S14)/2)","v":""},{"$f":"IF(N25=0,\"\",(O25)/N25*100)","v":0},{"$f":"IF(Q25=\"\",\"\",(Q25)/18*100)","v":72.222222222222214},{"$f":"IF(Q25=\"\",\"\",(V14+V24)/Q25)","v":1.8461538461538463},{"$f":"SUM(W14,W24)","v":0},{"$f":"SUM(X14,X24)","v":3},{"$f":"SUM(Y14,Y24)","v":4},{"$f":"SUM(Z14,Z24)","v":0},{"$f":"SUM(AA14,AA24)/2","v":75},{"$f":"SUM(AB14,AB24)","v":1},{"$f":"SUM(AC24,AC14)/2","v":90}]
[]
[null,null,null,null,"Udfyld alle grønne felter med 1 for positiv eller antal i tal"]
[{"$f":"COUNTBLANK(I5:K13)","v":18},null,null,null,null,null,null,null,null,null,null,null,null,null,null,null,null,null,null,null,null,null,"Approach"]
[{"$f":"COUNTBLANK(I15:K23)","v":19},null,null,null,"Udfyld følgende farver:",null,null,null,null,null,null,null,null,null,null,null,null,null,"Holes to par",null,null,null,"Længde (m)","Antal","Afstand (m)"]
[{"$f":"SUM(L5:L23)","v":0},null,null,null,"Eagles",null,null,null,null,null,null,null,null,null,null,null,null,null,"Par 3",{"$f":"SUMIF(C:C,\"3\",E:E)/COUNTIF(C:C,3)","v":4},null,null,"45-70",{"$f":"COUNTIFS(R5:R23,\">=45\",R5:R23,\"<=70\")","v":0},{"$f":"IF(X30=0,\"\",AVERAGEIFS(S5:S23,R5:R23,\">=45\",R5:R23,\"<=70\"))","v":""}]
[null,null,null,null,"Birdies",null,null,null,null,null,null,null,null,null,null,null,null,null,"Par 4",{"$f":"SUMIF(C:C,\"4\",E:E)/COUNTIF(C:C,4)","v":3.9090909090909092},null,null,"71-90",{"$f":"COUNTIFS(R5:R23,\">=71\",R5:R23,\"<=90\")","v":0},{"$f":"IF(X31=0,\"\",AVERAGEIFS(S5:S23,R5:R23,\">=71\",R5:R23,\"<=90\"))","v":""}]
[null,null,null,null,"Bogeys",null,null,null,null,null,null,null,null,null,null,null,null,null,"Par 5",{"$f":"SUMIF(C:C,\"5\",E:E)/COUNTIF(C:C,5)","v":5},null,null,"91-115",{"$f":"COUNTIFS(R5:R23,\">=91\",R5:R23,\"<=115\")","v":0},{"$f":"IF(X32=0,\"\",AVERAGEIFS(S5:S23,R5:R23,\">=91\",R5:R23,\"<=115\"))","v":""}]
[null,null,null,null,"Doublebogeys eller værre",null,null,null,null,null,null,null,null,null,null,null,null,null,null,null,null,null,"116-140",{"$f":"COUNTIFS(R5:R23,\">=116\",R5:R23,\"<=140\")","v":0},{"$f":"IF(X33=0,\"\",AVERAGEIFS(S5:S23,R5:R23,\">=116\",R5:R23,\"<=140\"))","v":""}]
[null,null,null,null,null,null,null,null,null,null,null,null,null,null,null,null,null,null,"First 4",{"$f":"IF(E25=\"0\",\"\",SUM(E5:E8)-SUM(C5:C8))","v":1},null,null,"141-160",{"$f":"COUNTIFS(R5:R23,\">=141\",R5:R23,\"<=161\")","v":0},{"$f":"IF(X34=0,\"\",AVERAGEIFS(S5:S23,R5:R23,\">=141\",R5:R23,\"<=160\"))","v":""}]
[null,null,null,null,null,null,null,null,null,null,null,null,null,null,null,null,null,null,"Last 4",{"$f":"IF(E25=\"0\",\"\",SUM(E20:E23)-SUM(C20:C23))","v":0},null,null,"161-180",{"$f":"COUNTIFS(R5:R23,\">=161\",R5:R23,\"<=180\")","v":0},{"$f":"IF(X35=0,\"\",AVERAGEIFS(S5:S23,R5:R23,\">=161\",R5:R23,\"<=180\"))","v":""}]
[]
[null,null,null,null,null,null,null,null,null,null,null,null,null,null,null,null,null,null,null,null,null,null,"Putting"]
[null,null,null,null,null,null,null,null,null,null,null,null,null,null,null,null,null,null,null,null,null,null,"Længde (m)","Antal","Holet","Holet (%)"]
[null,null,null,null,null,null,null,null,null,null,null,null,null,null,null,null,null,null,null,null,null,null,"under 1 m",{"$f":"COUNTIFS(S5:S23,\">=0,1\",S5:S23,\"<=0,9\")","v":0},{"$f":"IF(X39=0,\"\",COUNTIFS(P5:P23,\"=1\",S5:S23,\"<1\"))","v":""},{"$f":"IF(X39=0,\"\",Y39/X39*100)","v":""}]
[null,null,null,null,null,null,null,null,null,null,null,null,null,null,null,null,null,null,null,null,null,null,"1 - 1,5",{"$f":"COUNTIFS(S5:S23,\">=1\",S5:S23,\"<=1,5\")","v":0},{"$f":"IF(X40=0,\"\",COUNTIFS(P5:P23,\"=1\",S5:S23,\">=1\",S5:S23,\"<=1,5\"))","v":""},{"$f":"IF(X40=0,\"\",Y40/X40*100)","v":""}]
[null,null,null,null,null,null,null,null,null,null,null,null,null,null,null,null,null,null,null,null,null,null,"1,5 - 3",{"$f":"COUNTIFS(S5:S23,\">=1,6\",S5:S23,\"<=3\")","v":0},{"$f":"IF(X41=0,\"\",COUNTIFS(P5:P23,\"=1\",S5:S23,\">=1,6\",S5:S23,\"<=3\"))","v":""},{"$f":"IF(X41=0,\"\",Y41/X41*100)","v":""}]
[null,null,null,null,null,null,null,null,null,null,null,null,null,null,null,null,null,null,null,null,null,null,"3 - 4,5",{"$f":"COUNTIFS(S5:S23,\">=3,1\",S5:S23,\"<=4,5\")","v":0},{"$f":"IF(X42=0,\"\",COUNTIFS(P5:P23,\"=1\",S5:S23,\">=3,1\",S5:S23,\"<=4,5\"))","v":""},""]
[null,null,null,null,null,null,null,null,null,null,null,null,null,null,null,null,null,null,null,null,null,null,"4,5 - 6",{"$f":"COUNTIFS(S5:S23,\">=4,6\",S5:S23,\"<=6\")","v":0},{"$f":"IF(X43=0,\"\",COUNTIFS(P5:P23,\"=1\",S5:S23,\">=4,6\",S5:S23,\"<=6\"))","v":""},""]
[null,null,null,null,null,null,null,null,null,null,null,null,null,null,null,null,null,null,null,null,null,null,"over 6 meter",{"$f":"COUNTIFS(S5:S23,\">6\")","v":0},{"$f":"IF(X44=0,\"\",COUNTIFS(P5:P23,\"=1\",S5:S23,\">6\"))","v":""},""]

{"sheet":"Runde 22","index":24,"n_rows":44,"n_cols":29,"rows_kept":44,"cut":false,"hidden":false,"merged":[]}
["Korsør Golf Klub - 18 huller - Gul tee",null,null,null,null,null,null,null,null,{"$f":"IF(E25=\"0\",\"0\",\"1\")","v":"1"},"Dato:","2010-07-31",null,"Handicap:",3.9,null,"ATS:",3,null,"Vejr:","Sol, 20 grader, hård vind",null,"Turnering:","Flagspil festugen"]
[]
[null,null,null,null,null,null,null,"Tee shot",null,null,"Fairway hits i %",null,null,"Bunker",null,null,null,"Approach shots"]
["Hul","Gul tee","Par","HCP","Score","Netto","Driver","Wood","Jern","Venstre","Midt","Højre","FB","GB","SS","Putts","GIR","Dist. to pin (m)","Dist. to hole (m)","% SS","% GIR","Putts/GIR","Eagles","Birdies","Bogeys","Værre","% Scramble","3+ Putts","% Driver/Fairwayhits"]
[1,307,4,11,3,3,1,null,null,null,1,null,null,null,null,1,1,null,null,null,null,{"$f":"IF(Q5=0,\"\",P5)","v":1},null,null,null,null,{"$f":"IF(AND(Q5=\"\",P5=1),1,\"\")","v":""},null,{"$f":"IF(AND(G5=\"\"),\"\",SUM(K5))","v":1}]
[2,323,4,5,5,5,1,null,null,1,null,null,null,null,null,2,null,null,null,null,null,"",null,null,null,null,"",null,0]
[3,138,3,15,3,3,null,null,null,null,null,null,null,null,null,1,null,null,null,null,null,"",null,null,null,null,1,null,""]
[4,310,4,13,4,4,null,1,null,null,1,null,null,null,null,1,null,null,null,null,null,"",null,null,null,null,1,null,""]
[5,431,5,3,6,5,1,null,null,null,1,null,null,null,null,2,null,null,null,null,null,"",null,null,null,null,"",null,1]
[6,312,4,9,3,3,1,null,null,null,1,null,null,null,null,1,1,null,null,null,null,1,null,null,null,null,"",null,1]
[7,498,5,1,5,4,null,null,1,null,1,null,null,null,null,1,null,null,null,null,null,"",null,null,null,null,1,null,""]
[8,138,3,17,3,3,null,null,null,null,null,null,null,null,null,2,1,null,null,null,null,2,null,null,null,null,"",null,""]
[9,310,4,7,4,4,null,1,null,null,1,null,null,null,null,1,null,null,null,null,null,"",null,null,null,null,1,null,""]
[null,{"$f":"SUM(B5:B13)","v":2767},{"$f":"SUM(C5:C13)","v":36},"UD",{"$f":"SUM(E5:E13)","v":36},{"$f":"SUM(F5:F13)","v":34},{"$f":"SUM(G5:G13)","v":4},{"$f":"SUM(H5:H13)","v":2},{"$f":"SUM(I5:I13)","v":1},{"$f":"IF((A28=27),\"\",(SUM(J5:J13)/SUM(J5:L13))*100)","v":14.285714285714285},{"$f":"IF((A28=27),\"\",(SUM(K5:K13)/SUM(J5:L13))*100)","v":85.714285714285708},{"$f":"IF((A28=27),\"\",(SUM(L5:L13)/SUM(J5:L13))*100)","v":0},{"$f":"SUM(M5:M13)","v":0},{"$f":"SUM(N5:N13)","v":0},{"$f":"SUM(O5:O13)","v":0},{"$f":"SUM(P5:P13)","v":12},{"$f":"SUM(Q5:Q13)","v":3},null,{"$f":"IF(Q14=0,0,SUM(S5:S13)/Q14)","v":0},null,null,{"$f":"SUM(V5:V13)","v":4},{"$f":"ColorFunction($E$30,$E$5:$E$13)","v":0},{"$f":"ColorFunction($E$31,$E$5:$E$13)","v":2},{"$f":"ColorFunction($E$32,$E$5:$E$13)","v":2},{"$f":"ColorFunction($E$33,$E$5:$E$13)","v":0},{"$f":"SUM(AA5:AA13)/(9-Q14)*100","v":66.666666666666657},{"$f":"COUNTIF(P5:P13,\">2\")","v":0},{"$f":"IF((G14=0),\"\",SUM(AC5:AC13)/G14*100)","v":75}]
[10,481,5,4,5,5,1,null,null,null,1,null,null,null,null,1,null,null,null,null,null,{"$f":"IF(Q15=0,\"\",P15)","v":""},null,null,null,null,{"$f":"IF(AND(Q15=\"\",P15=1),1,\"\")","v":1},null,{"$f":"IF(AND(G15=\"\"),\"\",SUM(K15))","v":1}]
[11,319,4,16,4,4,null,1,null,null,1,null,null,null,null,2,1,null,null,null,null,2,null,null,null,null,"",null,""]
[12,431,5,2,5,4,1,null,null,null,1,null,null,null,null,1,null,null,null,null,null,"",null,null,null,null,1,null,1]
[13,122,3,18,4,4,null,null,null,null,null,null,null,null,null,2,null,null,null,null,null,"",null,null,null,null,"",null,""]
[14,379,4,6,4,4,1,null,null,null,1,null,null,null,null,2,1,null,null,null,null,2,null,null,null,null,"",null,1]
[15,316,4,8,5,5,1,null,null,1,null,null,null,null,null,2,null,null,null,null,null,"",null,null,null,null,"",null,0]
[16,322,4,14,3,3,null,1,null,null,1,null,null,null,null,1,1,null,null,null,null,1,null,null,null,null,"",null,""]
[17,345,4,10,4,4,null,1,null,null,1,null,null,null,null,2,1,null,null,null,null,2,null,null,null,null,"",null,""]
[18,281,4,12,7,7,null,1,null,1,null,null,null,null,null,2,null,null,null,null,null,"",null,null,null,null,"",null,""]
[null,{"$f":"SUM(B15:B23)","v":2996},{"$f":"SUM(C15:C23)","v":37},"IND",{"$f":"SUM(E15:E23)","v":41},{"$f":"SUM(F15:F23)","v":40},{"$f":"SUM(G15:G23)","v":4},{"$f":"SUM(H15:H23)","v":4},{"$f":"SUM(I15:I23)","v":0},{"$f":"IF((A29=27),\"\",(SUM(J15:J23)/SUM(J15:L23))*100)","v":25},{"$f":"IF((A29=27),\"\",(SUM(K15:K23)/SUM(J15:L23))*100)","v":75},{"$f":"IF((A29=27),\"\",(SUM(L15:L23)/SUM(J15:L23))*100)","v":0},{"$f":"SUM(M15:M23)","v":0},{"$f":"SUM(N15:N23)","v":0},{"$f":"SUM(O15:O23)","v":0},{"$f":"SUM(P15:P23)","v":15},{"$f":"SUM(Q15:Q23)","v":4},null,{"$f":"IF(Q24=0,0,SUM(S15:S23)/Q24)","v":0},null,null,{"$f":"SUM(V15:V23)","v":7},{"$f":"ColorFunction($E$30,$E$15:$E$23)","v":0},{"$f":"ColorFunction($E$31,$E$15:$E$23)","v":1},{"$f":"ColorFunction($E$32,$E$15:$E$23)","v":2},{"$f":"ColorFunction($E$33,$E$15:$E$23)","v":1},{"$f":"SUM(AA15:AA23)/(9-Q24)*100","v":40},{"$f":"COUNTIF(P15:P23,\">2\")","v":0},{"$f":"IF((G24=0),\"\",SUM(AC15:AC23)/G24*100)","v":75}]
[null,{"$f":"SUM(B24,B14)","v":5763},{"$f":"SUM(C24,C14)","v":73},"TOTAL",{"$f":"IF(E14=0,\"0\",(E24+E14))","v":77},{"$f":"SUM(F14,F24)","v":74},{"$f":"SUM(G24,G14)","v":8},{"$f":"SUM(H24,H14)","v":6},{"$f":"SUM(I24,I14)","v":1},{"$f":"IF((A28=27),\"\",(SUM(J14,J24)/2))","v":19.642857142857142},{"$f":"IF((A28=27),\"\",(SUM(K14,K24)/2))","v":80.357142857142861},{"$f":"IF((A28=27),\"\",(SUM(L14,L24)/2))","v":0},{"$f":"SUM(M24,M14)","v":0},{"$f":"SUM(N24,N14)","v":0},{"$f":"SUM(O24,O14)","v":0},{"$f":"IF(P14+P24=0,\"\",SUM(P24,P14))","v":27},{"$f":"IF(Q14+Q24=0,\"\",SUM(Q24,Q14))","v":7},null,{"$f":"IF(S14+S24=0,\"\",SUM(S24,S14)/2)","v":""},{"$f":"IF(N25=0,\"\",(O25)/N25*100)","v":""},{"$f":"IF(Q25=\"\",\"\",(Q25)/18*100)","v":38.888888888888893},{"$f":"IF(Q25=\"\",\"\",(V14+V24)/Q25)","v":1.5714285714285714},{"$f":"SUM(W14,W24)","v":0},{"$f":"SUM(X14,X24)","v":3},{"$f":"SUM(Y14,Y24)","v":4},{"$f":"SUM(Z14,Z24)","v":1},{"$f":"SUM(AA14,AA24)/2","v":53.333333333333329},{"$f":"SUM(AB14,AB24)","v":0},{"$f":"SUM(AC24,AC14)/2","v":75}]
[]
[null,null,null,null,"Udfyld alle grønne felter med 1 for positiv eller antal i tal"]
[{"$f":"COUNTBLANK(I5:K13)","v":19},null,null,null,null,null,null,null,null,null,null,null,null,null,null,null,null,null,null,null,null,null,"Approach"]
[{"$f":"COUNTBLANK(I15:K23)","v":19},null,null,null,"Udfyld følgende farver:",null,null,null,null,null,null,null,null,null,null,null,null,null,"Holes to par",null,null,null,"Længde (m)","Antal","Afstand (m)"]
[{"$f":"SUM(L5:L23)","v":0},null,null,null,"Eagles",null,null,null,null,null,null,null,null,null,null,null,null,null,"Par 3",{"$f":"SUMIF(C:C,\"3\",E:E)/COUNTIF(C:C,3)","v":3.3333333333333335},null,null,"45-70",{"$f":"COUNTIFS(R5:R23,\">=45\",R5:R23,\"<=70\")","v":0},{"$f":"IF(X30=0,\"\",AVERAGEIFS(S5:S23,R5:R23,\">=45\",R5:R23,\"<=70\"))","v":""}]
[null,null,null,null,"Birdies",null,null,null,null,null,null,null,null,null,null,null,null,null,"Par 4",{"$f":"SUMIF(C:C,\"4\",E:E)/COUNTIF(C:C,4)","v":4.1818181818181817},null,null,"71-90",{"$f":"COUNTIFS(R5:R23,\">=71\",R5:R23,\"<=90\")","v":0},{"$f":"IF(X31=0,\"\",AVERAGEIFS(S5:S23,R5:R23,\">=71\",R5:R23,\"<=90\"))","v":""}]
[null,null,null,null,"Bogeys",null,null,null,null,null,null,null,null,null,null,null,null,null,"Par 5",{"$f":"SUMIF(C:C,\"5\",E:E)/COUNTIF(C:C,5)","v":5.25},null,null,"91-115",{"$f":"COUNTIFS(R5:R23,\">=91\",R5:R23,\"<=115\")","v":0},{"$f":"IF(X32=0,\"\",AVERAGEIFS(S5:S23,R5:R23,\">=91\",R5:R23,\"<=115\"))","v":""}]
[null,null,null,null,"Doublebogeys eller værre",null,null,null,null,null,null,null,null,null,null,null,null,null,null,null,null,null,"116-140",{"$f":"COUNTIFS(R5:R23,\">=116\",R5:R23,\"<=140\")","v":0},{"$f":"IF(X33=0,\"\",AVERAGEIFS(S5:S23,R5:R23,\">=116\",R5:R23,\"<=140\"))","v":""}]
[null,null,null,null,null,null,null,null,null,null,null,null,null,null,null,null,null,null,"First 4",{"$f":"IF(E25=\"0\",\"\",SUM(E5:E8)-SUM(C5:C8))","v":0},null,null,"141-160",{"$f":"COUNTIFS(R5:R23,\">=141\",R5:R23,\"<=161\")","v":0},{"$f":"IF(X34=0,\"\",AVERAGEIFS(S5:S23,R5:R23,\">=141\",R5:R23,\"<=160\"))","v":""}]
[null,null,null,null,null,null,null,null,null,null,null,null,null,null,null,null,null,null,"Last 4",{"$f":"IF(E25=\"0\",\"\",SUM(E20:E23)-SUM(C20:C23))","v":3},null,null,"161-180",{"$f":"COUNTIFS(R5:R23,\">=161\",R5:R23,\"<=180\")","v":0},{"$f":"IF(X35=0,\"\",AVERAGEIFS(S5:S23,R5:R23,\">=161\",R5:R23,\"<=180\"))","v":""}]
[]
[null,null,null,null,null,null,null,null,null,null,null,null,null,null,null,null,null,null,null,null,null,null,"Putting"]
[null,null,null,null,null,null,null,null,null,null,null,null,null,null,null,null,null,null,null,null,null,null,"Længde (m)","Antal","Holet","Holet (%)"]
[null,null,null,null,null,null,null,null,null,null,null,null,null,null,null,null,null,null,null,null,null,null,"under 1 m",{"$f":"COUNTIFS(S5:S23,\">=0,1\",S5:S23,\"<=0,9\")","v":0},{"$f":"IF(X39=0,\"\",COUNTIFS(P5:P23,\"=1\",S5:S23,\"<1\"))","v":""},{"$f":"IF(X39=0,\"\",Y39/X39*100)","v":""}]
[null,null,null,null,null,null,null,null,null,null,null,null,null,null,null,null,null,null,null,null,null,null,"1 - 1,5",{"$f":"COUNTIFS(S5:S23,\">=1\",S5:S23,\"<=1,5\")","v":0},{"$f":"IF(X40=0,\"\",COUNTIFS(P5:P23,\"=1\",S5:S23,\">=1\",S5:S23,\"<=1,5\"))","v":""},{"$f":"IF(X40=0,\"\",Y40/X40*100)","v":""}]
[null,null,null,null,null,null,null,null,null,null,null,null,null,null,null,null,null,null,null,null,null,null,"1,5 - 3",{"$f":"COUNTIFS(S5:S23,\">=1,6\",S5:S23,\"<=3\")","v":0},{"$f":"IF(X41=0,\"\",COUNTIFS(P5:P23,\"=1\",S5:S23,\">=1,6\",S5:S23,\"<=3\"))","v":""},{"$f":"IF(X41=0,\"\",Y41/X41*100)","v":""}]
[null,null,null,null,null,null,null,null,null,null,null,null,null,null,null,null,null,null,null,null,null,null,"3 - 4,5",{"$f":"COUNTIFS(S5:S23,\">=3,1\",S5:S23,\"<=4,5\")","v":0},{"$f":"IF(X42=0,\"\",COUNTIFS(P5:P23,\"=1\",S5:S23,\">=3,1\",S5:S23,\"<=4,5\"))","v":""},""]
[null,null,null,null,null,null,null,null,null,null,null,null,null,null,null,null,null,null,null,null,null,null,"4,5 - 6",{"$f":"COUNTIFS(S5:S23,\">=4,6\",S5:S23,\"<=6\")","v":0},{"$f":"IF(X43=0,\"\",COUNTIFS(P5:P23,\"=1\",S5:S23,\">=4,6\",S5:S23,\"<=6\"))","v":""},""]
[null,null,null,null,null,null,null,null,null,null,null,null,null,null,null,null,null,null,null,null,null,null,"over 6 meter",{"$f":"COUNTIFS(S5:S23,\">6\")","v":0},{"$f":"IF(X44=0,\"\",COUNTIFS(P5:P23,\"=1\",S5:S23,\">6\"))","v":""},""]

{"sheet":"Runde 23","index":25,"n_rows":44,"n_cols":29,"rows_kept":44,"cut":false,"hidden":false,"merged":[]}
["Korsør Golf Klub - 18 huller - Hvid tee",null,null,null,null,null,null,null,null,{"$f":"IF(E25=\"0\",\"0\",\"1\")","v":"1"},"Dato:","03-08-2010*",null,"Handicap:",3.9,null,"ATS:",4,null,"Vejr:","Sol, 20 grader, jævn vind",null,"Turnering:","Tirsdagsklub"]
[]
[null,null,null,null,null,null,null,"Tee shot",null,null,"Fairway hits i %",null,null,"Bunker",null,null,null,"Approach shots"]
["Hul","Gul tee","Par","HCP","Score","Netto","Driver","Wood","Jern","Venstre","Midt","Højre","FB","GB","SS","Putts","GIR","Dist. to pin (m)","Dist. to hole (m)","% SS","% GIR","Putts/GIR","Eagles","Birdies","Bogeys","Værre","% Scramble","3+ Putts","% Driver/Fairwayhits"]
[1,313,4,11,6,6,1,null,null,null,1,null,null,null,null,2,null,null,null,null,null,{"$f":"IF(Q5=0,\"\",P5)","v":""},null,null,null,null,{"$f":"IF(AND(Q5=\"\",P5=1),1,\"\")","v":""},null,{"$f":"IF(AND(G5=\"\"),\"\",SUM(K5))","v":1}]
[2,340,4,5,4,4,1,null,null,null,1,null,null,null,null,2,1,null,null,null,null,2,null,null,null,null,"",null,1]
[3,143,3,15,3,3,null,null,null,null,null,null,null,null,null,1,null,null,null,null,null,"",null,null,null,null,1,null,""]
[4,335,4,13,6,6,null,1,null,1,null,null,null,null,null,2,null,null,null,null,null,"",null,null,null,null,"",null,""]
[5,443,5,3,4,3,1,null,null,null,1,null,null,null,null,1,1,null,null,null,null,1,null,null,null,null,"",null,1]
[6,319,4,9,4,4,1,null,null,null,1,null,null,null,null,2,1,null,null,null,null,2,null,null,null,null,"",null,1]
[7,555,5,1,6,5,1,null,null,null,1,null,null,null,null,2,null,null,null,null,null,"",null,null,null,null,"",null,1]
[8,143,3,17,3,3,null,null,null,null,null,null,null,1,1,1,null,null,null,null,null,"",null,null,null,null,1,null,""]
[9,320,4,7,4,4,null,1,null,null,1,null,null,null,null,2,1,null,null,null,null,2,null,null,null,null,"",null,""]
[null,{"$f":"SUM(B5:B13)","v":2911},{"$f":"SUM(C5:C13)","v":36},"UD",{"$f":"SUM(E5:E13)","v":40},{"$f":"SUM(F5:F13)","v":38},{"$f":"SUM(G5:G13)","v":5},{"$f":"SUM(H5:H13)","v":2},{"$f":"SUM(I5:I13)","v":0},{"$f":"IF((A28=27),\"\",(SUM(J5:J13)/SUM(J5:L13))*100)","v":14.285714285714285},{"$f":"IF((A28=27),\"\",(SUM(K5:K13)/SUM(J5:L13))*100)","v":85.714285714285708},{"$f":"IF((A28=27),\"\",(SUM(L5:L13)/SUM(J5:L13))*100)","v":0},{"$f":"SUM(M5:M13)","v":0},{"$f":"SUM(N5:N13)","v":1},{"$f":"SUM(O5:O13)","v":1},{"$f":"SUM(P5:P13)","v":15},{"$f":"SUM(Q5:Q13)","v":4},null,{"$f":"IF(Q14=0,0,SUM(S5:S13)/Q14)","v":0},null,null,{"$f":"SUM(V5:V13)","v":7},{"$f":"ColorFunction($E$30,$E$5:$E$13)","v":0},{"$f":"ColorFunction($E$31,$E$5:$E$13)","v":1},{"$f":"ColorFunction($E$32,$E$5:$E$13)","v":1},{"$f":"ColorFunction($E$33,$E$5:$E$13)","v":2},{"$f":"SUM(AA5:AA13)/(9-Q14)*100","v":40},{"$f":"COUNTIF(P5:P13,\">2\")","v":0},{"$f":"IF((G14=0),\"\",SUM(AC5:AC13)/G14*100)","v":100}]
[10,490,5,4,5,4,1,null,null,null,1,null,null,null,null,2,1,null,null,null,null,{"$f":"IF(Q15=0,\"\",P15)","v":2},null,null,null,null,{"$f":"IF(AND(Q15=\"\",P15=1),1,\"\")","v":""},null,{"$f":"IF(AND(G15=\"\"),\"\",SUM(K15))","v":1}]
[11,330,4,16,3,3,null,1,null,null,1,null,null,null,null,1,1,null,null,null,null,1,null,null,null,null,"",null,""]
[12,451,5,2,4,3,1,null,null,null,1,null,null,null,null,1,1,null,null,null,null,1,null,null,null,null,"",null,1]
[13,140,3,18,3,3,null,null,null,null,null,null,null,null,null,2,1,null,null,null,null,2,null,null,null,null,"",null,""]
[14,383,4,6,4,4,1,null,null,null,1,null,null,null,null,2,1,null,null,null,null,2,null,null,null,null,"",null,1]
[15,332,4,8,4,4,1,null,null,null,1,null,null,null,null,2,1,null,null,null,null,2,null,null,null,null,"",null,1]
[16,334,4,14,4,4,null,1,null,null,1,null,null,null,null,1,null,null,null,null,null,"",null,null,null,null,1,null,""]
[17,368,4,10,4,4,1,null,null,null,1,null,null,null,null,1,null,null,null,null,null,"",null,null,null,null,1,null,1]
[18,299,4,12,5,5,null,1,null,null,null,1,null,null,null,2,null,null,null,null,null,"",null,null,null,null,"",null,""]
[null,{"$f":"SUM(B15:B23)","v":3127},{"$f":"SUM(C15:C23)","v":37},"IND",{"$f":"SUM(E15:E23)","v":36},{"$f":"SUM(F15:F23)","v":34},{"$f":"SUM(G15:G23)","v":5},{"$f":"SUM(H15:H23)","v":3},{"$f":"SUM(I15:I23)","v":0},{"$f":"IF((A29=27),\"\",(SUM(J15:J23)/SUM(J15:L23))*100)","v":0},{"$f":"IF((A29=27),\"\",(SUM(K15:K23)/SUM(J15:L23))*100)","v":87.5},{"$f":"IF((A29=27),\"\",(SUM(L15:L23)/SUM(J15:L23))*100)","v":12.5},{"$f":"SUM(M15:M23)","v":0},{"$f":"SUM(N15:N23)","v":0},{"$f":"SUM(O15:O23)","v":0},{"$f":"SUM(P15:P23)","v":14},{"$f":"SUM(Q15:Q23)","v":6},null,{"$f":"IF(Q24=0,0,SUM(S15:S23)/Q24)","v":0},null,null,{"$f":"SUM(V15:V23)","v":10},{"$f":"ColorFunction($E$30,$E$15:$E$23)","v":0},{"$f":"ColorFunction($E$31,$E$15:$E$23)","v":2},{"$f":"ColorFunction($E$32,$E$15:$E$23)","v":1},{"$f":"ColorFunction($E$33,$E$15:$E$23)","v":0},{"$f":"SUM(AA15:AA23)/(9-Q24)*100","v":66.666666666666657},{"$f":"COUNTIF(P15:P23,\">2\")","v":0},{"$f":"IF((G24=0),\"\",SUM(AC15:AC23)/G24*100)","v":100}]
[null,{"$f":"SUM(B24,B14)","v":6038},{"$f":"SUM(C24,C14)","v":73},"TOTAL",{"$f":"IF(E14=0,\"0\",(E24+E14))","v":76},{"$f":"SUM(F14,F24)","v":72},{"$f":"SUM(G24,G14)","v":10},{"$f":"SUM(H24,H14)","v":5},{"$f":"SUM(I24,I14)","v":0},{"$f":"IF((A28=27),\"\",(SUM(J14,J24)/2))","v":7.1428571428571423},{"$f":"IF((A28=27),\"\",(SUM(K14,K24)/2))","v":86.607142857142861},{"$f":"IF((A28=27),\"\",(SUM(L14,L24)/2))","v":6.25},{"$f":"SUM(M24,M14)","v":0},{"$f":"SUM(N24,N14)","v":1},{"$f":"SUM(O24,O14)","v":1},{"$f":"IF(P14+P24=0,\"\",SUM(P24,P14))","v":29},{"$f":"IF(Q14+Q24=0,\"\",SUM(Q24,Q14))","v":10},null,{"$f":"IF(S14+S24=0,\"\",SUM(S24,S14)/2)","v":""},{"$f":"IF(N25=0,\"\",(O25)/N25*100)","v":100},{"$f":"IF(Q25=\"\",\"\",(Q25)/18*100)","v":55.555555555555557},{"$f":"IF(Q25=\"\",\"\",(V14+V24)/Q25)","v":1.7},{"$f":"SUM(W14,W24)","v":0},{"$f":"SUM(X14,X24)","v":3},{"$f":"SUM(Y14,Y24)","v":2},{"$f":"SUM(Z14,Z24)","v":2},{"$f":"SUM(AA14,AA24)/2","v":53.333333333333329},{"$f":"SUM(AB14,AB24)","v":0},{"$f":"SUM(AC24,AC14)/2","v":100}]
[]
[null,null,null,null,"Udfyld alle grønne felter med 1 for positiv eller antal i tal"]
[{"$f":"COUNTBLANK(I5:K13)","v":20},null,null,null,null,null,null,null,null,null,null,null,null,null,null,null,null,null,null,null,null,null,"Approach"]
[{"$f":"COUNTBLANK(I15:K23)","v":20},null,null,null,"Udfyld følgende farver:",null,null,null,null,null,null,null,null,null,null,null,null,null,"Holes to par",null,null,null,"Længde (m)","Antal","Afstand (m)"]
[{"$f":"SUM(L5:L23)","v":1},null,null,null,"Eagles",null,null,null,null,"* Slog fra forkert teested på hul 9, hvilket gav en double pga strafslag",null,null,null,null,null,null,null,null,"Par 3",{"$f":"SUMIF(C:C,\"3\",E:E)/COUNTIF(C:C,3)","v":3},null,null,"45-70",{"$f":"COUNTIFS(R5:R23,\">=45\",R5:R23,\"<=70\")","v":0},{"$f":"IF(X30=0,\"\",AVERAGEIFS(S5:S23,R5:R23,\">=45\",R5:R23,\"<=70\"))","v":""}]
[null,null,null,null,"Birdies",null,null,null,null,null,null,null,null,null,null,null,null,null,"Par 4",{"$f":"SUMIF(C:C,\"4\",E:E)/COUNTIF(C:C,4)","v":4.3636363636363633},null,null,"71-90",{"$f":"COUNTIFS(R5:R23,\">=71\",R5:R23,\"<=90\")","v":0},{"$f":"IF(X31=0,\"\",AVERAGEIFS(S5:S23,R5:R23,\">=71\",R5:R23,\"<=90\"))","v":""}]
[null,null,null,null,"Bogeys",null,null,null,null,null,null,null,null,null,null,null,null,null,"Par 5",{"$f":"SUMIF(C:C,\"5\",E:E)/COUNTIF(C:C,5)","v":4.75},null,null,"91-115",{"$f":"COUNTIFS(R5:R23,\">=91\",R5:R23,\"<=115\")","v":0},{"$f":"IF(X32=0,\"\",AVERAGEIFS(S5:S23,R5:R23,\">=91\",R5:R23,\"<=115\"))","v":""}]
[null,null,null,null,"Doublebogeys eller værre",null,null,null,null,null,null,null,null,null,null,null,null,null,null,null,null,null,"116-140",{"$f":"COUNTIFS(R5:R23,\">=116\",R5:R23,\"<=140\")","v":0},{"$f":"IF(X33=0,\"\",AVERAGEIFS(S5:S23,R5:R23,\">=116\",R5:R23,\"<=140\"))","v":""}]
[null,null,null,null,null,null,null,null,null,null,null,null,null,null,null,null,null,null,"First 4",{"$f":"IF(E25=\"0\",\"\",SUM(E5:E8)-SUM(C5:C8))","v":4},null,null,"141-160",{"$f":"COUNTIFS(R5:R23,\">=141\",R5:R23,\"<=161\")","v":0},{"$f":"IF(X34=0,\"\",AVERAGEIFS(S5:S23,R5:R23,\">=141\",R5:R23,\"<=160\"))","v":""}]
[null,null,null,null,null,null,null,null,null,null,null,null,null,null,null,null,null,null,"Last 4",{"$f":"IF(E25=\"0\",\"\",SUM(E20:E23)-SUM(C20:C23))","v":1},null,null,"161-180",{"$f":"COUNTIFS(R5:R23,\">=161\",R5:R23,\"<=180\")","v":0},{"$f":"IF(X35=0,\"\",AVERAGEIFS(S5:S23,R5:R23,\">=161\",R5:R23,\"<=180\"))","v":""}]
[]
[null,null,null,null,null,null,null,null,null,null,null,null,null,null,null,null,null,null,null,null,null,null,"Putting"]
[null,null,null,null,null,null,null,null,null,null,null,null,null,null,null,null,null,null,null,null,null,null,"Længde (m)","Antal","Holet","Holet (%)"]
[null,null,null,null,null,null,null,null,null,null,null,null,null,null,null,null,null,null,null,null,null,null,"under 1 m",{"$f":"COUNTIFS(S5:S23,\">=0,1\",S5:S23,\"<=0,9\")","v":0},{"$f":"IF(X39=0,\"\",COUNTIFS(P5:P23,\"=1\",S5:S23,\"<1\"))","v":""},{"$f":"IF(X39=0,\"\",Y39/X39*100)","v":""}]
[null,null,null,null,null,null,null,null,null,null,null,null,null,null,null,null,null,null,null,null,null,null,"1 - 1,5",{"$f":"COUNTIFS(S5:S23,\">=1\",S5:S23,\"<=1,5\")","v":0},{"$f":"IF(X40=0,\"\",COUNTIFS(P5:P23,\"=1\",S5:S23,\">=1\",S5:S23,\"<=1,5\"))","v":""},{"$f":"IF(X40=0,\"\",Y40/X40*100)","v":""}]
[null,null,null,null,null,null,null,null,null,null,null,null,null,null,null,null,null,null,null,null,null,null,"1,5 - 3",{"$f":"COUNTIFS(S5:S23,\">=1,6\",S5:S23,\"<=3\")","v":0},{"$f":"IF(X41=0,\"\",COUNTIFS(P5:P23,\"=1\",S5:S23,\">=1,6\",S5:S23,\"<=3\"))","v":""},{"$f":"IF(X41=0,\"\",Y41/X41*100)","v":""}]
[null,null,null,null,null,null,null,null,null,null,null,null,null,null,null,null,null,null,null,null,null,null,"3 - 4,5",{"$f":"COUNTIFS(S5:S23,\">=3,1\",S5:S23,\"<=4,5\")","v":0},{"$f":"IF(X42=0,\"\",COUNTIFS(P5:P23,\"=1\",S5:S23,\">=3,1\",S5:S23,\"<=4,5\"))","v":""},""]
[null,null,null,null,null,null,null,null,null,null,null,null,null,null,null,null,null,null,null,null,null,null,"4,5 - 6",{"$f":"COUNTIFS(S5:S23,\">=4,6\",S5:S23,\"<=6\")","v":0},{"$f":"IF(X43=0,\"\",COUNTIFS(P5:P23,\"=1\",S5:S23,\">=4,6\",S5:S23,\"<=6\"))","v":""},""]
[null,null,null,null,null,null,null,null,null,null,null,null,null,null,null,null,null,null,null,null,null,null,"over 6 meter",{"$f":"COUNTIFS(S5:S23,\">6\")","v":0},{"$f":"IF(X44=0,\"\",COUNTIFS(P5:P23,\"=1\",S5:S23,\">6\"))","v":""},""]

{"sheet":"Runde 24","index":26,"n_rows":44,"n_cols":29,"rows_kept":44,"cut":false,"hidden":false,"merged":[]}
["Korsør Golf Klub - 18 huller - Gul tee",null,null,null,null,null,null,null,null,{"$f":"IF(E25=\"0\",\"0\",\"1\")","v":"1"},"Dato:","2010-08-10",null,"Handicap:",3.9,null,"ATS:",3,null,"Vejr:","Jævn vind, skyet, 20 grader",null,"Turnering:","Tirsdagsklub"]
[]
[null,null,null,null,null,null,null,"Tee shot",null,null,"Fairway hits i %",null,null,"Bunker",null,null,null,"Approach shots"]
["Hul","Gul tee","Par","HCP","Score","Netto","Driver","Wood","Jern","Venstre","Midt","Højre","FB","GB","SS","Putts","GIR","Dist. to pin (m)","Dist. to hole (m)","% SS","% GIR","Putts/GIR","Eagles","Birdies","Bogeys","Værre","% Scramble","3+ Putts","% Driver/Fairwayhits"]
[1,307,4,11,3,3,1,null,null,null,1,null,null,null,null,1,1,62,4,null,null,{"$f":"IF(Q5=0,\"\",P5)","v":1},null,null,null,null,{"$f":"IF(AND(Q5=\"\",P5=1),1,\"\")","v":""},null,{"$f":"IF(AND(G5=\"\"),\"\",SUM(K5))","v":1}]
[2,323,4,5,3,3,1,null,null,null,1,null,null,null,null,1,1,89,4,null,null,1,null,null,null,null,"",null,1]
[3,138,3,15,2,2,null,null,null,null,null,null,null,null,null,1,1,145,3,null,null,1,null,null,null,null,"",null,""]
[4,310,4,13,4,4,null,1,null,null,1,null,null,null,null,1,null,null,null,null,null,"",null,null,null,null,1,null,""]
[5,431,5,3,5,4,1,null,null,null,1,null,null,null,null,2,1,39,3.5,null,null,2,null,null,null,null,"",null,1]
[6,312,4,9,4,4,1,null,null,null,null,1,null,1,null,2,1,20,7,null,null,2,null,null,null,null,"",null,0]
[7,498,5,1,5,4,null,null,1,null,1,null,null,null,null,2,1,122,2,null,null,2,null,null,null,null,"",null,""]
[8,138,3,17,3,3,null,null,null,null,null,null,null,null,null,2,1,141,6,null,null,2,null,null,null,null,"",null,""]
[9,310,4,7,4,4,null,1,null,null,1,null,null,null,null,1,null,null,null,null,null,"",null,null,null,null,1,null,""]
[null,{"$f":"SUM(B5:B13)","v":2767},{"$f":"SUM(C5:C13)","v":36},"UD",{"$f":"SUM(E5:E13)","v":33},{"$f":"SUM(F5:F13)","v":31},{"$f":"SUM(G5:G13)","v":4},{"$f":"SUM(H5:H13)","v":2},{"$f":"SUM(I5:I13)","v":1},{"$f":"IF((A28=27),\"\",(SUM(J5:J13)/SUM(J5:L13))*100)","v":0},{"$f":"IF((A28=27),\"\",(SUM(K5:K13)/SUM(J5:L13))*100)","v":85.714285714285708},{"$f":"IF((A28=27),\"\",(SUM(L5:L13)/SUM(J5:L13))*100)","v":14.285714285714285},{"$f":"SUM(M5:M13)","v":0},{"$f":"SUM(N5:N13)","v":1},{"$f":"SUM(O5:O13)","v":0},{"$f":"SUM(P5:P13)","v":13},{"$f":"SUM(Q5:Q13)","v":7},null,{"$f":"IF(Q14=0,0,SUM(S5:S13)/Q14)","v":4.2142857142857144},null,null,{"$f":"SUM(V5:V13)","v":11},{"$f":"ColorFunction($E$30,$E$5:$E$13)","v":0},{"$f":"ColorFunction($E$31,$E$5:$E$13)","v":3},{"$f":"ColorFunction($E$32,$E$5:$E$13)","v":0},{"$f":"ColorFunction($E$33,$E$5:$E$13)","v":0},{"$f":"SUM(AA5:AA13)/(9-Q14)*100","v":100},{"$f":"COUNTIF(P5:P13,\">2\")","v":0},{"$f":"IF((G14=0),\"\",SUM(AC5:AC13)/G14*100)","v":75}]
[10,481,5,4,5,5,1,null,null,null,1,null,null,null,null,2,1,20,3,null,null,{"$f":"IF(Q15=0,\"\",P15)","v":2},null,null,null,null,{"$f":"IF(AND(Q15=\"\",P15=1),1,\"\")","v":""},null,{"$f":"IF(AND(G15=\"\"),\"\",SUM(K15))","v":1}]
[11,319,4,16,5,5,null,1,null,null,1,null,null,null,null,3,1,142,8,null,null,3,null,null,null,null,"",null,""]
[12,431,5,2,5,4,1,null,null,null,1,null,null,null,null,2,1,35,3,null,null,2,null,null,null,null,"",null,1]
[13,122,3,18,3,3,null,null,null,null,null,null,null,null,null,1,null,null,null,null,null,"",null,null,null,null,1,null,""]
[14,379,4,6,5,5,1,null,null,null,null,1,null,null,null,2,null,null,null,null,null,"",null,null,null,null,"",null,0]
[15,316,4,8,3,3,1,null,null,null,1,null,null,null,null,1,1,48,3,null,null,1,null,null,null,null,"",null,1]
[16,322,4,14,4,4,1,null,null,null,null,1,null,null,null,2,1,79,5,null,null,2,null,null,null,null,"",null,0]
[17,345,4,10,4,4,null,1,null,null,1,null,null,null,null,2,1,116,4,null,null,2,null,null,null,null,"",null,""]
[18,281,4,12,5,5,1,null,null,null,null,1,null,null,null,2,null,null,null,null,null,"",null,null,null,null,"",null,0]
[null,{"$f":"SUM(B15:B23)","v":2996},{"$f":"SUM(C15:C23)","v":37},"IND",{"$f":"SUM(E15:E23)","v":39},{"$f":"SUM(F15:F23)","v":38},{"$f":"SUM(G15:G23)","v":6},{"$f":"SUM(H15:H23)","v":2},{"$f":"SUM(I15:I23)","v":0},{"$f":"IF((A29=27),\"\",(SUM(J15:J23)/SUM(J15:L23))*100)","v":0},{"$f":"IF((A29=27),\"\",(SUM(K15:K23)/SUM(J15:L23))*100)","v":62.5},{"$f":"IF((A29=27),\"\",(SUM(L15:L23)/SUM(J15:L23))*100)","v":37.5},{"$f":"SUM(M15:M23)","v":0},{"$f":"SUM(N15:N23)","v":0},{"$f":"SUM(O15:O23)","v":0},{"$f":"SUM(P15:P23)","v":17},{"$f":"SUM(Q15:Q23)","v":6},null,{"$f":"IF(Q24=0,0,SUM(S15:S23)/Q24)","v":4.333333333333333},null,null,{"$f":"SUM(V15:V23)","v":12},{"$f":"ColorFunction($E$30,$E$15:$E$23)","v":0},{"$f":"ColorFunction($E$31,$E$15:$E$23)","v":1},{"$f":"ColorFunction($E$32,$E$15:$E$23)","v":3},{"$f":"ColorFunction($E$33,$E$15:$E$23)","v":0},{"$f":"SUM(AA15:AA23)/(9-Q24)*100","v":33.333333333333329},{"$f":"COUNTIF(P15:P23,\">2\")","v":1},{"$f":"IF((G24=0),\"\",SUM(AC15:AC23)/G24*100)","v":50}]
[null,{"$f":"SUM(B24,B14)","v":5763},{"$f":"SUM(C24,C14)","v":73},"TOTAL",{"$f":"IF(E14=0,\"0\",(E24+E14))","v":72},{"$f":"SUM(F14,F24)","v":69},{"$f":"SUM(G24,G14)","v":10},{"$f":"SUM(H24,H14)","v":4},{"$f":"SUM(I24,I14)","v":1},{"$f":"IF((A28=27),\"\",(SUM(J14,J24)/2))","v":0},{"$f":"IF((A28=27),\"\",(SUM(K14,K24)/2))","v":74.107142857142861},{"$f":"IF((A28=27),\"\",(SUM(L14,L24)/2))","v":25.892857142857142},{"$f":"SUM(M24,M14)","v":0},{"$f":"SUM(N24,N14)","v":1},{"$f":"SUM(O24,O14)","v":0},{"$f":"IF(P14+P24=0,\"\",SUM(P24,P14))","v":30},{"$f":"IF(Q14+Q24=0,\"\",SUM(Q24,Q14))","v":13},null,{"$f":"IF(S14+S24=0,\"\",SUM(S24,S14)/2)","v":4.2738095238095237},{"$f":"IF(N25=0,\"\",(O25)/N25*100)","v":0},{"$f":"IF(Q25=\"\",\"\",(Q25)/18*100)","v":72.222222222222214},{"$f":"IF(Q25=\"\",\"\",(V14+V24)/Q25)","v":1.7692307692307692},{"$f":"SUM(W14,W24)","v":0},{"$f":"SUM(X14,X24)","v":4},{"$f":"SUM(Y14,Y24)","v":3},{"$f":"SUM(Z14,Z24)","v":0},{"$f":"SUM(AA14,AA24)/2","v":66.666666666666657},{"$f":"SUM(AB14,AB24)","v":1},{"$f":"SUM(AC24,AC14)/2","v":62.5}]
[]
[null,null,null,null,"Udfyld alle grønne felter med 1 for positiv eller antal i tal"]
[{"$f":"COUNTBLANK(I5:K13)","v":20},null,null,null,null,null,null,null,null,null,null,null,null,null,null,null,null,null,null,null,null,null,"Approach"]
[{"$f":"COUNTBLANK(I15:K23)","v":22},null,null,null,"Udfyld følgende farver:",null,null,null,null,null,null,null,null,null,null,null,null,null,"Holes to par",null,null,null,"Længde (m)","Antal","Afstand (m)"]
[{"$f":"SUM(L5:L23)","v":18.285714285714285},null,null,null,"Eagles",null,null,null,null,null,null,null,null,null,null,null,null,null,"Par 3",{"$f":"SUMIF(C:C,\"3\",E:E)/COUNTIF(C:C,3)","v":2.6666666666666665},null,null,"45-70",{"$f":"COUNTIFS(R5:R23,\">=45\",R5:R23,\"<=70\")","v":2},{"$f":"IF(X30=0,\"\",AVERAGEIFS(S5:S23,R5:R23,\">=45\",R5:R23,\"<=70\"))","v":3.5}]
[null,null,null,null,"Birdies",null,null,null,null,null,null,null,null,null,null,null,null,null,"Par 4",{"$f":"SUMIF(C:C,\"4\",E:E)/COUNTIF(C:C,4)","v":4},null,null,"71-90",{"$f":"COUNTIFS(R5:R23,\">=71\",R5:R23,\"<=90\")","v":2},{"$f":"IF(X31=0,\"\",AVERAGEIFS(S5:S23,R5:R23,\">=71\",R5:R23,\"<=90\"))","v":4.5}]
[null,null,null,null,"Bogeys",null,null,null,null,null,null,null,null,null,null,null,null,null,"Par 5",{"$f":"SUMIF(C:C,\"5\",E:E)/COUNTIF(C:C,5)","v":5},null,null,"91-115",{"$f":"COUNTIFS(R5:R23,\">=91\",R5:R23,\"<=115\")","v":0},{"$f":"IF(X32=0,\"\",AVERAGEIFS(S5:S23,R5:R23,\">=91\",R5:R23,\"<=115\"))","v":""}]
[null,null,null,null,"Doublebogeys eller værre",null,null,null,null,null,null,null,null,null,null,null,null,null,null,null,null,null,"116-140",{"$f":"COUNTIFS(R5:R23,\">=116\",R5:R23,\"<=140\")","v":2},{"$f":"IF(X33=0,\"\",AVERAGEIFS(S5:S23,R5:R23,\">=116\",R5:R23,\"<=140\"))","v":3}]
[null,null,null,null,null,null,null,null,null,null,null,null,null,null,null,null,null,null,"First 4",{"$f":"IF(E25=\"0\",\"\",SUM(E5:E8)-SUM(C5:C8))","v":-3},null,null,"141-160",{"$f":"COUNTIFS(R5:R23,\">=141\",R5:R23,\"<=161\")","v":3},{"$f":"IF(X34=0,\"\",AVERAGEIFS(S5:S23,R5:R23,\">=141\",R5:R23,\"<=160\"))","v":5.666666666666667}]
[null,null,null,null,null,null,null,null,null,null,null,null,null,null,null,null,null,null,"Last 4",{"$f":"IF(E25=\"0\",\"\",SUM(E20:E23)-SUM(C20:C23))","v":0},null,null,"161-180",{"$f":"COUNTIFS(R5:R23,\">=161\",R5:R23,\"<=180\")","v":0},{"$f":"IF(X35=0,\"\",AVERAGEIFS(S5:S23,R5:R23,\">=161\",R5:R23,\"<=180\"))","v":""}]
[]
[null,null,null,null,null,null,null,null,null,null,null,null,null,null,null,null,null,null,null,null,null,null,"Putting"]
[null,null,null,null,null,null,null,null,null,null,null,null,null,null,null,null,null,null,null,null,null,null,"Længde (m)","Antal","Holet","Holet (%)"]
[null,null,null,null,null,null,null,null,null,null,null,null,null,null,null,null,null,null,null,null,null,null,"under 1 m",{"$f":"COUNTIFS(S5:S23,\">=0,1\",S5:S23,\"<=0,9\")","v":0},{"$f":"IF(X39=0,\"\",COUNTIFS(P5:P23,\"=1\",S5:S23,\"<1\"))","v":""},{"$f":"IF(X39=0,\"\",Y39/X39*100)","v":""}]
[null,null,null,null,null,null,null,null,null,null,null,null,null,null,null,null,null,null,null,null,null,null,"1 - 1,5",{"$f":"COUNTIFS(S5:S23,\">=1\",S5:S23,\"<=1,5\")","v":0},{"$f":"IF(X40=0,\"\",COUNTIFS(P5:P23,\"=1\",S5:S23,\">=1\",S5:S23,\"<=1,5\"))","v":""},{"$f":"IF(X40=0,\"\",Y40/X40*100)","v":""}]
[null,null,null,null,null,null,null,null,null,null,null,null,null,null,null,null,null,null,null,null,null,null,"1,5 - 3",{"$f":"COUNTIFS(S5:S23,\">=1,6\",S5:S23,\"<=3\")","v":5},{"$f":"IF(X41=0,\"\",COUNTIFS(P5:P23,\"=1\",S5:S23,\">=1,6\",S5:S23,\"<=3\"))","v":2},{"$f":"IF(X41=0,\"\",Y41/X41*100)","v":40}]
[null,null,null,null,null,null,null,null,null,null,null,null,null,null,null,null,null,null,null,null,null,null,"3 - 4,5",{"$f":"COUNTIFS(S5:S23,\">=3,1\",S5:S23,\"<=4,5\")","v":5},{"$f":"IF(X42=0,\"\",COUNTIFS(P5:P23,\"=1\",S5:S23,\">=3,1\",S5:S23,\"<=4,5\"))","v":2},40]
[null,null,null,null,null,null,null,null,null,null,null,null,null,null,null,null,null,null,null,null,null,null,"4,5 - 6",{"$f":"COUNTIFS(S5:S23,\">=4,6\",S5:S23,\"<=6\")","v":2},{"$f":"IF(X43=0,\"\",COUNTIFS(P5:P23,\"=1\",S5:S23,\">=4,6\",S5:S23,\"<=6\"))","v":0},0]
[null,null,null,null,null,null,null,null,null,null,null,null,null,null,null,null,null,null,null,null,null,null,"over 6 meter",{"$f":"COUNTIFS(S5:S23,\">6\")","v":2},{"$f":"IF(X44=0,\"\",COUNTIFS(P5:P23,\"=1\",S5:S23,\">6\"))","v":0},0]

{"sheet":"Runde 25","index":27,"n_rows":44,"n_cols":29,"rows_kept":44,"cut":false,"hidden":false,"merged":[]}
["Korsør Golf Klub - 18 huller - Gul tee",null,null,null,null,null,null,null,null,{"$f":"IF(E25=\"0\",\"0\",\"1\")","v":"1"},"Dato:","2010-08-14",null,"Handicap:",3.9,null,"ATS:",3,null,"Vejr:","Regn, 19 grader, hård vind",null,"Turnering:","Privat med Michael og Peter"]
[]
[null,null,null,null,null,null,null,"Tee shot",null,null,"Fairway hits i %",null,null,"Bunker",null,null,null,"Approach shots"]
["Hul","Gul tee","Par","HCP","Score","Netto","Driver","Wood","Jern","Venstre","Midt","Højre","FB","GB","SS","Putts","GIR","Dist. to pin (m)","Dist. to hole (m)","% SS","% GIR","Putts/GIR","Eagles","Birdies","Bogeys","Værre","% Scramble","3+ Putts","% Driver/Fairwayhits"]
[1,307,4,11,5,5,1,null,null,null,1,null,null,null,null,2,null,null,null,null,null,{"$f":"IF(Q5=0,\"\",P5)","v":""},null,null,null,null,{"$f":"IF(AND(Q5=\"\",P5=1),1,\"\")","v":""},null,{"$f":"IF(AND(G5=\"\"),\"\",SUM(K5))","v":1}]
[2,323,4,5,5,5,1,null,null,null,1,null,null,null,null,3,1,90,6,null,null,3,null,null,null,null,"",null,1]
[3,138,3,15,4,4,null,null,null,null,null,null,null,null,null,2,null,null,null,null,null,"",null,null,null,null,"",null,""]
[4,310,4,13,4,4,null,null,1,null,1,null,null,null,null,2,1,128,2,null,null,2,null,null,null,null,"",null,""]
[5,431,5,3,5,4,1,null,null,null,1,null,null,null,null,2,1,35,3.5,null,null,2,null,null,null,null,"",null,1]
[6,312,4,9,6,6,1,null,null,1,null,null,null,null,null,1,null,null,null,null,null,"",null,null,null,null,1,null,0]
[7,498,5,1,7,6,null,null,1,null,1,null,null,null,null,2,null,null,null,null,null,"",null,null,null,null,"",null,""]
[8,138,3,17,3,3,null,null,null,null,null,null,null,1,1,1,null,null,null,null,null,"",null,null,null,null,1,null,""]
[9,310,4,7,3,3,null,1,null,null,1,null,null,null,null,1,1,102,2.5,null,null,1,null,null,null,null,"",null,""]
[null,{"$f":"SUM(B5:B13)","v":2767},{"$f":"SUM(C5:C13)","v":36},"UD",{"$f":"SUM(E5:E13)","v":42},{"$f":"SUM(F5:F13)","v":40},{"$f":"SUM(G5:G13)","v":4},{"$f":"SUM(H5:H13)","v":1},{"$f":"SUM(I5:I13)","v":2},{"$f":"IF((A28=27),\"\",(SUM(J5:J13)/SUM(J5:L13))*100)","v":14.285714285714285},{"$f":"IF((A28=27),\"\",(SUM(K5:K13)/SUM(J5:L13))*100)","v":85.714285714285708},{"$f":"IF((A28=27),\"\",(SUM(L5:L13)/SUM(J5:L13))*100)","v":0},{"$f":"SUM(M5:M13)","v":0},{"$f":"SUM(N5:N13)","v":1},{"$f":"SUM(O5:O13)","v":1},{"$f":"SUM(P5:P13)","v":16},{"$f":"SUM(Q5:Q13)","v":4},null,{"$f":"IF(Q14=0,0,SUM(S5:S13)/Q14)","v":3.5},null,null,{"$f":"SUM(V5:V13)","v":8},{"$f":"ColorFunction($E$30,$E$5:$E$13)","v":0},{"$f":"ColorFunction($E$31,$E$5:$E$13)","v":1},{"$f":"ColorFunction($E$32,$E$5:$E$13)","v":3},{"$f":"ColorFunction($E$33,$E$5:$E$13)","v":2},{"$f":"SUM(AA5:AA13)/(9-Q14)*100","v":40},{"$f":"COUNTIF(P5:P13,\">2\")","v":1},{"$f":"IF((G14=0),\"\",SUM(AC5:AC13)/G14*100)","v":75}]
[10,481,5,4,5,5,1,null,null,null,1,null,null,null,null,2,1,48,3,null,null,{"$f":"IF(Q15=0,\"\",P15)","v":2},null,null,null,null,{"$f":"IF(AND(Q15=\"\",P15=1),1,\"\")","v":""},null,{"$f":"IF(AND(G15=\"\"),\"\",SUM(K15))","v":1}]
[11,319,4,16,4,4,null,1,null,null,1,null,null,null,null,1,null,null,null,null,null,"",null,null,null,null,1,null,""]
[12,431,5,2,5,4,1,null,null,null,null,1,null,null,null,1,null,null,null,null,null,"",null,null,null,null,1,null,0]
[13,122,3,18,3,3,null,null,null,null,null,null,null,null,null,2,1,109,5,null,null,2,null,null,null,null,"",null,""]
[14,379,4,6,4,4,1,null,null,null,1,null,null,null,null,2,1,155,1,null,null,2,null,null,null,null,"",null,1]
[15,316,4,8,5,5,1,null,null,1,null,null,null,null,null,2,null,null,null,null,null,"",null,null,null,null,"",null,0]
[16,322,4,14,4,4,1,null,null,null,1,null,null,null,null,2,1,110,5,null,null,2,null,null,null,null,"",null,1]
[17,345,4,10,4,4,null,1,null,null,null,1,null,null,null,1,null,null,null,null,null,"",null,null,null,null,1,null,""]
[18,281,4,12,4,4,1,null,null,null,1,null,null,null,null,2,1,49,3,null,null,2,null,null,null,null,"",null,1]
[null,{"$f":"SUM(B15:B23)","v":2996},{"$f":"SUM(C15:C23)","v":37},"IND",{"$f":"SUM(E15:E23)","v":38},{"$f":"SUM(F15:F23)","v":37},{"$f":"SUM(G15:G23)","v":6},{"$f":"SUM(H15:H23)","v":2},{"$f":"SUM(I15:I23)","v":0},{"$f":"IF((A29=27),\"\",(SUM(J15:J23)/SUM(J15:L23))*100)","v":12.5},{"$f":"IF((A29=27),\"\",(SUM(K15:K23)/SUM(J15:L23))*100)","v":62.5},{"$f":"IF((A29=27),\"\",(SUM(L15:L23)/SUM(J15:L23))*100)","v":25},{"$f":"SUM(M15:M23)","v":0},{"$f":"SUM(N15:N23)","v":0},{"$f":"SUM(O15:O23)","v":0},{"$f":"SUM(P15:P23)","v":15},{"$f":"SUM(Q15:Q23)","v":5},null,{"$f":"IF(Q24=0,0,SUM(S15:S23)/Q24)","v":3.4},null,null,{"$f":"SUM(V15:V23)","v":10},{"$f":"ColorFunction($E$30,$E$15:$E$23)","v":0},{"$f":"ColorFunction($E$31,$E$15:$E$23)","v":0},{"$f":"ColorFunction($E$32,$E$15:$E$23)","v":1},{"$f":"ColorFunction($E$33,$E$15:$E$23)","v":0},{"$f":"SUM(AA15:AA23)/(9-Q24)*100","v":75},{"$f":"COUNTIF(P15:P23,\">2\")","v":0},{"$f":"IF((G24=0),\"\",SUM(AC15:AC23)/G24*100)","v":66.666666666666657}]
[null,{"$f":"SUM(B24,B14)","v":5763},{"$f":"SUM(C24,C14)","v":73},"TOTAL",{"$f":"IF(E14=0,\"0\",(E24+E14))","v":80},{"$f":"SUM(F14,F24)","v":77},{"$f":"SUM(G24,G14)","v":10},{"$f":"SUM(H24,H14)","v":3},{"$f":"SUM(I24,I14)","v":2},{"$f":"IF((A28=27),\"\",(SUM(J14,J24)/2))","v":13.392857142857142},{"$f":"IF((A28=27),\"\",(SUM(K14,K24)/2))","v":74.107142857142861},{"$f":"IF((A28=27),\"\",(SUM(L14,L24)/2))","v":12.5},{"$f":"SUM(M24,M14)","v":0},{"$f":"SUM(N24,N14)","v":1},{"$f":"SUM(O24,O14)","v":1},{"$f":"IF(P14+P24=0,\"\",SUM(P24,P14))","v":31},{"$f":"IF(Q14+Q24=0,\"\",SUM(Q24,Q14))","v":9},null,{"$f":"IF(S14+S24=0,\"\",SUM(S24,S14)/2)","v":3.45},{"$f":"IF(N25=0,\"\",(O25)/N25*100)","v":100},{"$f":"IF(Q25=\"\",\"\",(Q25)/18*100)","v":50},{"$f":"IF(Q25=\"\",\"\",(V14+V24)/Q25)","v":2},{"$f":"SUM(W14,W24)","v":0},{"$f":"SUM(X14,X24)","v":1},{"$f":"SUM(Y14,Y24)","v":4},{"$f":"SUM(Z14,Z24)","v":2},{"$f":"SUM(AA14,AA24)/2","v":57.5},{"$f":"SUM(AB14,AB24)","v":1},{"$f":"SUM(AC24,AC14)/2","v":70.833333333333329}]
[]
[null,null,null,null,"Udfyld alle grønne felter med 1 for positiv eller antal i tal"]
[{"$f":"COUNTBLANK(I5:K13)","v":18},null,null,null,null,null,null,null,null,null,null,null,null,null,null,null,null,null,null,null,null,null,"Approach"]
[{"$f":"COUNTBLANK(I15:K23)","v":21},null,null,null,"Udfyld følgende farver:",null,null,null,null,null,null,null,null,null,null,null,null,null,"Holes to par",null,null,null,"Længde (m)","Antal","Afstand (m)"]
[{"$f":"SUM(L5:L23)","v":2},null,null,null,"Eagles",null,null,null,null,null,null,null,null,null,null,null,null,null,"Par 3",{"$f":"SUMIF(C:C,\"3\",E:E)/COUNTIF(C:C,3)","v":3.3333333333333335},null,null,"45-70",{"$f":"COUNTIFS(R5:R23,\">=45\",R5:R23,\"<=70\")","v":2},{"$f":"IF(X30=0,\"\",AVERAGEIFS(S5:S23,R5:R23,\">=45\",R5:R23,\"<=70\"))","v":3}]
[null,null,null,null,"Birdies",null,null,null,null,null,null,null,null,null,null,null,null,null,"Par 4",{"$f":"SUMIF(C:C,\"4\",E:E)/COUNTIF(C:C,4)","v":4.3636363636363633},null,null,"71-90",{"$f":"COUNTIFS(R5:R23,\">=71\",R5:R23,\"<=90\")","v":1},{"$f":"IF(X31=0,\"\",AVERAGEIFS(S5:S23,R5:R23,\">=71\",R5:R23,\"<=90\"))","v":6}]
[null,null,null,null,"Bogeys",null,null,null,null,null,null,null,null,null,null,null,null,null,"Par 5",{"$f":"SUMIF(C:C,\"5\",E:E)/COUNTIF(C:C,5)","v":5.5},null,null,"91-115",{"$f":"COUNTIFS(R5:R23,\">=91\",R5:R23,\"<=115\")","v":3},{"$f":"IF(X32=0,\"\",AVERAGEIFS(S5:S23,R5:R23,\">=91\",R5:R23,\"<=115\"))","v":4.166666666666667}]
[null,null,null,null,"Doublebogeys eller værre",null,null,null,null,null,null,null,null,null,null,null,null,null,null,null,null,null,"116-140",{"$f":"COUNTIFS(R5:R23,\">=116\",R5:R23,\"<=140\")","v":1},{"$f":"IF(X33=0,\"\",AVERAGEIFS(S5:S23,R5:R23,\">=116\",R5:R23,\"<=140\"))","v":2}]
[null,null,null,null,null,null,null,null,null,null,null,null,null,null,null,null,null,null,"First 4",{"$f":"IF(E25=\"0\",\"\",SUM(E5:E8)-SUM(C5:C8))","v":3},null,null,"141-160",{"$f":"COUNTIFS(R5:R23,\">=141\",R5:R23,\"<=161\")","v":1},{"$f":"IF(X34=0,\"\",AVERAGEIFS(S5:S23,R5:R23,\">=141\",R5:R23,\"<=160\"))","v":1}]
[null,null,null,null,null,null,null,null,null,null,null,null,null,null,null,null,null,null,"Last 4",{"$f":"IF(E25=\"0\",\"\",SUM(E20:E23)-SUM(C20:C23))","v":1},null,null,"161-180",{"$f":"COUNTIFS(R5:R23,\">=161\",R5:R23,\"<=180\")","v":0},{"$f":"IF(X35=0,\"\",AVERAGEIFS(S5:S23,R5:R23,\">=161\",R5:R23,\"<=180\"))","v":""}]
[]
[null,null,null,null,null,null,null,null,null,null,null,null,null,null,null,null,null,null,null,null,null,null,"Putting"]
[null,null,null,null,null,null,null,null,null,null,null,null,null,null,null,null,null,null,null,null,null,null,"Længde (m)","Antal","Holet","Holet (%)"]
[null,null,null,null,null,null,null,null,null,null,null,null,null,null,null,null,null,null,null,null,null,null,"under 1 m",{"$f":"COUNTIFS(S5:S23,\">=0,1\",S5:S23,\"<=0,9\")","v":0},{"$f":"IF(X39=0,\"\",COUNTIFS(P5:P23,\"=1\",S5:S23,\"<1\"))","v":""},{"$f":"IF(X39=0,\"\",Y39/X39*100)","v":""}]
[null,null,null,null,null,null,null,null,null,null,null,null,null,null,null,null,null,null,null,null,null,null,"1 - 1,5",{"$f":"COUNTIFS(S5:S23,\">=1\",S5:S23,\"<=1,5\")","v":1},{"$f":"IF(X40=0,\"\",COUNTIFS(P5:P23,\"=1\",S5:S23,\">=1\",S5:S23,\"<=1,5\"))","v":0},{"$f":"IF(X40=0,\"\",Y40/X40*100)","v":0}]
[null,null,null,null,null,null,null,null,null,null,null,null,null,null,null,null,null,null,null,null,null,null,"1,5 - 3",{"$f":"COUNTIFS(S5:S23,\">=1,6\",S5:S23,\"<=3\")","v":4},{"$f":"IF(X41=0,\"\",COUNTIFS(P5:P23,\"=1\",S5:S23,\">=1,6\",S5:S23,\"<=3\"))","v":1},{"$f":"IF(X41=0,\"\",Y41/X41*100)","v":25}]
[null,null,null,null,null,null,null,null,null,null,null,null,null,null,null,null,null,null,null,null,null,null,"3 - 4,5",{"$f":"COUNTIFS(S5:S23,\">=3,1\",S5:S23,\"<=4,5\")","v":2},{"$f":"IF(X42=0,\"\",COUNTIFS(P5:P23,\"=1\",S5:S23,\">=3,1\",S5:S23,\"<=4,5\"))","v":0},0]
[null,null,null,null,null,null,null,null,null,null,null,null,null,null,null,null,null,null,null,null,null,null,"4,5 - 6",{"$f":"COUNTIFS(S5:S23,\">=4,6\",S5:S23,\"<=6\")","v":3},{"$f":"IF(X43=0,\"\",COUNTIFS(P5:P23,\"=1\",S5:S23,\">=4,6\",S5:S23,\"<=6\"))","v":0},0]
[null,null,null,null,null,null,null,null,null,null,null,null,null,null,null,null,null,null,null,null,null,null,"over 6 meter",{"$f":"COUNTIFS(S5:S23,\">6\")","v":0},{"$f":"IF(X44=0,\"\",COUNTIFS(P5:P23,\"=1\",S5:S23,\">6\"))","v":""},""]

{"sheet":"Runde 26","index":28,"n_rows":44,"n_cols":29,"rows_kept":44,"cut":false,"hidden":false,"merged":[]}
["Korsør Golf Klub - 18 huller - Gul tee",null,null,null,null,null,null,null,null,{"$f":"IF(E25=\"0\",\"0\",\"1\")","v":"1"},"Dato:","2010-09-05",null,"Handicap:",4.0999999999999996,null,"ATS:",3,null,"Vejr:","Sol, 18 grader, svag vind",null,"Turnering:","Løvfaldsturneringen"]
[]
[null,null,null,null,null,null,null,"Tee shot",null,null,"Fairway hits i %",null,null,"Bunker",null,null,null,"Approach shots"]
["Hul","Gul tee","Par","HCP","Score","Netto","Driver","Wood","Jern","Venstre","Midt","Højre","FB","GB","SS","Putts","GIR","Dist. to pin (m)","Dist. to hole (m)","% SS","% GIR","Putts/GIR","Eagles","Birdies","Bogeys","Værre","% Scramble","3+ Putts","% Driver/Fairwayhits"]
[1,307,4,11,3,3,1,null,null,null,1,null,null,null,null,1,1,72,2.5,null,null,{"$f":"IF(Q5=0,\"\",P5)","v":1},null,null,null,null,{"$f":"IF(AND(Q5=\"\",P5=1),1,\"\")","v":""},null,{"$f":"IF(AND(G5=\"\"),\"\",SUM(K5))","v":1}]
[2,323,4,5,4,4,1,null,null,null,1,null,null,null,null,2,1,80,4,null,null,2,null,null,null,null,"",null,1]
[3,138,3,15,3,3,null,null,null,null,null,null,null,null,null,2,1,null,null,null,null,2,null,null,null,null,"",null,""]
[4,310,4,13,3,3,null,null,1,null,1,null,null,null,null,1,1,136,0.4,null,null,1,null,null,null,null,"",null,""]
[5,431,5,3,4,3,1,null,null,null,1,null,null,null,null,1,1,6,0.3,null,null,1,null,null,null,null,"",null,1]
[6,312,4,9,4,4,1,null,null,null,1,null,null,null,null,2,1,null,null,null,null,2,null,null,null,null,"",null,1]
[7,498,5,1,5,4,null,null,1,null,1,null,null,null,null,2,1,126,5,null,null,2,null,null,null,null,"",null,""]
[8,138,3,17,3,3,null,null,null,null,null,null,null,null,null,2,1,137,5,null,null,2,null,null,null,null,"",null,""]
[9,310,4,7,4,4,null,1,null,null,1,null,null,null,null,2,1,123,2.5,null,null,2,null,null,null,null,"",null,""]
[null,{"$f":"SUM(B5:B13)","v":2767},{"$f":"SUM(C5:C13)","v":36},"UD",{"$f":"SUM(E5:E13)","v":33},{"$f":"SUM(F5:F13)","v":31},{"$f":"SUM(G5:G13)","v":4},{"$f":"SUM(H5:H13)","v":1},{"$f":"SUM(I5:I13)","v":2},{"$f":"IF((A28=27),\"\",(SUM(J5:J13)/SUM(J5:L13))*100)","v":0},{"$f":"IF((A28=27),\"\",(SUM(K5:K13)/SUM(J5:L13))*100)","v":100},{"$f":"IF((A28=27),\"\",(SUM(L5:L13)/SUM(J5:L13))*100)","v":0},{"$f":"SUM(M5:M13)","v":0},{"$f":"SUM(N5:N13)","v":0},{"$f":"SUM(O5:O13)","v":0},{"$f":"SUM(P5:P13)","v":15},{"$f":"SUM(Q5:Q13)","v":9},null,{"$f":"IF(Q14=0,0,SUM(S5:S13)/Q14)","v":2.1888888888888887},null,null,{"$f":"SUM(V5:V13)","v":15},{"$f":"ColorFunction($E$30,$E$5:$E$13)","v":0},{"$f":"ColorFunction($E$31,$E$5:$E$13)","v":3},{"$f":"ColorFunction($E$32,$E$5:$E$13)","v":0},{"$f":"ColorFunction($E$33,$E$5:$E$13)","v":0},null,{"$f":"COUNTIF(P5:P13,\">2\")","v":0},{"$f":"IF((G14=0),\"\",SUM(AC5:AC13)/G14*100)","v":100}]
[10,481,5,4,5,5,1,null,null,1,null,null,null,null,null,1,null,null,null,null,null,{"$f":"IF(Q15=0,\"\",P15)","v":""},null,null,null,null,{"$f":"IF(AND(Q15=\"\",P15=1),1,\"\")","v":1},null,{"$f":"IF(AND(G15=\"\"),\"\",SUM(K15))","v":0}]
[11,319,4,16,4,4,null,1,null,null,1,null,null,null,null,2,1,125,5,null,null,2,null,null,null,null,"",null,""]
[12,431,5,2,5,4,1,null,null,null,1,null,null,null,null,2,1,26,2,null,null,2,null,null,null,null,"",null,1]
[13,122,3,18,3,3,null,null,null,null,null,null,null,null,null,2,1,114,6,null,null,2,null,null,null,null,"",null,""]
[14,379,4,6,4,4,1,null,null,null,1,null,null,null,null,2,1,157,6,null,null,2,null,null,null,null,"",null,1]
[15,316,4,8,5,5,1,null,null,1,null,null,null,null,null,2,null,null,null,null,null,"",null,null,null,null,"",null,0]
[16,322,4,14,6,6,1,null,null,1,null,null,null,null,null,3,null,null,null,null,null,"",null,null,null,null,"",null,0]
[17,345,4,10,4,4,null,1,null,null,1,null,null,null,null,2,1,148,5,null,null,2,null,null,null,null,"",null,""]
[18,281,4,12,4,4,null,1,null,null,1,null,null,null,null,2,1,85,5,null,null,2,null,null,null,null,"",null,""]
[null,{"$f":"SUM(B15:B23)","v":2996},{"$f":"SUM(C15:C23)","v":37},"IND",{"$f":"SUM(E15:E23)","v":40},{"$f":"SUM(F15:F23)","v":39},{"$f":"SUM(G15:G23)","v":5},{"$f":"SUM(H15:H23)","v":3},{"$f":"SUM(I15:I23)","v":0},{"$f":"IF((A29=27),\"\",(SUM(J15:J23)/SUM(J15:L23))*100)","v":37.5},{"$f":"IF((A29=27),\"\",(SUM(K15:K23)/SUM(J15:L23))*100)","v":62.5},{"$f":"IF((A29=27),\"\",(SUM(L15:L23)/SUM(J15:L23))*100)","v":0},{"$f":"SUM(M15:M23)","v":0},{"$f":"SUM(N15:N23)","v":0},{"$f":"SUM(O15:O23)","v":0},{"$f":"SUM(P15:P23)","v":18},{"$f":"SUM(Q15:Q23)","v":6},null,{"$f":"IF(Q24=0,0,SUM(S15:S23)/Q24)","v":4.833333333333333},null,null,{"$f":"SUM(V15:V23)","v":12},{"$f":"ColorFunction($E$30,$E$15:$E$23)","v":0},{"$f":"ColorFunction($E$31,$E$15:$E$23)","v":0},{"$f":"ColorFunction($E$32,$E$15:$E$23)","v":1},{"$f":"ColorFunction($E$33,$E$15:$E$23)","v":1},{"$f":"SUM(AA15:AA23)/(9-Q24)*100","v":33.333333333333329},{"$f":"COUNTIF(P15:P23,\">2\")","v":1},{"$f":"IF((G24=0),\"\",SUM(AC15:AC23)/G24*100)","v":40}]
[null,{"$f":"SUM(B24,B14)","v":5763},{"$f":"SUM(C24,C14)","v":73},"TOTAL",{"$f":"IF(E14=0,\"0\",(E24+E14))","v":73},{"$f":"SUM(F14,F24)","v":70},{"$f":"SUM(G24,G14)","v":9},{"$f":"SUM(H24,H14)","v":4},{"$f":"SUM(I24,I14)","v":2},{"$f":"IF((A28=27),\"\",(SUM(J14,J24)/2))","v":18.75},{"$f":"IF((A28=27),\"\",(SUM(K14,K24)/2))","v":81.25},{"$f":"IF((A28=27),\"\",(SUM(L14,L24)/2))","v":0},{"$f":"SUM(M24,M14)","v":0},{"$f":"SUM(N24,N14)","v":0},{"$f":"SUM(O24,O14)","v":0},{"$f":"IF(P14+P24=0,\"\",SUM(P24,P14))","v":33},{"$f":"IF(Q14+Q24=0,\"\",SUM(Q24,Q14))","v":15},null,{"$f":"IF(S14+S24=0,\"\",SUM(S24,S14)/2)","v":3.5111111111111111},{"$f":"IF(N25=0,\"\",(O25)/N25*100)","v":""},{"$f":"IF(Q25=\"\",\"\",(Q25)/18*100)","v":83.333333333333343},{"$f":"IF(Q25=\"\",\"\",(V14+V24)/Q25)","v":1.8},{"$f":"SUM(W14,W24)","v":0},{"$f":"SUM(X14,X24)","v":3},{"$f":"SUM(Y14,Y24)","v":1},{"$f":"SUM(Z14,Z24)","v":1},33,{"$f":"SUM(AB14,AB24)","v":1},{"$f":"SUM(AC24,AC14)/2","v":70}]
[]
[null,null,null,null,"Udfyld alle grønne felter med 1 for positiv eller antal i tal"]
[{"$f":"COUNTBLANK(I5:K13)","v":18},null,null,null,null,null,null,null,null,null,null,null,null,null,null,null,null,null,null,null,null,null,"Approach"]
[{"$f":"COUNTBLANK(I15:K23)","v":19},null,null,null,"Udfyld følgende farver:",null,null,null,null,null,null,null,null,null,null,null,null,null,"Holes to par",null,null,null,"Længde (m)","Antal","Afstand (m)"]
[{"$f":"SUM(L5:L23)","v":0},null,null,null,"Eagles",null,null,null,null,null,null,null,null,null,null,null,null,null,"Par 3",{"$f":"SUMIF(C:C,\"3\",E:E)/COUNTIF(C:C,3)","v":3},null,null,"45-70",{"$f":"COUNTIFS(R5:R23,\">=45\",R5:R23,\"<=70\")","v":0},{"$f":"IF(X30=0,\"\",AVERAGEIFS(S5:S23,R5:R23,\">=45\",R5:R23,\"<=70\"))","v":""}]
[null,null,null,null,"Birdies",null,null,null,null,null,null,null,null,null,null,null,null,null,"Par 4",{"$f":"SUMIF(C:C,\"4\",E:E)/COUNTIF(C:C,4)","v":4.0909090909090908},null,null,"71-90",{"$f":"COUNTIFS(R5:R23,\">=71\",R5:R23,\"<=90\")","v":3},{"$f":"IF(X31=0,\"\",AVERAGEIFS(S5:S23,R5:R23,\">=71\",R5:R23,\"<=90\"))","v":3.8333333333333335}]
[null,null,null,null,"Bogeys",null,null,null,null,null,null,null,null,null,null,null,null,null,"Par 5",{"$f":"SUMIF(C:C,\"5\",E:E)/COUNTIF(C:C,5)","v":4.75},null,null,"91-115",{"$f":"COUNTIFS(R5:R23,\">=91\",R5:R23,\"<=115\")","v":1},{"$f":"IF(X32=0,\"\",AVERAGEIFS(S5:S23,R5:R23,\">=91\",R5:R23,\"<=115\"))","v":6}]
[null,null,null,null,"Doublebogeys eller værre",null,null,null,null,null,null,null,null,null,null,null,null,null,null,null,null,null,"116-140",{"$f":"COUNTIFS(R5:R23,\">=116\",R5:R23,\"<=140\")","v":5},{"$f":"IF(X33=0,\"\",AVERAGEIFS(S5:S23,R5:R23,\">=116\",R5:R23,\"<=140\"))","v":3.5799999999999996}]
[null,null,null,null,null,null,null,null,null,null,null,null,null,null,null,null,null,null,"First 4",{"$f":"IF(E25=\"0\",\"\",SUM(E5:E8)-SUM(C5:C8))","v":-2},null,null,"141-160",{"$f":"COUNTIFS(R5:R23,\">=141\",R5:R23,\"<=161\")","v":2},{"$f":"IF(X34=0,\"\",AVERAGEIFS(S5:S23,R5:R23,\">=141\",R5:R23,\"<=160\"))","v":5.5}]
[null,null,null,null,null,null,null,null,null,null,null,null,null,null,null,null,null,null,"Last 4",{"$f":"IF(E25=\"0\",\"\",SUM(E20:E23)-SUM(C20:C23))","v":3},null,null,"161-180",{"$f":"COUNTIFS(R5:R23,\">=161\",R5:R23,\"<=180\")","v":0},{"$f":"IF(X35=0,\"\",AVERAGEIFS(S5:S23,R5:R23,\">=161\",R5:R23,\"<=180\"))","v":""}]
[]
[null,null,null,null,null,null,null,null,null,null,null,null,null,null,null,null,null,null,null,null,null,null,"Putting"]
[null,null,null,null,null,null,null,null,null,null,null,null,null,null,null,null,null,null,null,null,null,null,"Længde (m)","Antal","Holet","Holet (%)"]
[null,null,null,null,null,null,null,null,null,null,null,null,null,null,null,null,null,null,null,null,null,null,"under 1 m",{"$f":"COUNTIFS(S5:S23,\">=0,1\",S5:S23,\"<=0,9\")","v":2},{"$f":"IF(X39=0,\"\",COUNTIFS(P5:P23,\"=1\",S5:S23,\"<1\"))","v":2},{"$f":"IF(X39=0,\"\",Y39/X39*100)","v":100}]
[null,null,null,null,null,null,null,null,null,null,null,null,null,null,null,null,null,null,null,null,null,null,"1 - 1,5",{"$f":"COUNTIFS(S5:S23,\">=1\",S5:S23,\"<=1,5\")","v":0},{"$f":"IF(X40=0,\"\",COUNTIFS(P5:P23,\"=1\",S5:S23,\">=1\",S5:S23,\"<=1,5\"))","v":""},{"$f":"IF(X40=0,\"\",Y40/X40*100)","v":""}]
[null,null,null,null,null,null,null,null,null,null,null,null,null,null,null,null,null,null,null,null,null,null,"1,5 - 3",{"$f":"COUNTIFS(S5:S23,\">=1,6\",S5:S23,\"<=3\")","v":4},{"$f":"IF(X41=0,\"\",COUNTIFS(P5:P23,\"=1\",S5:S23,\">=1,6\",S5:S23,\"<=3\"))","v":1},{"$f":"IF(X41=0,\"\",Y41/X41*100)","v":25}]
[null,null,null,null,null,null,null,null,null,null,null,null,null,null,null,null,null,null,null,null,null,null,"3 - 4,5",{"$f":"COUNTIFS(S5:S23,\">=3,1\",S5:S23,\"<=4,5\")","v":1},{"$f":"IF(X42=0,\"\",COUNTIFS(P5:P23,\"=1\",S5:S23,\">=3,1\",S5:S23,\"<=4,5\"))","v":0},0]
[null,null,null,null,null,null,null,null,null,null,null,null,null,null,null,null,null,null,null,null,null,null,"4,5 - 6",{"$f":"COUNTIFS(S5:S23,\">=4,6\",S5:S23,\"<=6\")","v":7},{"$f":"IF(X43=0,\"\",COUNTIFS(P5:P23,\"=1\",S5:S23,\">=4,6\",S5:S23,\"<=6\"))","v":0},0]
[null,null,null,null,null,null,null,null,null,null,null,null,null,null,null,null,null,null,null,null,null,null,"over 6 meter",{"$f":"COUNTIFS(S5:S23,\">6\")","v":0},{"$f":"IF(X44=0,\"\",COUNTIFS(P5:P23,\"=1\",S5:S23,\">6\"))","v":""},""]

{"sheet":"Runde 27","index":29,"n_rows":44,"n_cols":29,"rows_kept":44,"cut":false,"hidden":false,"merged":[]}
["Korsør Golf Klub - 18 huller - Gul tee",null,null,null,null,null,null,null,null,{"$f":"IF(E25=\"0\",\"0\",\"1\")","v":"0"},"Dato:",null,null,"Handicap:",null,null,"ATS:",null,null,"Vejr:",null,null,"Turnering:"]
[]
[null,null,null,null,null,null,null,"Tee shot",null,null,"Fairway hits i %",null,null,"Bunker",null,null,null,"Approach shots"]
["Hul","Gul tee","Par","HCP","Score","Netto","Driver","Wood","Jern","Venstre","Midt","Højre","FB","GB","SS","Putts","GIR","Dist. to pin (m)","Dist. to hole (m)","% SS","% GIR","Putts/GIR","Eagles","Birdies","Bogeys","Værre","% Scramble","3+ Putts","% Driver/Fairwayhits"]
[1,307,4,11,null,null,null,null,null,null,null,null,null,null,null,null,null,null,null,null,null,{"$f":"IF(Q5=0,\"\",P5)","v":""},null,null,null,null,{"$f":"IF(AND(Q5=\"\",P5=1),1,\"\")","v":""},null,{"$f":"IF(AND(G5=\"\"),\"\",SUM(K5))","v":""}]
[2,323,4,5,null,null,null,null,null,null,null,null,null,null,null,null,null,null,null,null,null,"",null,null,null,null,"",null,""]
[3,138,3,15,null,null,null,null,null,null,null,null,null,null,null,null,null,null,null,null,null,"",null,null,null,null,"",null,""]
[4,310,4,13,null,null,null,null,null,null,null,null,null,null,null,null,null,null,null,null,null,"",null,null,null,null,"",null,""]
[5,431,5,3,null,null,null,null,null,null,null,null,null,null,null,null,null,null,null,null,null,"",null,null,null,null,"",null,""]
[6,312,4,9,null,null,null,null,null,null,null,null,null,null,null,null,null,null,null,null,null,"",null,null,null,null,"",null,""]
[7,498,5,1,null,null,null,null,null,null,null,null,null,null,null,null,null,null,null,null,null,"",null,null,null,null,"",null,""]
[8,138,3,17,null,null,null,null,null,null,null,null,null,null,null,null,null,null,null,null,null,"",null,null,null,null,"",null,""]
[9,310,4,7,null,null,null,null,null,null,null,null,null,null,null,null,null,null,null,null,null,"",null,null,null,null,"",null,""]
[null,{"$f":"SUM(B5:B13)","v":2767},{"$f":"SUM(C5:C13)","v":36},"UD",{"$f":"SUM(E5:E13)","v":0},{"$f":"SUM(F5:F13)","v":0},{"$f":"SUM(G5:G13)","v":0},{"$f":"SUM(H5:H13)","v":0},{"$f":"SUM(I5:I13)","v":0},{"$f":"IF((A28=27),\"\",(SUM(J5:J13)/SUM(J5:L13))*100)","v":""},{"$f":"IF((A28=27),\"\",(SUM(K5:K13)/SUM(J5:L13))*100)","v":""},{"$f":"IF((A28=27),\"\",(SUM(L5:L13)/SUM(J5:L13))*100)","v":""},{"$f":"SUM(M5:M13)","v":0},{"$f":"SUM(N5:N13)","v":0},{"$f":"SUM(O5:O13)","v":0},{"$f":"SUM(P5:P13)","v":0},{"$f":"SUM(Q5:Q13)","v":0},null,{"$f":"IF(Q14=0,0,SUM(S5:S13)/Q14)","v":0},null,null,{"$f":"SUM(V5:V13)","v":0},{"$f":"ColorFunction($E$30,$E$5:$E$13)","v":0},{"$f":"ColorFunction($E$31,$E$5:$E$13)","v":0},{"$f":"ColorFunction($E$32,$E$5:$E$13)","v":0},{"$f":"ColorFunction($E$33,$E$5:$E$13)","v":0},{"$f":"SUM(AA5:AA13)/(9-Q14)*100","v":0},{"$f":"COUNTIF(P5:P13,\">2\")","v":0},{"$f":"IF((G14=0),\"\",SUM(AC5:AC13)/G14*100)","v":""}]
[10,481,5,4,null,null,null,null,null,null,null,null,null,null,null,null,null,null,null,null,null,{"$f":"IF(Q15=0,\"\",P15)","v":""},null,null,null,null,{"$f":"IF(AND(Q15=\"\",P15=1),1,\"\")","v":""},null,{"$f":"IF(AND(G15=\"\"),\"\",SUM(K15))","v":""}]
[11,319,4,16,null,null,null,null,null,null,null,null,null,null,null,null,null,null,null,null,null,"",null,null,null,null,"",null,""]
[12,431,5,2,null,null,null,null,null,null,null,null,null,null,null,null,null,null,null,null,null,"",null,null,null,null,"",null,""]
[13,122,3,18,null,null,null,null,null,null,null,null,null,null,null,null,null,null,null,null,null,"",null,null,null,null,"",null,""]
[14,379,4,6,null,null,null,null,null,null,null,null,null,null,null,null,null,null,null,null,null,"",null,null,null,null,"",null,""]
[15,316,4,8,null,null,null,null,null,null,null,null,null,null,null,null,null,null,null,null,null,"",null,null,null,null,"",null,""]
[16,322,4,14,null,null,null,null,null,null,null,null,null,null,null,null,null,null,null,null,null,"",null,null,null,null,"",null,""]
[17,345,4,10,null,null,null,null,null,null,null,null,null,null,null,null,null,null,null,null,null,"",null,null,null,null,"",null,""]
[18,281,4,12,null,null,null,null,null,null,null,null,null,null,null,null,null,null,null,null,null,"",null,null,null,null,"",null,""]
[null,{"$f":"SUM(B15:B23)","v":2996},{"$f":"SUM(C15:C23)","v":37},"IND",{"$f":"SUM(E15:E23)","v":0},{"$f":"SUM(F15:F23)","v":0},{"$f":"SUM(G15:G23)","v":0},{"$f":"SUM(H15:H23)","v":0},{"$f":"SUM(I15:I23)","v":0},{"$f":"IF((A29=27),\"\",(SUM(J15:J23)/SUM(J15:L23))*100)","v":""},{"$f":"IF((A29=27),\"\",(SUM(K15:K23)/SUM(J15:L23))*100)","v":""},{"$f":"IF((A29=27),\"\",(SUM(L15:L23)/SUM(J15:L23))*100)","v":""},{"$f":"SUM(M15:M23)","v":0},{"$f":"SUM(N15:N23)","v":0},{"$f":"SUM(O15:O23)","v":0},{"$f":"SUM(P15:P23)","v":0},{"$f":"SUM(Q15:Q23)","v":0},null,{"$f":"IF(Q24=0,0,SUM(S15:S23)/Q24)","v":0},null,null,{"$f":"SUM(V15:V23)","v":0},{"$f":"ColorFunction($E$30,$E$15:$E$23)","v":0},{"$f":"ColorFunction($E$31,$E$15:$E$23)","v":0},{"$f":"ColorFunction($E$32,$E$15:$E$23)","v":0},{"$f":"ColorFunction($E$33,$E$15:$E$23)","v":0},{"$f":"SUM(AA15:AA23)/(9-Q24)*100","v":0},{"$f":"COUNTIF(P15:P23,\">2\")","v":0},{"$f":"IF((G24=0),\"\",SUM(AC15:AC23)/G24*100)","v":""}]
[null,{"$f":"SUM(B24,B14)","v":5763},{"$f":"SUM(C24,C14)","v":73},"TOTAL",{"$f":"IF(E14=0,\"0\",(E24+E14))","v":"0"},{"$f":"SUM(F14,F24)","v":0},{"$f":"SUM(G24,G14)","v":0},{"$f":"SUM(H24,H14)","v":0},{"$f":"SUM(I24,I14)","v":0},{"$f":"IF((A28=27),\"\",(SUM(J14,J24)/2))","v":""},{"$f":"IF((A28=27),\"\",(SUM(K14,K24)/2))","v":""},{"$f":"IF((A28=27),\"\",(SUM(L14,L24)/2))","v":""},{"$f":"SUM(M24,M14)","v":0},{"$f":"SUM(N24,N14)","v":0},{"$f":"SUM(O24,O14)","v":0},{"$f":"IF(P14+P24=0,\"\",SUM(P24,P14))","v":""},{"$f":"IF(Q14+Q24=0,\"\",SUM(Q24,Q14))","v":""},null,{"$f":"IF(S14+S24=0,\"\",SUM(S24,S14)/2)","v":""},{"$f":"IF(N25=0,\"\",(O25)/N25*100)","v":""},{"$f":"IF(Q25=\"\",\"\",(Q25)/18*100)","v":""},{"$f":"IF(Q25=\"\",\"\",(V14+V24)/Q25)","v":""},{"$f":"SUM(W14,W24)","v":0},{"$f":"SUM(X14,X24)","v":0},{"$f":"SUM(Y14,Y24)","v":0},{"$f":"SUM(Z14,Z24)","v":0},{"$f":"SUM(AA14,AA24)/2","v":0},{"$f":"SUM(AB14,AB24)","v":0},{"$f":"SUM(AC24,AC14)/2","v":0}]
[]
[null,null,null,null,"Udfyld alle grønne felter med 1 for positiv eller antal i tal"]
[{"$f":"COUNTBLANK(I5:K13)","v":27},null,null,null,null,null,null,null,null,null,null,null,null,null,null,null,null,null,null,null,null,null,"Approach"]
[{"$f":"COUNTBLANK(I15:K23)","v":27},null,null,null,"Udfyld følgende farver:",null,null,null,null,null,null,null,null,null,null,null,null,null,"Holes to par",null,null,null,"Længde (m)","Antal","Afstand (m)"]
[{"$f":"SUM(L5:L23)","v":0},null,null,null,"Eagles",null,null,null,null,null,null,null,null,null,null,null,null,null,"Par 3",{"$f":"SUMIF(C:C,\"3\",E:E)/COUNTIF(C:C,3)","v":0},null,null,"45-70",{"$f":"COUNTIFS(R5:R23,\">=45\",R5:R23,\"<=70\")","v":0},{"$f":"IF(X30=0,\"\",AVERAGEIFS(S5:S23,R5:R23,\">=45\",R5:R23,\"<=70\"))","v":""}]
[null,null,null,null,"Birdies",null,null,null,null,null,null,null,null,null,null,null,null,null,"Par 4",{"$f":"SUMIF(C:C,\"4\",E:E)/COUNTIF(C:C,4)","v":0},null,null,"71-90",{"$f":"COUNTIFS(R5:R23,\">=71\",R5:R23,\"<=90\")","v":0},{"$f":"IF(X31=0,\"\",AVERAGEIFS(S5:S23,R5:R23,\">=71\",R5:R23,\"<=90\"))","v":""}]
[null,null,null,null,"Bogeys",null,null,null,null,null,null,null,null,null,null,null,null,null,"Par 5",{"$f":"SUMIF(C:C,\"5\",E:E)/COUNTIF(C:C,5)","v":0},null,null,"91-115",{"$f":"COUNTIFS(R5:R23,\">=91\",R5:R23,\"<=115\")","v":0},{"$f":"IF(X32=0,\"\",AVERAGEIFS(S5:S23,R5:R23,\">=91\",R5:R23,\"<=115\"))","v":""}]
[null,null,null,null,"Doublebogeys eller værre",null,null,null,null,null,null,null,null,null,null,null,null,null,null,null,null,null,"116-140",{"$f":"COUNTIFS(R5:R23,\">=116\",R5:R23,\"<=140\")","v":0},{"$f":"IF(X33=0,\"\",AVERAGEIFS(S5:S23,R5:R23,\">=116\",R5:R23,\"<=140\"))","v":""}]
[null,null,null,null,null,null,null,null,null,null,null,null,null,null,null,null,null,null,"First 4",{"$f":"IF(E25=\"0\",\"\",SUM(E5:E8)-SUM(C5:C8))","v":""},null,null,"141-160",{"$f":"COUNTIFS(R5:R23,\">=141\",R5:R23,\"<=161\")","v":0},{"$f":"IF(X34=0,\"\",AVERAGEIFS(S5:S23,R5:R23,\">=141\",R5:R23,\"<=160\"))","v":""}]
[null,null,null,null,null,null,null,null,null,null,null,null,null,null,null,null,null,null,"Last 4",{"$f":"IF(E25=\"0\",\"\",SUM(E20:E23)-SUM(C20:C23))","v":""},null,null,"161-180",{"$f":"COUNTIFS(R5:R23,\">=161\",R5:R23,\"<=180\")","v":0},{"$f":"IF(X35=0,\"\",AVERAGEIFS(S5:S23,R5:R23,\">=161\",R5:R23,\"<=180\"))","v":""}]
[]
[null,null,null,null,null,null,null,null,null,null,null,null,null,null,null,null,null,null,null,null,null,null,"Putting"]
[null,null,null,null,null,null,null,null,null,null,null,null,null,null,null,null,null,null,null,null,null,null,"Længde (m)","Antal","Holet","Holet (%)"]
[null,null,null,null,null,null,null,null,null,null,null,null,null,null,null,null,null,null,null,null,null,null,"under 1 m",{"$f":"COUNTIFS(S5:S23,\">=0,1\",S5:S23,\"<=0,9\")","v":0},{"$f":"IF(X39=0,\"\",COUNTIFS(P5:P23,\"=1\",S5:S23,\"<1\"))","v":""},{"$f":"IF(X39=0,\"\",Y39/X39*100)","v":""}]
[null,null,null,null,null,null,null,null,null,null,null,null,null,null,null,null,null,null,null,null,null,null,"1 - 1,5",{"$f":"COUNTIFS(S5:S23,\">=1\",S5:S23,\"<=1,5\")","v":0},{"$f":"IF(X40=0,\"\",COUNTIFS(P5:P23,\"=1\",S5:S23,\">=1\",S5:S23,\"<=1,5\"))","v":""},{"$f":"IF(X40=0,\"\",Y40/X40*100)","v":""}]
[null,null,null,null,null,null,null,null,null,null,null,null,null,null,null,null,null,null,null,null,null,null,"1,5 - 3",{"$f":"COUNTIFS(S5:S23,\">=1,6\",S5:S23,\"<=3\")","v":0},{"$f":"IF(X41=0,\"\",COUNTIFS(P5:P23,\"=1\",S5:S23,\">=1,6\",S5:S23,\"<=3\"))","v":""},{"$f":"IF(X41=0,\"\",Y41/X41*100)","v":""}]
[null,null,null,null,null,null,null,null,null,null,null,null,null,null,null,null,null,null,null,null,null,null,"3 - 4,5",{"$f":"COUNTIFS(S5:S23,\">=3,1\",S5:S23,\"<=4,5\")","v":0},{"$f":"IF(X42=0,\"\",COUNTIFS(P5:P23,\"=1\",S5:S23,\">=3,1\",S5:S23,\"<=4,5\"))","v":""},""]
[null,null,null,null,null,null,null,null,null,null,null,null,null,null,null,null,null,null,null,null,null,null,"4,5 - 6",{"$f":"COUNTIFS(S5:S23,\">=4,6\",S5:S23,\"<=6\")","v":0},{"$f":"IF(X43=0,\"\",COUNTIFS(P5:P23,\"=1\",S5:S23,\">=4,6\",S5:S23,\"<=6\"))","v":""},""]
[null,null,null,null,null,null,null,null,null,null,null,null,null,null,null,null,null,null,null,null,null,null,"over 6 meter",{"$f":"COUNTIFS(S5:S23,\">6\")","v":0},{"$f":"IF(X44=0,\"\",COUNTIFS(P5:P23,\"=1\",S5:S23,\">6\"))","v":""},""]

{"sheet":"Runde 28","index":30,"n_rows":44,"n_cols":29,"rows_kept":44,"cut":false,"hidden":false,"merged":[]}
["Korsør Golf Klub - 18 huller - Gul tee",null,null,null,null,null,null,null,null,{"$f":"IF(E25=\"0\",\"0\",\"1\")","v":"0"},"Dato:",null,null,"Handicap:",null,null,"ATS:",null,null,"Vejr:",null,null,"Turnering:"]
[]
[null,null,null,null,null,null,null,"Tee shot",null,null,"Fairway hits i %",null,null,"Bunker",null,null,null,"Approach shots"]
["Hul","Gul tee","Par","HCP","Score","Netto","Driver","Wood","Jern","Venstre","Midt","Højre","FB","GB","SS","Putts","GIR","Dist. to pin (m)","Dist. to hole (m)","% SS","% GIR","Putts/GIR","Eagles","Birdies","Bogeys","Værre","% Scramble","3+ Putts","% Driver/Fairwayhits"]
[1,307,4,11,null,null,null,null,null,null,null,null,null,null,null,null,null,null,null,null,null,{"$f":"IF(Q5=0,\"\",P5)","v":""},null,null,null,null,{"$f":"IF(AND(Q5=\"\",P5=1),1,\"\")","v":""},null,{"$f":"IF(AND(G5=\"\"),\"\",SUM(K5))","v":""}]
[2,323,4,5,null,null,null,null,null,null,null,null,null,null,null,null,null,null,null,null,null,"",null,null,null,null,"",null,""]
[3,138,3,15,null,null,null,null,null,null,null,null,null,null,null,null,null,null,null,null,null,"",null,null,null,null,"",null,""]
[4,310,4,13,null,null,null,null,null,null,null,null,null,null,null,null,null,null,null,null,null,"",null,null,null,null,"",null,""]
[5,431,5,3,null,null,null,null,null,null,null,null,null,null,null,null,null,null,null,null,null,"",null,null,null,null,"",null,""]
[6,312,4,9,null,null,null,null,null,null,null,null,null,null,null,null,null,null,null,null,null,"",null,null,null,null,"",null,""]
[7,498,5,1,null,null,null,null,null,null,null,null,null,null,null,null,null,null,null,null,null,"",null,null,null,null,"",null,""]
[8,138,3,17,null,null,null,null,null,null,null,null,null,null,null,null,null,null,null,null,null,"",null,null,null,null,"",null,""]
[9,310,4,7,null,null,null,null,null,null,null,null,null,null,null,null,null,null,null,null,null,"",null,null,null,null,"",null,""]
[null,{"$f":"SUM(B5:B13)","v":2767},{"$f":"SUM(C5:C13)","v":36},"UD",{"$f":"SUM(E5:E13)","v":0},{"$f":"SUM(F5:F13)","v":0},{"$f":"SUM(G5:G13)","v":0},{"$f":"SUM(H5:H13)","v":0},{"$f":"SUM(I5:I13)","v":0},{"$f":"IF((A28=27),\"\",(SUM(J5:J13)/SUM(J5:L13))*100)","v":""},{"$f":"IF((A28=27),\"\",(SUM(K5:K13)/SUM(J5:L13))*100)","v":""},{"$f":"IF((A28=27),\"\",(SUM(L5:L13)/SUM(J5:L13))*100)","v":""},{"$f":"SUM(M5:M13)","v":0},{"$f":"SUM(N5:N13)","v":0},{"$f":"SUM(O5:O13)","v":0},{"$f":"SUM(P5:P13)","v":0},{"$f":"SUM(Q5:Q13)","v":0},null,{"$f":"IF(Q14=0,0,SUM(S5:S13)/Q14)","v":0},null,null,{"$f":"SUM(V5:V13)","v":0},{"$f":"ColorFunction($E$30,$E$5:$E$13)","v":0},{"$f":"ColorFunction($E$31,$E$5:$E$13)","v":0},{"$f":"ColorFunction($E$32,$E$5:$E$13)","v":0},{"$f":"ColorFunction($E$33,$E$5:$E$13)","v":0},{"$f":"SUM(AA5:AA13)/(9-Q14)*100","v":0},{"$f":"COUNTIF(P5:P13,\">2\")","v":0},{"$f":"IF((G14=0),\"\",SUM(AC5:AC13)/G14*100)","v":""}]
[10,481,5,4,null,null,null,null,null,null,null,null,null,null,null,null,null,null,null,null,null,{"$f":"IF(Q15=0,\"\",P15)","v":""},null,null,null,null,{"$f":"IF(AND(Q15=\"\",P15=1),1,\"\")","v":""},null,{"$f":"IF(AND(G15=\"\"),\"\",SUM(K15))","v":""}]
[11,319,4,16,null,null,null,null,null,null,null,null,null,null,null,null,null,null,null,null,null,"",null,null,null,null,"",null,""]
[12,431,5,2,null,null,null,null,null,null,null,null,null,null,null,null,null,null,null,null,null,"",null,null,null,null,"",null,""]
[13,122,3,18,null,null,null,null,null,null,null,null,null,null,null,null,null,null,null,null,null,"",null,null,null,null,"",null,""]
[14,379,4,6,null,null,null,null,null,null,null,null,null,null,null,null,null,null,null,null,null,"",null,null,null,null,"",null,""]
[15,316,4,8,null,null,null,null,null,null,null,null,null,null,null,null,null,null,null,null,null,"",null,null,null,null,"",null,""]
[16,322,4,14,null,null,null,null,null,null,null,null,null,null,null,null,null,null,null,null,null,"",null,null,null,null,"",null,""]
[17,345,4,10,null,null,null,null,null,null,null,null,null,null,null,null,null,null,null,null,null,"",null,null,null,null,"",null,""]
[18,281,4,12,null,null,null,null,null,null,null,null,null,null,null,null,null,null,null,null,null,"",null,null,null,null,"",null,""]
[null,{"$f":"SUM(B15:B23)","v":2996},{"$f":"SUM(C15:C23)","v":37},"IND",{"$f":"SUM(E15:E23)","v":0},{"$f":"SUM(F15:F23)","v":0},{"$f":"SUM(G15:G23)","v":0},{"$f":"SUM(H15:H23)","v":0},{"$f":"SUM(I15:I23)","v":0},{"$f":"IF((A29=27),\"\",(SUM(J15:J23)/SUM(J15:L23))*100)","v":""},{"$f":"IF((A29=27),\"\",(SUM(K15:K23)/SUM(J15:L23))*100)","v":""},{"$f":"IF((A29=27),\"\",(SUM(L15:L23)/SUM(J15:L23))*100)","v":""},{"$f":"SUM(M15:M23)","v":0},{"$f":"SUM(N15:N23)","v":0},{"$f":"SUM(O15:O23)","v":0},{"$f":"SUM(P15:P23)","v":0},{"$f":"SUM(Q15:Q23)","v":0},null,{"$f":"IF(Q24=0,0,SUM(S15:S23)/Q24)","v":0},null,null,{"$f":"SUM(V15:V23)","v":0},{"$f":"ColorFunction($E$30,$E$15:$E$23)","v":0},{"$f":"ColorFunction($E$31,$E$15:$E$23)","v":0},{"$f":"ColorFunction($E$32,$E$15:$E$23)","v":0},{"$f":"ColorFunction($E$33,$E$15:$E$23)","v":0},{"$f":"SUM(AA15:AA23)/(9-Q24)*100","v":0},{"$f":"COUNTIF(P15:P23,\">2\")","v":0},{"$f":"IF((G24=0),\"\",SUM(AC15:AC23)/G24*100)","v":""}]
[null,{"$f":"SUM(B24,B14)","v":5763},{"$f":"SUM(C24,C14)","v":73},"TOTAL",{"$f":"IF(E14=0,\"0\",(E24+E14))","v":"0"},{"$f":"SUM(F14,F24)","v":0},{"$f":"SUM(G24,G14)","v":0},{"$f":"SUM(H24,H14)","v":0},{"$f":"SUM(I24,I14)","v":0},{"$f":"IF((A28=27),\"\",(SUM(J14,J24)/2))","v":""},{"$f":"IF((A28=27),\"\",(SUM(K14,K24)/2))","v":""},{"$f":"IF((A28=27),\"\",(SUM(L14,L24)/2))","v":""},{"$f":"SUM(M24,M14)","v":0},{"$f":"SUM(N24,N14)","v":0},{"$f":"SUM(O24,O14)","v":0},{"$f":"IF(P14+P24=0,\"\",SUM(P24,P14))","v":""},{"$f":"IF(Q14+Q24=0,\"\",SUM(Q24,Q14))","v":""},null,{"$f":"IF(S14+S24=0,\"\",SUM(S24,S14)/2)","v":""},{"$f":"IF(N25=0,\"\",(O25)/N25*100)","v":""},{"$f":"IF(Q25=\"\",\"\",(Q25)/18*100)","v":""},{"$f":"IF(Q25=\"\",\"\",(V14+V24)/Q25)","v":""},{"$f":"SUM(W14,W24)","v":0},{"$f":"SUM(X14,X24)","v":0},{"$f":"SUM(Y14,Y24)","v":0},{"$f":"SUM(Z14,Z24)","v":0},{"$f":"SUM(AA14,AA24)/2","v":0},{"$f":"SUM(AB14,AB24)","v":0},{"$f":"SUM(AC24,AC14)/2","v":0}]
[]
[null,null,null,null,"Udfyld alle grønne felter med 1 for positiv eller antal i tal"]
[{"$f":"COUNTBLANK(I5:K13)","v":27},null,null,null,null,null,null,null,null,null,null,null,null,null,null,null,null,null,null,null,null,null,"Approach"]
[{"$f":"COUNTBLANK(I15:K23)","v":27},null,null,null,"Udfyld følgende farver:",null,null,null,null,null,null,null,null,null,null,null,null,null,"Holes to par",null,null,null,"Længde (m)","Antal","Afstand (m)"]
[{"$f":"SUM(L5:L23)","v":0},null,null,null,"Eagles",null,null,null,null,null,null,null,null,null,null,null,null,null,"Par 3",{"$f":"SUMIF(C:C,\"3\",E:E)/COUNTIF(C:C,3)","v":0},null,null,"45-70",{"$f":"COUNTIFS(R5:R23,\">=45\",R5:R23,\"<=70\")","v":0},{"$f":"IF(X30=0,\"\",AVERAGEIFS(S5:S23,R5:R23,\">=45\",R5:R23,\"<=70\"))","v":""}]
[null,null,null,null,"Birdies",null,null,null,null,null,null,null,null,null,null,null,null,null,"Par 4",{"$f":"SUMIF(C:C,\"4\",E:E)/COUNTIF(C:C,4)","v":0},null,null,"71-90",{"$f":"COUNTIFS(R5:R23,\">=71\",R5:R23,\"<=90\")","v":0},{"$f":"IF(X31=0,\"\",AVERAGEIFS(S5:S23,R5:R23,\">=71\",R5:R23,\"<=90\"))","v":""}]
[null,null,null,null,"Bogeys",null,null,null,null,null,null,null,null,null,null,null,null,null,"Par 5",{"$f":"SUMIF(C:C,\"5\",E:E)/COUNTIF(C:C,5)","v":0},null,null,"91-115",{"$f":"COUNTIFS(R5:R23,\">=91\",R5:R23,\"<=115\")","v":0},{"$f":"IF(X32=0,\"\",AVERAGEIFS(S5:S23,R5:R23,\">=91\",R5:R23,\"<=115\"))","v":""}]
[null,null,null,null,"Doublebogeys eller værre",null,null,null,null,null,null,null,null,null,null,null,null,null,null,null,null,null,"116-140",{"$f":"COUNTIFS(R5:R23,\">=116\",R5:R23,\"<=140\")","v":0},{"$f":"IF(X33=0,\"\",AVERAGEIFS(S5:S23,R5:R23,\">=116\",R5:R23,\"<=140\"))","v":""}]
[null,null,null,null,null,null,null,null,null,null,null,null,null,null,null,null,null,null,"First 4",{"$f":"IF(E25=\"0\",\"\",SUM(E5:E8)-SUM(C5:C8))","v":""},null,null,"141-160",{"$f":"COUNTIFS(R5:R23,\">=141\",R5:R23,\"<=161\")","v":0},{"$f":"IF(X34=0,\"\",AVERAGEIFS(S5:S23,R5:R23,\">=141\",R5:R23,\"<=160\"))","v":""}]
[null,null,null,null,null,null,null,null,null,null,null,null,null,null,null,null,null,null,"Last 4",{"$f":"IF(E25=\"0\",\"\",SUM(E20:E23)-SUM(C20:C23))","v":""},null,null,"161-180",{"$f":"COUNTIFS(R5:R23,\">=161\",R5:R23,\"<=180\")","v":0},{"$f":"IF(X35=0,\"\",AVERAGEIFS(S5:S23,R5:R23,\">=161\",R5:R23,\"<=180\"))","v":""}]
[]
[null,null,null,null,null,null,null,null,null,null,null,null,null,null,null,null,null,null,null,null,null,null,"Putting"]
[null,null,null,null,null,null,null,null,null,null,null,null,null,null,null,null,null,null,null,null,null,null,"Længde (m)","Antal","Holet","Holet (%)"]
[null,null,null,null,null,null,null,null,null,null,null,null,null,null,null,null,null,null,null,null,null,null,"under 1 m",{"$f":"COUNTIFS(S5:S23,\">=0,1\",S5:S23,\"<=0,9\")","v":0},{"$f":"IF(X39=0,\"\",COUNTIFS(P5:P23,\"=1\",S5:S23,\"<1\"))","v":""},{"$f":"IF(X39=0,\"\",Y39/X39*100)","v":""}]
[null,null,null,null,null,null,null,null,null,null,null,null,null,null,null,null,null,null,null,null,null,null,"1 - 1,5",{"$f":"COUNTIFS(S5:S23,\">=1\",S5:S23,\"<=1,5\")","v":0},{"$f":"IF(X40=0,\"\",COUNTIFS(P5:P23,\"=1\",S5:S23,\">=1\",S5:S23,\"<=1,5\"))","v":""},{"$f":"IF(X40=0,\"\",Y40/X40*100)","v":""}]
[null,null,null,null,null,null,null,null,null,null,null,null,null,null,null,null,null,null,null,null,null,null,"1,5 - 3",{"$f":"COUNTIFS(S5:S23,\">=1,6\",S5:S23,\"<=3\")","v":0},{"$f":"IF(X41=0,\"\",COUNTIFS(P5:P23,\"=1\",S5:S23,\">=1,6\",S5:S23,\"<=3\"))","v":""},{"$f":"IF(X41=0,\"\",Y41/X41*100)","v":""}]
[null,null,null,null,null,null,null,null,null,null,null,null,null,null,null,null,null,null,null,null,null,null,"3 - 4,5",{"$f":"COUNTIFS(S5:S23,\">=3,1\",S5:S23,\"<=4,5\")","v":0},{"$f":"IF(X42=0,\"\",COUNTIFS(P5:P23,\"=1\",S5:S23,\">=3,1\",S5:S23,\"<=4,5\"))","v":""},""]
[null,null,null,null,null,null,null,null,null,null,null,null,null,null,null,null,null,null,null,null,null,null,"4,5 - 6",{"$f":"COUNTIFS(S5:S23,\">=4,6\",S5:S23,\"<=6\")","v":0},{"$f":"IF(X43=0,\"\",COUNTIFS(P5:P23,\"=1\",S5:S23,\">=4,6\",S5:S23,\"<=6\"))","v":""},""]
[null,null,null,null,null,null,null,null,null,null,null,null,null,null,null,null,null,null,null,null,null,null,"over 6 meter",{"$f":"COUNTIFS(S5:S23,\">6\")","v":0},{"$f":"IF(X44=0,\"\",COUNTIFS(P5:P23,\"=1\",S5:S23,\">6\"))","v":""},""]

{"sheet":"Runde 29","index":31,"n_rows":44,"n_cols":29,"rows_kept":44,"cut":false,"hidden":false,"merged":[]}
["Korsør Golf Klub - 18 huller - Gul tee",null,null,null,null,null,null,null,null,{"$f":"IF(E25=\"0\",\"0\",\"1\")","v":"0"},"Dato:",null,null,"Handicap:",null,null,"ATS:",null,null,"Vejr:",null,null,"Turnering:"]
[]
[null,null,null,null,null,null,null,"Tee shot",null,null,"Fairway hits i %",null,null,"Bunker",null,null,null,"Approach shots"]
["Hul","Gul tee","Par","HCP","Score","Netto","Driver","Wood","Jern","Venstre","Midt","Højre","FB","GB","SS","Putts","GIR","Dist. to pin (m)","Dist. to hole (m)","% SS","% GIR","Putts/GIR","Eagles","Birdies","Bogeys","Værre","% Scramble","3+ Putts","% Driver/Fairwayhits"]
[1,307,4,11,null,null,null,null,null,null,null,null,null,null,null,null,null,null,null,null,null,{"$f":"IF(Q5=0,\"\",P5)","v":""},null,null,null,null,{"$f":"IF(AND(Q5=\"\",P5=1),1,\"\")","v":""},null,{"$f":"IF(AND(G5=\"\"),\"\",SUM(K5))","v":""}]
[2,323,4,5,null,null,null,null,null,null,null,null,null,null,null,null,null,null,null,null,null,"",null,null,null,null,"",null,""]
[3,138,3,15,null,null,null,null,null,null,null,null,null,null,null,null,null,null,null,null,null,"",null,null,null,null,"",null,""]
[4,310,4,13,null,null,null,null,null,null,null,null,null,null,null,null,null,null,null,null,null,"",null,null,null,null,"",null,""]
[5,431,5,3,null,null,null,null,null,null,null,null,null,null,null,null,null,null,null,null,null,"",null,null,null,null,"",null,""]
[6,312,4,9,null,null,null,null,null,null,null,null,null,null,null,null,null,null,null,null,null,"",null,null,null,null,"",null,""]
[7,498,5,1,null,null,null,null,null,null,null,null,null,null,null,null,null,null,null,null,null,"",null,null,null,null,"",null,""]
[8,138,3,17,null,null,null,null,null,null,null,null,null,null,null,null,null,null,null,null,null,"",null,null,null,null,"",null,""]
[9,310,4,7,null,null,null,null,null,null,null,null,null,null,null,null,null,null,null,null,null,"",null,null,null,null,"",null,""]
[null,{"$f":"SUM(B5:B13)","v":2767},{"$f":"SUM(C5:C13)","v":36},"UD",{"$f":"SUM(E5:E13)","v":0},{"$f":"SUM(F5:F13)","v":0},{"$f":"SUM(G5:G13)","v":0},{"$f":"SUM(H5:H13)","v":0},{"$f":"SUM(I5:I13)","v":0},{"$f":"IF((A28=27),\"\",(SUM(J5:J13)/SUM(J5:L13))*100)","v":""},{"$f":"IF((A28=27),\"\",(SUM(K5:K13)/SUM(J5:L13))*100)","v":""},{"$f":"IF((A28=27),\"\",(SUM(L5:L13)/SUM(J5:L13))*100)","v":""},{"$f":"SUM(M5:M13)","v":0},{"$f":"SUM(N5:N13)","v":0},{"$f":"SUM(O5:O13)","v":0},{"$f":"SUM(P5:P13)","v":0},{"$f":"SUM(Q5:Q13)","v":0},null,{"$f":"IF(Q14=0,0,SUM(S5:S13)/Q14)","v":0},null,null,{"$f":"SUM(V5:V13)","v":0},{"$f":"ColorFunction($E$30,$E$5:$E$13)","v":0},{"$f":"ColorFunction($E$31,$E$5:$E$13)","v":0},{"$f":"ColorFunction($E$32,$E$5:$E$13)","v":0},{"$f":"ColorFunction($E$33,$E$5:$E$13)","v":0},{"$f":"SUM(AA5:AA13)/(9-Q14)*100","v":0},{"$f":"COUNTIF(P5:P13,\">2\")","v":0},{"$f":"IF((G14=0),\"\",SUM(AC5:AC13)/G14*100)","v":""}]
[10,481,5,4,null,null,null,null,null,null,null,null,null,null,null,null,null,null,null,null,null,{"$f":"IF(Q15=0,\"\",P15)","v":""},null,null,null,null,{"$f":"IF(AND(Q15=\"\",P15=1),1,\"\")","v":""},null,{"$f":"IF(AND(G15=\"\"),\"\",SUM(K15))","v":""}]
[11,319,4,16,null,null,null,null,null,null,null,null,null,null,null,null,null,null,null,null,null,"",null,null,null,null,"",null,""]
[12,431,5,2,null,null,null,null,null,null,null,null,null,null,null,null,null,null,null,null,null,"",null,null,null,null,"",null,""]
[13,122,3,18,null,null,null,null,null,null,null,null,null,null,null,null,null,null,null,null,null,"",null,null,null,null,"",null,""]
[14,379,4,6,null,null,null,null,null,null,null,null,null,null,null,null,null,null,null,null,null,"",null,null,null,null,"",null,""]
[15,316,4,8,null,null,null,null,null,null,null,null,null,null,null,null,null,null,null,null,null,"",null,null,null,null,"",null,""]
[16,322,4,14,null,null,null,null,null,null,null,null,null,null,null,null,null,null,null,null,null,"",null,null,null,null,"",null,""]
[17,345,4,10,null,null,null,null,null,null,null,null,null,null,null,null,null,null,null,null,null,"",null,null,null,null,"",null,""]
[18,281,4,12,null,null,null,null,null,null,null,null,null,null,null,null,null,null,null,null,null,"",null,null,null,null,"",null,""]
[null,{"$f":"SUM(B15:B23)","v":2996},{"$f":"SUM(C15:C23)","v":37},"IND",{"$f":"SUM(E15:E23)","v":0},{"$f":"SUM(F15:F23)","v":0},{"$f":"SUM(G15:G23)","v":0},{"$f":"SUM(H15:H23)","v":0},{"$f":"SUM(I15:I23)","v":0},{"$f":"IF((A29=27),\"\",(SUM(J15:J23)/SUM(J15:L23))*100)","v":""},{"$f":"IF((A29=27),\"\",(SUM(K15:K23)/SUM(J15:L23))*100)","v":""},{"$f":"IF((A29=27),\"\",(SUM(L15:L23)/SUM(J15:L23))*100)","v":""},{"$f":"SUM(M15:M23)","v":0},{"$f":"SUM(N15:N23)","v":0},{"$f":"SUM(O15:O23)","v":0},{"$f":"SUM(P15:P23)","v":0},{"$f":"SUM(Q15:Q23)","v":0},null,{"$f":"IF(Q24=0,0,SUM(S15:S23)/Q24)","v":0},null,null,{"$f":"SUM(V15:V23)","v":0},{"$f":"ColorFunction($E$30,$E$15:$E$23)","v":0},{"$f":"ColorFunction($E$31,$E$15:$E$23)","v":0},{"$f":"ColorFunction($E$32,$E$15:$E$23)","v":0},{"$f":"ColorFunction($E$33,$E$15:$E$23)","v":0},{"$f":"SUM(AA15:AA23)/(9-Q24)*100","v":0},{"$f":"COUNTIF(P15:P23,\">2\")","v":0},{"$f":"IF((G24=0),\"\",SUM(AC15:AC23)/G24*100)","v":""}]
[null,{"$f":"SUM(B24,B14)","v":5763},{"$f":"SUM(C24,C14)","v":73},"TOTAL",{"$f":"IF(E14=0,\"0\",(E24+E14))","v":"0"},{"$f":"SUM(F14,F24)","v":0},{"$f":"SUM(G24,G14)","v":0},{"$f":"SUM(H24,H14)","v":0},{"$f":"SUM(I24,I14)","v":0},{"$f":"IF((A28=27),\"\",(SUM(J14,J24)/2))","v":""},{"$f":"IF((A28=27),\"\",(SUM(K14,K24)/2))","v":""},{"$f":"IF((A28=27),\"\",(SUM(L14,L24)/2))","v":""},{"$f":"SUM(M24,M14)","v":0},{"$f":"SUM(N24,N14)","v":0},{"$f":"SUM(O24,O14)","v":0},{"$f":"IF(P14+P24=0,\"\",SUM(P24,P14))","v":""},{"$f":"IF(Q14+Q24=0,\"\",SUM(Q24,Q14))","v":""},null,{"$f":"IF(S14+S24=0,\"\",SUM(S24,S14)/2)","v":""},{"$f":"IF(N25=0,\"\",(O25)/N25*100)","v":""},{"$f":"IF(Q25=\"\",\"\",(Q25)/18*100)","v":""},{"$f":"IF(Q25=\"\",\"\",(V14+V24)/Q25)","v":""},{"$f":"SUM(W14,W24)","v":0},{"$f":"SUM(X14,X24)","v":0},{"$f":"SUM(Y14,Y24)","v":0},{"$f":"SUM(Z14,Z24)","v":0},{"$f":"SUM(AA14,AA24)/2","v":0},{"$f":"SUM(AB14,AB24)","v":0},{"$f":"SUM(AC24,AC14)/2","v":0}]
[]
[null,null,null,null,"Udfyld alle grønne felter med 1 for positiv eller antal i tal"]
[{"$f":"COUNTBLANK(I5:K13)","v":27},null,null,null,null,null,null,null,null,null,null,null,null,null,null,null,null,null,null,null,null,null,"Approach"]
[{"$f":"COUNTBLANK(I15:K23)","v":27},null,null,null,"Udfyld følgende farver:",null,null,null,null,null,null,null,null,null,null,null,null,null,"Holes to par",null,null,null,"Længde (m)","Antal","Afstand (m)"]
[{"$f":"SUM(L5:L23)","v":0},null,null,null,"Eagles",null,null,null,null,null,null,null,null,null,null,null,null,null,"Par 3",{"$f":"SUMIF(C:C,\"3\",E:E)/COUNTIF(C:C,3)","v":0},null,null,"45-70",{"$f":"COUNTIFS(R5:R23,\">=45\",R5:R23,\"<=70\")","v":0},{"$f":"IF(X30=0,\"\",AVERAGEIFS(S5:S23,R5:R23,\">=45\",R5:R23,\"<=70\"))","v":""}]
[null,null,null,null,"Birdies",null,null,null,null,null,null,null,null,null,null,null,null,null,"Par 4",{"$f":"SUMIF(C:C,\"4\",E:E)/COUNTIF(C:C,4)","v":0},null,null,"71-90",{"$f":"COUNTIFS(R5:R23,\">=71\",R5:R23,\"<=90\")","v":0},{"$f":"IF(X31=0,\"\",AVERAGEIFS(S5:S23,R5:R23,\">=71\",R5:R23,\"<=90\"))","v":""}]
[null,null,null,null,"Bogeys",null,null,null,null,null,null,null,null,null,null,null,null,null,"Par 5",{"$f":"SUMIF(C:C,\"5\",E:E)/COUNTIF(C:C,5)","v":0},null,null,"91-115",{"$f":"COUNTIFS(R5:R23,\">=91\",R5:R23,\"<=115\")","v":0},{"$f":"IF(X32=0,\"\",AVERAGEIFS(S5:S23,R5:R23,\">=91\",R5:R23,\"<=115\"))","v":""}]
[null,null,null,null,"Doublebogeys eller værre",null,null,null,null,null,null,null,null,null,null,null,null,null,null,null,null,null,"116-140",{"$f":"COUNTIFS(R5:R23,\">=116\",R5:R23,\"<=140\")","v":0},{"$f":"IF(X33=0,\"\",AVERAGEIFS(S5:S23,R5:R23,\">=116\",R5:R23,\"<=140\"))","v":""}]
[null,null,null,null,null,null,null,null,null,null,null,null,null,null,null,null,null,null,"First 4",{"$f":"IF(E25=\"0\",\"\",SUM(E5:E8)-SUM(C5:C8))","v":""},null,null,"141-160",{"$f":"COUNTIFS(R5:R23,\">=141\",R5:R23,\"<=161\")","v":0},{"$f":"IF(X34=0,\"\",AVERAGEIFS(S5:S23,R5:R23,\">=141\",R5:R23,\"<=160\"))","v":""}]
[null,null,null,null,null,null,null,null,null,null,null,null,null,null,null,null,null,null,"Last 4",{"$f":"IF(E25=\"0\",\"\",SUM(E20:E23)-SUM(C20:C23))","v":""},null,null,"161-180",{"$f":"COUNTIFS(R5:R23,\">=161\",R5:R23,\"<=180\")","v":0},{"$f":"IF(X35=0,\"\",AVERAGEIFS(S5:S23,R5:R23,\">=161\",R5:R23,\"<=180\"))","v":""}]
[]
[null,null,null,null,null,null,null,null,null,null,null,null,null,null,null,null,null,null,null,null,null,null,"Putting"]
[null,null,null,null,null,null,null,null,null,null,null,null,null,null,null,null,null,null,null,null,null,null,"Længde (m)","Antal","Holet","Holet (%)"]
[null,null,null,null,null,null,null,null,null,null,null,null,null,null,null,null,null,null,null,null,null,null,"under 1 m",{"$f":"COUNTIFS(S5:S23,\">=0,1\",S5:S23,\"<=0,9\")","v":0},{"$f":"IF(X39=0,\"\",COUNTIFS(P5:P23,\"=1\",S5:S23,\"<1\"))","v":""},{"$f":"IF(X39=0,\"\",Y39/X39*100)","v":""}]
[null,null,null,null,null,null,null,null,null,null,null,null,null,null,null,null,null,null,null,null,null,null,"1 - 1,5",{"$f":"COUNTIFS(S5:S23,\">=1\",S5:S23,\"<=1,5\")","v":0},{"$f":"IF(X40=0,\"\",COUNTIFS(P5:P23,\"=1\",S5:S23,\">=1\",S5:S23,\"<=1,5\"))","v":""},{"$f":"IF(X40=0,\"\",Y40/X40*100)","v":""}]
[null,null,null,null,null,null,null,null,null,null,null,null,null,null,null,null,null,null,null,null,null,null,"1,5 - 3",{"$f":"COUNTIFS(S5:S23,\">=1,6\",S5:S23,\"<=3\")","v":0},{"$f":"IF(X41=0,\"\",COUNTIFS(P5:P23,\"=1\",S5:S23,\">=1,6\",S5:S23,\"<=3\"))","v":""},{"$f":"IF(X41=0,\"\",Y41/X41*100)","v":""}]
[null,null,null,null,null,null,null,null,null,null,null,null,null,null,null,null,null,null,null,null,null,null,"3 - 4,5",{"$f":"COUNTIFS(S5:S23,\">=3,1\",S5:S23,\"<=4,5\")","v":0},{"$f":"IF(X42=0,\"\",COUNTIFS(P5:P23,\"=1\",S5:S23,\">=3,1\",S5:S23,\"<=4,5\"))","v":""},""]
[null,null,null,null,null,null,null,null,null,null,null,null,null,null,null,null,null,null,null,null,null,null,"4,5 - 6",{"$f":"COUNTIFS(S5:S23,\">=4,6\",S5:S23,\"<=6\")","v":0},{"$f":"IF(X43=0,\"\",COUNTIFS(P5:P23,\"=1\",S5:S23,\">=4,6\",S5:S23,\"<=6\"))","v":""},""]
[null,null,null,null,null,null,null,null,null,null,null,null,null,null,null,null,null,null,null,null,null,null,"over 6 meter",{"$f":"COUNTIFS(S5:S23,\">6\")","v":0},{"$f":"IF(X44=0,\"\",COUNTIFS(P5:P23,\"=1\",S5:S23,\">6\"))","v":""},""]

{"sheet":"Runde 30","index":32,"n_rows":44,"n_cols":29,"rows_kept":44,"cut":false,"hidden":false,"merged":[]}
["Korsør Golf Klub - 18 huller - Gul tee",null,null,null,null,null,null,null,null,{"$f":"IF(E25=\"0\",\"0\",\"1\")","v":"0"},"Dato:",null,null,"Handicap:",null,null,"ATS:",null,null,"Vejr:",null,null,"Turnering:"]
[]
[null,null,null,null,null,null,null,"Tee shot",null,null,"Fairway hits i %",null,null,"Bunker",null,null,null,"Approach shots"]
["Hul","Gul tee","Par","HCP","Score","Netto","Driver","Wood","Jern","Venstre","Midt","Højre","FB","GB","SS","Putts","GIR","Dist. to pin (m)","Dist. to hole (m)","% SS","% GIR","Putts/GIR","Eagles","Birdies","Bogeys","Værre","% Scramble","3+ Putts","% Driver/Fairwayhits"]
[1,307,4,11,null,null,null,null,null,null,null,null,null,null,null,null,null,null,null,null,null,{"$f":"IF(Q5=0,\"\",P5)","v":""},null,null,null,null,{"$f":"IF(AND(Q5=\"\",P5=1),1,\"\")","v":""},null,{"$f":"IF(AND(G5=\"\"),\"\",SUM(K5))","v":""}]
[2,323,4,5,null,null,null,null,null,null,null,null,null,null,null,null,null,null,null,null,null,"",null,null,null,null,"",null,""]
[3,138,3,15,null,null,null,null,null,null,null,null,null,null,null,null,null,null,null,null,null,"",null,null,null,null,"",null,""]
[4,310,4,13,null,null,null,null,null,null,null,null,null,null,null,null,null,null,null,null,null,"",null,null,null,null,"",null,""]
[5,431,5,3,null,null,null,null,null,null,null,null,null,null,null,null,null,null,null,null,null,"",null,null,null,null,"",null,""]
[6,312,4,9,null,null,null,null,null,null,null,null,null,null,null,null,null,null,null,null,null,"",null,null,null,null,"",null,""]
[7,498,5,1,null,null,null,null,null,null,null,null,null,null,null,null,null,null,null,null,null,"",null,null,null,null,"",null,""]
[8,138,3,17,null,null,null,null,null,null,null,null,null,null,null,null,null,null,null,null,null,"",null,null,null,null,"",null,""]
[9,310,4,7,null,null,null,null,null,null,null,null,null,null,null,null,null,null,null,null,null,"",null,null,null,null,"",null,""]
[null,{"$f":"SUM(B5:B13)","v":2767},{"$f":"SUM(C5:C13)","v":36},"UD",{"$f":"SUM(E5:E13)","v":0},{"$f":"SUM(F5:F13)","v":0},{"$f":"SUM(G5:G13)","v":0},{"$f":"SUM(H5:H13)","v":0},{"$f":"SUM(I5:I13)","v":0},{"$f":"IF((A28=27),\"\",(SUM(J5:J13)/SUM(J5:L13))*100)","v":""},{"$f":"IF((A28=27),\"\",(SUM(K5:K13)/SUM(J5:L13))*100)","v":""},{"$f":"IF((A28=27),\"\",(SUM(L5:L13)/SUM(J5:L13))*100)","v":""},{"$f":"SUM(M5:M13)","v":0},{"$f":"SUM(N5:N13)","v":0},{"$f":"SUM(O5:O13)","v":0},{"$f":"SUM(P5:P13)","v":0},{"$f":"SUM(Q5:Q13)","v":0},null,{"$f":"IF(Q14=0,0,SUM(S5:S13)/Q14)","v":0},null,null,{"$f":"SUM(V5:V13)","v":0},{"$f":"ColorFunction($E$30,$E$5:$E$13)","v":0},{"$f":"ColorFunction($E$31,$E$5:$E$13)","v":0},{"$f":"ColorFunction($E$32,$E$5:$E$13)","v":0},{"$f":"ColorFunction($E$33,$E$5:$E$13)","v":0},{"$f":"SUM(AA5:AA13)/(9-Q14)*100","v":0},{"$f":"COUNTIF(P5:P13,\">2\")","v":0},{"$f":"IF((G14=0),\"\",SUM(AC5:AC13)/G14*100)","v":""}]
[10,481,5,4,null,null,null,null,null,null,null,null,null,null,null,null,null,null,null,null,null,{"$f":"IF(Q15=0,\"\",P15)","v":""},null,null,null,null,{"$f":"IF(AND(Q15=\"\",P15=1),1,\"\")","v":""},null,{"$f":"IF(AND(G15=\"\"),\"\",SUM(K15))","v":""}]
[11,319,4,16,null,null,null,null,null,null,null,null,null,null,null,null,null,null,null,null,null,"",null,null,null,null,"",null,""]
[12,431,5,2,null,null,null,null,null,null,null,null,null,null,null,null,null,null,null,null,null,"",null,null,null,null,"",null,""]
[13,122,3,18,null,null,null,null,null,null,null,null,null,null,null,null,null,null,null,null,null,"",null,null,null,null,"",null,""]
[14,379,4,6,null,null,null,null,null,null,null,null,null,null,null,null,null,null,null,null,null,"",null,null,null,null,"",null,""]
[15,316,4,8,null,null,null,null,null,null,null,null,null,null,null,null,null,null,null,null,null,"",null,null,null,null,"",null,""]
[16,322,4,14,null,null,null,null,null,null,null,null,null,null,null,null,null,null,null,null,null,"",null,null,null,null,"",null,""]
[17,345,4,10,null,null,null,null,null,null,null,null,null,null,null,null,null,null,null,null,null,"",null,null,null,null,"",null,""]
[18,281,4,12,null,null,null,null,null,null,null,null,null,null,null,null,null,null,null,null,null,"",null,null,null,null,"",null,""]
[null,{"$f":"SUM(B15:B23)","v":2996},{"$f":"SUM(C15:C23)","v":37},"IND",{"$f":"SUM(E15:E23)","v":0},{"$f":"SUM(F15:F23)","v":0},{"$f":"SUM(G15:G23)","v":0},{"$f":"SUM(H15:H23)","v":0},{"$f":"SUM(I15:I23)","v":0},{"$f":"IF((A29=27),\"\",(SUM(J15:J23)/SUM(J15:L23))*100)","v":""},{"$f":"IF((A29=27),\"\",(SUM(K15:K23)/SUM(J15:L23))*100)","v":""},{"$f":"IF((A29=27),\"\",(SUM(L15:L23)/SUM(J15:L23))*100)","v":""},{"$f":"SUM(M15:M23)","v":0},{"$f":"SUM(N15:N23)","v":0},{"$f":"SUM(O15:O23)","v":0},{"$f":"SUM(P15:P23)","v":0},{"$f":"SUM(Q15:Q23)","v":0},null,{"$f":"IF(Q24=0,0,SUM(S15:S23)/Q24)","v":0},null,null,{"$f":"SUM(V15:V23)","v":0},{"$f":"ColorFunction($E$30,$E$15:$E$23)","v":0},{"$f":"ColorFunction($E$31,$E$15:$E$23)","v":0},{"$f":"ColorFunction($E$32,$E$15:$E$23)","v":0},{"$f":"ColorFunction($E$33,$E$15:$E$23)","v":0},{"$f":"SUM(AA15:AA23)/(9-Q24)*100","v":0},{"$f":"COUNTIF(P15:P23,\">2\")","v":0},{"$f":"IF((G24=0),\"\",SUM(AC15:AC23)/G24*100)","v":""}]
[null,{"$f":"SUM(B24,B14)","v":5763},{"$f":"SUM(C24,C14)","v":73},"TOTAL",{"$f":"IF(E14=0,\"0\",(E24+E14))","v":"0"},{"$f":"SUM(F14,F24)","v":0},{"$f":"SUM(G24,G14)","v":0},{"$f":"SUM(H24,H14)","v":0},{"$f":"SUM(I24,I14)","v":0},{"$f":"IF((A28=27),\"\",(SUM(J14,J24)/2))","v":""},{"$f":"IF((A28=27),\"\",(SUM(K14,K24)/2))","v":""},{"$f":"IF((A28=27),\"\",(SUM(L14,L24)/2))","v":""},{"$f":"SUM(M24,M14)","v":0},{"$f":"SUM(N24,N14)","v":0},{"$f":"SUM(O24,O14)","v":0},{"$f":"IF(P14+P24=0,\"\",SUM(P24,P14))","v":""},{"$f":"IF(Q14+Q24=0,\"\",SUM(Q24,Q14))","v":""},null,{"$f":"IF(S14+S24=0,\"\",SUM(S24,S14)/2)","v":""},{"$f":"IF(N25=0,\"\",(O25)/N25*100)","v":""},{"$f":"IF(Q25=\"\",\"\",(Q25)/18*100)","v":""},{"$f":"IF(Q25=\"\",\"\",(V14+V24)/Q25)","v":""},{"$f":"SUM(W14,W24)","v":0},{"$f":"SUM(X14,X24)","v":0},{"$f":"SUM(Y14,Y24)","v":0},{"$f":"SUM(Z14,Z24)","v":0},{"$f":"SUM(AA14,AA24)/2","v":0},{"$f":"SUM(AB14,AB24)","v":0},{"$f":"SUM(AC24,AC14)/2","v":0}]
[]
[null,null,null,null,"Udfyld alle grønne felter med 1 for positiv eller antal i tal"]
[{"$f":"COUNTBLANK(I5:K13)","v":27},null,null,null,null,null,null,null,null,null,null,null,null,null,null,null,null,null,null,null,null,null,"Approach"]
[{"$f":"COUNTBLANK(I15:K23)","v":27},null,null,null,"Udfyld følgende farver:",null,null,null,null,null,null,null,null,null,null,null,null,null,"Holes to par",null,null,null,"Længde (m)","Antal","Afstand (m)"]
[{"$f":"SUM(L5:L23)","v":0},null,null,null,"Eagles",null,null,null,null,null,null,null,null,null,null,null,null,null,"Par 3",{"$f":"SUMIF(C:C,\"3\",E:E)/COUNTIF(C:C,3)","v":0},null,null,"45-70",{"$f":"COUNTIFS(R5:R23,\">=45\",R5:R23,\"<=70\")","v":0},{"$f":"IF(X30=0,\"\",AVERAGEIFS(S5:S23,R5:R23,\">=45\",R5:R23,\"<=70\"))","v":""}]
[null,null,null,null,"Birdies",null,null,null,null,null,null,null,null,null,null,null,null,null,"Par 4",{"$f":"SUMIF(C:C,\"4\",E:E)/COUNTIF(C:C,4)","v":0},null,null,"71-90",{"$f":"COUNTIFS(R5:R23,\">=71\",R5:R23,\"<=90\")","v":0},{"$f":"IF(X31=0,\"\",AVERAGEIFS(S5:S23,R5:R23,\">=71\",R5:R23,\"<=90\"))","v":""}]
[null,null,null,null,"Bogeys",null,null,null,null,null,null,null,null,null,null,null,null,null,"Par 5",{"$f":"SUMIF(C:C,\"5\",E:E)/COUNTIF(C:C,5)","v":0},null,null,"91-115",{"$f":"COUNTIFS(R5:R23,\">=91\",R5:R23,\"<=115\")","v":0},{"$f":"IF(X32=0,\"\",AVERAGEIFS(S5:S23,R5:R23,\">=91\",R5:R23,\"<=115\"))","v":""}]
[null,null,null,null,"Doublebogeys eller værre",null,null,null,null,null,null,null,null,null,null,null,null,null,null,null,null,null,"116-140",{"$f":"COUNTIFS(R5:R23,\">=116\",R5:R23,\"<=140\")","v":0},{"$f":"IF(X33=0,\"\",AVERAGEIFS(S5:S23,R5:R23,\">=116\",R5:R23,\"<=140\"))","v":""}]
[null,null,null,null,null,null,null,null,null,null,null,null,null,null,null,null,null,null,"First 4",{"$f":"IF(E25=\"0\",\"\",SUM(E5:E8)-SUM(C5:C8))","v":""},null,null,"141-160",{"$f":"COUNTIFS(R5:R23,\">=141\",R5:R23,\"<=161\")","v":0},{"$f":"IF(X34=0,\"\",AVERAGEIFS(S5:S23,R5:R23,\">=141\",R5:R23,\"<=160\"))","v":""}]
[null,null,null,null,null,null,null,null,null,null,null,null,null,null,null,null,null,null,"Last 4",{"$f":"IF(E25=\"0\",\"\",SUM(E20:E23)-SUM(C20:C23))","v":""},null,null,"161-180",{"$f":"COUNTIFS(R5:R23,\">=161\",R5:R23,\"<=180\")","v":0},{"$f":"IF(X35=0,\"\",AVERAGEIFS(S5:S23,R5:R23,\">=161\",R5:R23,\"<=180\"))","v":""}]
[]
[null,null,null,null,null,null,null,null,null,null,null,null,null,null,null,null,null,null,null,null,null,null,"Putting"]
[null,null,null,null,null,null,null,null,null,null,null,null,null,null,null,null,null,null,null,null,null,null,"Længde (m)","Antal","Holet","Holet (%)"]
[null,null,null,null,null,null,null,null,null,null,null,null,null,null,null,null,null,null,null,null,null,null,"under 1 m",{"$f":"COUNTIFS(S5:S23,\">=0,1\",S5:S23,\"<=0,9\")","v":0},{"$f":"IF(X39=0,\"\",COUNTIFS(P5:P23,\"=1\",S5:S23,\"<1\"))","v":""},{"$f":"IF(X39=0,\"\",Y39/X39*100)","v":""}]
[null,null,null,null,null,null,null,null,null,null,null,null,null,null,null,null,null,null,null,null,null,null,"1 - 1,5",{"$f":"COUNTIFS(S5:S23,\">=1\",S5:S23,\"<=1,5\")","v":0},{"$f":"IF(X40=0,\"\",COUNTIFS(P5:P23,\"=1\",S5:S23,\">=1\",S5:S23,\"<=1,5\"))","v":""},{"$f":"IF(X40=0,\"\",Y40/X40*100)","v":""}]
[null,null,null,null,null,null,null,null,null,null,null,null,null,null,null,null,null,null,null,null,null,null,"1,5 - 3",{"$f":"COUNTIFS(S5:S23,\">=1,6\",S5:S23,\"<=3\")","v":0},{"$f":"IF(X41=0,\"\",COUNTIFS(P5:P23,\"=1\",S5:S23,\">=1,6\",S5:S23,\"<=3\"))","v":""},{"$f":"IF(X41=0,\"\",Y41/X41*100)","v":""}]
[null,null,null,null,null,null,null,null,null,null,null,null,null,null,null,null,null,null,null,null,null,null,"3 - 4,5",{"$f":"COUNTIFS(S5:S23,\">=3,1\",S5:S23,\"<=4,5\")","v":0},{"$f":"IF(X42=0,\"\",COUNTIFS(P5:P23,\"=1\",S5:S23,\">=3,1\",S5:S23,\"<=4,5\"))","v":""},""]
[null,null,null,null,null,null,null,null,null,null,null,null,null,null,null,null,null,null,null,null,null,null,"4,5 - 6",{"$f":"COUNTIFS(S5:S23,\">=4,6\",S5:S23,\"<=6\")","v":0},{"$f":"IF(X43=0,\"\",COUNTIFS(P5:P23,\"=1\",S5:S23,\">=4,6\",S5:S23,\"<=6\"))","v":""},""]
[null,null,null,null,null,null,null,null,null,null,null,null,null,null,null,null,null,null,null,null,null,null,"over 6 meter",{"$f":"COUNTIFS(S5:S23,\">6\")","v":0},{"$f":"IF(X44=0,\"\",COUNTIFS(P5:P23,\"=1\",S5:S23,\">6\"))","v":""},""]

{"sheet":"DATA - nix pille","index":33,"n_rows":23,"n_cols":30,"rows_kept":23,"cut":false,"hidden":false,"merged":[]}
[]
[]
["Runder i alt",{"$f":"('Runde 1'!J1+'Runde 2'!J1+'Runde 3'!J1+'Runde 4'!J1+'Runde 5'!J1+'Runde 6'!J1+'Runde 7'!J1+'Runde 8'!J1+'Runde 9'!J1+'Runde 10'!J1+'Runde 11'!J1+'Runde 12'!J1+'Runde 13'!J1+'Runde 14'!J1+'Runde 15'!J1+'Runde 16'!J1+'Runde 17'!J1+'Runde 18'!J1+'Runde 19'!J1+'Runde 20'!J1+'Runde 21'!J1+'Runde 22'!J1+'Runde 23'!J1+'Runde 24'!J1+'Runde 25'!J1+'Runde 26'!J1+'Runde 27'!J1+'Runde 28'!J1+'Runde 29'!J1+'Runde 30'!J1)","v":26}]
[]
[]
["Score"]
[{"$f":"IF('Runde 1'!L1=\"\",\"\",'Runde 1'!L1)","v":"2010-04-18"},{"$f":"IF('Runde 2'!L1=\"\",\"\",'Runde 2'!L1)","v":"2010-04-20"},{"$f":"IF('Runde 3'!L1=\"\",\"\",'Runde 3'!L1)","v":"2010-04-27"},{"$f":"IF('Runde 4'!L1=\"\",\"\",'Runde 4'!L1)","v":"2010-05-11"},{"$f":"IF('Runde 5'!L1=\"\",\"\",'Runde 5'!L1)","v":"2010-05-18"},{"$f":"IF('Runde 6'!L1=\"\",\"\",'Runde 6'!L1)","v":"22-05-2010*"},{"$f":"IF('Runde 7'!L1=\"\",\"\",'Runde 7'!L1)","v":"2010-05-24"},{"$f":"IF('Runde 8'!L1=\"\",\"\",'Runde 8'!L1)","v":"2010-06-08"},{"$f":"IF('Runde 9'!L1=\"\",\"\",'Runde 9'!L1)","v":"2010-06-15"},{"$f":"IF('Runde 10'!L1=\"\",\"\",'Runde 10'!L1)","v":"2010-06-22"},{"$f":"IF('Runde 11'!L1=\"\",\"\",'Runde 11'!L1)","v":"2010-06-29"},{"$f":"IF('Runde 12'!L1=\"\",\"\",'Runde 12'!L1)","v":"2010-07-03"},{"$f":"IF('Runde 13'!L1=\"\",\"\",'Runde 13'!L1)","v":"07-07-2010*"},{"$f":"IF('Runde 14'!L1=\"\",\"\",'Runde 14'!L1)","v":"2010-07-13"},{"$f":"IF('Runde 15'!L1=\"\",\"\",'Runde 15'!L1)","v":"2010-07-20"},{"$f":"IF('Runde 16'!L1=\"\",\"\",'Runde 16'!L1)","v":"2010-07-22"},{"$f":"IF('Runde 17'!L1=\"\",\"\",'Runde 17'!L1)","v":"2010-07-23"},{"$f":"IF('Runde 18'!L1=\"\",\"\",'Runde 18'!L1)","v":"2010-07-26"},{"$f":"IF('Runde 19'!L1=\"\",\"\",'Runde 19'!L1)","v":"2010-07-27"},{"$f":"IF('Runde 20'!L1=\"\",\"\",'Runde 20'!L1)","v":"2010-06-28"},{"$f":"IF('Runde 21'!L1=\"\",\"\",'Runde 21'!L1)","v":"2010-07-29"},{"$f":"IF('Runde 22'!L1=\"\",\"\",'Runde 22'!L1)","v":"2010-07-31"},{"$f":"IF('Runde 23'!L1=\"\",\"\",'Runde 23'!L1)","v":"03-08-2010*"},{"$f":"IF('Runde 24'!L1=\"\",\"\",'Runde 24'!L1)","v":"2010-08-10"},{"$f":"IF('Runde 25'!L1=\"\",\"\",'Runde 25'!L1)","v":"2010-08-14"},{"$f":"IF('Runde 26'!L1=\"\",\"\",'Runde 26'!L1)","v":"2010-09-05"},{"$f":"IF('Runde 27'!L1=\"\",\"\",'Runde 27'!L1)","v":""},{"$f":"IF('Runde 28'!L1=\"\",\"\",'Runde 28'!L1)","v":""},{"$f":"IF('Runde 29'!L1=\"\",\"\",'Runde 29'!L1)","v":""},{"$f":"IF('Runde 30'!L1=\"\",\"\",'Runde 30'!L1)","v":""}]
[{"$f":"'Runde 1'!E25","v":81},{"$f":"'Runde 2'!E25","v":78},{"$f":"'Runde 3'!E25","v":78},{"$f":"'Runde 4'!E25","v":76},{"$f":"'Runde 5'!E25","v":74},{"$f":"'Runde 6'!E25","v":73},{"$f":"'Runde 7'!E25","v":78},{"$f":"'Runde 8'!E25","v":76},{"$f":"'Runde 9'!E25","v":76},{"$f":"'Runde 10'!E25","v":74},{"$f":"'Runde 11'!E25","v":81},{"$f":"'Runde 12'!E25","v":74},{"$f":"'Runde 13'!E25","v":74},{"$f":"'Runde 14'!E25","v":77},{"$f":"'Runde 15'!E25","v":77},{"$f":"'Runde 16'!E25","v":75},{"$f":"'Runde 17'!E25","v":72},{"$f":"'Runde 18'!E25","v":77},{"$f":"'Runde 19'!E25","v":75},{"$f":"'Runde 20'!E25","v":70},{"$f":"'Runde 21'!E25","v":75},{"$f":"'Runde 22'!E25","v":77},{"$f":"'Runde 23'!E25","v":76},{"$f":"'Runde 24'!E25","v":72},{"$f":"'Runde 25'!E25","v":80},{"$f":"'Runde 26'!E25","v":73},{"$f":"'Runde 27'!E25","v":"0"},{"$f":"'Runde 28'!E25","v":"0"},{"$f":"'Runde 29'!E25","v":"0"},{"$f":"'Runde 30'!E25","v":"0"}]
[]
["% GIR"]
["Runde 1","Runde 2","Runde 3","Runde 4","Runde 5","Runde 6","Runde 7","Runde 8","Runde 9","Runde 10","Runde 11","Runde 12","Runde 13","Runde 14","Runde 15","Runde 16","Runde 17","Runde 18","Runde 19","Runde 20","Runde 21","Runde 22","Runde 23","Runde 24","Runde 25","Runde 26","Runde 27","Runde 28","Runde 29","Runde 30"]
[{"$f":"'Runde 1'!U25","v":55.555555555555557},{"$f":"'Runde 2'!U25","v":61.111111111111114},{"$f":"'Runde 3'!U25","v":72.222222222222214},{"$f":"'Runde 4'!U25","v":61.111111111111114},{"$f":"'Runde 5'!U25","v":72.222222222222214},{"$f":"'Runde 6'!U25","v":61.111111111111114},{"$f":"'Runde 7'!U25","v":55.555555555555557},{"$f":"'Runde 8'!U25","v":66.666666666666657},{"$f":"'Runde 9'!U25","v":55.555555555555557},{"$f":"'Runde 10'!U25","v":72.222222222222214},{"$f":"'Runde 11'!U25","v":55.555555555555557},{"$f":"'Runde 12'!U25","v":61.111111111111114},{"$f":"'Runde 13'!U25","v":66.666666666666657},{"$f":"'Runde 14'!U25","v":88.888888888888886},{"$f":"'Runde 15'!U25","v":77.777777777777786},{"$f":"'Runde 16'!U25","v":55.555555555555557},{"$f":"'Runde 17'!U25","v":94.444444444444443},{"$f":"'Runde 18'!U25","v":72.222222222222214},{"$f":"'Runde 19'!U25","v":55.555555555555557},{"$f":"'Runde 20'!U25","v":88.888888888888886},{"$f":"'Runde 21'!U25","v":72.222222222222214},{"$f":"'Runde 22'!U25","v":38.888888888888893},{"$f":"'Runde 23'!U25","v":55.555555555555557},{"$f":"'Runde 24'!U25","v":72.222222222222214},{"$f":"'Runde 25'!U25","v":50},{"$f":"'Runde 26'!U25","v":83.333333333333343},{"$f":"'Runde 27'!U25","v":""},{"$f":"'Runde 28'!U25","v":""},{"$f":"'Runde 29'!U25","v":""},{"$f":"'Runde 30'!U25","v":""}]
[]
["% Fairwayhits"]
["Runde 1","Runde 2","Runde 3","Runde 4","Runde 5","Runde 6","Runde 7","Runde 8","Runde 9","Runde 10","Runde 11","Runde 12","Runde 13","Runde 14","Runde 15","Runde 16","Runde 17","Runde 18","Runde 19","Runde 20","Runde 21","Runde 22","Runde 23","Runde 24","Runde 25","Runde 26","Runde 27","Runde 28","Runde 29","Runde 30"]
[{"$f":"'Runde 1'!K25","v":58.928571428571431},{"$f":"'Runde 2'!K25","v":79.464285714285722},{"$f":"'Runde 3'!K25","v":73.214285714285722},{"$f":"'Runde 4'!K25","v":100},{"$f":"'Runde 5'!K25","v":93.75},{"$f":"'Runde 6'!K25","v":59.821428571428569},{"$f":"'Runde 7'!K25","v":73.75},{"$f":"'Runde 8'!K25","v":92.857142857142861},{"$f":"'Runde 9'!K25","v":87.5},{"$f":"'Runde 10'!K25","v":73.214285714285722},{"$f":"'Runde 11'!K25","v":47.321428571428569},{"$f":"'Runde 12'!K25","v":73.214285714285722},{"$f":"'Runde 13'!K25","v":79.464285714285722},{"$f":"'Runde 14'!K25","v":92.857142857142861},{"$f":"'Runde 15'!K25","v":81.25},{"$f":"'Runde 16'!K25","v":74.107142857142861},{"$f":"'Runde 17'!K25","v":80.357142857142861},{"$f":"'Runde 18'!K25","v":80.357142857142861},{"$f":"'Runde 19'!K25","v":53.571428571428569},{"$f":"'Runde 20'!K25","v":93.75},{"$f":"'Runde 21'!K25","v":93.75},{"$f":"'Runde 22'!K25","v":80.357142857142861},{"$f":"'Runde 23'!K25","v":86.607142857142861},{"$f":"'Runde 24'!K25","v":74.107142857142861},{"$f":"'Runde 25'!K25","v":74.107142857142861},{"$f":"'Runde 26'!K25","v":81.25},{"$f":"'Runde 27'!K25","v":""},{"$f":"'Runde 28'!K25","v":""},{"$f":"'Runde 29'!K25","v":""},{"$f":"'Runde 30'!K25","v":""}]
[]
["Putts"]
["Runde 1","Runde 2","Runde 3","Runde 4","Runde 5","Runde 6","Runde 7","Runde 8","Runde 9","Runde 10","Runde 11","Runde 12","Runde 13","Runde 14","Runde 15","Runde 16","Runde 17","Runde 18","Runde 19","Runde 20","Runde 21","Runde 22","Runde 23","Runde 24","Runde 25","Runde 26","Runde 27","Runde 28","Runde 29","Runde 30"]
[{"$f":"'Runde 1'!P25","v":34},{"$f":"'Runde 2'!P25","v":32},{"$f":"'Runde 3'!P25","v":36},{"$f":"'Runde 4'!P25","v":32},{"$f":"'Runde 5'!P25","v":30},{"$f":"'Runde 6'!P25","v":29},{"$f":"'Runde 7'!P25","v":32},{"$f":"'Runde 8'!P25","v":32},{"$f":"'Runde 9'!P25","v":31},{"$f":"'Runde 10'!P25","v":30},{"$f":"'Runde 11'!P25","v":31},{"$f":"'Runde 12'!P25","v":27},{"$f":"'Runde 13'!P25","v":30},{"$f":"'Runde 14'!P25","v":37},{"$f":"'Runde 15'!P25","v":36},{"$f":"'Runde 16'!P25","v":30},{"$f":"'Runde 17'!P25","v":35},{"$f":"'Runde 18'!P25","v":36},{"$f":"'Runde 19'!P25","v":31},{"$f":"'Runde 20'!P25","v":29},{"$f":"'Runde 21'!P25","v":31},{"$f":"'Runde 22'!P25","v":27},{"$f":"'Runde 23'!P25","v":29},{"$f":"'Runde 24'!P25","v":30},{"$f":"'Runde 25'!P25","v":31},{"$f":"'Runde 26'!P25","v":33},{"$f":"'Runde 27'!P25","v":""},{"$f":"'Runde 28'!P25","v":""},{"$f":"'Runde 29'!P25","v":""},{"$f":"'Runde 30'!P25","v":""}]
[]
["Bunkers totalt",null,{"$f":"IF(B3=0,\"\",SUM('Runde 1'!N25,'Runde 2'!N25,'Runde 3'!N25,'Runde 4'!N25,'Runde 5'!N25,'Runde 6'!U35,'Runde 7'!N25,'Runde 8'!N25,'Runde 9'!N25,'Runde 10'!N25,'Runde 11'!N25,'Runde 12'!N25,'Runde 13'!N25,'Runde 14'!N25,'Runde 15'!N25,'Runde 16'!N25,'Runde 17'!N25,'Runde 18'!N25,'Runde 19'!N25,'Runde 20'!N25,'Runde 21'!N25,'Runde 22'!N25,'Runde 23'!N25,'Runde 24'!N25,'Runde 25'!N25,'Runde 26'!N25,'Runde 27'!N25,'Runde 27'!N25,'Runde 28'!N25,'Runde 29'!N25,'Runde 30'!N25))","v":20}]
["Sandsaves totalt",null,{"$f":"IF(B3=0,\"\",SUM('Runde 1'!O25,'Runde 2'!O25,'Runde 3'!O25,'Runde 4'!O25,'Runde 5'!O25,'Runde 6'!U35,'Runde 7'!O25,'Runde 8'!O25,'Runde 9'!O25,'Runde 10'!O25,'Runde 11'!O25,'Runde 12'!O25,'Runde 13'!O25,'Runde 14'!O25,'Runde 15'!O25,'Runde 16'!O25,'Runde 17'!O25,'Runde 18'!O25,'Runde 19'!O25,'Runde 20'!O25,'Runde 21'!O25,'Runde 22'!O25,'Runde 23'!O25,'Runde 24'!O25,'Runde 25'!O25,'Runde 26'!O25,'Runde 27'!O25,'Runde 27'!O25,'Runde 28'!O25,'Runde 29'!O25,'Runde 30'!O25))","v":4}]